{"text_format":"1","workbook":"xlsx","n_sheets":7,"sheets":["Title page, Please read!","Address and samples info","Individuals","Samples 96","Samples 384","Samples tubes","Plate labelling"],"not_rendered":{"charts":0,"images":5,"macros":1,"external_links":0,"defined_names":14,"comments":4,"pivot_tables":0},"unopened":[],"bounds":{"document_bytes":16777216,"sheet_cells":100000,"rows_first":2000,"rows_last":500,"rows_between":2000,"halvings":0,"cell_chars":16384,"cell_head_chars":4096},"cells_cut":0,"cells_raw":0,"read":"whole","date_system":"1900"}

{"sheet":"Title page, Please read!","index":0,"n_rows":0,"n_cols":0,"rows_kept":0,"cut":false,"hidden":false,"merged":[]}

{"sheet":"Address and samples info","index":1,"n_rows":59,"n_cols":7,"rows_kept":59,"cut":false,"hidden":false,"merged":[[32,4,32,5],[33,0,33,1],[33,3,33,5],[34,0,34,1],[34,3,34,5],[37,4,37,5],[58,3,58,5],[57,3,57,4],[29,0,29,5],[54,3,54,4],[55,1,56,5],[35,0,35,1],[38,0,38,1],[51,3,51,4],[31,0,31,1],[31,4,31,5],[32,0,32,1],[52,3,52,4],[53,3,53,4],[54,0,54,1]]}
[]
[]
["Address and Sample Information",null,null,null,null,null,"UV absorbance (A260, OD260)   "]
["Please, fill out light grey fields!",null,null,null,null,null,"Picogreen/Qubit"]
[]
[null,"Contact information to Owner of samples",null,null,null,"Handling of samples, communication","Other: "]
["Owner, samples:",null,null,null,"Contact:"]
["Project code (from quote)"]
["Address:",null,null,null,"Address:",null,"Yes"]
[null,null,null,null,null,null,"No "]
["Street address:",null,null,null,"Street address:",null,"Do not know"]
["Postal code, City:",null,null,null,"Postal code, City:"]
["Country:",null,null,null,"Country:"]
["Email:",null,null,null,"Email:",null,"H2O"]
["Phone:",null,null,null,"Phone:",null,"1XTE"]
[]
[null,"Contact information to OlinkExplore project coordinators:",null,null,null,null,"Other: "]
[null,"Affinity Proteomics Uppsala","NGI-Uppsala, SNP&SEQ Technology Platform",null,null,"Address for delivery of samples"]
["Contact:","Mikael Åberg","Ulrika Liljedahl",null,"Contact:","Ulrika Liljedahl"]
["Address:","Uppsala University, BMC, Box 392","Uppsala University, BMC , Box1432 ",null,"Address:","Uppsala University, Biomedical Centre","Blood"]
[null,"Affinity Proteomics Uppsala","SNP&SEQ Technology Platform ",null,null,"SNP&SEQ Technology Platform ","Tissue"]
["Street address:","Husargatan 3 ","Husargatan 3 ",null,"Street address:","Husargatan 3","Saliva"]
["Postal code, City:","751 06 Uppsala ","751 44 Uppsala ",null,"Postal code, City:","752 37","Other: "]
["Country:","Sweden  ","Sweden  ",null,"Country:","Sweden"]
["Email:","explorelab@scilifelab.uu.se","explorelab@scilifelab.uu.se",null,"Email:","explorelab@scilifelab.uu.se","genomic DNA"]
["Phone:","Phone: +46 (0)70 425 04 05 ","Phone: +46 (0)70 167 94 59 ",null,"Phone:","Phone: +46 (0)70 167 94 59","Whole genome amplified"]
[]
[null,null,null,null,null,null,"cDNA"]
["General Information"]
["Please note that samples must be delivered in 96-well microtiter plates covered with plastic film properly packed in cellular plastic or similar to avoid them being damaged during the transport. ABgene, AB-0800-L, is our recommended plate type. For plastic cover films we use ABgene, AB-0558. Both products can be obtained from us. If other plate types have been used, please provide a clean plate together with the sample plates! Delivery of samples must be arranged via emial to explorelab@scilifelab.uu.se  before shipping to make sure the samples are taken care of upon arrival. ",null,null,null,null,null,"RNA"]
["Sample Information, (Use drop-down list)",null,null,"Select value:","Comment, notes"]
["Sample type: ",null,null,"Click & Select"]
["Species:",null,null,"Click & Select"]
["Handling of samples after project:",null,null,"Use drop-down list"]
["Additional information:"]
[]
["Risk assesment of samples (Use drop-down list)",null,null,"Select value:","Comment, notes"]
["Have the samples been tested for HIV, Sars-Cov-2, Hepatitis B and C or other blood-borne diseases?",null,null,"Click & Select"]
[null,null,null,null,null,null,"Will be performed by SNP&SEQ platform"]
[null,"Enter specific return adress if appropriate! (The cost for the return is paid by the user.)",null,null,null,null,"Will not be performed by SNP&SEQ platform"]
["Name:"]
["Address:",null,null,null,null,null,"Yes"]
["Address:",null,null,null,null,null,"No"]
["Street address:"]
["Postal code, City:"]
["Country:",null,null,null,null,null,"Use drop-down list"]
["Email:",null,null,null,null,null,"Dry ice"]
["Phone:",null,null,null,null,null,"RT"]
["  ",null,null,null,null,null,"Other"]
[]
["Clinical Biomarkers / SNP&SEQ Technology Platform notes",null,null,null,null,null,"Human"]
["Arrival of samples: ",null,null,"Date",null,"Comment","Other"]
["Samples arrived and unpacked:"]
["Comment: "]
["Checked against Sample Submission form: "]
["Comment: "]
[]
["E-mail confirmation sent to customer:"]
["Enter In-house sample prefix: "]

{"sheet":"Individuals","index":2,"n_rows":2641,"n_cols":5,"rows_kept":2641,"cut":false,"hidden":true,"merged":[]}
["Individual","Father","Mother","Sex","Note!: Sex must be given as male or female. Father and Mother for an Individual shall only be included when one or both parental individuals are included for genotyping"]
[{"$f":"'Samples 96'!C2","v":""}]
[{"$f":"'Samples 96'!C3","v":""}]
[{"$f":"'Samples 96'!C4","v":""}]
[{"$f":"'Samples 96'!C5","v":""}]
[{"$f":"'Samples 96'!C6","v":""}]
[{"$f":"'Samples 96'!C7","v":""}]
[{"$f":"'Samples 96'!C8","v":""}]
[{"$f":"'Samples 96'!C9","v":""}]
[{"$f":"'Samples 96'!C10","v":""}]
[{"$f":"'Samples 96'!C11","v":""}]
[{"$f":"'Samples 96'!C12","v":""}]
[{"$f":"'Samples 96'!C13","v":""}]
[{"$f":"'Samples 96'!C14","v":""}]
[{"$f":"'Samples 96'!C15","v":""}]
[{"$f":"'Samples 96'!C16","v":""}]
[{"$f":"'Samples 96'!C17","v":""}]
[{"$f":"'Samples 96'!C18","v":""}]
[{"$f":"'Samples 96'!C19","v":""}]
[{"$f":"'Samples 96'!C20","v":""}]
[{"$f":"'Samples 96'!C21","v":""}]
[{"$f":"'Samples 96'!C22","v":""}]
[{"$f":"'Samples 96'!C23","v":""}]
[{"$f":"'Samples 96'!C24","v":""}]
[{"$f":"'Samples 96'!C25","v":""}]
[{"$f":"'Samples 96'!C26","v":""}]
[{"$f":"'Samples 96'!C27","v":""}]
[{"$f":"'Samples 96'!C28","v":""}]
[{"$f":"'Samples 96'!C29","v":""}]
[{"$f":"'Samples 96'!C30","v":""}]
[{"$f":"'Samples 96'!C31","v":""}]
[{"$f":"'Samples 96'!C32","v":""}]
[{"$f":"'Samples 96'!C33","v":""}]
[{"$f":"'Samples 96'!C34","v":""}]
[{"$f":"'Samples 96'!C35","v":""}]
[{"$f":"'Samples 96'!C36","v":""}]
[{"$f":"'Samples 96'!C37","v":""}]
[{"$f":"'Samples 96'!C38","v":""}]
[{"$f":"'Samples 96'!C39","v":""}]
[{"$f":"'Samples 96'!C40","v":""}]
[{"$f":"'Samples 96'!C41","v":""}]
[{"$f":"'Samples 96'!C42","v":""}]
[{"$f":"'Samples 96'!C43","v":""}]
[{"$f":"'Samples 96'!C44","v":""}]
[{"$f":"'Samples 96'!C45","v":""}]
[{"$f":"'Samples 96'!C46","v":""}]
[{"$f":"'Samples 96'!C47","v":""}]
[{"$f":"'Samples 96'!C48","v":""}]
[{"$f":"'Samples 96'!C49","v":""}]
[{"$f":"'Samples 96'!C50","v":""}]
[{"$f":"'Samples 96'!C51","v":""}]
[{"$f":"'Samples 96'!C52","v":""}]
[{"$f":"'Samples 96'!C53","v":""}]
[{"$f":"'Samples 96'!C54","v":""}]
[{"$f":"'Samples 96'!C55","v":""}]
[{"$f":"'Samples 96'!C56","v":""}]
[{"$f":"'Samples 96'!C57","v":""}]
[{"$f":"'Samples 96'!C58","v":""}]
[{"$f":"'Samples 96'!C59","v":""}]
[{"$f":"'Samples 96'!C60","v":""}]
[{"$f":"'Samples 96'!C61","v":""}]
[{"$f":"'Samples 96'!C62","v":""}]
[{"$f":"'Samples 96'!C63","v":""}]
[{"$f":"'Samples 96'!C64","v":""}]
[{"$f":"'Samples 96'!C65","v":""}]
[{"$f":"'Samples 96'!C66","v":""}]
[{"$f":"'Samples 96'!C67","v":""}]
[{"$f":"'Samples 96'!C68","v":""}]
[{"$f":"'Samples 96'!C69","v":""}]
[{"$f":"'Samples 96'!C70","v":""}]
[{"$f":"'Samples 96'!C71","v":""}]
[{"$f":"'Samples 96'!C72","v":""}]
[{"$f":"'Samples 96'!C73","v":""}]
[{"$f":"'Samples 96'!C74","v":""}]
[{"$f":"'Samples 96'!C75","v":""}]
[{"$f":"'Samples 96'!C76","v":""}]
[{"$f":"'Samples 96'!C77","v":""}]
[{"$f":"'Samples 96'!C78","v":""}]
[{"$f":"'Samples 96'!C79","v":""}]
[{"$f":"'Samples 96'!C80","v":""}]
[{"$f":"'Samples 96'!C81","v":""}]
[{"$f":"'Samples 96'!C82","v":""}]
[{"$f":"'Samples 96'!C83","v":""}]
[{"$f":"'Samples 96'!C84","v":""}]
[{"$f":"'Samples 96'!C85","v":""}]
[{"$f":"'Samples 96'!C86","v":""}]
[{"$f":"'Samples 96'!C87","v":""}]
[{"$f":"'Samples 96'!C88","v":""}]
[{"$f":"'Samples 96'!C89","v":""}]
[{"$f":"'Samples 96'!C90","v":""}]
[{"$f":"'Samples 96'!C91","v":""}]
[{"$f":"'Samples 96'!C92","v":""}]
[{"$f":"'Samples 96'!C93","v":""}]
[{"$f":"'Samples 96'!C94","v":""}]
[{"$f":"'Samples 96'!C95","v":""}]
[{"$f":"'Samples 96'!C96","v":""}]
[{"$f":"'Samples 96'!C97","v":""}]
[{"$f":"'Samples 96'!C98","v":""}]
[{"$f":"'Samples 96'!C99","v":""}]
[{"$f":"'Samples 96'!C100","v":""}]
[{"$f":"'Samples 96'!C101","v":""}]
[{"$f":"'Samples 96'!C102","v":""}]
[{"$f":"'Samples 96'!C103","v":""}]
[{"$f":"'Samples 96'!C104","v":""}]
[{"$f":"'Samples 96'!C105","v":""}]
[{"$f":"'Samples 96'!C106","v":""}]
[{"$f":"'Samples 96'!C107","v":""}]
[{"$f":"'Samples 96'!C108","v":""}]
[{"$f":"'Samples 96'!C109","v":""}]
[{"$f":"'Samples 96'!C110","v":""}]
[{"$f":"'Samples 96'!C111","v":""}]
[{"$f":"'Samples 96'!C112","v":""}]
[{"$f":"'Samples 96'!C113","v":""}]
[{"$f":"'Samples 96'!C114","v":""}]
[{"$f":"'Samples 96'!C115","v":""}]
[{"$f":"'Samples 96'!C116","v":""}]
[{"$f":"'Samples 96'!C117","v":""}]
[{"$f":"'Samples 96'!C118","v":""}]
[{"$f":"'Samples 96'!C119","v":""}]
[{"$f":"'Samples 96'!C120","v":""}]
[{"$f":"'Samples 96'!C121","v":""}]
[{"$f":"'Samples 96'!C122","v":""}]
[{"$f":"'Samples 96'!C123","v":""}]
[{"$f":"'Samples 96'!C124","v":""}]
[{"$f":"'Samples 96'!C125","v":""}]
[{"$f":"'Samples 96'!C126","v":""}]
[{"$f":"'Samples 96'!C127","v":""}]
[{"$f":"'Samples 96'!C128","v":""}]
[{"$f":"'Samples 96'!C129","v":""}]
[{"$f":"'Samples 96'!C130","v":""}]
[{"$f":"'Samples 96'!C131","v":""}]
[{"$f":"'Samples 96'!C132","v":""}]
[{"$f":"'Samples 96'!C133","v":""}]
[{"$f":"'Samples 96'!C134","v":""}]
[{"$f":"'Samples 96'!C135","v":""}]
[{"$f":"'Samples 96'!C136","v":""}]
[{"$f":"'Samples 96'!C137","v":""}]
[{"$f":"'Samples 96'!C138","v":""}]
[{"$f":"'Samples 96'!C139","v":""}]
[{"$f":"'Samples 96'!C140","v":""}]
[{"$f":"'Samples 96'!C141","v":""}]
[{"$f":"'Samples 96'!C142","v":""}]
[{"$f":"'Samples 96'!C143","v":""}]
[{"$f":"'Samples 96'!C144","v":""}]
[{"$f":"'Samples 96'!C145","v":""}]
[{"$f":"'Samples 96'!C146","v":""}]
[{"$f":"'Samples 96'!C147","v":""}]
[{"$f":"'Samples 96'!C148","v":""}]
[{"$f":"'Samples 96'!C149","v":""}]
[{"$f":"'Samples 96'!C150","v":""}]
[{"$f":"'Samples 96'!C151","v":""}]
[{"$f":"'Samples 96'!C152","v":""}]
[{"$f":"'Samples 96'!C153","v":""}]
[{"$f":"'Samples 96'!C154","v":""}]
[{"$f":"'Samples 96'!C155","v":""}]
[{"$f":"'Samples 96'!C156","v":""}]
[{"$f":"'Samples 96'!C157","v":""}]
[{"$f":"'Samples 96'!C158","v":""}]
[{"$f":"'Samples 96'!C159","v":""}]
[{"$f":"'Samples 96'!C160","v":""}]
[{"$f":"'Samples 96'!C161","v":""}]
[{"$f":"'Samples 96'!C162","v":""}]
[{"$f":"'Samples 96'!C163","v":""}]
[{"$f":"'Samples 96'!C164","v":""}]
[{"$f":"'Samples 96'!C165","v":""}]
[{"$f":"'Samples 96'!C166","v":""}]
[{"$f":"'Samples 96'!C167","v":""}]
[{"$f":"'Samples 96'!C168","v":""}]
[{"$f":"'Samples 96'!C169","v":""}]
[{"$f":"'Samples 96'!C170","v":""}]
[{"$f":"'Samples 96'!C171","v":""}]
[{"$f":"'Samples 96'!C172","v":""}]
[{"$f":"'Samples 96'!C173","v":""}]
[{"$f":"'Samples 96'!C174","v":""}]
[{"$f":"'Samples 96'!C175","v":""}]
[{"$f":"'Samples 96'!C176","v":""}]
[{"$f":"'Samples 96'!C177","v":""}]
[{"$f":"'Samples 96'!C178","v":""}]
[{"$f":"'Samples 96'!C179","v":""}]
[{"$f":"'Samples 96'!C180","v":""}]
[{"$f":"'Samples 96'!C181","v":""}]
[{"$f":"'Samples 96'!C182","v":""}]
[{"$f":"'Samples 96'!C183","v":""}]
[{"$f":"'Samples 96'!C184","v":""}]
[{"$f":"'Samples 96'!C185","v":""}]
[{"$f":"'Samples 96'!C186","v":""}]
[{"$f":"'Samples 96'!C187","v":""}]
[{"$f":"'Samples 96'!C188","v":""}]
[{"$f":"'Samples 96'!C189","v":""}]
[{"$f":"'Samples 96'!C190","v":""}]
[{"$f":"'Samples 96'!C191","v":""}]
[{"$f":"'Samples 96'!C192","v":""}]
[{"$f":"'Samples 96'!C193","v":""}]
[{"$f":"'Samples 96'!C194","v":""}]
[{"$f":"'Samples 96'!C195","v":""}]
[{"$f":"'Samples 96'!C196","v":""}]
[{"$f":"'Samples 96'!C197","v":""}]
[{"$f":"'Samples 96'!C198","v":""}]
[{"$f":"'Samples 96'!C199","v":""}]
[{"$f":"'Samples 96'!C200","v":""}]
[{"$f":"'Samples 96'!C201","v":""}]
[{"$f":"'Samples 96'!C202","v":""}]
[{"$f":"'Samples 96'!C203","v":""}]
[{"$f":"'Samples 96'!C204","v":""}]
[{"$f":"'Samples 96'!C205","v":""}]
[{"$f":"'Samples 96'!C206","v":""}]
[{"$f":"'Samples 96'!C207","v":""}]
[{"$f":"'Samples 96'!C208","v":""}]
[{"$f":"'Samples 96'!C209","v":""}]
[{"$f":"'Samples 96'!C210","v":""}]
[{"$f":"'Samples 96'!C211","v":""}]
[{"$f":"'Samples 96'!C212","v":""}]
[{"$f":"'Samples 96'!C213","v":""}]
[{"$f":"'Samples 96'!C214","v":""}]
[{"$f":"'Samples 96'!C215","v":""}]
[{"$f":"'Samples 96'!C216","v":""}]
[{"$f":"'Samples 96'!C217","v":""}]
[{"$f":"'Samples 96'!C218","v":""}]
[{"$f":"'Samples 96'!C219","v":""}]
[{"$f":"'Samples 96'!C220","v":""}]
[{"$f":"'Samples 96'!C221","v":""}]
[{"$f":"'Samples 96'!C222","v":""}]
[{"$f":"'Samples 96'!C223","v":""}]
[{"$f":"'Samples 96'!C224","v":""}]
[{"$f":"'Samples 96'!C225","v":""}]
[{"$f":"'Samples 96'!C226","v":""}]
[{"$f":"'Samples 96'!C227","v":""}]
[{"$f":"'Samples 96'!C228","v":""}]
[{"$f":"'Samples 96'!C229","v":""}]
[{"$f":"'Samples 96'!C230","v":""}]
[{"$f":"'Samples 96'!C231","v":""}]
[{"$f":"'Samples 96'!C232","v":""}]
[{"$f":"'Samples 96'!C233","v":""}]
[{"$f":"'Samples 96'!C234","v":""}]
[{"$f":"'Samples 96'!C235","v":""}]
[{"$f":"'Samples 96'!C236","v":""}]
[{"$f":"'Samples 96'!C237","v":""}]
[{"$f":"'Samples 96'!C238","v":""}]
[{"$f":"'Samples 96'!C239","v":""}]
[{"$f":"'Samples 96'!C240","v":""}]
[{"$f":"'Samples 96'!C241","v":""}]
[{"$f":"'Samples 96'!C242","v":""}]
[{"$f":"'Samples 96'!C243","v":""}]
[{"$f":"'Samples 96'!C244","v":""}]
[{"$f":"'Samples 96'!C245","v":""}]
[{"$f":"'Samples 96'!C246","v":""}]
[{"$f":"'Samples 96'!C247","v":""}]
[{"$f":"'Samples 96'!C248","v":""}]
[{"$f":"'Samples 96'!C249","v":""}]
[{"$f":"'Samples 96'!C250","v":""}]
[{"$f":"'Samples 96'!C251","v":""}]
[{"$f":"'Samples 96'!C252","v":""}]
[{"$f":"'Samples 96'!C253","v":""}]
[{"$f":"'Samples 96'!C254","v":""}]
[{"$f":"'Samples 96'!C255","v":""}]
[{"$f":"'Samples 96'!C256","v":""}]
[{"$f":"'Samples 96'!C257","v":""}]
[{"$f":"'Samples 96'!C258","v":""}]
[{"$f":"'Samples 96'!C259","v":""}]
[{"$f":"'Samples 96'!C260","v":""}]
[{"$f":"'Samples 96'!C261","v":""}]
[{"$f":"'Samples 96'!C262","v":""}]
[{"$f":"'Samples 96'!C263","v":""}]
[{"$f":"'Samples 96'!C264","v":""}]
[{"$f":"'Samples 96'!C265","v":""}]
[{"$f":"'Samples 96'!C266","v":""}]
[{"$f":"'Samples 96'!C267","v":""}]
[{"$f":"'Samples 96'!C268","v":""}]
[{"$f":"'Samples 96'!C269","v":""}]
[{"$f":"'Samples 96'!C270","v":""}]
[{"$f":"'Samples 96'!C271","v":""}]
[{"$f":"'Samples 96'!C272","v":""}]
[{"$f":"'Samples 96'!C273","v":""}]
[{"$f":"'Samples 96'!C274","v":""}]
[{"$f":"'Samples 96'!C275","v":""}]
[{"$f":"'Samples 96'!C276","v":""}]
[{"$f":"'Samples 96'!C277","v":""}]
[{"$f":"'Samples 96'!C278","v":""}]
[{"$f":"'Samples 96'!C279","v":""}]
[{"$f":"'Samples 96'!C280","v":""}]
[{"$f":"'Samples 96'!C281","v":""}]
[{"$f":"'Samples 96'!C282","v":""}]
[{"$f":"'Samples 96'!C283","v":""}]
[{"$f":"'Samples 96'!C284","v":""}]
[{"$f":"'Samples 96'!C285","v":""}]
[{"$f":"'Samples 96'!C286","v":""}]
[{"$f":"'Samples 96'!C287","v":""}]
[{"$f":"'Samples 96'!C288","v":""}]
[{"$f":"'Samples 96'!C289","v":""}]
[{"$f":"'Samples 96'!C290","v":""}]
[{"$f":"'Samples 96'!C291","v":""}]
[{"$f":"'Samples 96'!C292","v":""}]
[{"$f":"'Samples 96'!C293","v":""}]
[{"$f":"'Samples 96'!C294","v":""}]
[{"$f":"'Samples 96'!C295","v":""}]
[{"$f":"'Samples 96'!C296","v":""}]
[{"$f":"'Samples 96'!C297","v":""}]
[{"$f":"'Samples 96'!C298","v":""}]
[{"$f":"'Samples 96'!C299","v":""}]
[{"$f":"'Samples 96'!C300","v":""}]
[{"$f":"'Samples 96'!C301","v":""}]
[{"$f":"'Samples 96'!C302","v":""}]
[{"$f":"'Samples 96'!C303","v":""}]
[{"$f":"'Samples 96'!C304","v":""}]
[{"$f":"'Samples 96'!C305","v":""}]
[{"$f":"'Samples 96'!C306","v":""}]
[{"$f":"'Samples 96'!C307","v":""}]
[{"$f":"'Samples 96'!C308","v":""}]
[{"$f":"'Samples 96'!C309","v":""}]
[{"$f":"'Samples 96'!C310","v":""}]
[{"$f":"'Samples 96'!C311","v":""}]
[{"$f":"'Samples 96'!C312","v":""}]
[{"$f":"'Samples 96'!C313","v":""}]
[{"$f":"'Samples 96'!C314","v":""}]
[{"$f":"'Samples 96'!C315","v":""}]
[{"$f":"'Samples 96'!C316","v":""}]
[{"$f":"'Samples 96'!C317","v":""}]
[{"$f":"'Samples 96'!C318","v":""}]
[{"$f":"'Samples 96'!C319","v":""}]
[{"$f":"'Samples 96'!C320","v":""}]
[{"$f":"'Samples 96'!C321","v":""}]
[{"$f":"'Samples 96'!C322","v":""}]
[{"$f":"'Samples 96'!C323","v":""}]
[{"$f":"'Samples 96'!C324","v":""}]
[{"$f":"'Samples 96'!C325","v":""}]
[{"$f":"'Samples 96'!C326","v":""}]
[{"$f":"'Samples 96'!C327","v":""}]
[{"$f":"'Samples 96'!C328","v":""}]
[{"$f":"'Samples 96'!C329","v":""}]
[{"$f":"'Samples 96'!C330","v":""}]
[{"$f":"'Samples 96'!C331","v":""}]
[{"$f":"'Samples 96'!C332","v":""}]
[{"$f":"'Samples 96'!C333","v":""}]
[{"$f":"'Samples 96'!C334","v":""}]
[{"$f":"'Samples 96'!C335","v":""}]
[{"$f":"'Samples 96'!C336","v":""}]
[{"$f":"'Samples 96'!C337","v":""}]
[{"$f":"'Samples 96'!C338","v":""}]
[{"$f":"'Samples 96'!C339","v":""}]
[{"$f":"'Samples 96'!C340","v":""}]
[{"$f":"'Samples 96'!C341","v":""}]
[{"$f":"'Samples 96'!C342","v":""}]
[{"$f":"'Samples 96'!C343","v":""}]
[{"$f":"'Samples 96'!C344","v":""}]
[{"$f":"'Samples 96'!C345","v":""}]
[{"$f":"'Samples 96'!C346","v":""}]
[{"$f":"'Samples 96'!C347","v":""}]
[{"$f":"'Samples 96'!C348","v":""}]
[{"$f":"'Samples 96'!C349","v":""}]
[{"$f":"'Samples 96'!C350","v":""}]
[{"$f":"'Samples 96'!C351","v":""}]
[{"$f":"'Samples 96'!C352","v":""}]
[{"$f":"'Samples 96'!C353","v":""}]
[{"$f":"'Samples 96'!C354","v":""}]
[{"$f":"'Samples 96'!C355","v":""}]
[{"$f":"'Samples 96'!C356","v":""}]
[{"$f":"'Samples 96'!C357","v":""}]
[{"$f":"'Samples 96'!C358","v":""}]
[{"$f":"'Samples 96'!C359","v":""}]
[{"$f":"'Samples 96'!C360","v":""}]
[{"$f":"'Samples 96'!C361","v":""}]
[{"$f":"'Samples 96'!C362","v":""}]
[{"$f":"'Samples 96'!C363","v":""}]
[{"$f":"'Samples 96'!C364","v":""}]
[{"$f":"'Samples 96'!C365","v":""}]
[{"$f":"'Samples 96'!C366","v":""}]
[{"$f":"'Samples 96'!C367","v":""}]
[{"$f":"'Samples 96'!C368","v":""}]
[{"$f":"'Samples 96'!C369","v":""}]
[{"$f":"'Samples 96'!C370","v":""}]
[{"$f":"'Samples 96'!C371","v":""}]
[{"$f":"'Samples 96'!C372","v":""}]
[{"$f":"'Samples 96'!C373","v":""}]
[{"$f":"'Samples 96'!C374","v":""}]
[{"$f":"'Samples 96'!C375","v":""}]
[{"$f":"'Samples 96'!C376","v":""}]
[{"$f":"'Samples 96'!C377","v":""}]
[{"$f":"'Samples 96'!C378","v":""}]
[{"$f":"'Samples 96'!C379","v":""}]
[{"$f":"'Samples 96'!C380","v":""}]
[{"$f":"'Samples 96'!C381","v":""}]
[{"$f":"'Samples 96'!C382","v":""}]
[{"$f":"'Samples 96'!C383","v":""}]
[{"$f":"'Samples 96'!C384","v":""}]
[{"$f":"'Samples 96'!C385","v":""}]
[{"$f":"'Samples 96'!C386","v":""}]
[{"$f":"'Samples 96'!C387","v":""}]
[{"$f":"'Samples 96'!C388","v":""}]
[{"$f":"'Samples 96'!C389","v":""}]
[{"$f":"'Samples 96'!C390","v":""}]
[{"$f":"'Samples 96'!C391","v":""}]
[{"$f":"'Samples 96'!C392","v":""}]
[{"$f":"'Samples 96'!C393","v":""}]
[{"$f":"'Samples 96'!C394","v":""}]
[{"$f":"'Samples 96'!C395","v":""}]
[{"$f":"'Samples 96'!C396","v":""}]
[{"$f":"'Samples 96'!C397","v":""}]
[{"$f":"'Samples 96'!C398","v":""}]
[{"$f":"'Samples 96'!C399","v":""}]
[{"$f":"'Samples 96'!C400","v":""}]
[{"$f":"'Samples 96'!C401","v":""}]
[{"$f":"'Samples 96'!C402","v":""}]
[{"$f":"'Samples 96'!C403","v":""}]
[{"$f":"'Samples 96'!C404","v":""}]
[{"$f":"'Samples 96'!C405","v":""}]
[{"$f":"'Samples 96'!C406","v":""}]
[{"$f":"'Samples 96'!C407","v":""}]
[{"$f":"'Samples 96'!C408","v":""}]
[{"$f":"'Samples 96'!C409","v":""}]
[{"$f":"'Samples 96'!C410","v":""}]
[{"$f":"'Samples 96'!C411","v":""}]
[{"$f":"'Samples 96'!C412","v":""}]
[{"$f":"'Samples 96'!C413","v":""}]
[{"$f":"'Samples 96'!C414","v":""}]
[{"$f":"'Samples 96'!C415","v":""}]
[{"$f":"'Samples 96'!C416","v":""}]
[{"$f":"'Samples 96'!C417","v":""}]
[{"$f":"'Samples 96'!C418","v":""}]
[{"$f":"'Samples 96'!C419","v":""}]
[{"$f":"'Samples 96'!C420","v":""}]
[{"$f":"'Samples 96'!C421","v":""}]
[{"$f":"'Samples 96'!C422","v":""}]
[{"$f":"'Samples 96'!C423","v":""}]
[{"$f":"'Samples 96'!C424","v":""}]
[{"$f":"'Samples 96'!C425","v":""}]
[{"$f":"'Samples 96'!C426","v":""}]
[{"$f":"'Samples 96'!C427","v":""}]
[{"$f":"'Samples 96'!C428","v":""}]
[{"$f":"'Samples 96'!C429","v":""}]
[{"$f":"'Samples 96'!C430","v":""}]
[{"$f":"'Samples 96'!C431","v":""}]
[{"$f":"'Samples 96'!C432","v":""}]
[{"$f":"'Samples 96'!C433","v":""}]
[{"$f":"'Samples 96'!C434","v":""}]
[{"$f":"'Samples 96'!C435","v":""}]
[{"$f":"'Samples 96'!C436","v":""}]
[{"$f":"'Samples 96'!C437","v":""}]
[{"$f":"'Samples 96'!C438","v":""}]
[{"$f":"'Samples 96'!C439","v":""}]
[{"$f":"'Samples 96'!C440","v":""}]
[{"$f":"'Samples 96'!C441","v":""}]
[{"$f":"'Samples 96'!C442","v":""}]
[{"$f":"'Samples 96'!C443","v":""}]
[{"$f":"'Samples 96'!C444","v":""}]
[{"$f":"'Samples 96'!C445","v":""}]
[{"$f":"'Samples 96'!C446","v":""}]
[{"$f":"'Samples 96'!C447","v":""}]
[{"$f":"'Samples 96'!C448","v":""}]
[{"$f":"'Samples 96'!C449","v":""}]
[{"$f":"'Samples 96'!C450","v":""}]
[{"$f":"'Samples 96'!C451","v":""}]
[{"$f":"'Samples 96'!C452","v":""}]
[{"$f":"'Samples 96'!C453","v":""}]
[{"$f":"'Samples 96'!C454","v":""}]
[{"$f":"'Samples 96'!C455","v":""}]
[{"$f":"'Samples 96'!C456","v":""}]
[{"$f":"'Samples 96'!C457","v":""}]
[{"$f":"'Samples 96'!C458","v":""}]
[{"$f":"'Samples 96'!C459","v":""}]
[{"$f":"'Samples 96'!C460","v":""}]
[{"$f":"'Samples 96'!C461","v":""}]
[{"$f":"'Samples 96'!C462","v":""}]
[{"$f":"'Samples 96'!C463","v":""}]
[{"$f":"'Samples 96'!C464","v":""}]
[{"$f":"'Samples 96'!C465","v":""}]
[{"$f":"'Samples 96'!C466","v":""}]
[{"$f":"'Samples 96'!C467","v":""}]
[{"$f":"'Samples 96'!C468","v":""}]
[{"$f":"'Samples 96'!C469","v":""}]
[{"$f":"'Samples 96'!C470","v":""}]
[{"$f":"'Samples 96'!C471","v":""}]
[{"$f":"'Samples 96'!C472","v":""}]
[{"$f":"'Samples 96'!C473","v":""}]
[{"$f":"'Samples 96'!C474","v":""}]
[{"$f":"'Samples 96'!C475","v":""}]
[{"$f":"'Samples 96'!C476","v":""}]
[{"$f":"'Samples 96'!C477","v":""}]
[{"$f":"'Samples 96'!C478","v":""}]
[{"$f":"'Samples 96'!C479","v":""}]
[{"$f":"'Samples 96'!C480","v":""}]
[{"$f":"'Samples 96'!C481","v":""}]
[{"$f":"'Samples 96'!C482","v":""}]
[{"$f":"'Samples 96'!C483","v":""}]
[{"$f":"'Samples 96'!C484","v":""}]
[{"$f":"'Samples 96'!C485","v":""}]
[{"$f":"'Samples 96'!C486","v":""}]
[{"$f":"'Samples 96'!C487","v":""}]
[{"$f":"'Samples 96'!C488","v":""}]
[{"$f":"'Samples 96'!C489","v":""}]
[{"$f":"'Samples 96'!C490","v":""}]
[{"$f":"'Samples 96'!C491","v":""}]
[{"$f":"'Samples 96'!C492","v":""}]
[{"$f":"'Samples 96'!C493","v":""}]
[{"$f":"'Samples 96'!C494","v":""}]
[{"$f":"'Samples 96'!C495","v":""}]
[{"$f":"'Samples 96'!C496","v":""}]
[{"$f":"'Samples 96'!C497","v":""}]
[{"$f":"'Samples 96'!C498","v":""}]
[{"$f":"'Samples 96'!C499","v":""}]
[{"$f":"'Samples 96'!C500","v":""}]
[{"$f":"'Samples 96'!C501","v":""}]
[{"$f":"'Samples 96'!C502","v":""}]
[{"$f":"'Samples 96'!C503","v":""}]
[{"$f":"'Samples 96'!C504","v":""}]
[{"$f":"'Samples 96'!C505","v":""}]
[{"$f":"'Samples 96'!C506","v":""}]
[{"$f":"'Samples 96'!C507","v":""}]
[{"$f":"'Samples 96'!C508","v":""}]
[{"$f":"'Samples 96'!C509","v":""}]
[{"$f":"'Samples 96'!C510","v":""}]
[{"$f":"'Samples 96'!C511","v":""}]
[{"$f":"'Samples 96'!C512","v":""}]
[{"$f":"'Samples 96'!C513","v":""}]
[{"$f":"'Samples 96'!C514","v":""}]
[{"$f":"'Samples 96'!C515","v":""}]
[{"$f":"'Samples 96'!C516","v":""}]
[{"$f":"'Samples 96'!C517","v":""}]
[{"$f":"'Samples 96'!C518","v":""}]
[{"$f":"'Samples 96'!C519","v":""}]
[{"$f":"'Samples 96'!C520","v":""}]
[{"$f":"'Samples 96'!C521","v":""}]
[{"$f":"'Samples 96'!C522","v":""}]
[{"$f":"'Samples 96'!C523","v":""}]
[{"$f":"'Samples 96'!C524","v":""}]
[{"$f":"'Samples 96'!C525","v":""}]
[{"$f":"'Samples 96'!C526","v":""}]
[{"$f":"'Samples 96'!C527","v":""}]
[{"$f":"'Samples 96'!C528","v":""}]
[{"$f":"'Samples 96'!C529","v":""}]
[{"$f":"'Samples 96'!C530","v":""}]
[{"$f":"'Samples 96'!C531","v":""}]
[{"$f":"'Samples 96'!C532","v":""}]
[{"$f":"'Samples 96'!C533","v":""}]
[{"$f":"'Samples 96'!C534","v":""}]
[{"$f":"'Samples 96'!C535","v":""}]
[{"$f":"'Samples 96'!C536","v":""}]
[{"$f":"'Samples 96'!C537","v":""}]
[{"$f":"'Samples 96'!C538","v":""}]
[{"$f":"'Samples 96'!C539","v":""}]
[{"$f":"'Samples 96'!C540","v":""}]
[{"$f":"'Samples 96'!C541","v":""}]
[{"$f":"'Samples 96'!C542","v":""}]
[{"$f":"'Samples 96'!C543","v":""}]
[{"$f":"'Samples 96'!C544","v":""}]
[{"$f":"'Samples 96'!C545","v":""}]
[{"$f":"'Samples 96'!C546","v":""}]
[{"$f":"'Samples 96'!C547","v":""}]
[{"$f":"'Samples 96'!C548","v":""}]
[{"$f":"'Samples 96'!C549","v":""}]
[{"$f":"'Samples 96'!C550","v":""}]
[{"$f":"'Samples 96'!C551","v":""}]
[{"$f":"'Samples 96'!C552","v":""}]
[{"$f":"'Samples 96'!C553","v":""}]
[{"$f":"'Samples 96'!C554","v":""}]
[{"$f":"'Samples 96'!C555","v":""}]
[{"$f":"'Samples 96'!C556","v":""}]
[{"$f":"'Samples 96'!C557","v":""}]
[{"$f":"'Samples 96'!C558","v":""}]
[{"$f":"'Samples 96'!C559","v":""}]
[{"$f":"'Samples 96'!C560","v":""}]
[{"$f":"'Samples 96'!C561","v":""}]
[{"$f":"'Samples 96'!C562","v":""}]
[{"$f":"'Samples 96'!C563","v":""}]
[{"$f":"'Samples 96'!C564","v":""}]
[{"$f":"'Samples 96'!C565","v":""}]
[{"$f":"'Samples 96'!C566","v":""}]
[{"$f":"'Samples 96'!C567","v":""}]
[{"$f":"'Samples 96'!C568","v":""}]
[{"$f":"'Samples 96'!C569","v":""}]
[{"$f":"'Samples 96'!C570","v":""}]
[{"$f":"'Samples 96'!C571","v":""}]
[{"$f":"'Samples 96'!C572","v":""}]
[{"$f":"'Samples 96'!C573","v":""}]
[{"$f":"'Samples 96'!C574","v":""}]
[{"$f":"'Samples 96'!C575","v":""}]
[{"$f":"'Samples 96'!C576","v":""}]
[{"$f":"'Samples 96'!C577","v":""}]
[{"$f":"'Samples 96'!C578","v":""}]
[{"$f":"'Samples 96'!C579","v":""}]
[{"$f":"'Samples 96'!C580","v":""}]
[{"$f":"'Samples 96'!C581","v":""}]
[{"$f":"'Samples 96'!C582","v":""}]
[{"$f":"'Samples 96'!C583","v":""}]
[{"$f":"'Samples 96'!C584","v":""}]
[{"$f":"'Samples 96'!C585","v":""}]
[{"$f":"'Samples 96'!C586","v":""}]
[{"$f":"'Samples 96'!C587","v":""}]
[{"$f":"'Samples 96'!C588","v":""}]
[{"$f":"'Samples 96'!C589","v":""}]
[{"$f":"'Samples 96'!C590","v":""}]
[{"$f":"'Samples 96'!C591","v":""}]
[{"$f":"'Samples 96'!C592","v":""}]
[{"$f":"'Samples 96'!C593","v":""}]
[{"$f":"'Samples 96'!C594","v":""}]
[{"$f":"'Samples 96'!C595","v":""}]
[{"$f":"'Samples 96'!C596","v":""}]
[{"$f":"'Samples 96'!C597","v":""}]
[{"$f":"'Samples 96'!C598","v":""}]
[{"$f":"'Samples 96'!C599","v":""}]
[{"$f":"'Samples 96'!C600","v":""}]
[{"$f":"'Samples 96'!C601","v":""}]
[{"$f":"'Samples 96'!C602","v":""}]
[{"$f":"'Samples 96'!C603","v":""}]
[{"$f":"'Samples 96'!C604","v":""}]
[{"$f":"'Samples 96'!C605","v":""}]
[{"$f":"'Samples 96'!C606","v":""}]
[{"$f":"'Samples 96'!C607","v":""}]
[{"$f":"'Samples 96'!C608","v":""}]
[{"$f":"'Samples 96'!C609","v":""}]
[{"$f":"'Samples 96'!C610","v":""}]
[{"$f":"'Samples 96'!C611","v":""}]
[{"$f":"'Samples 96'!C612","v":""}]
[{"$f":"'Samples 96'!C613","v":""}]
[{"$f":"'Samples 96'!C614","v":""}]
[{"$f":"'Samples 96'!C615","v":""}]
[{"$f":"'Samples 96'!C616","v":""}]
[{"$f":"'Samples 96'!C617","v":""}]
[{"$f":"'Samples 96'!C618","v":""}]
[{"$f":"'Samples 96'!C619","v":""}]
[{"$f":"'Samples 96'!C620","v":""}]
[{"$f":"'Samples 96'!C621","v":""}]
[{"$f":"'Samples 96'!C622","v":""}]
[{"$f":"'Samples 96'!C623","v":""}]
[{"$f":"'Samples 96'!C624","v":""}]
[{"$f":"'Samples 96'!C625","v":""}]
[{"$f":"'Samples 96'!C626","v":""}]
[{"$f":"'Samples 96'!C627","v":""}]
[{"$f":"'Samples 96'!C628","v":""}]
[{"$f":"'Samples 96'!C629","v":""}]
[{"$f":"'Samples 96'!C630","v":""}]
[{"$f":"'Samples 96'!C631","v":""}]
[{"$f":"'Samples 96'!C632","v":""}]
[{"$f":"'Samples 96'!C633","v":""}]
[{"$f":"'Samples 96'!C634","v":""}]
[{"$f":"'Samples 96'!C635","v":""}]
[{"$f":"'Samples 96'!C636","v":""}]
[{"$f":"'Samples 96'!C637","v":""}]
[{"$f":"'Samples 96'!C638","v":""}]
[{"$f":"'Samples 96'!C639","v":""}]
[{"$f":"'Samples 96'!C640","v":""}]
[{"$f":"'Samples 96'!C641","v":""}]
[{"$f":"'Samples 96'!C642","v":""}]
[{"$f":"'Samples 96'!C643","v":""}]
[{"$f":"'Samples 96'!C644","v":""}]
[{"$f":"'Samples 96'!C645","v":""}]
[{"$f":"'Samples 96'!C646","v":""}]
[{"$f":"'Samples 96'!C647","v":""}]
[{"$f":"'Samples 96'!C648","v":""}]
[{"$f":"'Samples 96'!C649","v":""}]
[{"$f":"'Samples 96'!C650","v":""}]
[{"$f":"'Samples 96'!C651","v":""}]
[{"$f":"'Samples 96'!C652","v":""}]
[{"$f":"'Samples 96'!C653","v":""}]
[{"$f":"'Samples 96'!C654","v":""}]
[{"$f":"'Samples 96'!C655","v":""}]
[{"$f":"'Samples 96'!C656","v":""}]
[{"$f":"'Samples 96'!C657","v":""}]
[{"$f":"'Samples 96'!C658","v":""}]
[{"$f":"'Samples 96'!C659","v":""}]
[{"$f":"'Samples 96'!C660","v":""}]
[{"$f":"'Samples 96'!C661","v":""}]
[{"$f":"'Samples 96'!C662","v":""}]
[{"$f":"'Samples 96'!C663","v":""}]
[{"$f":"'Samples 96'!C664","v":""}]
[{"$f":"'Samples 96'!C665","v":""}]
[{"$f":"'Samples 96'!C666","v":""}]
[{"$f":"'Samples 96'!C667","v":""}]
[{"$f":"'Samples 96'!C668","v":""}]
[{"$f":"'Samples 96'!C669","v":""}]
[{"$f":"'Samples 96'!C670","v":""}]
[{"$f":"'Samples 96'!C671","v":""}]
[{"$f":"'Samples 96'!C672","v":""}]
[{"$f":"'Samples 96'!C673","v":""}]
[{"$f":"'Samples 96'!C674","v":""}]
[{"$f":"'Samples 96'!C675","v":""}]
[{"$f":"'Samples 96'!C676","v":""}]
[{"$f":"'Samples 96'!C677","v":""}]
[{"$f":"'Samples 96'!C678","v":""}]
[{"$f":"'Samples 96'!C679","v":""}]
[{"$f":"'Samples 96'!C680","v":""}]
[{"$f":"'Samples 96'!C681","v":""}]
[{"$f":"'Samples 96'!C682","v":""}]
[{"$f":"'Samples 96'!C683","v":""}]
[{"$f":"'Samples 96'!C684","v":""}]
[{"$f":"'Samples 96'!C685","v":""}]
[{"$f":"'Samples 96'!C686","v":""}]
[{"$f":"'Samples 96'!C687","v":""}]
[{"$f":"'Samples 96'!C688","v":""}]
[{"$f":"'Samples 96'!C689","v":""}]
[{"$f":"'Samples 96'!C690","v":""}]
[{"$f":"'Samples 96'!C691","v":""}]
[{"$f":"'Samples 96'!C692","v":""}]
[{"$f":"'Samples 96'!C693","v":""}]
[{"$f":"'Samples 96'!C694","v":""}]
[{"$f":"'Samples 96'!C695","v":""}]
[{"$f":"'Samples 96'!C696","v":""}]
[{"$f":"'Samples 96'!C697","v":""}]
[{"$f":"'Samples 96'!C698","v":""}]
[{"$f":"'Samples 96'!C699","v":""}]
[{"$f":"'Samples 96'!C700","v":""}]
[{"$f":"'Samples 96'!C701","v":""}]
[{"$f":"'Samples 96'!C702","v":""}]
[{"$f":"'Samples 96'!C703","v":""}]
[{"$f":"'Samples 96'!C704","v":""}]
[{"$f":"'Samples 96'!C705","v":""}]
[{"$f":"'Samples 96'!C706","v":""}]
[{"$f":"'Samples 96'!C707","v":""}]
[{"$f":"'Samples 96'!C708","v":""}]
[{"$f":"'Samples 96'!C709","v":""}]
[{"$f":"'Samples 96'!C710","v":""}]
[{"$f":"'Samples 96'!C711","v":""}]
[{"$f":"'Samples 96'!C712","v":""}]
[{"$f":"'Samples 96'!C713","v":""}]
[{"$f":"'Samples 96'!C714","v":""}]
[{"$f":"'Samples 96'!C715","v":""}]
[{"$f":"'Samples 96'!C716","v":""}]
[{"$f":"'Samples 96'!C717","v":""}]
[{"$f":"'Samples 96'!C718","v":""}]
[{"$f":"'Samples 96'!C719","v":""}]
[{"$f":"'Samples 96'!C720","v":""}]
[{"$f":"'Samples 96'!C721","v":""}]
[{"$f":"'Samples 96'!C722","v":""}]
[{"$f":"'Samples 96'!C723","v":""}]
[{"$f":"'Samples 96'!C724","v":""}]
[{"$f":"'Samples 96'!C725","v":""}]
[{"$f":"'Samples 96'!C726","v":""}]
[{"$f":"'Samples 96'!C727","v":""}]
[{"$f":"'Samples 96'!C728","v":""}]
[{"$f":"'Samples 96'!C729","v":""}]
[{"$f":"'Samples 96'!C730","v":""}]
[{"$f":"'Samples 96'!C731","v":""}]
[{"$f":"'Samples 96'!C732","v":""}]
[{"$f":"'Samples 96'!C733","v":""}]
[{"$f":"'Samples 96'!C734","v":""}]
[{"$f":"'Samples 96'!C735","v":""}]
[{"$f":"'Samples 96'!C736","v":""}]
[{"$f":"'Samples 96'!C737","v":""}]
[{"$f":"'Samples 96'!C738","v":""}]
[{"$f":"'Samples 96'!C739","v":""}]
[{"$f":"'Samples 96'!C740","v":""}]
[{"$f":"'Samples 96'!C741","v":""}]
[{"$f":"'Samples 96'!C742","v":""}]
[{"$f":"'Samples 96'!C743","v":""}]
[{"$f":"'Samples 96'!C744","v":""}]
[{"$f":"'Samples 96'!C745","v":""}]
[{"$f":"'Samples 96'!C746","v":""}]
[{"$f":"'Samples 96'!C747","v":""}]
[{"$f":"'Samples 96'!C748","v":""}]
[{"$f":"'Samples 96'!C749","v":""}]
[{"$f":"'Samples 96'!C750","v":""}]
[{"$f":"'Samples 96'!C751","v":""}]
[{"$f":"'Samples 96'!C752","v":""}]
[{"$f":"'Samples 96'!C753","v":""}]
[{"$f":"'Samples 96'!C754","v":""}]
[{"$f":"'Samples 96'!C755","v":""}]
[{"$f":"'Samples 96'!C756","v":""}]
[{"$f":"'Samples 96'!C757","v":""}]
[{"$f":"'Samples 96'!C758","v":""}]
[{"$f":"'Samples 96'!C759","v":""}]
[{"$f":"'Samples 96'!C760","v":""}]
[{"$f":"'Samples 96'!C761","v":""}]
[{"$f":"'Samples 96'!C762","v":""}]
[{"$f":"'Samples 96'!C763","v":""}]
[{"$f":"'Samples 96'!C764","v":""}]
[{"$f":"'Samples 96'!C765","v":""}]
[{"$f":"'Samples 96'!C766","v":""}]
[{"$f":"'Samples 96'!C767","v":""}]
[{"$f":"'Samples 96'!C768","v":""}]
[{"$f":"'Samples 96'!C769","v":""}]
[{"$f":"'Samples 96'!C770","v":""}]
[{"$f":"'Samples 96'!C771","v":""}]
[{"$f":"'Samples 96'!C772","v":""}]
[{"$f":"'Samples 96'!C773","v":""}]
[{"$f":"'Samples 96'!C774","v":""}]
[{"$f":"'Samples 96'!C775","v":""}]
[{"$f":"'Samples 96'!C776","v":""}]
[{"$f":"'Samples 96'!C777","v":""}]
[{"$f":"'Samples 96'!C778","v":""}]
[{"$f":"'Samples 96'!C779","v":""}]
[{"$f":"'Samples 96'!C780","v":""}]
[{"$f":"'Samples 96'!C781","v":""}]
[{"$f":"'Samples 96'!C782","v":""}]
[{"$f":"'Samples 96'!C783","v":""}]
[{"$f":"'Samples 96'!C784","v":""}]
[{"$f":"'Samples 96'!C785","v":""}]
[{"$f":"'Samples 96'!C786","v":""}]
[{"$f":"'Samples 96'!C787","v":""}]
[{"$f":"'Samples 96'!C788","v":""}]
[{"$f":"'Samples 96'!C789","v":""}]
[{"$f":"'Samples 96'!C790","v":""}]
[{"$f":"'Samples 96'!C791","v":""}]
[{"$f":"'Samples 96'!C792","v":""}]
[{"$f":"'Samples 96'!C793","v":""}]
[{"$f":"'Samples 96'!C794","v":""}]
[{"$f":"'Samples 96'!C795","v":""}]
[{"$f":"'Samples 96'!C796","v":""}]
[{"$f":"'Samples 96'!C797","v":""}]
[{"$f":"'Samples 96'!C798","v":""}]
[{"$f":"'Samples 96'!C799","v":""}]
[{"$f":"'Samples 96'!C800","v":""}]
[{"$f":"'Samples 96'!C801","v":""}]
[{"$f":"'Samples 96'!C802","v":""}]
[{"$f":"'Samples 96'!C803","v":""}]
[{"$f":"'Samples 96'!C804","v":""}]
[{"$f":"'Samples 96'!C805","v":""}]
[{"$f":"'Samples 96'!C806","v":""}]
[{"$f":"'Samples 96'!C807","v":""}]
[{"$f":"'Samples 96'!C808","v":""}]
[{"$f":"'Samples 96'!C809","v":""}]
[{"$f":"'Samples 96'!C810","v":""}]
[{"$f":"'Samples 96'!C811","v":""}]
[{"$f":"'Samples 96'!C812","v":""}]
[{"$f":"'Samples 96'!C813","v":""}]
[{"$f":"'Samples 96'!C814","v":""}]
[{"$f":"'Samples 96'!C815","v":""}]
[{"$f":"'Samples 96'!C816","v":""}]
[{"$f":"'Samples 96'!C817","v":""}]
[{"$f":"'Samples 96'!C818","v":""}]
[{"$f":"'Samples 96'!C819","v":""}]
[{"$f":"'Samples 96'!C820","v":""}]
[{"$f":"'Samples 96'!C821","v":""}]
[{"$f":"'Samples 96'!C822","v":""}]
[{"$f":"'Samples 96'!C823","v":""}]
[{"$f":"'Samples 96'!C824","v":""}]
[{"$f":"'Samples 96'!C825","v":""}]
[{"$f":"'Samples 96'!C826","v":""}]
[{"$f":"'Samples 96'!C827","v":""}]
[{"$f":"'Samples 96'!C828","v":""}]
[{"$f":"'Samples 96'!C829","v":""}]
[{"$f":"'Samples 96'!C830","v":""}]
[{"$f":"'Samples 96'!C831","v":""}]
[{"$f":"'Samples 96'!C832","v":""}]
[{"$f":"'Samples 96'!C833","v":""}]
[{"$f":"'Samples 96'!C834","v":""}]
[{"$f":"'Samples 96'!C835","v":""}]
[{"$f":"'Samples 96'!C836","v":""}]
[{"$f":"'Samples 96'!C837","v":""}]
[{"$f":"'Samples 96'!C838","v":""}]
[{"$f":"'Samples 96'!C839","v":""}]
[{"$f":"'Samples 96'!C840","v":""}]
[{"$f":"'Samples 96'!C841","v":""}]
[{"$f":"'Samples 96'!C842","v":""}]
[{"$f":"'Samples 96'!C843","v":""}]
[{"$f":"'Samples 96'!C844","v":""}]
[{"$f":"'Samples 96'!C845","v":""}]
[{"$f":"'Samples 96'!C846","v":""}]
[{"$f":"'Samples 96'!C847","v":""}]
[{"$f":"'Samples 96'!C848","v":""}]
[{"$f":"'Samples 96'!C849","v":""}]
[{"$f":"'Samples 96'!C850","v":""}]
[{"$f":"'Samples 96'!C851","v":""}]
[{"$f":"'Samples 96'!C852","v":""}]
[{"$f":"'Samples 96'!C853","v":""}]
[{"$f":"'Samples 96'!C854","v":""}]
[{"$f":"'Samples 96'!C855","v":""}]
[{"$f":"'Samples 96'!C856","v":""}]
[{"$f":"'Samples 96'!C857","v":""}]
[{"$f":"'Samples 96'!C858","v":""}]
[{"$f":"'Samples 96'!C859","v":""}]
[{"$f":"'Samples 96'!C860","v":""}]
[{"$f":"'Samples 96'!C861","v":""}]
[{"$f":"'Samples 96'!C862","v":""}]
[{"$f":"'Samples 96'!C863","v":""}]
[{"$f":"'Samples 96'!C864","v":""}]
[{"$f":"'Samples 96'!C865","v":""}]
[{"$f":"'Samples 96'!C866","v":""}]
[{"$f":"'Samples 96'!C867","v":""}]
[{"$f":"'Samples 96'!C868","v":""}]
[{"$f":"'Samples 96'!C869","v":""}]
[{"$f":"'Samples 96'!C870","v":""}]
[{"$f":"'Samples 96'!C871","v":""}]
[{"$f":"'Samples 96'!C872","v":""}]
[{"$f":"'Samples 96'!C873","v":""}]
[{"$f":"'Samples 96'!C874","v":""}]
[{"$f":"'Samples 96'!C875","v":""}]
[{"$f":"'Samples 96'!C876","v":""}]
[{"$f":"'Samples 96'!C877","v":""}]
[{"$f":"'Samples 96'!C878","v":""}]
[{"$f":"'Samples 96'!C879","v":""}]
[{"$f":"'Samples 96'!C880","v":""}]
[{"$f":"'Samples 96'!C881","v":""}]
[{"$f":"'Samples 96'!C882","v":""}]
[{"$f":"'Samples 96'!C883","v":""}]
[{"$f":"'Samples 96'!C884","v":""}]
[{"$f":"'Samples 96'!C885","v":""}]
[{"$f":"'Samples 96'!C886","v":""}]
[{"$f":"'Samples 96'!C887","v":""}]
[{"$f":"'Samples 96'!C888","v":""}]
[{"$f":"'Samples 96'!C889","v":""}]
[{"$f":"'Samples 96'!C890","v":""}]
[{"$f":"'Samples 96'!C891","v":""}]
[{"$f":"'Samples 96'!C892","v":""}]
[{"$f":"'Samples 96'!C893","v":""}]
[{"$f":"'Samples 96'!C894","v":""}]
[{"$f":"'Samples 96'!C895","v":""}]
[{"$f":"'Samples 96'!C896","v":""}]
[{"$f":"'Samples 96'!C897","v":""}]
[{"$f":"'Samples 96'!C898","v":""}]
[{"$f":"'Samples 96'!C899","v":""}]
[{"$f":"'Samples 96'!C900","v":""}]
[{"$f":"'Samples 96'!C901","v":""}]
[{"$f":"'Samples 96'!C902","v":""}]
[{"$f":"'Samples 96'!C903","v":""}]
[{"$f":"'Samples 96'!C904","v":""}]
[{"$f":"'Samples 96'!C905","v":""}]
[{"$f":"'Samples 96'!C906","v":""}]
[{"$f":"'Samples 96'!C907","v":""}]
[{"$f":"'Samples 96'!C908","v":""}]
[{"$f":"'Samples 96'!C909","v":""}]
[{"$f":"'Samples 96'!C910","v":""}]
[{"$f":"'Samples 96'!C911","v":""}]
[{"$f":"'Samples 96'!C912","v":""}]
[{"$f":"'Samples 96'!C913","v":""}]
[{"$f":"'Samples 96'!C914","v":""}]
[{"$f":"'Samples 96'!C915","v":""}]
[{"$f":"'Samples 96'!C916","v":""}]
[{"$f":"'Samples 96'!C917","v":""}]
[{"$f":"'Samples 96'!C918","v":""}]
[{"$f":"'Samples 96'!C919","v":""}]
[{"$f":"'Samples 96'!C920","v":""}]
[{"$f":"'Samples 96'!C921","v":""}]
[{"$f":"'Samples 96'!C922","v":""}]
[{"$f":"'Samples 96'!C923","v":""}]
[{"$f":"'Samples 96'!C924","v":""}]
[{"$f":"'Samples 96'!C925","v":""}]
[{"$f":"'Samples 96'!C926","v":""}]
[{"$f":"'Samples 96'!C927","v":""}]
[{"$f":"'Samples 96'!C928","v":""}]
[{"$f":"'Samples 96'!C929","v":""}]
[{"$f":"'Samples 96'!C930","v":""}]
[{"$f":"'Samples 96'!C931","v":""}]
[{"$f":"'Samples 96'!C932","v":""}]
[{"$f":"'Samples 96'!C933","v":""}]
[{"$f":"'Samples 96'!C934","v":""}]
[{"$f":"'Samples 96'!C935","v":""}]
[{"$f":"'Samples 96'!C936","v":""}]
[{"$f":"'Samples 96'!C937","v":""}]
[{"$f":"'Samples 96'!C938","v":""}]
[{"$f":"'Samples 96'!C939","v":""}]
[{"$f":"'Samples 96'!C940","v":""}]
[{"$f":"'Samples 96'!C941","v":""}]
[{"$f":"'Samples 96'!C942","v":""}]
[{"$f":"'Samples 96'!C943","v":""}]
[{"$f":"'Samples 96'!C944","v":""}]
[{"$f":"'Samples 96'!C945","v":""}]
[{"$f":"'Samples 96'!C946","v":""}]
[{"$f":"'Samples 96'!C947","v":""}]
[{"$f":"'Samples 96'!C948","v":""}]
[{"$f":"'Samples 96'!C949","v":""}]
[{"$f":"'Samples 96'!C950","v":""}]
[{"$f":"'Samples 96'!C951","v":""}]
[{"$f":"'Samples 96'!C952","v":""}]
[{"$f":"'Samples 96'!C953","v":""}]
[{"$f":"'Samples 96'!C954","v":""}]
[{"$f":"'Samples 96'!C955","v":""}]
[{"$f":"'Samples 96'!C956","v":""}]
[{"$f":"'Samples 96'!C957","v":""}]
[{"$f":"'Samples 96'!C958","v":""}]
[{"$f":"'Samples 96'!C959","v":""}]
[{"$f":"'Samples 96'!C960","v":""}]
[{"$f":"'Samples 96'!C961","v":""}]
[{"$f":"'Samples 96'!C962","v":""}]
[{"$f":"'Samples 96'!C963","v":""}]
[{"$f":"'Samples 96'!C964","v":""}]
[{"$f":"'Samples 96'!C965","v":""}]
[{"$f":"'Samples 96'!C966","v":""}]
[{"$f":"'Samples 96'!C967","v":""}]
[{"$f":"'Samples 96'!C968","v":""}]
[{"$f":"'Samples 96'!C969","v":""}]
[{"$f":"'Samples 96'!C970","v":""}]
[{"$f":"'Samples 96'!C971","v":""}]
[{"$f":"'Samples 96'!C972","v":""}]
[{"$f":"'Samples 96'!C973","v":""}]
[{"$f":"'Samples 96'!C974","v":""}]
[{"$f":"'Samples 96'!C975","v":""}]
[{"$f":"'Samples 96'!C976","v":""}]
[{"$f":"'Samples 96'!C977","v":""}]
[{"$f":"'Samples 96'!C978","v":""}]
[{"$f":"'Samples 96'!C979","v":""}]
[{"$f":"'Samples 96'!C980","v":""}]
[{"$f":"'Samples 96'!C981","v":""}]
[{"$f":"'Samples 96'!C982","v":""}]
[{"$f":"'Samples 96'!C983","v":""}]
[{"$f":"'Samples 96'!C984","v":""}]
[{"$f":"'Samples 96'!C985","v":""}]
[{"$f":"'Samples 96'!C986","v":""}]
[{"$f":"'Samples 96'!C987","v":""}]
[{"$f":"'Samples 96'!C988","v":""}]
[{"$f":"'Samples 96'!C989","v":""}]
[{"$f":"'Samples 96'!C990","v":""}]
[{"$f":"'Samples 96'!C991","v":""}]
[{"$f":"'Samples 96'!C992","v":""}]
[{"$f":"'Samples 96'!C993","v":""}]
[{"$f":"'Samples 96'!C994","v":""}]
[{"$f":"'Samples 96'!C995","v":""}]
[{"$f":"'Samples 96'!C996","v":""}]
[{"$f":"'Samples 96'!C997","v":""}]
[{"$f":"'Samples 96'!C998","v":""}]
[{"$f":"'Samples 96'!C999","v":""}]
[{"$f":"'Samples 96'!C1000","v":""}]
[{"$f":"'Samples 96'!C1001","v":""}]
[{"$f":"'Samples 96'!C1002","v":""}]
[{"$f":"'Samples 96'!C1003","v":""}]
[{"$f":"'Samples 96'!C1004","v":""}]
[{"$f":"'Samples 96'!C1005","v":""}]
[{"$f":"'Samples 96'!C1006","v":""}]
[{"$f":"'Samples 96'!C1007","v":""}]
[{"$f":"'Samples 96'!C1008","v":""}]
[{"$f":"'Samples 96'!C1009","v":""}]
[{"$f":"'Samples 96'!C1010","v":""}]
[{"$f":"'Samples 96'!C1011","v":""}]
[{"$f":"'Samples 96'!C1012","v":""}]
[{"$f":"'Samples 96'!C1013","v":""}]
[{"$f":"'Samples 96'!C1014","v":""}]
[{"$f":"'Samples 96'!C1015","v":""}]
[{"$f":"'Samples 96'!C1016","v":""}]
[{"$f":"'Samples 96'!C1017","v":""}]
[{"$f":"'Samples 96'!C1018","v":""}]
[{"$f":"'Samples 96'!C1019","v":""}]
[{"$f":"'Samples 96'!C1020","v":""}]
[{"$f":"'Samples 96'!C1021","v":""}]
[{"$f":"'Samples 96'!C1022","v":""}]
[{"$f":"'Samples 96'!C1023","v":""}]
[{"$f":"'Samples 96'!C1024","v":""}]
[{"$f":"'Samples 96'!C1025","v":""}]
[{"$f":"'Samples 96'!C1026","v":""}]
[{"$f":"'Samples 96'!C1027","v":""}]
[{"$f":"'Samples 96'!C1028","v":""}]
[{"$f":"'Samples 96'!C1029","v":""}]
[{"$f":"'Samples 96'!C1030","v":""}]
[{"$f":"'Samples 96'!C1031","v":""}]
[{"$f":"'Samples 96'!C1032","v":""}]
[{"$f":"'Samples 96'!C1033","v":""}]
[{"$f":"'Samples 96'!C1034","v":""}]
[{"$f":"'Samples 96'!C1035","v":""}]
[{"$f":"'Samples 96'!C1036","v":""}]
[{"$f":"'Samples 96'!C1037","v":""}]
[{"$f":"'Samples 96'!C1038","v":""}]
[{"$f":"'Samples 96'!C1039","v":""}]
[{"$f":"'Samples 96'!C1040","v":""}]
[{"$f":"'Samples 96'!C1041","v":""}]
[{"$f":"'Samples 96'!C1042","v":""}]
[{"$f":"'Samples 96'!C1043","v":""}]
[{"$f":"'Samples 96'!C1044","v":""}]
[{"$f":"'Samples 96'!C1045","v":""}]
[{"$f":"'Samples 96'!C1046","v":""}]
[{"$f":"'Samples 96'!C1047","v":""}]
[{"$f":"'Samples 96'!C1048","v":""}]
[{"$f":"'Samples 96'!C1049","v":""}]
[{"$f":"'Samples 96'!C1050","v":""}]
[{"$f":"'Samples 96'!C1051","v":""}]
[{"$f":"'Samples 96'!C1052","v":""}]
[{"$f":"'Samples 96'!C1053","v":""}]
[{"$f":"'Samples 96'!C1054","v":""}]
[{"$f":"'Samples 96'!C1055","v":""}]
[{"$f":"'Samples 96'!C1056","v":""}]
[{"$f":"'Samples 96'!C1057","v":""}]
[{"$f":"'Samples 96'!C1058","v":""}]
[{"$f":"'Samples 96'!C1059","v":""}]
[{"$f":"'Samples 96'!C1060","v":""}]
[{"$f":"'Samples 96'!C1061","v":""}]
[{"$f":"'Samples 96'!C1062","v":""}]
[{"$f":"'Samples 96'!C1063","v":""}]
[{"$f":"'Samples 96'!C1064","v":""}]
[{"$f":"'Samples 96'!C1065","v":""}]
[{"$f":"'Samples 96'!C1066","v":""}]
[{"$f":"'Samples 96'!C1067","v":""}]
[{"$f":"'Samples 96'!C1068","v":""}]
[{"$f":"'Samples 96'!C1069","v":""}]
[{"$f":"'Samples 96'!C1070","v":""}]
[{"$f":"'Samples 96'!C1071","v":""}]
[{"$f":"'Samples 96'!C1072","v":""}]
[{"$f":"'Samples 96'!C1073","v":""}]
[{"$f":"'Samples 96'!C1074","v":""}]
[{"$f":"'Samples 96'!C1075","v":""}]
[{"$f":"'Samples 96'!C1076","v":""}]
[{"$f":"'Samples 96'!C1077","v":""}]
[{"$f":"'Samples 96'!C1078","v":""}]
[{"$f":"'Samples 96'!C1079","v":""}]
[{"$f":"'Samples 96'!C1080","v":""}]
[{"$f":"'Samples 96'!C1081","v":""}]
[{"$f":"'Samples 96'!C1082","v":""}]
[{"$f":"'Samples 96'!C1083","v":""}]
[{"$f":"'Samples 96'!C1084","v":""}]
[{"$f":"'Samples 96'!C1085","v":""}]
[{"$f":"'Samples 96'!C1086","v":""}]
[{"$f":"'Samples 96'!C1087","v":""}]
[{"$f":"'Samples 96'!C1088","v":""}]
[{"$f":"'Samples 96'!C1089","v":""}]
[{"$f":"'Samples 96'!C1090","v":""}]
[{"$f":"'Samples 96'!C1091","v":""}]
[{"$f":"'Samples 96'!C1092","v":""}]
[{"$f":"'Samples 96'!C1093","v":""}]
[{"$f":"'Samples 96'!C1094","v":""}]
[{"$f":"'Samples 96'!C1095","v":""}]
[{"$f":"'Samples 96'!C1096","v":""}]
[{"$f":"'Samples 96'!C1097","v":""}]
[{"$f":"'Samples 96'!C1098","v":""}]
[{"$f":"'Samples 96'!C1099","v":""}]
[{"$f":"'Samples 96'!C1100","v":""}]
[{"$f":"'Samples 96'!C1101","v":""}]
[{"$f":"'Samples 96'!C1102","v":""}]
[{"$f":"'Samples 96'!C1103","v":""}]
[{"$f":"'Samples 96'!C1104","v":""}]
[{"$f":"'Samples 96'!C1105","v":""}]
[{"$f":"'Samples 96'!C1106","v":""}]
[{"$f":"'Samples 96'!C1107","v":""}]
[{"$f":"'Samples 96'!C1108","v":""}]
[{"$f":"'Samples 96'!C1109","v":""}]
[{"$f":"'Samples 96'!C1110","v":""}]
[{"$f":"'Samples 96'!C1111","v":""}]
[{"$f":"'Samples 96'!C1112","v":""}]
[{"$f":"'Samples 96'!C1113","v":""}]
[{"$f":"'Samples 96'!C1114","v":""}]
[{"$f":"'Samples 96'!C1115","v":""}]
[{"$f":"'Samples 96'!C1116","v":""}]
[{"$f":"'Samples 96'!C1117","v":""}]
[{"$f":"'Samples 96'!C1118","v":""}]
[{"$f":"'Samples 96'!C1119","v":""}]
[{"$f":"'Samples 96'!C1120","v":""}]
[{"$f":"'Samples 96'!C1121","v":""}]
[{"$f":"'Samples 96'!C1122","v":""}]
[{"$f":"'Samples 96'!C1123","v":""}]
[{"$f":"'Samples 96'!C1124","v":""}]
[{"$f":"'Samples 96'!C1125","v":""}]
[{"$f":"'Samples 96'!C1126","v":""}]
[{"$f":"'Samples 96'!C1127","v":""}]
[{"$f":"'Samples 96'!C1128","v":""}]
[{"$f":"'Samples 96'!C1129","v":""}]
[{"$f":"'Samples 96'!C1130","v":""}]
[{"$f":"'Samples 96'!C1131","v":""}]
[{"$f":"'Samples 96'!C1132","v":""}]
[{"$f":"'Samples 96'!C1133","v":""}]
[{"$f":"'Samples 96'!C1134","v":""}]
[{"$f":"'Samples 96'!C1135","v":""}]
[{"$f":"'Samples 96'!C1136","v":""}]
[{"$f":"'Samples 96'!C1137","v":""}]
[{"$f":"'Samples 96'!C1138","v":""}]
[{"$f":"'Samples 96'!C1139","v":""}]
[{"$f":"'Samples 96'!C1140","v":""}]
[{"$f":"'Samples 96'!C1141","v":""}]
[{"$f":"'Samples 96'!C1142","v":""}]
[{"$f":"'Samples 96'!C1143","v":""}]
[{"$f":"'Samples 96'!C1144","v":""}]
[{"$f":"'Samples 96'!C1145","v":""}]
[{"$f":"'Samples 96'!C1146","v":""}]
[{"$f":"'Samples 96'!C1147","v":""}]
[{"$f":"'Samples 96'!C1148","v":""}]
[{"$f":"'Samples 96'!C1149","v":""}]
[{"$f":"'Samples 96'!C1150","v":""}]
[{"$f":"'Samples 96'!C1151","v":""}]
[{"$f":"'Samples 96'!C1152","v":""}]
[{"$f":"'Samples 96'!C1153","v":""}]
[{"$f":"'Samples 96'!C1154","v":""}]
[{"$f":"'Samples 96'!C1155","v":""}]
[{"$f":"'Samples 96'!C1156","v":""}]
[{"$f":"'Samples 96'!C1157","v":""}]
[{"$f":"'Samples 96'!C1158","v":""}]
[{"$f":"'Samples 96'!C1159","v":""}]
[{"$f":"'Samples 96'!C1160","v":""}]
[{"$f":"'Samples 96'!C1161","v":""}]
[{"$f":"'Samples 96'!C1162","v":""}]
[{"$f":"'Samples 96'!C1163","v":""}]
[{"$f":"'Samples 96'!C1164","v":""}]
[{"$f":"'Samples 96'!C1165","v":""}]
[{"$f":"'Samples 96'!C1166","v":""}]
[{"$f":"'Samples 96'!C1167","v":""}]
[{"$f":"'Samples 96'!C1168","v":""}]
[{"$f":"'Samples 96'!C1169","v":""}]
[{"$f":"'Samples 96'!C1170","v":""}]
[{"$f":"'Samples 96'!C1171","v":""}]
[{"$f":"'Samples 96'!C1172","v":""}]
[{"$f":"'Samples 96'!C1173","v":""}]
[{"$f":"'Samples 96'!C1174","v":""}]
[{"$f":"'Samples 96'!C1175","v":""}]
[{"$f":"'Samples 96'!C1176","v":""}]
[{"$f":"'Samples 96'!C1177","v":""}]
[{"$f":"'Samples 96'!C1178","v":""}]
[{"$f":"'Samples 96'!C1179","v":""}]
[{"$f":"'Samples 96'!C1180","v":""}]
[{"$f":"'Samples 96'!C1181","v":""}]
[{"$f":"'Samples 96'!C1182","v":""}]
[{"$f":"'Samples 96'!C1183","v":""}]
[{"$f":"'Samples 96'!C1184","v":""}]
[{"$f":"'Samples 96'!C1185","v":""}]
[{"$f":"'Samples 96'!C1186","v":""}]
[{"$f":"'Samples 96'!C1187","v":""}]
[{"$f":"'Samples 96'!C1188","v":""}]
[{"$f":"'Samples 96'!C1189","v":""}]
[{"$f":"'Samples 96'!C1190","v":""}]
[{"$f":"'Samples 96'!C1191","v":""}]
[{"$f":"'Samples 96'!C1192","v":""}]
[{"$f":"'Samples 96'!C1193","v":""}]
[{"$f":"'Samples 96'!C1194","v":""}]
[{"$f":"'Samples 96'!C1195","v":""}]
[{"$f":"'Samples 96'!C1196","v":""}]
[{"$f":"'Samples 96'!C1197","v":""}]
[{"$f":"'Samples 96'!C1198","v":""}]
[{"$f":"'Samples 96'!C1199","v":""}]
[{"$f":"'Samples 96'!C1200","v":""}]
[{"$f":"'Samples 96'!C1201","v":""}]
[{"$f":"'Samples 96'!C1202","v":""}]
[{"$f":"'Samples 96'!C1203","v":""}]
[{"$f":"'Samples 96'!C1204","v":""}]
[{"$f":"'Samples 96'!C1205","v":""}]
[{"$f":"'Samples 96'!C1206","v":""}]
[{"$f":"'Samples 96'!C1207","v":""}]
[{"$f":"'Samples 96'!C1208","v":""}]
[{"$f":"'Samples 96'!C1209","v":""}]
[{"$f":"'Samples 96'!C1210","v":""}]
[{"$f":"'Samples 96'!C1211","v":""}]
[{"$f":"'Samples 96'!C1212","v":""}]
[{"$f":"'Samples 96'!C1213","v":""}]
[{"$f":"'Samples 96'!C1214","v":""}]
[{"$f":"'Samples 96'!C1215","v":""}]
[{"$f":"'Samples 96'!C1216","v":""}]
[{"$f":"'Samples 96'!C1217","v":""}]
[{"$f":"'Samples 96'!C1218","v":""}]
[{"$f":"'Samples 96'!C1219","v":""}]
[{"$f":"'Samples 96'!C1220","v":""}]
[{"$f":"'Samples 96'!C1221","v":""}]
[{"$f":"'Samples 96'!C1222","v":""}]
[{"$f":"'Samples 96'!C1223","v":""}]
[{"$f":"'Samples 96'!C1224","v":""}]
[{"$f":"'Samples 96'!C1225","v":""}]
[{"$f":"'Samples 96'!C1226","v":""}]
[{"$f":"'Samples 96'!C1227","v":""}]
[{"$f":"'Samples 96'!C1228","v":""}]
[{"$f":"'Samples 96'!C1229","v":""}]
[{"$f":"'Samples 96'!C1230","v":""}]
[{"$f":"'Samples 96'!C1231","v":""}]
[{"$f":"'Samples 96'!C1232","v":""}]
[{"$f":"'Samples 96'!C1233","v":""}]
[{"$f":"'Samples 96'!C1234","v":""}]
[{"$f":"'Samples 96'!C1235","v":""}]
[{"$f":"'Samples 96'!C1236","v":""}]
[{"$f":"'Samples 96'!C1237","v":""}]
[{"$f":"'Samples 96'!C1238","v":""}]
[{"$f":"'Samples 96'!C1239","v":""}]
[{"$f":"'Samples 96'!C1240","v":""}]
[{"$f":"'Samples 96'!C1241","v":""}]
[{"$f":"'Samples 96'!C1242","v":""}]
[{"$f":"'Samples 96'!C1243","v":""}]
[{"$f":"'Samples 96'!C1244","v":""}]
[{"$f":"'Samples 96'!C1245","v":""}]
[{"$f":"'Samples 96'!C1246","v":""}]
[{"$f":"'Samples 96'!C1247","v":""}]
[{"$f":"'Samples 96'!C1248","v":""}]
[{"$f":"'Samples 96'!C1249","v":""}]
[{"$f":"'Samples 96'!C1250","v":""}]
[{"$f":"'Samples 96'!C1251","v":""}]
[{"$f":"'Samples 96'!C1252","v":""}]
[{"$f":"'Samples 96'!C1253","v":""}]
[{"$f":"'Samples 96'!C1254","v":""}]
[{"$f":"'Samples 96'!C1255","v":""}]
[{"$f":"'Samples 96'!C1256","v":""}]
[{"$f":"'Samples 96'!C1257","v":""}]
[{"$f":"'Samples 96'!C1258","v":""}]
[{"$f":"'Samples 96'!C1259","v":""}]
[{"$f":"'Samples 96'!C1260","v":""}]
[{"$f":"'Samples 96'!C1261","v":""}]
[{"$f":"'Samples 96'!C1262","v":""}]
[{"$f":"'Samples 96'!C1263","v":""}]
[{"$f":"'Samples 96'!C1264","v":""}]
[{"$f":"'Samples 96'!C1265","v":""}]
[{"$f":"'Samples 96'!C1266","v":""}]
[{"$f":"'Samples 96'!C1267","v":""}]
[{"$f":"'Samples 96'!C1268","v":""}]
[{"$f":"'Samples 96'!C1269","v":""}]
[{"$f":"'Samples 96'!C1270","v":""}]
[{"$f":"'Samples 96'!C1271","v":""}]
[{"$f":"'Samples 96'!C1272","v":""}]
[{"$f":"'Samples 96'!C1273","v":""}]
[{"$f":"'Samples 96'!C1274","v":""}]
[{"$f":"'Samples 96'!C1275","v":""}]
[{"$f":"'Samples 96'!C1276","v":""}]
[{"$f":"'Samples 96'!C1277","v":""}]
[{"$f":"'Samples 96'!C1278","v":""}]
[{"$f":"'Samples 96'!C1279","v":""}]
[{"$f":"'Samples 96'!C1280","v":""}]
[{"$f":"'Samples 96'!C1281","v":""}]
[{"$f":"'Samples 96'!C1282","v":""}]
[{"$f":"'Samples 96'!C1283","v":""}]
[{"$f":"'Samples 96'!C1284","v":""}]
[{"$f":"'Samples 96'!C1285","v":""}]
[{"$f":"'Samples 96'!C1286","v":""}]
[{"$f":"'Samples 96'!C1287","v":""}]
[{"$f":"'Samples 96'!C1288","v":""}]
[{"$f":"'Samples 96'!C1289","v":""}]
[{"$f":"'Samples 96'!C1290","v":""}]
[{"$f":"'Samples 96'!C1291","v":""}]
[{"$f":"'Samples 96'!C1292","v":""}]
[{"$f":"'Samples 96'!C1293","v":""}]
[{"$f":"'Samples 96'!C1294","v":""}]
[{"$f":"'Samples 96'!C1295","v":""}]
[{"$f":"'Samples 96'!C1296","v":""}]
[{"$f":"'Samples 96'!C1297","v":""}]
[{"$f":"'Samples 96'!C1298","v":""}]
[{"$f":"'Samples 96'!C1299","v":""}]
[{"$f":"'Samples 96'!C1300","v":""}]
[{"$f":"'Samples 96'!C1301","v":""}]
[{"$f":"'Samples 96'!C1302","v":""}]
[{"$f":"'Samples 96'!C1303","v":""}]
[{"$f":"'Samples 96'!C1304","v":""}]
[{"$f":"'Samples 96'!C1305","v":""}]
[{"$f":"'Samples 96'!C1306","v":""}]
[{"$f":"'Samples 96'!C1307","v":""}]
[{"$f":"'Samples 96'!C1308","v":""}]
[{"$f":"'Samples 96'!C1309","v":""}]
[{"$f":"'Samples 96'!C1310","v":""}]
[{"$f":"'Samples 96'!C1311","v":""}]
[{"$f":"'Samples 96'!C1312","v":""}]
[{"$f":"'Samples 96'!C1313","v":""}]
[{"$f":"'Samples 96'!C1314","v":""}]
[{"$f":"'Samples 96'!C1315","v":""}]
[{"$f":"'Samples 96'!C1316","v":""}]
[{"$f":"'Samples 96'!C1317","v":""}]
[{"$f":"'Samples 96'!C1318","v":""}]
[{"$f":"'Samples 96'!C1319","v":""}]
[{"$f":"'Samples 96'!C1320","v":""}]
[{"$f":"'Samples 96'!C1321","v":""}]
[{"$f":"'Samples 96'!C1322","v":""}]
[{"$f":"'Samples 96'!C1323","v":""}]
[{"$f":"'Samples 96'!C1324","v":""}]
[{"$f":"'Samples 96'!C1325","v":""}]
[{"$f":"'Samples 96'!C1326","v":""}]
[{"$f":"'Samples 96'!C1327","v":""}]
[{"$f":"'Samples 96'!C1328","v":""}]
[{"$f":"'Samples 96'!C1329","v":""}]
[{"$f":"'Samples 96'!C1330","v":""}]
[{"$f":"'Samples 96'!C1331","v":""}]
[{"$f":"'Samples 96'!C1332","v":""}]
[{"$f":"'Samples 96'!C1333","v":""}]
[{"$f":"'Samples 96'!C1334","v":""}]
[{"$f":"'Samples 96'!C1335","v":""}]
[{"$f":"'Samples 96'!C1336","v":""}]
[{"$f":"'Samples 96'!C1337","v":""}]
[{"$f":"'Samples 96'!C1338","v":""}]
[{"$f":"'Samples 96'!C1339","v":""}]
[{"$f":"'Samples 96'!C1340","v":""}]
[{"$f":"'Samples 96'!C1341","v":""}]
[{"$f":"'Samples 96'!C1342","v":""}]
[{"$f":"'Samples 96'!C1343","v":""}]
[{"$f":"'Samples 96'!C1344","v":""}]
[{"$f":"'Samples 96'!C1345","v":""}]
[{"$f":"'Samples 96'!C1346","v":""}]
[{"$f":"'Samples 96'!C1347","v":""}]
[{"$f":"'Samples 96'!C1348","v":""}]
[{"$f":"'Samples 96'!C1349","v":""}]
[{"$f":"'Samples 96'!C1350","v":""}]
[{"$f":"'Samples 96'!C1351","v":""}]
[{"$f":"'Samples 96'!C1352","v":""}]
[{"$f":"'Samples 96'!C1353","v":""}]
[{"$f":"'Samples 96'!C1354","v":""}]
[{"$f":"'Samples 96'!C1355","v":""}]
[{"$f":"'Samples 96'!C1356","v":""}]
[{"$f":"'Samples 96'!C1357","v":""}]
[{"$f":"'Samples 96'!C1358","v":""}]
[{"$f":"'Samples 96'!C1359","v":""}]
[{"$f":"'Samples 96'!C1360","v":""}]
[{"$f":"'Samples 96'!C1361","v":""}]
[{"$f":"'Samples 96'!C1362","v":""}]
[{"$f":"'Samples 96'!C1363","v":""}]
[{"$f":"'Samples 96'!C1364","v":""}]
[{"$f":"'Samples 96'!C1365","v":""}]
[{"$f":"'Samples 96'!C1366","v":""}]
[{"$f":"'Samples 96'!C1367","v":""}]
[{"$f":"'Samples 96'!C1368","v":""}]
[{"$f":"'Samples 96'!C1369","v":""}]
[{"$f":"'Samples 96'!C1370","v":""}]
[{"$f":"'Samples 96'!C1371","v":""}]
[{"$f":"'Samples 96'!C1372","v":""}]
[{"$f":"'Samples 96'!C1373","v":""}]
[{"$f":"'Samples 96'!C1374","v":""}]
[{"$f":"'Samples 96'!C1375","v":""}]
[{"$f":"'Samples 96'!C1376","v":""}]
[{"$f":"'Samples 96'!C1377","v":""}]
[{"$f":"'Samples 96'!C1378","v":""}]
[{"$f":"'Samples 96'!C1379","v":""}]
[{"$f":"'Samples 96'!C1380","v":""}]
[{"$f":"'Samples 96'!C1381","v":""}]
[{"$f":"'Samples 96'!C1382","v":""}]
[{"$f":"'Samples 96'!C1383","v":""}]
[{"$f":"'Samples 96'!C1384","v":""}]
[{"$f":"'Samples 96'!C1385","v":""}]
[{"$f":"'Samples 96'!C1386","v":""}]
[{"$f":"'Samples 96'!C1387","v":""}]
[{"$f":"'Samples 96'!C1388","v":""}]
[{"$f":"'Samples 96'!C1389","v":""}]
[{"$f":"'Samples 96'!C1390","v":""}]
[{"$f":"'Samples 96'!C1391","v":""}]
[{"$f":"'Samples 96'!C1392","v":""}]
[{"$f":"'Samples 96'!C1393","v":""}]
[{"$f":"'Samples 96'!C1394","v":""}]
[{"$f":"'Samples 96'!C1395","v":""}]
[{"$f":"'Samples 96'!C1396","v":""}]
[{"$f":"'Samples 96'!C1397","v":""}]
[{"$f":"'Samples 96'!C1398","v":""}]
[{"$f":"'Samples 96'!C1399","v":""}]
[{"$f":"'Samples 96'!C1400","v":""}]
[{"$f":"'Samples 96'!C1401","v":""}]
[{"$f":"'Samples 96'!C1402","v":""}]
[{"$f":"'Samples 96'!C1403","v":""}]
[{"$f":"'Samples 96'!C1404","v":""}]
[{"$f":"'Samples 96'!C1405","v":""}]
[{"$f":"'Samples 96'!C1406","v":""}]
[{"$f":"'Samples 96'!C1407","v":""}]
[{"$f":"'Samples 96'!C1408","v":""}]
[{"$f":"'Samples 96'!C1409","v":""}]
[{"$f":"'Samples 96'!C1410","v":""}]
[{"$f":"'Samples 96'!C1411","v":""}]
[{"$f":"'Samples 96'!C1412","v":""}]
[{"$f":"'Samples 96'!C1413","v":""}]
[{"$f":"'Samples 96'!C1414","v":""}]
[{"$f":"'Samples 96'!C1415","v":""}]
[{"$f":"'Samples 96'!C1416","v":""}]
[{"$f":"'Samples 96'!C1417","v":""}]
[{"$f":"'Samples 96'!C1418","v":""}]
[{"$f":"'Samples 96'!C1419","v":""}]
[{"$f":"'Samples 96'!C1420","v":""}]
[{"$f":"'Samples 96'!C1421","v":""}]
[{"$f":"'Samples 96'!C1422","v":""}]
[{"$f":"'Samples 96'!C1423","v":""}]
[{"$f":"'Samples 96'!C1424","v":""}]
[{"$f":"'Samples 96'!C1425","v":""}]
[{"$f":"'Samples 96'!C1426","v":""}]
[{"$f":"'Samples 96'!C1427","v":""}]
[{"$f":"'Samples 96'!C1428","v":""}]
[{"$f":"'Samples 96'!C1429","v":""}]
[{"$f":"'Samples 96'!C1430","v":""}]
[{"$f":"'Samples 96'!C1431","v":""}]
[{"$f":"'Samples 96'!C1432","v":""}]
[{"$f":"'Samples 96'!C1433","v":""}]
[{"$f":"'Samples 96'!C1434","v":""}]
[{"$f":"'Samples 96'!C1435","v":""}]
[{"$f":"'Samples 96'!C1436","v":""}]
[{"$f":"'Samples 96'!C1437","v":""}]
[{"$f":"'Samples 96'!C1438","v":""}]
[{"$f":"'Samples 96'!C1439","v":""}]
[{"$f":"'Samples 96'!C1440","v":""}]
[{"$f":"'Samples 96'!C1441","v":""}]
[{"$f":"'Samples 96'!C1442","v":""}]
[{"$f":"'Samples 96'!C1443","v":""}]
[{"$f":"'Samples 96'!C1444","v":""}]
[{"$f":"'Samples 96'!C1445","v":""}]
[{"$f":"'Samples 96'!C1446","v":""}]
[{"$f":"'Samples 96'!C1447","v":""}]
[{"$f":"'Samples 96'!C1448","v":""}]
[{"$f":"'Samples 96'!C1449","v":""}]
[{"$f":"'Samples 96'!C1450","v":""}]
[{"$f":"'Samples 96'!C1451","v":""}]
[{"$f":"'Samples 96'!C1452","v":""}]
[{"$f":"'Samples 96'!C1453","v":""}]
[{"$f":"'Samples 96'!C1454","v":""}]
[{"$f":"'Samples 96'!C1455","v":""}]
[{"$f":"'Samples 96'!C1456","v":""}]
[{"$f":"'Samples 96'!C1457","v":""}]
[{"$f":"'Samples 96'!C1458","v":""}]
[{"$f":"'Samples 96'!C1459","v":""}]
[{"$f":"'Samples 96'!C1460","v":""}]
[{"$f":"'Samples 96'!C1461","v":""}]
[{"$f":"'Samples 96'!C1462","v":""}]
[{"$f":"'Samples 96'!C1463","v":""}]
[{"$f":"'Samples 96'!C1464","v":""}]
[{"$f":"'Samples 96'!C1465","v":""}]
[{"$f":"'Samples 96'!C1466","v":""}]
[{"$f":"'Samples 96'!C1467","v":""}]
[{"$f":"'Samples 96'!C1468","v":""}]
[{"$f":"'Samples 96'!C1469","v":""}]
[{"$f":"'Samples 96'!C1470","v":""}]
[{"$f":"'Samples 96'!C1471","v":""}]
[{"$f":"'Samples 96'!C1472","v":""}]
[{"$f":"'Samples 96'!C1473","v":""}]
[{"$f":"'Samples 96'!C1474","v":""}]
[{"$f":"'Samples 96'!C1475","v":""}]
[{"$f":"'Samples 96'!C1476","v":""}]
[{"$f":"'Samples 96'!C1477","v":""}]
[{"$f":"'Samples 96'!C1478","v":""}]
[{"$f":"'Samples 96'!C1479","v":""}]
[{"$f":"'Samples 96'!C1480","v":""}]
[{"$f":"'Samples 96'!C1481","v":""}]
[{"$f":"'Samples 96'!C1482","v":""}]
[{"$f":"'Samples 96'!C1483","v":""}]
[{"$f":"'Samples 96'!C1484","v":""}]
[{"$f":"'Samples 96'!C1485","v":""}]
[{"$f":"'Samples 96'!C1486","v":""}]
[{"$f":"'Samples 96'!C1487","v":""}]
[{"$f":"'Samples 96'!C1488","v":""}]
[{"$f":"'Samples 96'!C1489","v":""}]
[{"$f":"'Samples 96'!C1490","v":""}]
[{"$f":"'Samples 96'!C1491","v":""}]
[{"$f":"'Samples 96'!C1492","v":""}]
[{"$f":"'Samples 96'!C1493","v":""}]
[{"$f":"'Samples 96'!C1494","v":""}]
[{"$f":"'Samples 96'!C1495","v":""}]
[{"$f":"'Samples 96'!C1496","v":""}]
[{"$f":"'Samples 96'!C1497","v":""}]
[{"$f":"'Samples 96'!C1498","v":""}]
[{"$f":"'Samples 96'!C1499","v":""}]
[{"$f":"'Samples 96'!C1500","v":""}]
[{"$f":"'Samples 96'!C1501","v":""}]
[{"$f":"'Samples 96'!C1502","v":""}]
[{"$f":"'Samples 96'!C1503","v":""}]
[{"$f":"'Samples 96'!C1504","v":""}]
[{"$f":"'Samples 96'!C1505","v":""}]
[{"$f":"'Samples 96'!C1506","v":""}]
[{"$f":"'Samples 96'!C1507","v":""}]
[{"$f":"'Samples 96'!C1508","v":""}]
[{"$f":"'Samples 96'!C1509","v":""}]
[{"$f":"'Samples 96'!C1510","v":""}]
[{"$f":"'Samples 96'!C1511","v":""}]
[{"$f":"'Samples 96'!C1512","v":""}]
[{"$f":"'Samples 96'!C1513","v":""}]
[{"$f":"'Samples 96'!C1514","v":""}]
[{"$f":"'Samples 96'!C1515","v":""}]
[{"$f":"'Samples 96'!C1516","v":""}]
[{"$f":"'Samples 96'!C1517","v":""}]
[{"$f":"'Samples 96'!C1518","v":""}]
[{"$f":"'Samples 96'!C1519","v":""}]
[{"$f":"'Samples 96'!C1520","v":""}]
[{"$f":"'Samples 96'!C1521","v":""}]
[{"$f":"'Samples 96'!C1522","v":""}]
[{"$f":"'Samples 96'!C1523","v":""}]
[{"$f":"'Samples 96'!C1524","v":""}]
[{"$f":"'Samples 96'!C1525","v":""}]
[{"$f":"'Samples 96'!C1526","v":""}]
[{"$f":"'Samples 96'!C1527","v":""}]
[{"$f":"'Samples 96'!C1528","v":""}]
[{"$f":"'Samples 96'!C1529","v":""}]
[{"$f":"'Samples 96'!C1530","v":""}]
[{"$f":"'Samples 96'!C1531","v":""}]
[{"$f":"'Samples 96'!C1532","v":""}]
[{"$f":"'Samples 96'!C1533","v":""}]
[{"$f":"'Samples 96'!C1534","v":""}]
[{"$f":"'Samples 96'!C1535","v":""}]
[{"$f":"'Samples 96'!C1536","v":""}]
[{"$f":"'Samples 96'!C1537","v":""}]
[{"$f":"'Samples 96'!C1538","v":""}]
[{"$f":"'Samples 96'!C1539","v":""}]
[{"$f":"'Samples 96'!C1540","v":""}]
[{"$f":"'Samples 96'!C1541","v":""}]
[{"$f":"'Samples 96'!C1542","v":""}]
[{"$f":"'Samples 96'!C1543","v":""}]
[{"$f":"'Samples 96'!C1544","v":""}]
[{"$f":"'Samples 96'!C1545","v":""}]
[{"$f":"'Samples 96'!C1546","v":""}]
[{"$f":"'Samples 96'!C1547","v":""}]
[{"$f":"'Samples 96'!C1548","v":""}]
[{"$f":"'Samples 96'!C1549","v":""}]
[{"$f":"'Samples 96'!C1550","v":""}]
[{"$f":"'Samples 96'!C1551","v":""}]
[{"$f":"'Samples 96'!C1552","v":""}]
[{"$f":"'Samples 96'!C1553","v":""}]
[{"$f":"'Samples 96'!C1554","v":""}]
[{"$f":"'Samples 96'!C1555","v":""}]
[{"$f":"'Samples 96'!C1556","v":""}]
[{"$f":"'Samples 96'!C1557","v":""}]
[{"$f":"'Samples 96'!C1558","v":""}]
[{"$f":"'Samples 96'!C1559","v":""}]
[{"$f":"'Samples 96'!C1560","v":""}]
[{"$f":"'Samples 96'!C1561","v":""}]
[{"$f":"'Samples 96'!C1562","v":""}]
[{"$f":"'Samples 96'!C1563","v":""}]
[{"$f":"'Samples 96'!C1564","v":""}]
[{"$f":"'Samples 96'!C1565","v":""}]
[{"$f":"'Samples 96'!C1566","v":""}]
[{"$f":"'Samples 96'!C1567","v":""}]
[{"$f":"'Samples 96'!C1568","v":""}]
[{"$f":"'Samples 96'!C1569","v":""}]
[{"$f":"'Samples 96'!C1570","v":""}]
[{"$f":"'Samples 96'!C1571","v":""}]
[{"$f":"'Samples 96'!C1572","v":""}]
[{"$f":"'Samples 96'!C1573","v":""}]
[{"$f":"'Samples 96'!C1574","v":""}]
[{"$f":"'Samples 96'!C1575","v":""}]
[{"$f":"'Samples 96'!C1576","v":""}]
[{"$f":"'Samples 96'!C1577","v":""}]
[{"$f":"'Samples 96'!C1578","v":""}]
[{"$f":"'Samples 96'!C1579","v":""}]
[{"$f":"'Samples 96'!C1580","v":""}]
[{"$f":"'Samples 96'!C1581","v":""}]
[{"$f":"'Samples 96'!C1582","v":""}]
[{"$f":"'Samples 96'!C1583","v":""}]
[{"$f":"'Samples 96'!C1584","v":""}]
[{"$f":"'Samples 96'!C1585","v":""}]
[{"$f":"'Samples 96'!C1586","v":""}]
[{"$f":"'Samples 96'!C1587","v":""}]
[{"$f":"'Samples 96'!C1588","v":""}]
[{"$f":"'Samples 96'!C1589","v":""}]
[{"$f":"'Samples 96'!C1590","v":""}]
[{"$f":"'Samples 96'!C1591","v":""}]
[{"$f":"'Samples 96'!C1592","v":""}]
[{"$f":"'Samples 96'!C1593","v":""}]
[{"$f":"'Samples 96'!C1594","v":""}]
[{"$f":"'Samples 96'!C1595","v":""}]
[{"$f":"'Samples 96'!C1596","v":""}]
[{"$f":"'Samples 96'!C1597","v":""}]
[{"$f":"'Samples 96'!C1598","v":""}]
[{"$f":"'Samples 96'!C1599","v":""}]
[{"$f":"'Samples 96'!C1600","v":""}]
[{"$f":"'Samples 96'!C1601","v":""}]
[{"$f":"'Samples 96'!C1602","v":""}]
[{"$f":"'Samples 96'!C1603","v":""}]
[{"$f":"'Samples 96'!C1604","v":""}]
[{"$f":"'Samples 96'!C1605","v":""}]
[{"$f":"'Samples 96'!C1606","v":""}]
[{"$f":"'Samples 96'!C1607","v":""}]
[{"$f":"'Samples 96'!C1608","v":""}]
[{"$f":"'Samples 96'!C1609","v":""}]
[{"$f":"'Samples 96'!C1610","v":""}]
[{"$f":"'Samples 96'!C1611","v":""}]
[{"$f":"'Samples 96'!C1612","v":""}]
[{"$f":"'Samples 96'!C1613","v":""}]
[{"$f":"'Samples 96'!C1614","v":""}]
[{"$f":"'Samples 96'!C1615","v":""}]
[{"$f":"'Samples 96'!C1616","v":""}]
[{"$f":"'Samples 96'!C1617","v":""}]
[{"$f":"'Samples 96'!C1618","v":""}]
[{"$f":"'Samples 96'!C1619","v":""}]
[{"$f":"'Samples 96'!C1620","v":""}]
[{"$f":"'Samples 96'!C1621","v":""}]
[{"$f":"'Samples 96'!C1622","v":""}]
[{"$f":"'Samples 96'!C1623","v":""}]
[{"$f":"'Samples 96'!C1624","v":""}]
[{"$f":"'Samples 96'!C1625","v":""}]
[{"$f":"'Samples 96'!C1626","v":""}]
[{"$f":"'Samples 96'!C1627","v":""}]
[{"$f":"'Samples 96'!C1628","v":""}]
[{"$f":"'Samples 96'!C1629","v":""}]
[{"$f":"'Samples 96'!C1630","v":""}]
[{"$f":"'Samples 96'!C1631","v":""}]
[{"$f":"'Samples 96'!C1632","v":""}]
[{"$f":"'Samples 96'!C1633","v":""}]
[{"$f":"'Samples 96'!C1634","v":""}]
[{"$f":"'Samples 96'!C1635","v":""}]
[{"$f":"'Samples 96'!C1636","v":""}]
[{"$f":"'Samples 96'!C1637","v":""}]
[{"$f":"'Samples 96'!C1638","v":""}]
[{"$f":"'Samples 96'!C1639","v":""}]
[{"$f":"'Samples 96'!C1640","v":""}]
[{"$f":"'Samples 96'!C1641","v":""}]
[{"$f":"'Samples 96'!C1642","v":""}]
[{"$f":"'Samples 96'!C1643","v":""}]
[{"$f":"'Samples 96'!C1644","v":""}]
[{"$f":"'Samples 96'!C1645","v":""}]
[{"$f":"'Samples 96'!C1646","v":""}]
[{"$f":"'Samples 96'!C1647","v":""}]
[{"$f":"'Samples 96'!C1648","v":""}]
[{"$f":"'Samples 96'!C1649","v":""}]
[{"$f":"'Samples 96'!C1650","v":""}]
[{"$f":"'Samples 96'!C1651","v":""}]
[{"$f":"'Samples 96'!C1652","v":""}]
[{"$f":"'Samples 96'!C1653","v":""}]
[{"$f":"'Samples 96'!C1654","v":""}]
[{"$f":"'Samples 96'!C1655","v":""}]
[{"$f":"'Samples 96'!C1656","v":""}]
[{"$f":"'Samples 96'!C1657","v":""}]
[{"$f":"'Samples 96'!C1658","v":""}]
[{"$f":"'Samples 96'!C1659","v":""}]
[{"$f":"'Samples 96'!C1660","v":""}]
[{"$f":"'Samples 96'!C1661","v":""}]
[{"$f":"'Samples 96'!C1662","v":""}]
[{"$f":"'Samples 96'!C1663","v":""}]
[{"$f":"'Samples 96'!C1664","v":""}]
[{"$f":"'Samples 96'!C1665","v":""}]
[{"$f":"'Samples 96'!C1666","v":""}]
[{"$f":"'Samples 96'!C1667","v":""}]
[{"$f":"'Samples 96'!C1668","v":""}]
[{"$f":"'Samples 96'!C1669","v":""}]
[{"$f":"'Samples 96'!C1670","v":""}]
[{"$f":"'Samples 96'!C1671","v":""}]
[{"$f":"'Samples 96'!C1672","v":""}]
[{"$f":"'Samples 96'!C1673","v":""}]
[{"$f":"'Samples 96'!C1674","v":""}]
[{"$f":"'Samples 96'!C1675","v":""}]
[{"$f":"'Samples 96'!C1676","v":""}]
[{"$f":"'Samples 96'!C1677","v":""}]
[{"$f":"'Samples 96'!C1678","v":""}]
[{"$f":"'Samples 96'!C1679","v":""}]
[{"$f":"'Samples 96'!C1680","v":""}]
[{"$f":"'Samples 96'!C1681","v":""}]
[{"$f":"'Samples 96'!C1682","v":""}]
[{"$f":"'Samples 96'!C1683","v":""}]
[{"$f":"'Samples 96'!C1684","v":""}]
[{"$f":"'Samples 96'!C1685","v":""}]
[{"$f":"'Samples 96'!C1686","v":""}]
[{"$f":"'Samples 96'!C1687","v":""}]
[{"$f":"'Samples 96'!C1688","v":""}]
[{"$f":"'Samples 96'!C1689","v":""}]
[{"$f":"'Samples 96'!C1690","v":""}]
[{"$f":"'Samples 96'!C1691","v":""}]
[{"$f":"'Samples 96'!C1692","v":""}]
[{"$f":"'Samples 96'!C1693","v":""}]
[{"$f":"'Samples 96'!C1694","v":""}]
[{"$f":"'Samples 96'!C1695","v":""}]
[{"$f":"'Samples 96'!C1696","v":""}]
[{"$f":"'Samples 96'!C1697","v":""}]
[{"$f":"'Samples 96'!C1698","v":""}]
[{"$f":"'Samples 96'!C1699","v":""}]
[{"$f":"'Samples 96'!C1700","v":""}]
[{"$f":"'Samples 96'!C1701","v":""}]
[{"$f":"'Samples 96'!C1702","v":""}]
[{"$f":"'Samples 96'!C1703","v":""}]
[{"$f":"'Samples 96'!C1704","v":""}]
[{"$f":"'Samples 96'!C1705","v":""}]
[{"$f":"'Samples 96'!C1706","v":""}]
[{"$f":"'Samples 96'!C1707","v":""}]
[{"$f":"'Samples 96'!C1708","v":""}]
[{"$f":"'Samples 96'!C1709","v":""}]
[{"$f":"'Samples 96'!C1710","v":""}]
[{"$f":"'Samples 96'!C1711","v":""}]
[{"$f":"'Samples 96'!C1712","v":""}]
[{"$f":"'Samples 96'!C1713","v":""}]
[{"$f":"'Samples 96'!C1714","v":""}]
[{"$f":"'Samples 96'!C1715","v":""}]
[{"$f":"'Samples 96'!C1716","v":""}]
[{"$f":"'Samples 96'!C1717","v":""}]
[{"$f":"'Samples 96'!C1718","v":""}]
[{"$f":"'Samples 96'!C1719","v":""}]
[{"$f":"'Samples 96'!C1720","v":""}]
[{"$f":"'Samples 96'!C1721","v":""}]
[{"$f":"'Samples 96'!C1722","v":""}]
[{"$f":"'Samples 96'!C1723","v":""}]
[{"$f":"'Samples 96'!C1724","v":""}]
[{"$f":"'Samples 96'!C1725","v":""}]
[{"$f":"'Samples 96'!C1726","v":""}]
[{"$f":"'Samples 96'!C1727","v":""}]
[{"$f":"'Samples 96'!C1728","v":""}]
[{"$f":"'Samples 96'!C1729","v":""}]
[{"$f":"'Samples 96'!C1730","v":""}]
[{"$f":"'Samples 96'!C1731","v":""}]
[{"$f":"'Samples 96'!C1732","v":""}]
[{"$f":"'Samples 96'!C1733","v":""}]
[{"$f":"'Samples 96'!C1734","v":""}]
[{"$f":"'Samples 96'!C1735","v":""}]
[{"$f":"'Samples 96'!C1736","v":""}]
[{"$f":"'Samples 96'!C1737","v":""}]
[{"$f":"'Samples 96'!C1738","v":""}]
[{"$f":"'Samples 96'!C1739","v":""}]
[{"$f":"'Samples 96'!C1740","v":""}]
[{"$f":"'Samples 96'!C1741","v":""}]
[{"$f":"'Samples 96'!C1742","v":""}]
[{"$f":"'Samples 96'!C1743","v":""}]
[{"$f":"'Samples 96'!C1744","v":""}]
[{"$f":"'Samples 96'!C1745","v":""}]
[{"$f":"'Samples 96'!C1746","v":""}]
[{"$f":"'Samples 96'!C1747","v":""}]
[{"$f":"'Samples 96'!C1748","v":""}]
[{"$f":"'Samples 96'!C1749","v":""}]
[{"$f":"'Samples 96'!C1750","v":""}]
[{"$f":"'Samples 96'!C1751","v":""}]
[{"$f":"'Samples 96'!C1752","v":""}]
[{"$f":"'Samples 96'!C1753","v":""}]
[{"$f":"'Samples 96'!C1754","v":""}]
[{"$f":"'Samples 96'!C1755","v":""}]
[{"$f":"'Samples 96'!C1756","v":""}]
[{"$f":"'Samples 96'!C1757","v":""}]
[{"$f":"'Samples 96'!C1758","v":""}]
[{"$f":"'Samples 96'!C1759","v":""}]
[{"$f":"'Samples 96'!C1760","v":""}]
[{"$f":"'Samples 96'!C1761","v":""}]
[{"$f":"'Samples 96'!C1762","v":""}]
[{"$f":"'Samples 96'!C1763","v":""}]
[{"$f":"'Samples 96'!C1764","v":""}]
[{"$f":"'Samples 96'!C1765","v":""}]
[{"$f":"'Samples 96'!C1766","v":""}]
[{"$f":"'Samples 96'!C1767","v":""}]
[{"$f":"'Samples 96'!C1768","v":""}]
[{"$f":"'Samples 96'!C1769","v":""}]
[{"$f":"'Samples 96'!C1770","v":""}]
[{"$f":"'Samples 96'!C1771","v":""}]
[{"$f":"'Samples 96'!C1772","v":""}]
[{"$f":"'Samples 96'!C1773","v":""}]
[{"$f":"'Samples 96'!C1774","v":""}]
[{"$f":"'Samples 96'!C1775","v":""}]
[{"$f":"'Samples 96'!C1776","v":""}]
[{"$f":"'Samples 96'!C1777","v":""}]
[{"$f":"'Samples 96'!C1778","v":""}]
[{"$f":"'Samples 96'!C1779","v":""}]
[{"$f":"'Samples 96'!C1780","v":""}]
[{"$f":"'Samples 96'!C1781","v":""}]
[{"$f":"'Samples 96'!C1782","v":""}]
[{"$f":"'Samples 96'!C1783","v":""}]
[{"$f":"'Samples 96'!C1784","v":""}]
[{"$f":"'Samples 96'!C1785","v":""}]
[{"$f":"'Samples 96'!C1786","v":""}]
[{"$f":"'Samples 96'!C1787","v":""}]
[{"$f":"'Samples 96'!C1788","v":""}]
[{"$f":"'Samples 96'!C1789","v":""}]
[{"$f":"'Samples 96'!C1790","v":""}]
[{"$f":"'Samples 96'!C1791","v":""}]
[{"$f":"'Samples 96'!C1792","v":""}]
[{"$f":"'Samples 96'!C1793","v":""}]
[{"$f":"'Samples 96'!C1794","v":""}]
[{"$f":"'Samples 96'!C1795","v":""}]
[{"$f":"'Samples 96'!C1796","v":""}]
[{"$f":"'Samples 96'!C1797","v":""}]
[{"$f":"'Samples 96'!C1798","v":""}]
[{"$f":"'Samples 96'!C1799","v":""}]
[{"$f":"'Samples 96'!C1800","v":""}]
[{"$f":"'Samples 96'!C1801","v":""}]
[{"$f":"'Samples 96'!C1802","v":""}]
[{"$f":"'Samples 96'!C1803","v":""}]
[{"$f":"'Samples 96'!C1804","v":""}]
[{"$f":"'Samples 96'!C1805","v":""}]
[{"$f":"'Samples 96'!C1806","v":""}]
[{"$f":"'Samples 96'!C1807","v":""}]
[{"$f":"'Samples 96'!C1808","v":""}]
[{"$f":"'Samples 96'!C1809","v":""}]
[{"$f":"'Samples 96'!C1810","v":""}]
[{"$f":"'Samples 96'!C1811","v":""}]
[{"$f":"'Samples 96'!C1812","v":""}]
[{"$f":"'Samples 96'!C1813","v":""}]
[{"$f":"'Samples 96'!C1814","v":""}]
[{"$f":"'Samples 96'!C1815","v":""}]
[{"$f":"'Samples 96'!C1816","v":""}]
[{"$f":"'Samples 96'!C1817","v":""}]
[{"$f":"'Samples 96'!C1818","v":""}]
[{"$f":"'Samples 96'!C1819","v":""}]
[{"$f":"'Samples 96'!C1820","v":""}]
[{"$f":"'Samples 96'!C1821","v":""}]
[{"$f":"'Samples 96'!C1822","v":""}]
[{"$f":"'Samples 96'!C1823","v":""}]
[{"$f":"'Samples 96'!C1824","v":""}]
[{"$f":"'Samples 96'!C1825","v":""}]
[{"$f":"'Samples 96'!C1826","v":""}]
[{"$f":"'Samples 96'!C1827","v":""}]
[{"$f":"'Samples 96'!C1828","v":""}]
[{"$f":"'Samples 96'!C1829","v":""}]
[{"$f":"'Samples 96'!C1830","v":""}]
[{"$f":"'Samples 96'!C1831","v":""}]
[{"$f":"'Samples 96'!C1832","v":""}]
[{"$f":"'Samples 96'!C1833","v":""}]
[{"$f":"'Samples 96'!C1834","v":""}]
[{"$f":"'Samples 96'!C1835","v":""}]
[{"$f":"'Samples 96'!C1836","v":""}]
[{"$f":"'Samples 96'!C1837","v":""}]
[{"$f":"'Samples 96'!C1838","v":""}]
[{"$f":"'Samples 96'!C1839","v":""}]
[{"$f":"'Samples 96'!C1840","v":""}]
[{"$f":"'Samples 96'!C1841","v":""}]
[{"$f":"'Samples 96'!C1842","v":""}]
[{"$f":"'Samples 96'!C1843","v":""}]
[{"$f":"'Samples 96'!C1844","v":""}]
[{"$f":"'Samples 96'!C1845","v":""}]
[{"$f":"'Samples 96'!C1846","v":""}]
[{"$f":"'Samples 96'!C1847","v":""}]
[{"$f":"'Samples 96'!C1848","v":""}]
[{"$f":"'Samples 96'!C1849","v":""}]
[{"$f":"'Samples 96'!C1850","v":""}]
[{"$f":"'Samples 96'!C1851","v":""}]
[{"$f":"'Samples 96'!C1852","v":""}]
[{"$f":"'Samples 96'!C1853","v":""}]
[{"$f":"'Samples 96'!C1854","v":""}]
[{"$f":"'Samples 96'!C1855","v":""}]
[{"$f":"'Samples 96'!C1856","v":""}]
[{"$f":"'Samples 96'!C1857","v":""}]
[{"$f":"'Samples 96'!C1858","v":""}]
[{"$f":"'Samples 96'!C1859","v":""}]
[{"$f":"'Samples 96'!C1860","v":""}]
[{"$f":"'Samples 96'!C1861","v":""}]
[{"$f":"'Samples 96'!C1862","v":""}]
[{"$f":"'Samples 96'!C1863","v":""}]
[{"$f":"'Samples 96'!C1864","v":""}]
[{"$f":"'Samples 96'!C1865","v":""}]
[{"$f":"'Samples 96'!C1866","v":""}]
[{"$f":"'Samples 96'!C1867","v":""}]
[{"$f":"'Samples 96'!C1868","v":""}]
[{"$f":"'Samples 96'!C1869","v":""}]
[{"$f":"'Samples 96'!C1870","v":""}]
[{"$f":"'Samples 96'!C1871","v":""}]
[{"$f":"'Samples 96'!C1872","v":""}]
[{"$f":"'Samples 96'!C1873","v":""}]
[{"$f":"'Samples 96'!C1874","v":""}]
[{"$f":"'Samples 96'!C1875","v":""}]
[{"$f":"'Samples 96'!C1876","v":""}]
[{"$f":"'Samples 96'!C1877","v":""}]
[{"$f":"'Samples 96'!C1878","v":""}]
[{"$f":"'Samples 96'!C1879","v":""}]
[{"$f":"'Samples 96'!C1880","v":""}]
[{"$f":"'Samples 96'!C1881","v":""}]
[{"$f":"'Samples 96'!C1882","v":""}]
[{"$f":"'Samples 96'!C1883","v":""}]
[{"$f":"'Samples 96'!C1884","v":""}]
[{"$f":"'Samples 96'!C1885","v":""}]
[{"$f":"'Samples 96'!C1886","v":""}]
[{"$f":"'Samples 96'!C1887","v":""}]
[{"$f":"'Samples 96'!C1888","v":""}]
[{"$f":"'Samples 96'!C1889","v":""}]
[{"$f":"'Samples 96'!C1890","v":""}]
[{"$f":"'Samples 96'!C1891","v":""}]
[{"$f":"'Samples 96'!C1892","v":""}]
[{"$f":"'Samples 96'!C1893","v":""}]
[{"$f":"'Samples 96'!C1894","v":""}]
[{"$f":"'Samples 96'!C1895","v":""}]
[{"$f":"'Samples 96'!C1896","v":""}]
[{"$f":"'Samples 96'!C1897","v":""}]
[{"$f":"'Samples 96'!C1898","v":""}]
[{"$f":"'Samples 96'!C1899","v":""}]
[{"$f":"'Samples 96'!C1900","v":""}]
[{"$f":"'Samples 96'!C1901","v":""}]
[{"$f":"'Samples 96'!C1902","v":""}]
[{"$f":"'Samples 96'!C1903","v":""}]
[{"$f":"'Samples 96'!C1904","v":""}]
[{"$f":"'Samples 96'!C1905","v":""}]
[{"$f":"'Samples 96'!C1906","v":""}]
[{"$f":"'Samples 96'!C1907","v":""}]
[{"$f":"'Samples 96'!C1908","v":""}]
[{"$f":"'Samples 96'!C1909","v":""}]
[{"$f":"'Samples 96'!C1910","v":""}]
[{"$f":"'Samples 96'!C1911","v":""}]
[{"$f":"'Samples 96'!C1912","v":""}]
[{"$f":"'Samples 96'!C1913","v":""}]
[{"$f":"'Samples 96'!C1914","v":""}]
[{"$f":"'Samples 96'!C1915","v":""}]
[{"$f":"'Samples 96'!C1916","v":""}]
[{"$f":"'Samples 96'!C1917","v":""}]
[{"$f":"'Samples 96'!C1918","v":""}]
[{"$f":"'Samples 96'!C1919","v":""}]
[{"$f":"'Samples 96'!C1920","v":""}]
[{"$f":"'Samples 96'!C1921","v":""}]
[{"$f":"'Samples 96'!C1922","v":""}]
[{"$f":"'Samples 96'!C1923","v":""}]
[{"$f":"'Samples 96'!C1924","v":""}]
[{"$f":"'Samples 96'!C1925","v":""}]
[{"$f":"'Samples 96'!C1926","v":""}]
[{"$f":"'Samples 96'!C1927","v":""}]
[{"$f":"'Samples 96'!C1928","v":""}]
[{"$f":"'Samples 96'!C1929","v":""}]
[{"$f":"'Samples 96'!C1930","v":""}]
[{"$f":"'Samples 96'!C1931","v":""}]
[{"$f":"'Samples 96'!C1932","v":""}]
[{"$f":"'Samples 96'!C1933","v":""}]
[{"$f":"'Samples 96'!C1934","v":""}]
[{"$f":"'Samples 96'!C1935","v":""}]
[{"$f":"'Samples 96'!C1936","v":""}]
[{"$f":"'Samples 96'!C1937","v":""}]
[{"$f":"'Samples 96'!C1938","v":""}]
[{"$f":"'Samples 96'!C1939","v":""}]
[{"$f":"'Samples 96'!C1940","v":""}]
[{"$f":"'Samples 96'!C1941","v":""}]
[{"$f":"'Samples 96'!C1942","v":""}]
[{"$f":"'Samples 96'!C1943","v":""}]
[{"$f":"'Samples 96'!C1944","v":""}]
[{"$f":"'Samples 96'!C1945","v":""}]
[{"$f":"'Samples 96'!C1946","v":""}]
[{"$f":"'Samples 96'!C1947","v":""}]
[{"$f":"'Samples 96'!C1948","v":""}]
[{"$f":"'Samples 96'!C1949","v":""}]
[{"$f":"'Samples 96'!C1950","v":""}]
[{"$f":"'Samples 96'!C1951","v":""}]
[{"$f":"'Samples 96'!C1952","v":""}]
[{"$f":"'Samples 96'!C1953","v":""}]
[{"$f":"'Samples 96'!C1954","v":""}]
[{"$f":"'Samples 96'!C1955","v":""}]
[{"$f":"'Samples 96'!C1956","v":""}]
[{"$f":"'Samples 96'!C1957","v":""}]
[{"$f":"'Samples 96'!C1958","v":""}]
[{"$f":"'Samples 96'!C1959","v":""}]
[{"$f":"'Samples 96'!C1960","v":""}]
[{"$f":"'Samples 96'!C1961","v":""}]
[{"$f":"'Samples 96'!C1962","v":""}]
[{"$f":"'Samples 96'!C1963","v":""}]
[{"$f":"'Samples 96'!C1964","v":""}]
[{"$f":"'Samples 96'!C1965","v":""}]
[{"$f":"'Samples 96'!C1966","v":""}]
[{"$f":"'Samples 96'!C1967","v":""}]
[{"$f":"'Samples 96'!C1968","v":""}]
[{"$f":"'Samples 96'!C1969","v":""}]
[{"$f":"'Samples 96'!C1970","v":""}]
[{"$f":"'Samples 96'!C1971","v":""}]
[{"$f":"'Samples 96'!C1972","v":""}]
[{"$f":"'Samples 96'!C1973","v":""}]
[{"$f":"'Samples 96'!C1974","v":""}]
[{"$f":"'Samples 96'!C1975","v":""}]
[{"$f":"'Samples 96'!C1976","v":""}]
[{"$f":"'Samples 96'!C1977","v":""}]
[{"$f":"'Samples 96'!C1978","v":""}]
[{"$f":"'Samples 96'!C1979","v":""}]
[{"$f":"'Samples 96'!C1980","v":""}]
[{"$f":"'Samples 96'!C1981","v":""}]
[{"$f":"'Samples 96'!C1982","v":""}]
[{"$f":"'Samples 96'!C1983","v":""}]
[{"$f":"'Samples 96'!C1984","v":""}]
[{"$f":"'Samples 96'!C1985","v":""}]
[{"$f":"'Samples 96'!C1986","v":""}]
[{"$f":"'Samples 96'!C1987","v":""}]
[{"$f":"'Samples 96'!C1988","v":""}]
[{"$f":"'Samples 96'!C1989","v":""}]
[{"$f":"'Samples 96'!C1990","v":""}]
[{"$f":"'Samples 96'!C1991","v":""}]
[{"$f":"'Samples 96'!C1992","v":""}]
[{"$f":"'Samples 96'!C1993","v":""}]
[{"$f":"'Samples 96'!C1994","v":""}]
[{"$f":"'Samples 96'!C1995","v":""}]
[{"$f":"'Samples 96'!C1996","v":""}]
[{"$f":"'Samples 96'!C1997","v":""}]
[{"$f":"'Samples 96'!C1998","v":""}]
[{"$f":"'Samples 96'!C1999","v":""}]
[{"$f":"'Samples 96'!C2000","v":""}]
[{"$f":"'Samples 96'!C2001","v":""}]
[{"$f":"'Samples 96'!C2002","v":""}]
[{"$f":"'Samples 96'!C2003","v":""}]
[{"$f":"'Samples 96'!C2004","v":""}]
[{"$f":"'Samples 96'!C2005","v":""}]
[{"$f":"'Samples 96'!C2006","v":""}]
[{"$f":"'Samples 96'!C2007","v":""}]
[{"$f":"'Samples 96'!C2008","v":""}]
[{"$f":"'Samples 96'!C2009","v":""}]
[{"$f":"'Samples 96'!C2010","v":""}]
[{"$f":"'Samples 96'!C2011","v":""}]
[{"$f":"'Samples 96'!C2012","v":""}]
[{"$f":"'Samples 96'!C2013","v":""}]
[{"$f":"'Samples 96'!C2014","v":""}]
[{"$f":"'Samples 96'!C2015","v":""}]
[{"$f":"'Samples 96'!C2016","v":""}]
[{"$f":"'Samples 96'!C2017","v":""}]
[{"$f":"'Samples 96'!C2018","v":""}]
[{"$f":"'Samples 96'!C2019","v":""}]
[{"$f":"'Samples 96'!C2020","v":""}]
[{"$f":"'Samples 96'!C2021","v":""}]
[{"$f":"'Samples 96'!C2022","v":""}]
[{"$f":"'Samples 96'!C2023","v":""}]
[{"$f":"'Samples 96'!C2024","v":""}]
[{"$f":"'Samples 96'!C2025","v":""}]
[{"$f":"'Samples 96'!C2026","v":""}]
[{"$f":"'Samples 96'!C2027","v":""}]
[{"$f":"'Samples 96'!C2028","v":""}]
[{"$f":"'Samples 96'!C2029","v":""}]
[{"$f":"'Samples 96'!C2030","v":""}]
[{"$f":"'Samples 96'!C2031","v":""}]
[{"$f":"'Samples 96'!C2032","v":""}]
[{"$f":"'Samples 96'!C2033","v":""}]
[{"$f":"'Samples 96'!C2034","v":""}]
[{"$f":"'Samples 96'!C2035","v":""}]
[{"$f":"'Samples 96'!C2036","v":""}]
[{"$f":"'Samples 96'!C2037","v":""}]
[{"$f":"'Samples 96'!C2038","v":""}]
[{"$f":"'Samples 96'!C2039","v":""}]
[{"$f":"'Samples 96'!C2040","v":""}]
[{"$f":"'Samples 96'!C2041","v":""}]
[{"$f":"'Samples 96'!C2042","v":""}]
[{"$f":"'Samples 96'!C2043","v":""}]
[{"$f":"'Samples 96'!C2044","v":""}]
[{"$f":"'Samples 96'!C2045","v":""}]
[{"$f":"'Samples 96'!C2046","v":""}]
[{"$f":"'Samples 96'!C2047","v":""}]
[{"$f":"'Samples 96'!C2048","v":""}]
[{"$f":"'Samples 96'!C2049","v":""}]
[{"$f":"'Samples 96'!C2050","v":""}]
[{"$f":"'Samples 96'!C2051","v":""}]
[{"$f":"'Samples 96'!C2052","v":""}]
[{"$f":"'Samples 96'!C2053","v":""}]
[{"$f":"'Samples 96'!C2054","v":""}]
[{"$f":"'Samples 96'!C2055","v":""}]
[{"$f":"'Samples 96'!C2056","v":""}]
[{"$f":"'Samples 96'!C2057","v":""}]
[{"$f":"'Samples 96'!C2058","v":""}]
[{"$f":"'Samples 96'!C2059","v":""}]
[{"$f":"'Samples 96'!C2060","v":""}]
[{"$f":"'Samples 96'!C2061","v":""}]
[{"$f":"'Samples 96'!C2062","v":""}]
[{"$f":"'Samples 96'!C2063","v":""}]
[{"$f":"'Samples 96'!C2064","v":""}]
[{"$f":"'Samples 96'!C2065","v":""}]
[{"$f":"'Samples 96'!C2066","v":""}]
[{"$f":"'Samples 96'!C2067","v":""}]
[{"$f":"'Samples 96'!C2068","v":""}]
[{"$f":"'Samples 96'!C2069","v":""}]
[{"$f":"'Samples 96'!C2070","v":""}]
[{"$f":"'Samples 96'!C2071","v":""}]
[{"$f":"'Samples 96'!C2072","v":""}]
[{"$f":"'Samples 96'!C2073","v":""}]
[{"$f":"'Samples 96'!C2074","v":""}]
[{"$f":"'Samples 96'!C2075","v":""}]
[{"$f":"'Samples 96'!C2076","v":""}]
[{"$f":"'Samples 96'!C2077","v":""}]
[{"$f":"'Samples 96'!C2078","v":""}]
[{"$f":"'Samples 96'!C2079","v":""}]
[{"$f":"'Samples 96'!C2080","v":""}]
[{"$f":"'Samples 96'!C2081","v":""}]
[{"$f":"'Samples 96'!C2082","v":""}]
[{"$f":"'Samples 96'!C2083","v":""}]
[{"$f":"'Samples 96'!C2084","v":""}]
[{"$f":"'Samples 96'!C2085","v":""}]
[{"$f":"'Samples 96'!C2086","v":""}]
[{"$f":"'Samples 96'!C2087","v":""}]
[{"$f":"'Samples 96'!C2088","v":""}]
[{"$f":"'Samples 96'!C2089","v":""}]
[{"$f":"'Samples 96'!C2090","v":""}]
[{"$f":"'Samples 96'!C2091","v":""}]
[{"$f":"'Samples 96'!C2092","v":""}]
[{"$f":"'Samples 96'!C2093","v":""}]
[{"$f":"'Samples 96'!C2094","v":""}]
[{"$f":"'Samples 96'!C2095","v":""}]
[{"$f":"'Samples 96'!C2096","v":""}]
[{"$f":"'Samples 96'!C2097","v":""}]
[{"$f":"'Samples 96'!C2098","v":""}]
[{"$f":"'Samples 96'!C2099","v":""}]
[{"$f":"'Samples 96'!C2100","v":""}]
[{"$f":"'Samples 96'!C2101","v":""}]
[{"$f":"'Samples 96'!C2102","v":""}]
[{"$f":"'Samples 96'!C2103","v":""}]
[{"$f":"'Samples 96'!C2104","v":""}]
[{"$f":"'Samples 96'!C2105","v":""}]
[{"$f":"'Samples 96'!C2106","v":""}]
[{"$f":"'Samples 96'!C2107","v":""}]
[{"$f":"'Samples 96'!C2108","v":""}]
[{"$f":"'Samples 96'!C2109","v":""}]
[{"$f":"'Samples 96'!C2110","v":""}]
[{"$f":"'Samples 96'!C2111","v":""}]
[{"$f":"'Samples 96'!C2112","v":""}]
[{"$f":"'Samples 96'!C2113","v":""}]
[{"$f":"'Samples 96'!C2114","v":""}]
[{"$f":"'Samples 96'!C2115","v":""}]
[{"$f":"'Samples 96'!C2116","v":""}]
[{"$f":"'Samples 96'!C2117","v":""}]
[{"$f":"'Samples 96'!C2118","v":""}]
[{"$f":"'Samples 96'!C2119","v":""}]
[{"$f":"'Samples 96'!C2120","v":""}]
[{"$f":"'Samples 96'!C2121","v":""}]
[{"$f":"'Samples 96'!C2122","v":""}]
[{"$f":"'Samples 96'!C2123","v":""}]
[{"$f":"'Samples 96'!C2124","v":""}]
[{"$f":"'Samples 96'!C2125","v":""}]
[{"$f":"'Samples 96'!C2126","v":""}]
[{"$f":"'Samples 96'!C2127","v":""}]
[{"$f":"'Samples 96'!C2128","v":""}]
[{"$f":"'Samples 96'!C2129","v":""}]
[{"$f":"'Samples 96'!C2130","v":""}]
[{"$f":"'Samples 96'!C2131","v":""}]
[{"$f":"'Samples 96'!C2132","v":""}]
[{"$f":"'Samples 96'!C2133","v":""}]
[{"$f":"'Samples 96'!C2134","v":""}]
[{"$f":"'Samples 96'!C2135","v":""}]
[{"$f":"'Samples 96'!C2136","v":""}]
[{"$f":"'Samples 96'!C2137","v":""}]
[{"$f":"'Samples 96'!C2138","v":""}]
[{"$f":"'Samples 96'!C2139","v":""}]
[{"$f":"'Samples 96'!C2140","v":""}]
[{"$f":"'Samples 96'!C2141","v":""}]
[{"$f":"'Samples 96'!C2142","v":""}]
[{"$f":"'Samples 96'!C2143","v":""}]
[{"$f":"'Samples 96'!C2144","v":""}]
[{"$f":"'Samples 96'!C2145","v":""}]
[{"$f":"'Samples 96'!C2146","v":""}]
[{"$f":"'Samples 96'!C2147","v":""}]
[{"$f":"'Samples 96'!C2148","v":""}]
[{"$f":"'Samples 96'!C2149","v":""}]
[{"$f":"'Samples 96'!C2150","v":""}]
[{"$f":"'Samples 96'!C2151","v":""}]
[{"$f":"'Samples 96'!C2152","v":""}]
[{"$f":"'Samples 96'!C2153","v":""}]
[{"$f":"'Samples 96'!C2154","v":""}]
[{"$f":"'Samples 96'!C2155","v":""}]
[{"$f":"'Samples 96'!C2156","v":""}]
[{"$f":"'Samples 96'!C2157","v":""}]
[{"$f":"'Samples 96'!C2158","v":""}]
[{"$f":"'Samples 96'!C2159","v":""}]
[{"$f":"'Samples 96'!C2160","v":""}]
[{"$f":"'Samples 96'!C2161","v":""}]
[{"$f":"'Samples 96'!C2162","v":""}]
[{"$f":"'Samples 96'!C2163","v":""}]
[{"$f":"'Samples 96'!C2164","v":""}]
[{"$f":"'Samples 96'!C2165","v":""}]
[{"$f":"'Samples 96'!C2166","v":""}]
[{"$f":"'Samples 96'!C2167","v":""}]
[{"$f":"'Samples 96'!C2168","v":""}]
[{"$f":"'Samples 96'!C2169","v":""}]
[{"$f":"'Samples 96'!C2170","v":""}]
[{"$f":"'Samples 96'!C2171","v":""}]
[{"$f":"'Samples 96'!C2172","v":""}]
[{"$f":"'Samples 96'!C2173","v":""}]
[{"$f":"'Samples 96'!C2174","v":""}]
[{"$f":"'Samples 96'!C2175","v":""}]
[{"$f":"'Samples 96'!C2176","v":""}]
[{"$f":"'Samples 96'!C2177","v":""}]
[{"$f":"'Samples 96'!C2178","v":""}]
[{"$f":"'Samples 96'!C2179","v":""}]
[{"$f":"'Samples 96'!C2180","v":""}]
[{"$f":"'Samples 96'!C2181","v":""}]
[{"$f":"'Samples 96'!C2182","v":""}]
[{"$f":"'Samples 96'!C2183","v":""}]
[{"$f":"'Samples 96'!C2184","v":""}]
[{"$f":"'Samples 96'!C2185","v":""}]
[{"$f":"'Samples 96'!C2186","v":""}]
[{"$f":"'Samples 96'!C2187","v":""}]
[{"$f":"'Samples 96'!C2188","v":""}]
[{"$f":"'Samples 96'!C2189","v":""}]
[{"$f":"'Samples 96'!C2190","v":""}]
[{"$f":"'Samples 96'!C2191","v":""}]
[{"$f":"'Samples 96'!C2192","v":""}]
[{"$f":"'Samples 96'!C2193","v":""}]
[{"$f":"'Samples 96'!C2194","v":""}]
[{"$f":"'Samples 96'!C2195","v":""}]
[{"$f":"'Samples 96'!C2196","v":""}]
[{"$f":"'Samples 96'!C2197","v":""}]
[{"$f":"'Samples 96'!C2198","v":""}]
[{"$f":"'Samples 96'!C2199","v":""}]
[{"$f":"'Samples 96'!C2200","v":""}]
[{"$f":"'Samples 96'!C2201","v":""}]
[{"$f":"'Samples 96'!C2202","v":""}]
[{"$f":"'Samples 96'!C2203","v":""}]
[{"$f":"'Samples 96'!C2204","v":""}]
[{"$f":"'Samples 96'!C2205","v":""}]
[{"$f":"'Samples 96'!C2206","v":""}]
[{"$f":"'Samples 96'!C2207","v":""}]
[{"$f":"'Samples 96'!C2208","v":""}]
[{"$f":"'Samples 96'!C2209","v":""}]
[{"$f":"'Samples 96'!C2210","v":""}]
[{"$f":"'Samples 96'!C2211","v":""}]
[{"$f":"'Samples 96'!C2212","v":""}]
[{"$f":"'Samples 96'!C2213","v":""}]
[{"$f":"'Samples 96'!C2214","v":""}]
[{"$f":"'Samples 96'!C2215","v":""}]
[{"$f":"'Samples 96'!C2216","v":""}]
[{"$f":"'Samples 96'!C2217","v":""}]
[{"$f":"'Samples 96'!C2218","v":""}]
[{"$f":"'Samples 96'!C2219","v":""}]
[{"$f":"'Samples 96'!C2220","v":""}]
[{"$f":"'Samples 96'!C2221","v":""}]
[{"$f":"'Samples 96'!C2222","v":""}]
[{"$f":"'Samples 96'!C2223","v":""}]
[{"$f":"'Samples 96'!C2224","v":""}]
[{"$f":"'Samples 96'!C2225","v":""}]
[{"$f":"'Samples 96'!C2226","v":""}]
[{"$f":"'Samples 96'!C2227","v":""}]
[{"$f":"'Samples 96'!C2228","v":""}]
[{"$f":"'Samples 96'!C2229","v":""}]
[{"$f":"'Samples 96'!C2230","v":""}]
[{"$f":"'Samples 96'!C2231","v":""}]
[{"$f":"'Samples 96'!C2232","v":""}]
[{"$f":"'Samples 96'!C2233","v":""}]
[{"$f":"'Samples 96'!C2234","v":""}]
[{"$f":"'Samples 96'!C2235","v":""}]
[{"$f":"'Samples 96'!C2236","v":""}]
[{"$f":"'Samples 96'!C2237","v":""}]
[{"$f":"'Samples 96'!C2238","v":""}]
[{"$f":"'Samples 96'!C2239","v":""}]
[{"$f":"'Samples 96'!C2240","v":""}]
[{"$f":"'Samples 96'!C2241","v":""}]
[{"$f":"'Samples 96'!C2242","v":""}]
[{"$f":"'Samples 96'!C2243","v":""}]
[{"$f":"'Samples 96'!C2244","v":""}]
[{"$f":"'Samples 96'!C2245","v":""}]
[{"$f":"'Samples 96'!C2246","v":""}]
[{"$f":"'Samples 96'!C2247","v":""}]
[{"$f":"'Samples 96'!C2248","v":""}]
[{"$f":"'Samples 96'!C2249","v":""}]
[{"$f":"'Samples 96'!C2250","v":""}]
[{"$f":"'Samples 96'!C2251","v":""}]
[{"$f":"'Samples 96'!C2252","v":""}]
[{"$f":"'Samples 96'!C2253","v":""}]
[{"$f":"'Samples 96'!C2254","v":""}]
[{"$f":"'Samples 96'!C2255","v":""}]
[{"$f":"'Samples 96'!C2256","v":""}]
[{"$f":"'Samples 96'!C2257","v":""}]
[{"$f":"'Samples 96'!C2258","v":""}]
[{"$f":"'Samples 96'!C2259","v":""}]
[{"$f":"'Samples 96'!C2260","v":""}]
[{"$f":"'Samples 96'!C2261","v":""}]
[{"$f":"'Samples 96'!C2262","v":""}]
[{"$f":"'Samples 96'!C2263","v":""}]
[{"$f":"'Samples 96'!C2264","v":""}]
[{"$f":"'Samples 96'!C2265","v":""}]
[{"$f":"'Samples 96'!C2266","v":""}]
[{"$f":"'Samples 96'!C2267","v":""}]
[{"$f":"'Samples 96'!C2268","v":""}]
[{"$f":"'Samples 96'!C2269","v":""}]
[{"$f":"'Samples 96'!C2270","v":""}]
[{"$f":"'Samples 96'!C2271","v":""}]
[{"$f":"'Samples 96'!C2272","v":""}]
[{"$f":"'Samples 96'!C2273","v":""}]
[{"$f":"'Samples 96'!C2274","v":""}]
[{"$f":"'Samples 96'!C2275","v":""}]
[{"$f":"'Samples 96'!C2276","v":""}]
[{"$f":"'Samples 96'!C2277","v":""}]
[{"$f":"'Samples 96'!C2278","v":""}]
[{"$f":"'Samples 96'!C2279","v":""}]
[{"$f":"'Samples 96'!C2280","v":""}]
[{"$f":"'Samples 96'!C2281","v":""}]
[{"$f":"'Samples 96'!C2282","v":""}]
[{"$f":"'Samples 96'!C2283","v":""}]
[{"$f":"'Samples 96'!C2284","v":""}]
[{"$f":"'Samples 96'!C2285","v":""}]
[{"$f":"'Samples 96'!C2286","v":""}]
[{"$f":"'Samples 96'!C2287","v":""}]
[{"$f":"'Samples 96'!C2288","v":""}]
[{"$f":"'Samples 96'!C2289","v":""}]
[{"$f":"'Samples 96'!C2290","v":""}]
[{"$f":"'Samples 96'!C2291","v":""}]
[{"$f":"'Samples 96'!C2292","v":""}]
[{"$f":"'Samples 96'!C2293","v":""}]
[{"$f":"'Samples 96'!C2294","v":""}]
[{"$f":"'Samples 96'!C2295","v":""}]
[{"$f":"'Samples 96'!C2296","v":""}]
[{"$f":"'Samples 96'!C2297","v":""}]
[{"$f":"'Samples 96'!C2298","v":""}]
[{"$f":"'Samples 96'!C2299","v":""}]
[{"$f":"'Samples 96'!C2300","v":""}]
[{"$f":"'Samples 96'!C2301","v":""}]
[{"$f":"'Samples 96'!C2302","v":""}]
[{"$f":"'Samples 96'!C2303","v":""}]
[{"$f":"'Samples 96'!C2304","v":""}]
[{"$f":"'Samples 96'!C2305","v":""}]
[{"$f":"'Samples 96'!C2306","v":""}]
[{"$f":"'Samples 96'!C2307","v":""}]
[{"$f":"'Samples 96'!C2308","v":""}]
[{"$f":"'Samples 96'!C2309","v":""}]
[{"$f":"'Samples 96'!C2310","v":""}]
[{"$f":"'Samples 96'!C2311","v":""}]
[{"$f":"'Samples 96'!C2312","v":""}]
[{"$f":"'Samples 96'!C2313","v":""}]
[{"$f":"'Samples 96'!C2314","v":""}]
[{"$f":"'Samples 96'!C2315","v":""}]
[{"$f":"'Samples 96'!C2316","v":""}]
[{"$f":"'Samples 96'!C2317","v":""}]
[{"$f":"'Samples 96'!C2318","v":""}]
[{"$f":"'Samples 96'!C2319","v":""}]
[{"$f":"'Samples 96'!C2320","v":""}]
[{"$f":"'Samples 96'!C2321","v":""}]
[{"$f":"'Samples 96'!C2322","v":""}]
[{"$f":"'Samples 96'!C2323","v":""}]
[{"$f":"'Samples 96'!C2324","v":""}]
[{"$f":"'Samples 96'!C2325","v":""}]
[{"$f":"'Samples 96'!C2326","v":""}]
[{"$f":"'Samples 96'!C2327","v":""}]
[{"$f":"'Samples 96'!C2328","v":""}]
[{"$f":"'Samples 96'!C2329","v":""}]
[{"$f":"'Samples 96'!C2330","v":""}]
[{"$f":"'Samples 96'!C2331","v":""}]
[{"$f":"'Samples 96'!C2332","v":""}]
[{"$f":"'Samples 96'!C2333","v":""}]
[{"$f":"'Samples 96'!C2334","v":""}]
[{"$f":"'Samples 96'!C2335","v":""}]
[{"$f":"'Samples 96'!C2336","v":""}]
[{"$f":"'Samples 96'!C2337","v":""}]
[{"$f":"'Samples 96'!C2338","v":""}]
[{"$f":"'Samples 96'!C2339","v":""}]
[{"$f":"'Samples 96'!C2340","v":""}]
[{"$f":"'Samples 96'!C2341","v":""}]
[{"$f":"'Samples 96'!C2342","v":""}]
[{"$f":"'Samples 96'!C2343","v":""}]
[{"$f":"'Samples 96'!C2344","v":""}]
[{"$f":"'Samples 96'!C2345","v":""}]
[{"$f":"'Samples 96'!C2346","v":""}]
[{"$f":"'Samples 96'!C2347","v":""}]
[{"$f":"'Samples 96'!C2348","v":""}]
[{"$f":"'Samples 96'!C2349","v":""}]
[{"$f":"'Samples 96'!C2350","v":""}]
[{"$f":"'Samples 96'!C2351","v":""}]
[{"$f":"'Samples 96'!C2352","v":""}]
[{"$f":"'Samples 96'!C2353","v":""}]
[{"$f":"'Samples 96'!C2354","v":""}]
[{"$f":"'Samples 96'!C2355","v":""}]
[{"$f":"'Samples 96'!C2356","v":""}]
[{"$f":"'Samples 96'!C2357","v":""}]
[{"$f":"'Samples 96'!C2358","v":""}]
[{"$f":"'Samples 96'!C2359","v":""}]
[{"$f":"'Samples 96'!C2360","v":""}]
[{"$f":"'Samples 96'!C2361","v":""}]
[{"$f":"'Samples 96'!C2362","v":""}]
[{"$f":"'Samples 96'!C2363","v":""}]
[{"$f":"'Samples 96'!C2364","v":""}]
[{"$f":"'Samples 96'!C2365","v":""}]
[{"$f":"'Samples 96'!C2366","v":""}]
[{"$f":"'Samples 96'!C2367","v":""}]
[{"$f":"'Samples 96'!C2368","v":""}]
[{"$f":"'Samples 96'!C2369","v":""}]
[{"$f":"'Samples 96'!C2370","v":""}]
[{"$f":"'Samples 96'!C2371","v":""}]
[{"$f":"'Samples 96'!C2372","v":""}]
[{"$f":"'Samples 96'!C2373","v":""}]
[{"$f":"'Samples 96'!C2374","v":""}]
[{"$f":"'Samples 96'!C2375","v":""}]
[{"$f":"'Samples 96'!C2376","v":""}]
[{"$f":"'Samples 96'!C2377","v":""}]
[{"$f":"'Samples 96'!C2378","v":""}]
[{"$f":"'Samples 96'!C2379","v":""}]
[{"$f":"'Samples 96'!C2380","v":""}]
[{"$f":"'Samples 96'!C2381","v":""}]
[{"$f":"'Samples 96'!C2382","v":""}]
[{"$f":"'Samples 96'!C2383","v":""}]
[{"$f":"'Samples 96'!C2384","v":""}]
[{"$f":"'Samples 96'!C2385","v":""}]
[{"$f":"'Samples 96'!C2386","v":""}]
[{"$f":"'Samples 96'!C2387","v":""}]
[{"$f":"'Samples 96'!C2388","v":""}]
[{"$f":"'Samples 96'!C2389","v":""}]
[{"$f":"'Samples 96'!C2390","v":""}]
[{"$f":"'Samples 96'!C2391","v":""}]
[{"$f":"'Samples 96'!C2392","v":""}]
[{"$f":"'Samples 96'!C2393","v":""}]
[{"$f":"'Samples 96'!C2394","v":""}]
[{"$f":"'Samples 96'!C2395","v":""}]
[{"$f":"'Samples 96'!C2396","v":""}]
[{"$f":"'Samples 96'!C2397","v":""}]
[{"$f":"'Samples 96'!C2398","v":""}]
[{"$f":"'Samples 96'!C2399","v":""}]
[{"$f":"'Samples 96'!C2400","v":""}]
[{"$f":"'Samples 96'!C2401","v":""}]
[{"$f":"'Samples 96'!C2402","v":""}]
[{"$f":"'Samples 96'!C2403","v":""}]
[{"$f":"'Samples 96'!C2404","v":""}]
[{"$f":"'Samples 96'!C2405","v":""}]
[{"$f":"'Samples 96'!C2406","v":""}]
[{"$f":"'Samples 96'!C2407","v":""}]
[{"$f":"'Samples 96'!C2408","v":""}]
[{"$f":"'Samples 96'!C2409","v":""}]
[{"$f":"'Samples 96'!C2410","v":""}]
[{"$f":"'Samples 96'!C2411","v":""}]
[{"$f":"'Samples 96'!C2412","v":""}]
[{"$f":"'Samples 96'!C2413","v":""}]
[{"$f":"'Samples 96'!C2414","v":""}]
[{"$f":"'Samples 96'!C2415","v":""}]
[{"$f":"'Samples 96'!C2416","v":""}]
[{"$f":"'Samples 96'!C2417","v":""}]
[{"$f":"'Samples 96'!C2418","v":""}]
[{"$f":"'Samples 96'!C2419","v":""}]
[{"$f":"'Samples 96'!C2420","v":""}]
[{"$f":"'Samples 96'!C2421","v":""}]
[{"$f":"'Samples 96'!C2422","v":""}]
[{"$f":"'Samples 96'!C2423","v":""}]
[{"$f":"'Samples 96'!C2424","v":""}]
[{"$f":"'Samples 96'!C2425","v":""}]
[{"$f":"'Samples 96'!C2426","v":""}]
[{"$f":"'Samples 96'!C2427","v":""}]
[{"$f":"'Samples 96'!C2428","v":""}]
[{"$f":"'Samples 96'!C2429","v":""}]
[{"$f":"'Samples 96'!C2430","v":""}]
[{"$f":"'Samples 96'!C2431","v":""}]
[{"$f":"'Samples 96'!C2432","v":""}]
[{"$f":"'Samples 96'!C2433","v":""}]
[{"$f":"'Samples 96'!C2434","v":""}]
[{"$f":"'Samples 96'!C2435","v":""}]
[{"$f":"'Samples 96'!C2436","v":""}]
[{"$f":"'Samples 96'!C2437","v":""}]
[{"$f":"'Samples 96'!C2438","v":""}]
[{"$f":"'Samples 96'!C2439","v":""}]
[{"$f":"'Samples 96'!C2440","v":""}]
[{"$f":"'Samples 96'!C2441","v":""}]
[{"$f":"'Samples 96'!C2442","v":""}]
[{"$f":"'Samples 96'!C2443","v":""}]
[{"$f":"'Samples 96'!C2444","v":""}]
[{"$f":"'Samples 96'!C2445","v":""}]
[{"$f":"'Samples 96'!C2446","v":""}]
[{"$f":"'Samples 96'!C2447","v":""}]
[{"$f":"'Samples 96'!C2448","v":""}]
[{"$f":"'Samples 96'!C2449","v":""}]
[{"$f":"'Samples 96'!C2450","v":""}]
[{"$f":"'Samples 96'!C2451","v":""}]
[{"$f":"'Samples 96'!C2452","v":""}]
[{"$f":"'Samples 96'!C2453","v":""}]
[{"$f":"'Samples 96'!C2454","v":""}]
[{"$f":"'Samples 96'!C2455","v":""}]
[{"$f":"'Samples 96'!C2456","v":""}]
[{"$f":"'Samples 96'!C2457","v":""}]
[{"$f":"'Samples 96'!C2458","v":""}]
[{"$f":"'Samples 96'!C2459","v":""}]
[{"$f":"'Samples 96'!C2460","v":""}]
[{"$f":"'Samples 96'!C2461","v":""}]
[{"$f":"'Samples 96'!C2462","v":""}]
[{"$f":"'Samples 96'!C2463","v":""}]
[{"$f":"'Samples 96'!C2464","v":""}]
[{"$f":"'Samples 96'!C2465","v":""}]
[{"$f":"'Samples 96'!C2466","v":""}]
[{"$f":"'Samples 96'!C2467","v":""}]
[{"$f":"'Samples 96'!C2468","v":""}]
[{"$f":"'Samples 96'!C2469","v":""}]
[{"$f":"'Samples 96'!C2470","v":""}]
[{"$f":"'Samples 96'!C2471","v":""}]
[{"$f":"'Samples 96'!C2472","v":""}]
[{"$f":"'Samples 96'!C2473","v":""}]
[{"$f":"'Samples 96'!C2474","v":""}]
[{"$f":"'Samples 96'!C2475","v":""}]
[{"$f":"'Samples 96'!C2476","v":""}]
[{"$f":"'Samples 96'!C2477","v":""}]
[{"$f":"'Samples 96'!C2478","v":""}]
[{"$f":"'Samples 96'!C2479","v":""}]
[{"$f":"'Samples 96'!C2480","v":""}]
[{"$f":"'Samples 96'!C2481","v":""}]
[{"$f":"'Samples 96'!C2482","v":""}]
[{"$f":"'Samples 96'!C2483","v":""}]
[{"$f":"'Samples 96'!C2484","v":""}]
[{"$f":"'Samples 96'!C2485","v":""}]
[{"$f":"'Samples 96'!C2486","v":""}]
[{"$f":"'Samples 96'!C2487","v":""}]
[{"$f":"'Samples 96'!C2488","v":""}]
[{"$f":"'Samples 96'!C2489","v":""}]
[{"$f":"'Samples 96'!C2490","v":""}]
[{"$f":"'Samples 96'!C2491","v":""}]
[{"$f":"'Samples 96'!C2492","v":""}]
[{"$f":"'Samples 96'!C2493","v":""}]
[{"$f":"'Samples 96'!C2494","v":""}]
[{"$f":"'Samples 96'!C2495","v":""}]
[{"$f":"'Samples 96'!C2496","v":""}]
[{"$f":"'Samples 96'!C2497","v":""}]
[{"$f":"'Samples 96'!C2498","v":""}]
[{"$f":"'Samples 96'!C2499","v":""}]
[{"$f":"'Samples 96'!C2500","v":""}]
[{"$f":"'Samples 96'!C2501","v":""}]
[{"$f":"'Samples 96'!C2502","v":""}]
[{"$f":"'Samples 96'!C2503","v":""}]
[{"$f":"'Samples 96'!C2504","v":""}]
[{"$f":"'Samples 96'!C2505","v":""}]
[{"$f":"'Samples 96'!C2506","v":""}]
[{"$f":"'Samples 96'!C2507","v":""}]
[{"$f":"'Samples 96'!C2508","v":""}]
[{"$f":"'Samples 96'!C2509","v":""}]
[{"$f":"'Samples 96'!C2510","v":""}]
[{"$f":"'Samples 96'!C2511","v":""}]
[{"$f":"'Samples 96'!C2512","v":""}]
[{"$f":"'Samples 96'!C2513","v":""}]
[{"$f":"'Samples 96'!C2514","v":""}]
[{"$f":"'Samples 96'!C2515","v":""}]
[{"$f":"'Samples 96'!C2516","v":""}]
[{"$f":"'Samples 96'!C2517","v":""}]
[{"$f":"'Samples 96'!C2518","v":""}]
[{"$f":"'Samples 96'!C2519","v":""}]
[{"$f":"'Samples 96'!C2520","v":""}]
[{"$f":"'Samples 96'!C2521","v":""}]
[{"$f":"'Samples 96'!C2522","v":""}]
[{"$f":"'Samples 96'!C2523","v":""}]
[{"$f":"'Samples 96'!C2524","v":""}]
[{"$f":"'Samples 96'!C2525","v":""}]
[{"$f":"'Samples 96'!C2526","v":""}]
[{"$f":"'Samples 96'!C2527","v":""}]
[{"$f":"'Samples 96'!C2528","v":""}]
[{"$f":"'Samples 96'!C2529","v":""}]
[{"$f":"'Samples 96'!C2530","v":""}]
[{"$f":"'Samples 96'!C2531","v":""}]
[{"$f":"'Samples 96'!C2532","v":""}]
[{"$f":"'Samples 96'!C2533","v":""}]
[{"$f":"'Samples 96'!C2534","v":""}]
[{"$f":"'Samples 96'!C2535","v":""}]
[{"$f":"'Samples 96'!C2536","v":""}]
[{"$f":"'Samples 96'!C2537","v":""}]
[{"$f":"'Samples 96'!C2538","v":""}]
[{"$f":"'Samples 96'!C2539","v":""}]
[{"$f":"'Samples 96'!C2540","v":""}]
[{"$f":"'Samples 96'!C2541","v":""}]
[{"$f":"'Samples 96'!C2542","v":""}]
[{"$f":"'Samples 96'!C2543","v":""}]
[{"$f":"'Samples 96'!C2544","v":""}]
[{"$f":"'Samples 96'!C2545","v":""}]
[{"$f":"'Samples 96'!C2546","v":""}]
[{"$f":"'Samples 96'!C2547","v":""}]
[{"$f":"'Samples 96'!C2548","v":""}]
[{"$f":"'Samples 96'!C2549","v":""}]
[{"$f":"'Samples 96'!C2550","v":""}]
[{"$f":"'Samples 96'!C2551","v":""}]
[{"$f":"'Samples 96'!C2552","v":""}]
[{"$f":"'Samples 96'!C2553","v":""}]
[{"$f":"'Samples 96'!C2554","v":""}]
[{"$f":"'Samples 96'!C2555","v":""}]
[{"$f":"'Samples 96'!C2556","v":""}]
[{"$f":"'Samples 96'!C2557","v":""}]
[{"$f":"'Samples 96'!C2558","v":""}]
[{"$f":"'Samples 96'!C2559","v":""}]
[{"$f":"'Samples 96'!C2560","v":""}]
[{"$f":"'Samples 96'!C2561","v":""}]
[{"$f":"'Samples 96'!C2562","v":""}]
[{"$f":"'Samples 96'!C2563","v":""}]
[{"$f":"'Samples 96'!C2564","v":""}]
[{"$f":"'Samples 96'!C2565","v":""}]
[{"$f":"'Samples 96'!C2566","v":""}]
[{"$f":"'Samples 96'!C2567","v":""}]
[{"$f":"'Samples 96'!C2568","v":""}]
[{"$f":"'Samples 96'!C2569","v":""}]
[{"$f":"'Samples 96'!C2570","v":""}]
[{"$f":"'Samples 96'!C2571","v":""}]
[{"$f":"'Samples 96'!C2572","v":""}]
[{"$f":"'Samples 96'!C2573","v":""}]
[{"$f":"'Samples 96'!C2574","v":""}]
[{"$f":"'Samples 96'!C2575","v":""}]
[{"$f":"'Samples 96'!C2576","v":""}]
[{"$f":"'Samples 96'!C2577","v":""}]
[{"$f":"'Samples 96'!C2578","v":""}]
[{"$f":"'Samples 96'!C2579","v":""}]
[{"$f":"'Samples 96'!C2580","v":""}]
[{"$f":"'Samples 96'!C2581","v":""}]
[{"$f":"'Samples 96'!C2582","v":""}]
[{"$f":"'Samples 96'!C2583","v":""}]
[{"$f":"'Samples 96'!C2584","v":""}]
[{"$f":"'Samples 96'!C2585","v":""}]
[{"$f":"'Samples 96'!C2586","v":""}]
[{"$f":"'Samples 96'!C2587","v":""}]
[{"$f":"'Samples 96'!C2588","v":""}]
[{"$f":"'Samples 96'!C2589","v":""}]
[{"$f":"'Samples 96'!C2590","v":""}]
[{"$f":"'Samples 96'!C2591","v":""}]
[{"$f":"'Samples 96'!C2592","v":""}]
[{"$f":"'Samples 96'!C2593","v":""}]
[{"$f":"'Samples 96'!C2594","v":""}]
[{"$f":"'Samples 96'!C2595","v":""}]
[{"$f":"'Samples 96'!C2596","v":""}]
[{"$f":"'Samples 96'!C2597","v":""}]
[{"$f":"'Samples 96'!C2598","v":""}]
[{"$f":"'Samples 96'!C2599","v":""}]
[{"$f":"'Samples 96'!C2600","v":""}]
[{"$f":"'Samples 96'!C2601","v":""}]
[{"$f":"'Samples 96'!C2602","v":""}]
[{"$f":"'Samples 96'!C2603","v":""}]
[{"$f":"'Samples 96'!C2604","v":""}]
[{"$f":"'Samples 96'!C2605","v":""}]
[{"$f":"'Samples 96'!C2606","v":""}]
[{"$f":"'Samples 96'!C2607","v":""}]
[{"$f":"'Samples 96'!C2608","v":""}]
[{"$f":"'Samples 96'!C2609","v":""}]
[{"$f":"'Samples 96'!C2610","v":""}]
[{"$f":"'Samples 96'!C2611","v":""}]
[{"$f":"'Samples 96'!C2612","v":""}]
[{"$f":"'Samples 96'!C2613","v":""}]
[{"$f":"'Samples 96'!C2614","v":""}]
[{"$f":"'Samples 96'!C2615","v":""}]
[{"$f":"'Samples 96'!C2616","v":""}]
[{"$f":"'Samples 96'!C2617","v":""}]
[{"$f":"'Samples 96'!C2618","v":""}]
[{"$f":"'Samples 96'!C2619","v":""}]
[{"$f":"'Samples 96'!C2620","v":""}]
[{"$f":"'Samples 96'!C2621","v":""}]
[{"$f":"'Samples 96'!C2622","v":""}]
[{"$f":"'Samples 96'!C2623","v":""}]
[{"$f":"'Samples 96'!C2624","v":""}]
[{"$f":"'Samples 96'!C2625","v":""}]
[{"$f":"'Samples 96'!C2626","v":""}]
[{"$f":"'Samples 96'!C2627","v":""}]
[{"$f":"'Samples 96'!C2628","v":""}]
[{"$f":"'Samples 96'!C2629","v":""}]
[{"$f":"'Samples 96'!C2630","v":""}]
[{"$f":"'Samples 96'!C2631","v":""}]
[{"$f":"'Samples 96'!C2632","v":""}]
[{"$f":"'Samples 96'!C2633","v":""}]
[{"$f":"'Samples 96'!C2634","v":""}]
[{"$f":"'Samples 96'!C2635","v":""}]
[{"$f":"'Samples 96'!C2636","v":""}]
[{"$f":"'Samples 96'!C2637","v":""}]
[{"$f":"'Samples 96'!C2638","v":""}]
[{"$f":"'Samples 96'!C2639","v":""}]
[{"$f":"'Samples 96'!C2640","v":""}]
[{"$f":"'Samples 96'!C2641","v":""}]

{"sheet":"Samples 96","index":3,"n_rows":11521,"n_cols":34,"rows_kept":2250,"cut":true,"hidden":false,"merged":[],"bounds":{"rows_first":1000,"rows_last":250,"rows_between":1000,"halvings":1}}
["Plate #","PlatePos","Individual","Sample ID","Conc ng/μl","Vol μl (< 80μl)","Comment",{"$f":"IF(AH1=1,\"Volume out of range 20 µl to 80 ul is accepted. Please contact the SNP&SEQ Technology Platform for guidance!\",\" \")","v":" "},null,null,null,null,null,null,null,null,null,null,null,null,null,"StartRow",4,null,null,"To text","PlateIndex","N_Blanks","ShowPlate",{"$f":"MATCH(AF1,AE:AE,0)","v":{"$error":"#N/A"}},null,1,"CheckVolumes",{"$f":"IF(COUNTIF(INDEX($1:$1048576,2,6):INDEX($1:$1048576,5761,6),\"<20\")+COUNTIF(INDEX($1:$1048576,2,6):INDEX($1:$1048576,5761,6),\">80\")>0,1,0)","v":0}]
[1,"A1",{"$f":"IF(D2=0,\"\",D2)","v":""},null,0.01,null,null,null,null,null,null,null,null,null,null,null,null,null,null,null,null,"PanelHeight",13,null,null,{"$f":"IF(LEN(INDEX($1:$1048576,ROW(),4))>0,INDEX($1:$1048576,ROW(),4),\" \")","v":" "},null,null,null,{"$error":"#N/A"},{"$f":"IF(COUNTBLANK(D2)=0,A2)","v":false},2,20]
[1,"B1",{"$f":"IF(D3=0,\"\",D3)","v":""},null,0.01,null,null,null,{"$f":"IF(AC4=1,\"Plate \"&TEXT(AA4+1,\"0\"),\"\")","v":""},null,null,null,null,null,null,null,null,null,null,null,null,"WellsInPlate",88,null,null,{"$f":"IF(LEN(INDEX($1:$1048576,ROW(),4))>0,INDEX($1:$1048576,ROW(),4),\" \")","v":" "},null,null,null,{"$error":"#N/A"},{"$f":"IF(COUNTBLANK(D3)=0,A3)","v":false},3,81]
[1,"C1",{"$f":"IF(D4=0,\"\",D4)","v":""},null,0.01,null,null,null,{"$f":"IF($AC4=1,\"1\",\"\")","v":""},{"$f":"IF($AC4=1,\"2\",\"\")","v":""},{"$f":"IF($AC4=1,\"3\",\"\")","v":""},{"$f":"IF($AC4=1,\"4\",\"\")","v":""},{"$f":"IF($AC4=1,\"5\",\"\")","v":""},{"$f":"IF($AC4=1,\"6\",\"\")","v":""},{"$f":"IF($AC4=1,\"7\",\"\")","v":""},{"$f":"IF($AC4=1,\"8\",\"\")","v":""},{"$f":"IF($AC4=1,\"9\",\"\")","v":""},{"$f":"IF($AC4=1,\"10\",\"\")","v":""},{"$f":"IF($AC4=1,\"11\",\"\")","v":""},{"$f":"IF($AC4=1,\"12\",\"\")","v":""},null,null,null,null,null,{"$f":"IF(LEN(INDEX($1:$1048576,ROW(),4))>0,INDEX($1:$1048576,ROW(),4),\" \")","v":" "},{"$f":"CEILING((ROW()-StartRow+1)/PanelHeight,1)-1","v":0},{"$f":"COUNTBLANK(OFFSET(INDEX($1:$1048576,2,4),AA4*WellsInPlate,0,WellsInPlate,1))","v":88},{"$f":"IF(AB4=WellsInPlate,0,1)","v":0},{"$error":"#N/A"},{"$f":"IF(COUNTBLANK(D4)=0,A4)","v":false},4]
[1,"D1",{"$f":"IF(D5=0,\"\",D5)","v":""},null,0.01,null,null,{"$f":"IF(AC5=1,\"A\",\"\")","v":""},{"$f":"OFFSET($Z$2,ROW()-StartRow-1-$AA5*PanelHeight+$AA5*WellsInPlate+(COLUMN()-9)*8,0,1,1)","v":" "}," "," "," "," "," ",{"$f":"OFFSET($Z$2,ROW()-StartRow-1-$AA5*PanelHeight+$AA5*WellsInPlate+(COLUMN()-9)*8,0,1,1)","v":" "}," "," "," ",{"$f":"OFFSET($Z$2,ROW()-StartRow-1-$AA5*PanelHeight+$AA5*WellsInPlate+(COLUMN()-9)*8,0,1,1)","v":" "},{"$f":"IF(COUNTIF(I5:S12,\" \")<88,\"leave empty\",\"\")","v":""},null,null,null,null,null," ",{"$f":"CEILING((ROW()-StartRow+1)/PanelHeight,1)-1","v":0},88,{"$f":"IF(AB5=WellsInPlate,0,1)","v":0},{"$error":"#N/A"},{"$f":"IF(COUNTBLANK(D5)=0,A5)","v":false},5]
[1,"E1","",null,0.01,null,null,{"$f":"IF(AC6=1,\"B\",\"\")","v":""}," "," "," "," "," "," "," "," "," "," "," ",{"$f":"IF(T5=\"\",\"\",\"leave empty\")","v":""},null,null,null,null,null," ",0,88,0,{"$error":"#N/A"},false,6]
[1,"F1","",null,0.01,null,null,{"$f":"IF(AC7=1,\"C\",\"\")","v":""},{"$f":"OFFSET($Z$2,ROW()-StartRow-1-$AA7*PanelHeight+$AA7*WellsInPlate+(COLUMN()-9)*8,0,1,1)","v":" "}," "," ",{"$f":"OFFSET($Z$2,ROW()-StartRow-1-$AA7*PanelHeight+$AA7*WellsInPlate+(COLUMN()-9)*8,0,1,1)","v":" "}," "," "," "," "," "," "," ",{"$f":"IF(T6=\"\",\"\",\"leave empty\")","v":""},null,null,null,null,null," ",0,88,0,{"$error":"#N/A"},false,7]
[1,"G1","",null,0.01,null,null,{"$f":"IF(AC8=1,\"D\",\"\")","v":""}," "," "," ",{"$f":"OFFSET($Z$2,ROW()-StartRow-1-$AA8*PanelHeight+$AA8*WellsInPlate+(COLUMN()-9)*8,0,1,1)","v":" "}," "," "," "," "," "," "," ","",null,null,null,null,null," ",0,88,0,{"$error":"#N/A"},false,8]
[1,"H1","",null,0.01,null,null,{"$f":"IF(AC9=1,\"E\",\"\")","v":""}," "," "," "," "," "," "," "," "," "," "," ","",null,null,null,null,null," ",0,88,0,{"$error":"#N/A"},false,9]
[1,"A2","",null,0.01,null,null,{"$f":"IF(AC10=1,\"F\",\"\")","v":""}," "," "," "," "," "," "," "," "," "," "," ","",null,null,null,null,null," ",0,88,0,{"$error":"#N/A"},false,10]
[1,"B2","",null,0.01,null,null,{"$f":"IF(AC11=1,\"G\",\"\")","v":""}," "," "," "," "," "," "," "," "," "," "," ","",null,null,null,null,null," ",0,88,0,{"$error":"#N/A"},false,11]
[1,"C2","",null,0.01,null,null,{"$f":"IF(AC12=1,\"H\",\"\")","v":""}," "," "," "," "," "," "," "," "," "," "," ","",null,null,null,null,null," ",0,88,0,{"$error":"#N/A"},false,12]
[1,"D2","",null,0.01,null,null,null,null,null,null,null,null,null,null,null,null,null,null,null,null,null,null,null,null," ",0,88,0,{"$error":"#N/A"},false,13]
[1,"E2","",null,0.01,null,null,null,null,null,null,null,null,null,null,null,null,null,null,null,null,null,null,null,null," ",0,88,0,{"$error":"#N/A"},false,14]
[1,"F2","",null,0.01,null,null,null,null,null,null,null,null,null,null,null,null,null,null,null,null,null,null,null,null," ",0,88,0,{"$error":"#N/A"},false,15]
[1,"G2","",null,0.01,null,null,null,{"$f":"IF(AC17=1,\"Plate \"&TEXT(AA17+1,\"0\"),\"\")","v":""},null,null,null,null,null,null,null,null,null,null,null,null,null,null,null,null," ",0,88,0,{"$error":"#N/A"},false,16]
[1,"H2","",null,0.01,null,null,null,{"$f":"IF($AC17=1,\"1\",\"\")","v":""},{"$f":"IF($AC17=1,\"2\",\"\")","v":""},{"$f":"IF($AC17=1,\"3\",\"\")","v":""},{"$f":"IF($AC17=1,\"4\",\"\")","v":""},{"$f":"IF($AC17=1,\"5\",\"\")","v":""},{"$f":"IF($AC17=1,\"6\",\"\")","v":""},{"$f":"IF($AC17=1,\"7\",\"\")","v":""},{"$f":"IF($AC17=1,\"8\",\"\")","v":""},{"$f":"IF($AC17=1,\"9\",\"\")","v":""},{"$f":"IF($AC17=1,\"10\",\"\")","v":""},{"$f":"IF($AC17=1,\"11\",\"\")","v":""},{"$f":"IF($AC17=1,\"12\",\"\")","v":""},null,null,null,null,null," ",1,88,0,{"$error":"#N/A"},false,17]
[1,"A3","",null,0.01,null,null,{"$f":"IF(AC18=1,\"A\",\"\")","v":""},{"$f":"OFFSET($Z$2,ROW()-StartRow-1-$AA18*PanelHeight+$AA18*WellsInPlate+(COLUMN()-9)*8,0,1,1)","v":" "}," "," "," "," "," "," "," "," "," "," ",{"$f":"IF(COUNTIF(I18:S25,\" \")<88,\"leave empty\",\"\")","v":""},null,null,null,null,null," ",1,88,0,{"$error":"#N/A"},false,18]
[1,"B3","",null,0.01,null,null,{"$f":"IF(AC19=1,\"B\",\"\")","v":""}," "," "," "," "," "," "," "," "," "," "," ",{"$f":"IF(T18=\"\",\"\",\"leave empty\")","v":""},null,null,null,null,null," ",1,88,0,{"$error":"#N/A"},false,19]
[1,"C3","",null,0.01,null,null,{"$f":"IF(AC20=1,\"C\",\"\")","v":""}," "," "," "," "," "," "," "," "," "," "," ",{"$f":"IF(T19=\"\",\"\",\"leave empty\")","v":""},null,null,null,null,null," ",1,88,0,{"$error":"#N/A"},false,20]
[1,"D3","",null,0.01,null,null,{"$f":"IF(AC21=1,\"D\",\"\")","v":""}," "," "," "," "," "," "," "," "," "," "," ","",null,null,null,null,null," ",1,88,0,{"$error":"#N/A"},false,21]
[1,"E3","",null,0.01,null,null,{"$f":"IF(AC22=1,\"E\",\"\")","v":""}," "," "," "," "," "," "," "," "," "," "," ","",null,null,null,null,null," ",1,88,0,{"$error":"#N/A"},false,22]
[1,"F3","",null,0.01,null,null,{"$f":"IF(AC23=1,\"F\",\"\")","v":""}," "," "," "," "," "," "," "," "," "," "," ","",null,null,null,null,null," ",1,88,0,{"$error":"#N/A"},false,23]
[1,"G3","",null,0.01,null,null,{"$f":"IF(AC24=1,\"G\",\"\")","v":""}," "," "," "," "," "," "," "," "," "," "," ","",null,null,null,null,null," ",1,88,0,{"$error":"#N/A"},false,24]
[1,"H3","",null,0.01,null,null,{"$f":"IF(AC25=1,\"H\",\"\")","v":""}," "," "," "," "," "," "," "," "," "," "," ","",null,null,null,null,null," ",1,88,0,{"$error":"#N/A"},false,25]
[1,"A4","",null,0.01,null,null,null,null,null,null,null,null,null,null,null,null,null,null,null,null,null,null,null,null," ",1,88,0,{"$error":"#N/A"},false,26]
[1,"B4","",null,0.01,null,null,null,null,null,null,null,null,null,null,null,null,null,null,null,null,null,null,null,null," ",1,88,0,{"$error":"#N/A"},false,27]
[1,"C4","",null,0.01,null,null,null,null,null,null,null,null,null,null,null,null,null,null,null,null,null,null,null,null," ",1,88,0,{"$error":"#N/A"},false,28]
[1,"D4","",null,0.01,null,null,null,{"$f":"IF(AC30=1,\"Plate \"&TEXT(AA30+1,\"0\"),\"\")","v":""},null,null,null,null,null,null,null,null,null,null,null,null,null,null,null,null," ",1,88,0,{"$error":"#N/A"},false,29]
[1,"E4","",null,0.01,null,null,null,{"$f":"IF($AC30=1,\"1\",\"\")","v":""},{"$f":"IF($AC30=1,\"2\",\"\")","v":""},{"$f":"IF($AC30=1,\"3\",\"\")","v":""},{"$f":"IF($AC30=1,\"4\",\"\")","v":""},{"$f":"IF($AC30=1,\"5\",\"\")","v":""},{"$f":"IF($AC30=1,\"6\",\"\")","v":""},{"$f":"IF($AC30=1,\"7\",\"\")","v":""},{"$f":"IF($AC30=1,\"8\",\"\")","v":""},{"$f":"IF($AC30=1,\"9\",\"\")","v":""},{"$f":"IF($AC30=1,\"10\",\"\")","v":""},{"$f":"IF($AC30=1,\"11\",\"\")","v":""},{"$f":"IF($AC30=1,\"12\",\"\")","v":""},null,null,null,null,null," ",2,88,0,{"$error":"#N/A"},false,30]
[1,"F4","",null,0.01,null,null,{"$f":"IF(AC31=1,\"A\",\"\")","v":""},{"$f":"OFFSET($Z$2,ROW()-StartRow-1-$AA31*PanelHeight+$AA31*WellsInPlate+(COLUMN()-9)*8,0,1,1)","v":" "}," "," "," "," "," "," "," "," "," "," ",{"$f":"IF(COUNTIF(I31:S38,\" \")<88,\"leave empty\",\"\")","v":""},null,null,null,null,null," ",2,88,0,{"$error":"#N/A"},false,31]
[1,"G4","",null,0.01,null,null,{"$f":"IF(AC32=1,\"B\",\"\")","v":""}," "," "," "," "," "," "," "," "," "," "," ",{"$f":"IF(T31=\"\",\"\",\"leave empty\")","v":""},null,null,null,null,null," ",2,88,0,{"$error":"#N/A"},false,32]
[1,"H4","",null,0.01,null,null,{"$f":"IF(AC33=1,\"C\",\"\")","v":""}," "," "," "," "," "," "," "," "," "," "," ",{"$f":"IF(T32=\"\",\"\",\"leave empty\")","v":""},null,null,null,null,null," ",2,88,0,{"$error":"#N/A"},false,33]
[1,"A5","",null,0.01,null,null,{"$f":"IF(AC34=1,\"D\",\"\")","v":""}," "," "," "," "," "," "," "," "," "," "," ","",null,null,null,null,null," ",2,88,0,{"$error":"#N/A"},false,34]
[1,"B5","",null,0.01,null,null,{"$f":"IF(AC35=1,\"E\",\"\")","v":""}," "," "," "," "," "," "," "," "," "," "," ","",null,null,null,null,null," ",2,88,0,{"$error":"#N/A"},false,35]
[1,"C5","",null,0.01,null,null,{"$f":"IF(AC36=1,\"F\",\"\")","v":""}," "," "," "," "," "," "," "," "," "," "," ","",null,null,null,null,null," ",2,88,0,{"$error":"#N/A"},false,36]
[1,"D5","",null,0.01,null,null,{"$f":"IF(AC37=1,\"G\",\"\")","v":""}," "," "," "," "," "," "," "," "," "," "," ","",null,null,null,null,null," ",{"$f":"CEILING((ROW()-StartRow+1)/PanelHeight,1)-1","v":2},88,{"$f":"IF(AB37=WellsInPlate,0,1)","v":0},{"$error":"#N/A"},false,37]
[1,"E5","",null,0.01,null,null,{"$f":"IF(AC38=1,\"H\",\"\")","v":""}," "," "," "," "," "," "," "," "," "," "," ","",null,null,null,null,null," ",2,88,0,{"$error":"#N/A"},false,38]
[1,"F5","",null,0.01,null,null,null,null,null,null,null,null,null,null,null,null,null,null,null,null,null,null,null,null," ",2,88,0,{"$error":"#N/A"},false,39]
[1,"G5","",null,0.01,null,null,null,null,null,null,null,null,null,null,null,null,null,null,null,null,null,null,null,null," ",2,88,0,{"$error":"#N/A"},false,40]
[1,"H5","",null,0.01,null,null,null,null,null,null,null,null,null,null,null,null,null,null,null,null,null,null,null,null," ",2,88,0,{"$error":"#N/A"},false,41]
[1,"A6","",null,0.01,null,null,null,{"$f":"IF(AC43=1,\"Plate \"&TEXT(AA43+1,\"0\"),\"\")","v":""},null,null,null,null,null,null,null,null,null,null,null,null,null,null,null,null," ",2,88,0,{"$error":"#N/A"},false,42]
[1,"B6","",null,0.01,null,null,null,{"$f":"IF($AC43=1,\"1\",\"\")","v":""},{"$f":"IF($AC43=1,\"2\",\"\")","v":""},{"$f":"IF($AC43=1,\"3\",\"\")","v":""},{"$f":"IF($AC43=1,\"4\",\"\")","v":""},{"$f":"IF($AC43=1,\"5\",\"\")","v":""},{"$f":"IF($AC43=1,\"6\",\"\")","v":""},{"$f":"IF($AC43=1,\"7\",\"\")","v":""},{"$f":"IF($AC43=1,\"8\",\"\")","v":""},{"$f":"IF($AC43=1,\"9\",\"\")","v":""},{"$f":"IF($AC43=1,\"10\",\"\")","v":""},{"$f":"IF($AC43=1,\"11\",\"\")","v":""},{"$f":"IF($AC43=1,\"12\",\"\")","v":""},null,null,null,null,null," ",3,88,0,{"$error":"#N/A"},false,43]
[1,"C6","",null,0.01,null,null,{"$f":"IF(AC44=1,\"A\",\"\")","v":""},{"$f":"OFFSET($Z$2,ROW()-StartRow-1-$AA44*PanelHeight+$AA44*WellsInPlate+(COLUMN()-9)*8,0,1,1)","v":" "}," "," "," "," "," "," "," "," "," "," ",{"$f":"IF(COUNTIF(I44:S51,\" \")<88,\"leave empty\",\"\")","v":""},null,null,null,null,null," ",3,88,0,{"$error":"#N/A"},false,44]
[1,"D6","",null,0.01,null,null,{"$f":"IF(AC45=1,\"B\",\"\")","v":""}," "," "," "," "," "," "," "," "," "," "," ",{"$f":"IF(T44=\"\",\"\",\"leave empty\")","v":""},null,null,null,null,null," ",3,88,0,{"$error":"#N/A"},false,45]
[1,"E6","",null,0.01,null,null,{"$f":"IF(AC46=1,\"C\",\"\")","v":""}," "," "," "," "," "," "," "," "," "," "," ",{"$f":"IF(T45=\"\",\"\",\"leave empty\")","v":""},null,null,null,null,null," ",3,88,0,{"$error":"#N/A"},false,46]
[1,"F6","",null,0.01,null,null,{"$f":"IF(AC47=1,\"D\",\"\")","v":""}," "," "," "," "," "," "," "," "," "," "," ","",null,null,null,null,null," ",3,88,0,{"$error":"#N/A"},false,47]
[1,"G6","",null,0.01,null,null,{"$f":"IF(AC48=1,\"E\",\"\")","v":""}," "," "," "," "," "," "," "," "," "," "," ","",null,null,null,null,null," ",3,88,0,{"$error":"#N/A"},false,48]
[1,"H6","",null,0.01,null,null,{"$f":"IF(AC49=1,\"F\",\"\")","v":""}," "," "," "," "," "," "," "," "," "," "," ","",null,null,null,null,null," ",3,88,0,{"$error":"#N/A"},false,49]
[1,"A7","",null,0.01,null,null,{"$f":"IF(AC50=1,\"G\",\"\")","v":""}," "," "," "," "," "," "," "," "," "," "," ","",null,null,null,null,null," ",3,88,0,{"$error":"#N/A"},false,50]
[1,"B7","",null,0.01,null,null,{"$f":"IF(AC51=1,\"H\",\"\")","v":""}," "," "," "," "," "," "," "," "," "," "," ","",null,null,null,null,null," ",3,88,0,{"$error":"#N/A"},false,51]
[1,"C7","",null,0.01,null,null,null,null,null,null,null,null,null,null,null,null,null,null,null,null,null,null,null,null," ",3,88,0,{"$error":"#N/A"},false,52]
[1,"D7","",null,0.01,null,null,null,null,null,null,null,null,null,null,null,null,null,null,null,null,null,null,null,null," ",3,88,0,{"$error":"#N/A"},false,53]
[1,"E7","",null,0.01,null,null,null,null,null,null,null,null,null,null,null,null,null,null,null,null,null,null,null,null," ",3,88,0,{"$error":"#N/A"},false,54]
[1,"F7","",null,0.01,null,null,null,{"$f":"IF(AC56=1,\"Plate \"&TEXT(AA56+1,\"0\"),\"\")","v":""},null,null,null,null,null,null,null,null,null,null,null,null,null,null,null,null," ",3,88,0,{"$error":"#N/A"},false,55]
[1,"G7","",null,0.01,null,null,null,{"$f":"IF($AC56=1,\"1\",\"\")","v":""},{"$f":"IF($AC56=1,\"2\",\"\")","v":""},{"$f":"IF($AC56=1,\"3\",\"\")","v":""},{"$f":"IF($AC56=1,\"4\",\"\")","v":""},{"$f":"IF($AC56=1,\"5\",\"\")","v":""},{"$f":"IF($AC56=1,\"6\",\"\")","v":""},{"$f":"IF($AC56=1,\"7\",\"\")","v":""},{"$f":"IF($AC56=1,\"8\",\"\")","v":""},{"$f":"IF($AC56=1,\"9\",\"\")","v":""},{"$f":"IF($AC56=1,\"10\",\"\")","v":""},{"$f":"IF($AC56=1,\"11\",\"\")","v":""},{"$f":"IF($AC56=1,\"12\",\"\")","v":""},null,null,null,null,null," ",4,88,0,{"$error":"#N/A"},false,56]
[1,"H7","",null,0.01,null,null,{"$f":"IF(AC57=1,\"A\",\"\")","v":""},{"$f":"OFFSET($Z$2,ROW()-StartRow-1-$AA57*PanelHeight+$AA57*WellsInPlate+(COLUMN()-9)*8,0,1,1)","v":" "}," "," "," "," "," "," "," "," "," "," ",{"$f":"IF(COUNTIF(I57:S64,\" \")<88,\"leave empty\",\"\")","v":""},null,null,null,null,null," ",4,88,0,{"$error":"#N/A"},false,57]
[1,"A8","",null,0.01,null,null,{"$f":"IF(AC58=1,\"B\",\"\")","v":""}," "," "," "," "," "," "," "," "," "," "," ",{"$f":"IF(T57=\"\",\"\",\"leave empty\")","v":""},null,null,null,null,null," ",4,88,0,{"$error":"#N/A"},false,58]
[1,"B8","",null,0.01,null,null,{"$f":"IF(AC59=1,\"C\",\"\")","v":""}," "," "," "," "," "," "," "," "," "," "," ",{"$f":"IF(T58=\"\",\"\",\"leave empty\")","v":""},null,null,null,null,null," ",4,88,0,{"$error":"#N/A"},false,59]
[1,"C8","",null,0.01,null,null,{"$f":"IF(AC60=1,\"D\",\"\")","v":""}," "," "," "," "," "," "," "," "," "," "," ","",null,null,null,null,null," ",4,88,0,{"$error":"#N/A"},false,60]
[1,"D8","",null,0.01,null,null,{"$f":"IF(AC61=1,\"E\",\"\")","v":""}," "," "," "," "," "," "," "," "," "," "," ","",null,null,null,null,null," ",4,88,0,{"$f":"60-COUNTIF(AD1:AD60,\"#N/A\")","v":0},false]
[1,"E8","",null,0.01,null,null,{"$f":"IF(AC62=1,\"F\",\"\")","v":""}," "," "," "," "," "," "," "," "," "," "," ","",null,null,null,null,null," ",4,88,0,null,false]
[1,"F8","",null,0.01,null,null,{"$f":"IF(AC63=1,\"G\",\"\")","v":""}," "," "," "," "," "," "," "," "," "," "," ","",null,null,null,null,null," ",4,88,0,null,false]
[1,"G8","",null,0.01,null,null,{"$f":"IF(AC64=1,\"H\",\"\")","v":""}," "," "," "," "," "," "," "," "," "," "," ","",null,null,null,null,null," ",4,88,0,null,false]
[1,"H8","",null,0.01,null,null,null,null,null,null,null,null,null,null,null,null,null,null,null,null,null,null,null,null," ",4,88,0,null,false]
[1,"A9","",null,0.01,null,null,null,null,null,null,null,null,null,null,null,null,null,null,null,null,null,null,null,null," ",4,88,0,null,false]
[1,"B9","",null,0.01,null,null,null,null,null,null,null,null,null,null,null,null,null,null,null,null,null,null,null,null," ",4,88,0,null,false]
[1,"C9","",null,0.01,null,null,null,{"$f":"IF(AC69=1,\"Plate \"&TEXT(AA69+1,\"0\"),\"\")","v":""},null,null,null,null,null,null,null,null,null,null,null,null,null,null,null,null,{"$f":"IF(LEN(INDEX($1:$1048576,ROW(),4))>0,INDEX($1:$1048576,ROW(),4),\" \")","v":" "},{"$f":"CEILING((ROW()-StartRow+1)/PanelHeight,1)-1","v":4},{"$f":"COUNTBLANK(OFFSET(INDEX($1:$1048576,2,4),AA68*WellsInPlate,0,WellsInPlate,1))","v":88},{"$f":"IF(AB68=WellsInPlate,0,1)","v":0},null,false]
[1,"D9",{"$f":"IF(D69=0,\"\",D69)","v":""},null,0.01,null,null,null,{"$f":"IF($AC69=1,\"1\",\"\")","v":""},{"$f":"IF($AC69=1,\"2\",\"\")","v":""},{"$f":"IF($AC69=1,\"3\",\"\")","v":""},{"$f":"IF($AC69=1,\"4\",\"\")","v":""},{"$f":"IF($AC69=1,\"5\",\"\")","v":""},{"$f":"IF($AC69=1,\"6\",\"\")","v":""},{"$f":"IF($AC69=1,\"7\",\"\")","v":""},{"$f":"IF($AC69=1,\"8\",\"\")","v":""},{"$f":"IF($AC69=1,\"9\",\"\")","v":""},{"$f":"IF($AC69=1,\"10\",\"\")","v":""},{"$f":"IF($AC69=1,\"11\",\"\")","v":""},{"$f":"IF($AC69=1,\"12\",\"\")","v":""},null,null,null,null,null," ",{"$f":"CEILING((ROW()-StartRow+1)/PanelHeight,1)-1","v":5},88,{"$f":"IF(AB69=WellsInPlate,0,1)","v":0},null,{"$f":"IF(COUNTBLANK(D69)=0,A69)","v":false}]
[1,"E9","",null,0.01,null,null,{"$f":"IF(AC70=1,\"A\",\"\")","v":""},{"$f":"OFFSET($Z$2,ROW()-StartRow-1-$AA70*PanelHeight+$AA70*WellsInPlate+(COLUMN()-9)*8,0,1,1)","v":" "}," "," "," "," "," "," "," "," "," "," ",{"$f":"IF(COUNTIF(I70:S77,\" \")<88,\"leave empty\",\"\")","v":""},null,null,null,null,null," ",5,88,0,null,false]
[1,"F9","",null,0.01,null,null,{"$f":"IF(AC71=1,\"B\",\"\")","v":""}," "," "," "," "," "," "," "," "," "," "," ",{"$f":"IF(T70=\"\",\"\",\"leave empty\")","v":""},null,null,null,null,null," ",5,88,0,null,false]
[1,"G9","",null,0.01,null,null,{"$f":"IF(AC72=1,\"C\",\"\")","v":""}," "," "," "," "," "," "," "," "," "," "," ",{"$f":"IF(T71=\"\",\"\",\"leave empty\")","v":""},null,null,null,null,null," ",5,88,0,null,false]
[1,"H9","",null,0.01,null,null,{"$f":"IF(AC73=1,\"D\",\"\")","v":""}," "," "," "," "," "," "," "," "," "," "," ","",null,null,null,null,null," ",5,88,0,null,false]
[1,"A10","",null,0.01,null,null,{"$f":"IF(AC74=1,\"E\",\"\")","v":""}," "," "," "," "," "," "," "," "," "," "," ","",null,null,null,null,null," ",5,88,0,null,false]
[1,"B10","",null,0.01,null,null,{"$f":"IF(AC75=1,\"F\",\"\")","v":""}," "," "," "," "," "," "," "," "," "," "," ","",null,null,null,null,null," ",5,88,0,null,false]
[1,"C10","",null,0.01,null,null,{"$f":"IF(AC76=1,\"G\",\"\")","v":""}," "," "," "," "," "," "," "," "," "," "," ","",null,null,null,null,null," ",5,88,0,null,false]
[1,"D10","",null,0.01,null,null,{"$f":"IF(AC77=1,\"H\",\"\")","v":""}," "," "," "," "," "," "," "," "," "," "," ","",null,null,null,null,null," ",5,88,0,null,false]
[1,"E10","",null,0.01,null,null,null,null,null,null,null,null,null,null,null,null,null,null,null,null,null,null,null,null," ",5,88,0,null,false]
[1,"F10","",null,0.01,null,null,null,null,null,null,null,null,null,null,null,null,null,null,null,null,null,null,null,null," ",5,88,0,null,false]
[1,"G10","",null,0.01,null,null,null,null,null,null,null,null,null,null,null,null,null,null,null,null,null,null,null,null," ",5,88,0,null,false]
[1,"H10","",null,0.01,null,null,null,{"$f":"IF(AC82=1,\"Plate \"&TEXT(AA82+1,\"0\"),\"\")","v":""},null,null,null,null,null,null,null,null,null,null,null,null,null,null,null,null," ",5,88,0,null,false]
[1,"A11","",null,0.01,null,null,null,{"$f":"IF($AC82=1,\"1\",\"\")","v":""},{"$f":"IF($AC82=1,\"2\",\"\")","v":""},{"$f":"IF($AC82=1,\"3\",\"\")","v":""},{"$f":"IF($AC82=1,\"4\",\"\")","v":""},{"$f":"IF($AC82=1,\"5\",\"\")","v":""},{"$f":"IF($AC82=1,\"6\",\"\")","v":""},{"$f":"IF($AC82=1,\"7\",\"\")","v":""},{"$f":"IF($AC82=1,\"8\",\"\")","v":""},{"$f":"IF($AC82=1,\"9\",\"\")","v":""},{"$f":"IF($AC82=1,\"10\",\"\")","v":""},{"$f":"IF($AC82=1,\"11\",\"\")","v":""},{"$f":"IF($AC82=1,\"12\",\"\")","v":""},null,null,null,null,null," ",6,88,0,null,false]
[1,"B11","",null,0.01,null,null,{"$f":"IF(AC83=1,\"A\",\"\")","v":""},{"$f":"OFFSET($Z$2,ROW()-StartRow-1-$AA83*PanelHeight+$AA83*WellsInPlate+(COLUMN()-9)*8,0,1,1)","v":" "}," "," "," "," "," "," "," "," "," "," ",{"$f":"IF(COUNTIF(I83:S90,\" \")<88,\"leave empty\",\"\")","v":""},null,null,null,null,null," ",6,88,0,null,false]
[1,"C11","",null,0.01,null,null,{"$f":"IF(AC84=1,\"B\",\"\")","v":""}," "," "," "," "," "," "," "," "," "," "," ",{"$f":"IF(T83=\"\",\"\",\"leave empty\")","v":""},null,null,null,null,null," ",6,88,0,null,false]
[1,"D11","",null,0.01,null,null,{"$f":"IF(AC85=1,\"C\",\"\")","v":""}," "," "," "," "," "," "," "," "," "," "," ",{"$f":"IF(T84=\"\",\"\",\"leave empty\")","v":""},null,null,null,null,null," ",6,88,0,null,false]
[1,"E11","",null,0.01,null,null,{"$f":"IF(AC86=1,\"D\",\"\")","v":""}," "," "," "," "," "," "," "," "," "," "," ","",null,null,null,null,null," ",6,88,0,null,false]
[1,"F11","",null,0.01,null,null,{"$f":"IF(AC87=1,\"E\",\"\")","v":""}," "," "," "," "," "," "," "," "," "," "," ","",null,null,null,null,null," ",6,88,0,null,false]
[1,"G11","",null,0.01,null,null,{"$f":"IF(AC88=1,\"F\",\"\")","v":""}," "," "," "," "," "," "," "," "," "," "," ","",null,null,null,null,null," ",6,88,0,null,false]
[1,"H11","",null,0.01,null,null,{"$f":"IF(AC89=1,\"G\",\"\")","v":""}," "," "," "," "," "," "," "," "," "," "," ","",null,null,null,null,null," ",6,88,0,null,false]
[2,"A1","",null,0.01,null,null,{"$f":"IF(AC90=1,\"H\",\"\")","v":""},{"$f":"OFFSET($Z$2,ROW()-StartRow-1-$AA90*PanelHeight+$AA90*WellsInPlate+(COLUMN()-9)*8,0,1,1)","v":" "}," "," "," "," "," "," "," "," "," "," ","",null,null,null,null,null," ",6,88,0,null,{"$f":"IF(COUNTBLANK(D90)=0,#REF!)","v":false}]
[2,"B1","",null,0.01,null,null,null,null,null,null,null,null,null,null,null,null,null,null,null,null,null,null,null,null," ",6,88,0,null,{"$f":"IF(COUNTBLANK(D91)=0,#REF!)","v":false}]
[2,"C1","",null,0.01,null,null,null,null,null,null,null,null,null,null,null,null,null,null,null,null,null,null,null,null," ",6,88,0,null,{"$f":"IF(COUNTBLANK(D92)=0,#REF!)","v":false}]
[2,"D1","",null,0.01,null,null,null,null,null,null,null,null,null,null,null,null,null,null,null,null,null,null,null,null," ",6,88,0,null,{"$f":"IF(COUNTBLANK(D93)=0,#REF!)","v":false}]
[2,"E1","",null,0.01,null,null,null,{"$f":"IF(AC95=1,\"Plate \"&TEXT(AA95+1,\"0\"),\"\")","v":""},null,null,null,null,null,null,null,null,null,null,null,null,null,null,null,null," ",6,88,0,null,{"$f":"IF(COUNTBLANK(D94)=0,#REF!)","v":false}]
[2,"F1","",null,0.01,null,null,null,{"$f":"IF($AC95=1,\"1\",\"\")","v":""},{"$f":"IF($AC95=1,\"2\",\"\")","v":""},{"$f":"IF($AC95=1,\"3\",\"\")","v":""},{"$f":"IF($AC95=1,\"4\",\"\")","v":""},{"$f":"IF($AC95=1,\"5\",\"\")","v":""},{"$f":"IF($AC95=1,\"6\",\"\")","v":""},{"$f":"IF($AC95=1,\"7\",\"\")","v":""},{"$f":"IF($AC95=1,\"8\",\"\")","v":""},{"$f":"IF($AC95=1,\"9\",\"\")","v":""},{"$f":"IF($AC95=1,\"10\",\"\")","v":""},{"$f":"IF($AC95=1,\"11\",\"\")","v":""},{"$f":"IF($AC95=1,\"12\",\"\")","v":""},null,null,null,null,null," ",7,88,0,null,{"$f":"IF(COUNTBLANK(D95)=0,#REF!)","v":false}]
[2,"G1","",null,0.01,null,null,{"$f":"IF(AC96=1,\"A\",\"\")","v":""},{"$f":"OFFSET($Z$2,ROW()-StartRow-1-$AA96*PanelHeight+$AA96*WellsInPlate+(COLUMN()-9)*8,0,1,1)","v":" "}," "," "," "," "," "," "," "," "," "," ",{"$f":"IF(COUNTIF(I96:S103,\" \")<88,\"leave empty\",\"\")","v":""},null,null,null,null,null," ",7,88,0,null,{"$f":"IF(COUNTBLANK(D96)=0,#REF!)","v":false}]
[2,"H1","",null,0.01,null,null,{"$f":"IF(AC97=1,\"B\",\"\")","v":""}," "," "," "," "," "," "," "," "," "," "," ",{"$f":"IF(T96=\"\",\"\",\"leave empty\")","v":""},null,null,null,null,null," ",7,88,0,null,{"$f":"IF(COUNTBLANK(D97)=0,#REF!)","v":false}]
[2,"A2","",null,0.01,null,null,{"$f":"IF(AC98=1,\"C\",\"\")","v":""},{"$f":"OFFSET($Z$2,ROW()-StartRow-1-$AA98*PanelHeight+$AA98*WellsInPlate+(COLUMN()-9)*8,0,1,1)","v":" "}," "," "," "," "," "," "," "," "," "," ",{"$f":"IF(T97=\"\",\"\",\"leave empty\")","v":""},null,null,null,null,null," ",7,88,0,null,{"$f":"IF(COUNTBLANK(D98)=0,A90)","v":false}]
[2,"B2","",null,0.01,null,null,{"$f":"IF(AC99=1,\"D\",\"\")","v":""}," "," "," "," "," "," "," "," "," "," "," ","",null,null,null,null,null," ",7,88,0,null,false]
[2,"C2","",null,0.01,null,null,{"$f":"IF(AC100=1,\"E\",\"\")","v":""}," "," "," "," "," "," "," "," "," "," "," ","",null,null,null,null,null," ",7,88,0,null,false]
[2,"D2","",null,0.01,null,null,{"$f":"IF(AC101=1,\"F\",\"\")","v":""}," "," "," "," "," "," "," "," "," "," "," ","",null,null,null,null,null," ",{"$f":"CEILING((ROW()-StartRow+1)/PanelHeight,1)-1","v":7},88,{"$f":"IF(AB101=WellsInPlate,0,1)","v":0},null,false]
[2,"E2","",null,0.01,null,null,{"$f":"IF(AC102=1,\"G\",\"\")","v":""}," "," "," "," "," "," "," "," "," "," "," ","",null,null,null,null,null," ",7,88,0,null,false]
[2,"F2","",null,0.01,null,null,{"$f":"IF(AC103=1,\"H\",\"\")","v":""}," "," "," "," "," "," "," "," "," "," "," ","",null,null,null,null,null," ",7,88,0,null,false]
[2,"G2","",null,0.01,null,null,null,null,null,null,null,null,null,null,null,null,null,null,null,null,null,null,null,null," ",7,88,0,null,false]
[2,"H2","",null,0.01,null,null,null,null,null,null,null,null,null,null,null,null,null,null,null,null,null,null,null,null," ",7,88,0,null,false]
[2,"A3","",null,0.01,null,null,null,null,null,null,null,null,null,null,null,null,null,null,null,null,null,null,null,null," ",7,88,0,null,false]
[2,"B3","",null,0.01,null,null,null,{"$f":"IF(AC108=1,\"Plate \"&TEXT(AA108+1,\"0\"),\"\")","v":""},null,null,null,null,null,null,null,null,null,null,null,null,null,null,null,null," ",7,88,0,null,false]
[2,"C3","",null,0.01,null,null,null,{"$f":"IF($AC108=1,\"1\",\"\")","v":""},{"$f":"IF($AC108=1,\"2\",\"\")","v":""},{"$f":"IF($AC108=1,\"3\",\"\")","v":""},{"$f":"IF($AC108=1,\"4\",\"\")","v":""},{"$f":"IF($AC108=1,\"5\",\"\")","v":""},{"$f":"IF($AC108=1,\"6\",\"\")","v":""},{"$f":"IF($AC108=1,\"7\",\"\")","v":""},{"$f":"IF($AC108=1,\"8\",\"\")","v":""},{"$f":"IF($AC108=1,\"9\",\"\")","v":""},{"$f":"IF($AC108=1,\"10\",\"\")","v":""},{"$f":"IF($AC108=1,\"11\",\"\")","v":""},{"$f":"IF($AC108=1,\"12\",\"\")","v":""},null,null,null,null,null," ",8,88,0,null,false]
[2,"D3","",null,0.01,null,null,{"$f":"IF(AC109=1,\"A\",\"\")","v":""},{"$f":"OFFSET($Z$2,ROW()-StartRow-1-$AA109*PanelHeight+$AA109*WellsInPlate+(COLUMN()-9)*8,0,1,1)","v":" "}," "," "," "," "," "," "," "," "," "," ",{"$f":"IF(COUNTIF(I109:S116,\" \")<88,\"leave empty\",\"\")","v":""},null,null,null,null,null," ",8,88,0,null,false]
[2,"E3","",null,0.01,null,null,{"$f":"IF(AC110=1,\"B\",\"\")","v":""}," "," "," "," "," "," "," "," "," "," "," ",{"$f":"IF(T109=\"\",\"\",\"leave empty\")","v":""},null,null,null,null,null," ",8,88,0,null,false]
[2,"F3","",null,0.01,null,null,{"$f":"IF(AC111=1,\"C\",\"\")","v":""}," "," "," "," "," "," "," "," "," "," "," ",{"$f":"IF(T110=\"\",\"\",\"leave empty\")","v":""},null,null,null,null,null," ",8,88,0,null,false]
[2,"G3","",null,0.01,null,null,{"$f":"IF(AC112=1,\"D\",\"\")","v":""}," "," "," "," "," "," "," "," "," "," "," ","",null,null,null,null,null," ",8,88,0,null,false]
[2,"H3","",null,0.01,null,null,{"$f":"IF(AC113=1,\"E\",\"\")","v":""}," "," "," "," "," "," "," "," "," "," "," ","",null,null,null,null,null," ",8,88,0,null,false]
[2,"A4","",null,0.01,null,null,{"$f":"IF(AC114=1,\"F\",\"\")","v":""}," "," "," "," "," "," "," "," "," "," "," ","",null,null,null,null,null," ",8,88,0,null,false]
[2,"B4","",null,0.01,null,null,{"$f":"IF(AC115=1,\"G\",\"\")","v":""}," "," "," "," "," "," "," "," "," "," "," ","",null,null,null,null,null," ",8,88,0,null,false]
[2,"C4","",null,0.01,null,null,{"$f":"IF(AC116=1,\"H\",\"\")","v":""}," "," "," "," "," "," "," "," "," "," "," ","",null,null,null,null,null," ",8,88,0,null,false]
[2,"D4","",null,0.01,null,null,null,null,null,null,null,null,null,null,null,null,null,null,null,null,null,null,null,null," ",8,88,0,null,false]
[2,"E4","",null,0.01,null,null,null,null,null,null,null,null,null,null,null,null,null,null,null,null,null,null,null,null," ",8,88,0,null,false]
[2,"F4","",null,0.01,null,null,null,null,null,null,null,null,null,null,null,null,null,null,null,null,null,null,null,null," ",8,88,0,null,false]
[2,"G4","",null,0.01,null,null,null,{"$f":"IF(AC121=1,\"Plate \"&TEXT(AA121+1,\"0\"),\"\")","v":""},null,null,null,null,null,null,null,null,null,null,null,null,null,null,null,null," ",8,88,0,null,false]
[2,"H4","",null,0.01,null,null,null,{"$f":"IF($AC121=1,\"1\",\"\")","v":""},{"$f":"IF($AC121=1,\"2\",\"\")","v":""},{"$f":"IF($AC121=1,\"3\",\"\")","v":""},{"$f":"IF($AC121=1,\"4\",\"\")","v":""},{"$f":"IF($AC121=1,\"5\",\"\")","v":""},{"$f":"IF($AC121=1,\"6\",\"\")","v":""},{"$f":"IF($AC121=1,\"7\",\"\")","v":""},{"$f":"IF($AC121=1,\"8\",\"\")","v":""},{"$f":"IF($AC121=1,\"9\",\"\")","v":""},{"$f":"IF($AC121=1,\"10\",\"\")","v":""},{"$f":"IF($AC121=1,\"11\",\"\")","v":""},{"$f":"IF($AC121=1,\"12\",\"\")","v":""},null,null,null,null,null," ",9,88,0,null,false]
[2,"A5","",null,0.01,null,null,{"$f":"IF(AC122=1,\"A\",\"\")","v":""},{"$f":"OFFSET($Z$2,ROW()-StartRow-1-$AA122*PanelHeight+$AA122*WellsInPlate+(COLUMN()-9)*8,0,1,1)","v":" "}," "," "," "," "," "," "," "," "," "," ",{"$f":"IF(COUNTIF(I122:S129,\" \")<88,\"leave empty\",\"\")","v":""},null,null,null,null,null," ",9,88,0,null,false]
[2,"B5","",null,0.01,null,null,{"$f":"IF(AC123=1,\"B\",\"\")","v":""}," "," "," "," "," "," "," "," "," "," "," ",{"$f":"IF(T122=\"\",\"\",\"leave empty\")","v":""},null,null,null,null,null," ",9,88,0,null,false]
[2,"C5","",null,0.01,null,null,{"$f":"IF(AC124=1,\"C\",\"\")","v":""}," "," "," "," "," "," "," "," "," "," "," ",{"$f":"IF(T123=\"\",\"\",\"leave empty\")","v":""},null,null,null,null,null," ",9,88,0,null,false]
[2,"D5","",null,0.01,null,null,{"$f":"IF(AC125=1,\"D\",\"\")","v":""}," "," "," "," "," "," "," "," "," "," "," ","",null,null,null,null,null," ",9,88,0,null,false]
[2,"E5","",null,0.01,null,null,{"$f":"IF(AC126=1,\"E\",\"\")","v":""}," "," "," "," "," "," "," "," "," "," "," ","",null,null,null,null,null," ",9,88,0,null,false]
[2,"F5","",null,0.01,null,null,{"$f":"IF(AC127=1,\"F\",\"\")","v":""}," "," "," "," "," "," "," "," "," "," "," ","",null,null,null,null,null," ",9,88,0,null,false]
[2,"G5","",null,0.01,null,null,{"$f":"IF(AC128=1,\"G\",\"\")","v":""}," "," "," "," "," "," "," "," "," "," "," ","",null,null,null,null,null," ",9,88,0,null,false]
[2,"H5","",null,0.01,null,null,{"$f":"IF(AC129=1,\"H\",\"\")","v":""}," "," "," "," "," "," "," "," "," "," "," ","",null,null,null,null,null," ",9,88,0,null,false]
[2,"A6","",null,0.01,null,null,null,null,null,null,null,null,null,null,null,null,null,null,null,null,null,null,null,null," ",9,88,0,null,false]
[2,"B6","",null,0.01,null,null,null,null,null,null,null,null,null,null,null,null,null,null,null,null,null,null,null,null," ",9,88,0,null,false]
[2,"C6","",null,0.01,null,null,null,null,null,null,null,null,null,null,null,null,null,null,null,null,null,null,null,null,{"$f":"IF(LEN(INDEX($1:$1048576,ROW(),4))>0,INDEX($1:$1048576,ROW(),4),\" \")","v":" "},{"$f":"CEILING((ROW()-StartRow+1)/PanelHeight,1)-1","v":9},{"$f":"COUNTBLANK(OFFSET(INDEX($1:$1048576,2,4),AA132*WellsInPlate,0,WellsInPlate,1))","v":88},{"$f":"IF(AB132=WellsInPlate,0,1)","v":0},null,false]
[2,"D6",{"$f":"IF(D133=0,\"\",D133)","v":""},null,0.01,null,null,null,{"$f":"IF(AC134=1,\"Plate \"&TEXT(AA134+1,\"0\"),\"\")","v":""},null,null,null,null,null,null,null,null,null,null,null,null,null,null,null,null," ",{"$f":"CEILING((ROW()-StartRow+1)/PanelHeight,1)-1","v":9},88,{"$f":"IF(AB133=WellsInPlate,0,1)","v":0},null,false]
[2,"E6","",null,0.01,null,null,null,{"$f":"IF($AC134=1,\"1\",\"\")","v":""},{"$f":"IF($AC134=1,\"2\",\"\")","v":""},{"$f":"IF($AC134=1,\"3\",\"\")","v":""},{"$f":"IF($AC134=1,\"4\",\"\")","v":""},{"$f":"IF($AC134=1,\"5\",\"\")","v":""},{"$f":"IF($AC134=1,\"6\",\"\")","v":""},{"$f":"IF($AC134=1,\"7\",\"\")","v":""},{"$f":"IF($AC134=1,\"8\",\"\")","v":""},{"$f":"IF($AC134=1,\"9\",\"\")","v":""},{"$f":"IF($AC134=1,\"10\",\"\")","v":""},{"$f":"IF($AC134=1,\"11\",\"\")","v":""},{"$f":"IF($AC134=1,\"12\",\"\")","v":""},null,null,null,null,null," ",10,88,0,null,false]
[2,"F6","",null,0.01,null,null,{"$f":"IF(AC135=1,\"A\",\"\")","v":""},{"$f":"OFFSET($Z$2,ROW()-StartRow-1-$AA135*PanelHeight+$AA135*WellsInPlate+(COLUMN()-9)*8,0,1,1)","v":" "}," "," "," "," "," "," "," "," "," "," ",{"$f":"IF(COUNTIF(I135:S142,\" \")<88,\"leave empty\",\"\")","v":""},null,null,null,null,null," ",10,88,0,null,false]
[2,"G6","",null,0.01,null,null,{"$f":"IF(AC136=1,\"B\",\"\")","v":""}," "," "," "," "," "," "," "," "," "," "," ",{"$f":"IF(T135=\"\",\"\",\"leave empty\")","v":""},null,null,null,null,null," ",10,88,0,null,false]
[2,"H6","",null,0.01,null,null,{"$f":"IF(AC137=1,\"C\",\"\")","v":""}," "," "," "," "," "," "," "," "," "," "," ",{"$f":"IF(T136=\"\",\"\",\"leave empty\")","v":""},null,null,null,null,null," ",10,88,0,null,false]
[2,"A7","",null,0.01,null,null,{"$f":"IF(AC138=1,\"D\",\"\")","v":""}," "," "," "," "," "," "," "," "," "," "," ","",null,null,null,null,null," ",10,88,0,null,false]
[2,"B7","",null,0.01,null,null,{"$f":"IF(AC139=1,\"E\",\"\")","v":""}," "," "," "," "," "," "," "," "," "," "," ","",null,null,null,null,null," ",10,88,0,null,false]
[2,"C7","",null,0.01,null,null,{"$f":"IF(AC140=1,\"F\",\"\")","v":""}," "," "," "," "," "," "," "," "," "," "," ","",null,null,null,null,null," ",10,88,0,null,false]
[2,"D7","",null,0.01,null,null,{"$f":"IF(AC141=1,\"G\",\"\")","v":""}," "," "," "," "," "," "," "," "," "," "," ","",null,null,null,null,null," ",10,88,0,null,false]
[2,"E7","",null,0.01,null,null,{"$f":"IF(AC142=1,\"H\",\"\")","v":""}," "," "," "," "," "," "," "," "," "," "," ","",null,null,null,null,null," ",10,88,0,null,false]
[2,"F7","",null,0.01,null,null,null,null,null,null,null,null,null,null,null,null,null,null,null,null,null,null,null,null," ",10,88,0,null,false]
[2,"G7","",null,0.01,null,null,null,null,null,null,null,null,null,null,null,null,null,null,null,null,null,null,null,null," ",10,88,0,null,false]
[2,"H7","",null,0.01,null,null,null,null,null,null,null,null,null,null,null,null,null,null,null,null,null,null,null,null," ",10,88,0,null,false]
[2,"A8","",null,0.01,null,null,null,{"$f":"IF(AC147=1,\"Plate \"&TEXT(AA147+1,\"0\"),\"\")","v":""},null,null,null,null,null,null,null,null,null,null,null,null,null,null,null,null," ",10,88,0,null,false]
[2,"B8","",null,0.01,null,null,null,{"$f":"IF($AC147=1,\"1\",\"\")","v":""},{"$f":"IF($AC147=1,\"2\",\"\")","v":""},{"$f":"IF($AC147=1,\"3\",\"\")","v":""},{"$f":"IF($AC147=1,\"4\",\"\")","v":""},{"$f":"IF($AC147=1,\"5\",\"\")","v":""},{"$f":"IF($AC147=1,\"6\",\"\")","v":""},{"$f":"IF($AC147=1,\"7\",\"\")","v":""},{"$f":"IF($AC147=1,\"8\",\"\")","v":""},{"$f":"IF($AC147=1,\"9\",\"\")","v":""},{"$f":"IF($AC147=1,\"10\",\"\")","v":""},{"$f":"IF($AC147=1,\"11\",\"\")","v":""},{"$f":"IF($AC147=1,\"12\",\"\")","v":""},null,null,null,null,null," ",11,88,0,null,false]
[2,"C8","",null,0.01,null,null,{"$f":"IF(AC148=1,\"A\",\"\")","v":""},{"$f":"OFFSET($Z$2,ROW()-StartRow-1-$AA148*PanelHeight+$AA148*WellsInPlate+(COLUMN()-9)*8,0,1,1)","v":" "}," "," "," "," "," "," "," "," "," "," ",{"$f":"IF(COUNTIF(I148:S155,\" \")<88,\"leave empty\",\"\")","v":""},null,null,null,null,null," ",11,88,0,null,false]
[2,"D8","",null,0.01,null,null,{"$f":"IF(AC149=1,\"B\",\"\")","v":""}," "," "," "," "," "," "," "," "," "," "," ",{"$f":"IF(T148=\"\",\"\",\"leave empty\")","v":""},null,null,null,null,null," ",11,88,0,null,false]
[2,"E8","",null,0.01,null,null,{"$f":"IF(AC150=1,\"C\",\"\")","v":""}," "," "," "," "," "," "," "," "," "," "," ",{"$f":"IF(T149=\"\",\"\",\"leave empty\")","v":""},null,null,null,null,null," ",11,88,0,null,false]
[2,"F8","",null,0.01,null,null,{"$f":"IF(AC151=1,\"D\",\"\")","v":""}," "," "," "," "," "," "," "," "," "," "," ","",null,null,null,null,null," ",11,88,0,null,false]
[2,"G8","",null,0.01,null,null,{"$f":"IF(AC152=1,\"E\",\"\")","v":""}," "," "," "," "," "," "," "," "," "," "," ","",null,null,null,null,null," ",11,88,0,null,false]
[2,"H8","",null,0.01,null,null,{"$f":"IF(AC153=1,\"F\",\"\")","v":""}," "," "," "," "," "," "," "," "," "," "," ","",null,null,null,null,null," ",11,88,0,null,false]
[2,"A9","",null,0.01,null,null,{"$f":"IF(AC154=1,\"G\",\"\")","v":""}," "," "," "," "," "," "," "," "," "," "," ","",null,null,null,null,null," ",11,88,0,null,false]
[2,"B9","",null,0.01,null,null,{"$f":"IF(AC155=1,\"H\",\"\")","v":""}," "," "," "," "," "," "," "," "," "," "," ","",null,null,null,null,null," ",11,88,0,null,false]
[2,"C9","",null,0.01,null,null,null,null,null,null,null,null,null,null,null,null,null,null,null,null,null,null,null,null," ",11,88,0,null,false]
[2,"D9","",null,0.01,null,null,null,null,null,null,null,null,null,null,null,null,null,null,null,null,null,null,null,null," ",11,88,0,null,false]
[2,"E9","",null,0.01,null,null,null,null,null,null,null,null,null,null,null,null,null,null,null,null,null,null,null,null," ",11,88,0,null,false]
[2,"F9","",null,0.01,null,null,null,{"$f":"IF(AC160=1,\"Plate \"&TEXT(AA160+1,\"0\"),\"\")","v":""},null,null,null,null,null,null,null,null,null,null,null,null,null,null,null,null," ",11,88,0,null,false]
[2,"G9","",null,0.01,null,null,null,{"$f":"IF($AC160=1,\"1\",\"\")","v":""},{"$f":"IF($AC160=1,\"2\",\"\")","v":""},{"$f":"IF($AC160=1,\"3\",\"\")","v":""},{"$f":"IF($AC160=1,\"4\",\"\")","v":""},{"$f":"IF($AC160=1,\"5\",\"\")","v":""},{"$f":"IF($AC160=1,\"6\",\"\")","v":""},{"$f":"IF($AC160=1,\"7\",\"\")","v":""},{"$f":"IF($AC160=1,\"8\",\"\")","v":""},{"$f":"IF($AC160=1,\"9\",\"\")","v":""},{"$f":"IF($AC160=1,\"10\",\"\")","v":""},{"$f":"IF($AC160=1,\"11\",\"\")","v":""},{"$f":"IF($AC160=1,\"12\",\"\")","v":""},null,null,null,null,null," ",12,88,0,null,false]
[2,"H9","",null,0.01,null,null,{"$f":"IF(AC161=1,\"A\",\"\")","v":""},{"$f":"OFFSET($Z$2,ROW()-StartRow-1-$AA161*PanelHeight+$AA161*WellsInPlate+(COLUMN()-9)*8,0,1,1)","v":" "}," "," "," "," "," "," "," "," "," "," ",{"$f":"IF(COUNTIF(I161:S168,\" \")<88,\"leave empty\",\"\")","v":""},null,null,null,null,null," ",12,88,0,null,false]
[2,"A10","",null,0.01,null,null,{"$f":"IF(AC162=1,\"B\",\"\")","v":""}," "," "," "," "," "," "," "," "," "," "," ",{"$f":"IF(T161=\"\",\"\",\"leave empty\")","v":""},null,null,null,null,null," ",12,88,0,null,{"$f":"IF(COUNTBLANK(D162)=0,A154)","v":false}]
[2,"B10","",null,0.01,null,null,{"$f":"IF(AC163=1,\"C\",\"\")","v":""}," "," "," "," "," "," "," "," "," "," "," ",{"$f":"IF(T162=\"\",\"\",\"leave empty\")","v":""},null,null,null,null,null," ",12,88,0,null,false]
[2,"C10","",null,0.01,null,null,{"$f":"IF(AC164=1,\"D\",\"\")","v":""}," "," "," "," "," "," "," "," "," "," "," ","",null,null,null,null,null," ",12,88,0,null,false]
[2,"D10","",null,0.01,null,null,{"$f":"IF(AC165=1,\"E\",\"\")","v":""}," "," "," "," "," "," "," "," "," "," "," ","",null,null,null,null,null," ",{"$f":"CEILING((ROW()-StartRow+1)/PanelHeight,1)-1","v":12},88,{"$f":"IF(AB165=WellsInPlate,0,1)","v":0},null,false]
[2,"E10","",null,0.01,null,null,{"$f":"IF(AC166=1,\"F\",\"\")","v":""}," "," "," "," "," "," "," "," "," "," "," ","",null,null,null,null,null," ",12,88,0,null,false]
[2,"F10","",null,0.01,null,null,{"$f":"IF(AC167=1,\"G\",\"\")","v":""}," "," "," "," "," "," "," "," "," "," "," ","",null,null,null,null,null," ",12,88,0,null,false]
[2,"G10","",null,0.01,null,null,{"$f":"IF(AC168=1,\"H\",\"\")","v":""}," "," "," "," "," "," "," "," "," "," "," ","",null,null,null,null,null," ",12,88,0,null,false]
[2,"H10","",null,0.01,null,null,null,null,null,null,null,null,null,null,null,null,null,null,null,null,null,null,null,null," ",12,88,0,null,false]
[2,"A11","",null,0.01,null,null,null,null,null,null,null,null,null,null,null,null,null,null,null,null,null,null,null,null," ",12,88,0,null,false]
[2,"B11","",null,0.01,null,null,null,null,null,null,null,null,null,null,null,null,null,null,null,null,null,null,null,null," ",12,88,0,null,false]
[2,"C11","",null,0.01,null,null,null,{"$f":"IF(AC173=1,\"Plate \"&TEXT(AA173+1,\"0\"),\"\")","v":""},null,null,null,null,null,null,null,null,null,null,null,null,null,null,null,null," ",12,88,0,null,false]
[2,"D11","",null,0.01,null,null,null,{"$f":"IF($AC173=1,\"1\",\"\")","v":""},{"$f":"IF($AC173=1,\"2\",\"\")","v":""},{"$f":"IF($AC173=1,\"3\",\"\")","v":""},{"$f":"IF($AC173=1,\"4\",\"\")","v":""},{"$f":"IF($AC173=1,\"5\",\"\")","v":""},{"$f":"IF($AC173=1,\"6\",\"\")","v":""},{"$f":"IF($AC173=1,\"7\",\"\")","v":""},{"$f":"IF($AC173=1,\"8\",\"\")","v":""},{"$f":"IF($AC173=1,\"9\",\"\")","v":""},{"$f":"IF($AC173=1,\"10\",\"\")","v":""},{"$f":"IF($AC173=1,\"11\",\"\")","v":""},{"$f":"IF($AC173=1,\"12\",\"\")","v":""},null,null,null,null,null," ",13,88,0,null,false]
[2,"E11","",null,0.01,null,null,{"$f":"IF(AC174=1,\"A\",\"\")","v":""},{"$f":"OFFSET($Z$2,ROW()-StartRow-1-$AA174*PanelHeight+$AA174*WellsInPlate+(COLUMN()-9)*8,0,1,1)","v":" "}," "," "," "," "," "," "," "," "," "," ",{"$f":"IF(COUNTIF(I174:S181,\" \")<88,\"leave empty\",\"\")","v":""},null,null,null,null,null," ",13,88,0,null,false]
[2,"F11","",null,0.01,null,null,{"$f":"IF(AC175=1,\"B\",\"\")","v":""}," "," "," "," "," "," "," "," "," "," "," ",{"$f":"IF(T174=\"\",\"\",\"leave empty\")","v":""},null,null,null,null,null," ",13,88,0,null,false]
[2,"G11","",null,0.01,null,null,{"$f":"IF(AC176=1,\"C\",\"\")","v":""}," "," "," "," "," "," "," "," "," "," "," ",{"$f":"IF(T175=\"\",\"\",\"leave empty\")","v":""},null,null,null,null,null," ",13,88,0,null,false]
[2,"H11","",null,0.01,null,null,{"$f":"IF(AC177=1,\"D\",\"\")","v":""}," "," "," "," "," "," "," "," "," "," "," ","",null,null,null,null,null," ",13,88,0,null,false]
[3,"A1","",null,0.01,null,null,{"$f":"IF(AC178=1,\"E\",\"\")","v":""}," "," "," "," "," "," "," "," "," "," "," ","",null,null,null,null,null," ",13,88,0,null,false]
[3,"B1","",null,0.01,null,null,{"$f":"IF(AC179=1,\"F\",\"\")","v":""}," "," "," "," "," "," "," "," "," "," "," ","",null,null,null,null,null," ",13,88,0,null,false]
[3,"C1","",null,0.01,null,null,{"$f":"IF(AC180=1,\"G\",\"\")","v":""}," "," "," "," "," "," "," "," "," "," "," ","",null,null,null,null,null," ",13,88,0,null,false]
[3,"D1","",null,0.01,null,null,{"$f":"IF(AC181=1,\"H\",\"\")","v":""}," "," "," "," "," "," "," "," "," "," "," ","",null,null,null,null,null," ",13,88,0,null,false]
[3,"E1","",null,0.01,null,null,null,null,null,null,null,null,null,null,null,null,null,null,null,null,null,null,null,null," ",13,88,0,null,false]
[3,"F1","",null,0.01,null,null,null,null,null,null,null,null,null,null,null,null,null,null,null,null,null,null,null,null," ",13,88,0,null,false]
[3,"G1","",null,0.01,null,null,null,null,null,null,null,null,null,null,null,null,null,null,null,null,null,null,null,null," ",13,88,0,null,false]
[3,"H1","",null,0.01,null,null,null,{"$f":"IF(AC186=1,\"Plate \"&TEXT(AA186+1,\"0\"),\"\")","v":""},null,null,null,null,null,null,null,null,null,null,null,null,null,null,null,null," ",13,88,0,null,false]
[3,"A2","",null,0.01,null,null,null,{"$f":"IF($AC186=1,\"1\",\"\")","v":""},{"$f":"IF($AC186=1,\"2\",\"\")","v":""},{"$f":"IF($AC186=1,\"3\",\"\")","v":""},{"$f":"IF($AC186=1,\"4\",\"\")","v":""},{"$f":"IF($AC186=1,\"5\",\"\")","v":""},{"$f":"IF($AC186=1,\"6\",\"\")","v":""},{"$f":"IF($AC186=1,\"7\",\"\")","v":""},{"$f":"IF($AC186=1,\"8\",\"\")","v":""},{"$f":"IF($AC186=1,\"9\",\"\")","v":""},{"$f":"IF($AC186=1,\"10\",\"\")","v":""},{"$f":"IF($AC186=1,\"11\",\"\")","v":""},{"$f":"IF($AC186=1,\"12\",\"\")","v":""},null,null,null,null,null," ",14,88,0,null,false]
[3,"B2","",null,0.01,null,null,{"$f":"IF(AC187=1,\"A\",\"\")","v":""},{"$f":"OFFSET($Z$2,ROW()-StartRow-1-$AA187*PanelHeight+$AA187*WellsInPlate+(COLUMN()-9)*8,0,1,1)","v":" "}," "," "," "," "," "," "," "," "," "," ",{"$f":"IF(COUNTIF(I187:S194,\" \")<88,\"leave empty\",\"\")","v":""},null,null,null,null,null," ",14,88,0,null,false]
[3,"C2","",null,0.01,null,null,{"$f":"IF(AC188=1,\"B\",\"\")","v":""}," "," "," "," "," "," "," "," "," "," "," ",{"$f":"IF(T187=\"\",\"\",\"leave empty\")","v":""},null,null,null,null,null," ",14,88,0,null,false]
[3,"D2","",null,0.01,null,null,{"$f":"IF(AC189=1,\"C\",\"\")","v":""}," "," "," "," "," "," "," "," "," "," "," ",{"$f":"IF(T188=\"\",\"\",\"leave empty\")","v":""},null,null,null,null,null," ",14,88,0,null,false]
[3,"E2","",null,0.01,null,null,{"$f":"IF(AC190=1,\"D\",\"\")","v":""}," "," "," "," "," "," "," "," "," "," "," ","",null,null,null,null,null," ",14,88,0,null,false]
[3,"F2","",null,0.01,null,null,{"$f":"IF(AC191=1,\"E\",\"\")","v":""}," "," "," "," "," "," "," "," "," "," "," ","",null,null,null,null,null," ",14,88,0,null,false]
[3,"G2","",null,0.01,null,null,{"$f":"IF(AC192=1,\"F\",\"\")","v":""}," "," "," "," "," "," "," "," "," "," "," ","",null,null,null,null,null," ",14,88,0,null,false]
[3,"H2","",null,0.01,null,null,{"$f":"IF(AC193=1,\"G\",\"\")","v":""}," "," "," "," "," "," "," "," "," "," "," ","",null,null,null,null,null," ",14,88,0,null,false]
[3,"A3","",null,0.01,null,null,{"$f":"IF(AC194=1,\"H\",\"\")","v":""}," "," "," "," "," "," "," "," "," "," "," ","",null,null,null,null,null," ",14,88,0,null,false]
[3,"B3","",null,0.01,null,null,null,null,null,null,null,null,null,null,null,null,null,null,null,null,null,null,null,null," ",14,88,0,null,false]
[3,"C3","",null,0.01,null,null,null,null,null,null,null,null,null,null,null,null,null,null,null,null,null,null,null,null,{"$f":"IF(LEN(INDEX($1:$1048576,ROW(),4))>0,INDEX($1:$1048576,ROW(),4),\" \")","v":" "},{"$f":"CEILING((ROW()-StartRow+1)/PanelHeight,1)-1","v":14},{"$f":"COUNTBLANK(OFFSET(INDEX($1:$1048576,2,4),AA196*WellsInPlate,0,WellsInPlate,1))","v":88},{"$f":"IF(AB196=WellsInPlate,0,1)","v":0},null,false]
[3,"D3",{"$f":"IF(D197=0,\"\",D197)","v":""},null,0.01,null,null,null,null,null,null,null,null,null,null,null,null,null,null,null,null,null,null,null,null," ",{"$f":"CEILING((ROW()-StartRow+1)/PanelHeight,1)-1","v":14},88,{"$f":"IF(AB197=WellsInPlate,0,1)","v":0},null,false]
[3,"E3","",null,0.01,null,null,null,{"$f":"IF(AC199=1,\"Plate \"&TEXT(AA199+1,\"0\"),\"\")","v":""},null,null,null,null,null,null,null,null,null,null,null,null,null,null,null,null," ",14,88,0,null,false]
[3,"F3","",null,0.01,null,null,null,{"$f":"IF($AC199=1,\"1\",\"\")","v":""},{"$f":"IF($AC199=1,\"2\",\"\")","v":""},{"$f":"IF($AC199=1,\"3\",\"\")","v":""},{"$f":"IF($AC199=1,\"4\",\"\")","v":""},{"$f":"IF($AC199=1,\"5\",\"\")","v":""},{"$f":"IF($AC199=1,\"6\",\"\")","v":""},{"$f":"IF($AC199=1,\"7\",\"\")","v":""},{"$f":"IF($AC199=1,\"8\",\"\")","v":""},{"$f":"IF($AC199=1,\"9\",\"\")","v":""},{"$f":"IF($AC199=1,\"10\",\"\")","v":""},{"$f":"IF($AC199=1,\"11\",\"\")","v":""},{"$f":"IF($AC199=1,\"12\",\"\")","v":""},null,null,null,null,null," ",15,88,0,null,false]
[3,"G3","",null,0.01,null,null,{"$f":"IF(AC200=1,\"A\",\"\")","v":""},{"$f":"OFFSET($Z$2,ROW()-StartRow-1-$AA200*PanelHeight+$AA200*WellsInPlate+(COLUMN()-9)*8,0,1,1)","v":" "}," "," "," "," "," "," "," "," "," "," ",{"$f":"IF(COUNTIF(I200:S207,\" \")<88,\"leave empty\",\"\")","v":""},null,null,null,null,null," ",15,88,0,null,false]
[3,"H3","",null,0.01,null,null,{"$f":"IF(AC201=1,\"B\",\"\")","v":""}," "," "," "," "," "," "," "," "," "," "," ",{"$f":"IF(T200=\"\",\"\",\"leave empty\")","v":""},null,null,null,null,null," ",15,88,0,null,false]
[3,"A4","",null,0.01,null,null,{"$f":"IF(AC202=1,\"C\",\"\")","v":""}," "," "," "," "," "," "," "," "," "," "," ",{"$f":"IF(T201=\"\",\"\",\"leave empty\")","v":""},null,null,null,null,null," ",15,88,0,null,false]
[3,"B4","",null,0.01,null,null,{"$f":"IF(AC203=1,\"D\",\"\")","v":""}," "," "," "," "," "," "," "," "," "," "," ","",null,null,null,null,null," ",15,88,0,null,false]
[3,"C4","",null,0.01,null,null,{"$f":"IF(AC204=1,\"E\",\"\")","v":""}," "," "," "," "," "," "," "," "," "," "," ","",null,null,null,null,null," ",15,88,0,null,false]
[3,"D4","",null,0.01,null,null,{"$f":"IF(AC205=1,\"F\",\"\")","v":""}," "," "," "," "," "," "," "," "," "," "," ","",null,null,null,null,null," ",15,88,0,null,false]
[3,"E4","",null,0.01,null,null,{"$f":"IF(AC206=1,\"G\",\"\")","v":""}," "," "," "," "," "," "," "," "," "," "," ","",null,null,null,null,null," ",15,88,0,null,false]
[3,"F4","",null,0.01,null,null,{"$f":"IF(AC207=1,\"H\",\"\")","v":""}," "," "," "," "," "," "," "," "," "," "," ","",null,null,null,null,null," ",15,88,0,null,false]
[3,"G4","",null,0.01,null,null,null,null,null,null,null,null,null,null,null,null,null,null,null,null,null,null,null,null," ",15,88,0,null,false]
[3,"H4","",null,0.01,null,null,null,null,null,null,null,null,null,null,null,null,null,null,null,null,null,null,null,null," ",15,88,0,null,false]
[3,"A5","",null,0.01,null,null,null,null,null,null,null,null,null,null,null,null,null,null,null,null,null,null,null,null," ",15,88,0,null,false]
[3,"B5","",null,0.01,null,null,null,{"$f":"IF(AC212=1,\"Plate \"&TEXT(AA212+1,\"0\"),\"\")","v":""},null,null,null,null,null,null,null,null,null,null,null,null,null,null,null,null," ",15,88,0,null,false]
[3,"C5","",null,0.01,null,null,null,{"$f":"IF($AC212=1,\"1\",\"\")","v":""},{"$f":"IF($AC212=1,\"2\",\"\")","v":""},{"$f":"IF($AC212=1,\"3\",\"\")","v":""},{"$f":"IF($AC212=1,\"4\",\"\")","v":""},{"$f":"IF($AC212=1,\"5\",\"\")","v":""},{"$f":"IF($AC212=1,\"6\",\"\")","v":""},{"$f":"IF($AC212=1,\"7\",\"\")","v":""},{"$f":"IF($AC212=1,\"8\",\"\")","v":""},{"$f":"IF($AC212=1,\"9\",\"\")","v":""},{"$f":"IF($AC212=1,\"10\",\"\")","v":""},{"$f":"IF($AC212=1,\"11\",\"\")","v":""},{"$f":"IF($AC212=1,\"12\",\"\")","v":""},null,null,null,null,null," ",16,88,0,null,false]
[3,"D5","",null,0.01,null,null,{"$f":"IF(AC213=1,\"A\",\"\")","v":""},{"$f":"OFFSET($Z$2,ROW()-StartRow-1-$AA213*PanelHeight+$AA213*WellsInPlate+(COLUMN()-9)*8,0,1,1)","v":" "}," "," "," "," "," "," "," "," "," "," ",{"$f":"IF(COUNTIF(I213:S220,\" \")<88,\"leave empty\",\"\")","v":""},null,null,null,null,null," ",16,88,0,null,false]
[3,"E5","",null,0.01,null,null,{"$f":"IF(AC214=1,\"B\",\"\")","v":""}," "," "," "," "," "," "," "," "," "," "," ",{"$f":"IF(T213=\"\",\"\",\"leave empty\")","v":""},null,null,null,null,null," ",16,88,0,null,false]
[3,"F5","",null,0.01,null,null,{"$f":"IF(AC215=1,\"C\",\"\")","v":""}," "," "," "," "," "," "," "," "," "," "," ",{"$f":"IF(T214=\"\",\"\",\"leave empty\")","v":""},null,null,null,null,null," ",16,88,0,null,false]
[3,"G5","",null,0.01,null,null,{"$f":"IF(AC216=1,\"D\",\"\")","v":""}," "," "," "," "," "," "," "," "," "," "," ","",null,null,null,null,null," ",16,88,0,null,false]
[3,"H5","",null,0.01,null,null,{"$f":"IF(AC217=1,\"E\",\"\")","v":""}," "," "," "," "," "," "," "," "," "," "," ","",null,null,null,null,null," ",16,88,0,null,false]
[3,"A6","",null,0.01,null,null,{"$f":"IF(AC218=1,\"F\",\"\")","v":""}," "," "," "," "," "," "," "," "," "," "," ","",null,null,null,null,null," ",16,88,0,null,false]
[3,"B6","",null,0.01,null,null,{"$f":"IF(AC219=1,\"G\",\"\")","v":""}," "," "," "," "," "," "," "," "," "," "," ","",null,null,null,null,null," ",16,88,0,null,false]
[3,"C6","",null,0.01,null,null,{"$f":"IF(AC220=1,\"H\",\"\")","v":""}," "," "," "," "," "," "," "," "," "," "," ","",null,null,null,null,null," ",16,88,0,null,false]
[3,"D6","",null,0.01,null,null,null,null,null,null,null,null,null,null,null,null,null,null,null,null,null,null,null,null," ",16,88,0,null,false]
[3,"E6","",null,0.01,null,null,null,null,null,null,null,null,null,null,null,null,null,null,null,null,null,null,null,null," ",16,88,0,null,false]
[3,"F6","",null,0.01,null,null,null,null,null,null,null,null,null,null,null,null,null,null,null,null,null,null,null,null," ",16,88,0,null,false]
[3,"G6","",null,0.01,null,null,null,{"$f":"IF(AC225=1,\"Plate \"&TEXT(AA225+1,\"0\"),\"\")","v":""},null,null,null,null,null,null,null,null,null,null,null,null,null,null,null,null," ",16,88,0,null,false]
[3,"H6","",null,0.01,null,null,null,{"$f":"IF($AC225=1,\"1\",\"\")","v":""},{"$f":"IF($AC225=1,\"2\",\"\")","v":""},{"$f":"IF($AC225=1,\"3\",\"\")","v":""},{"$f":"IF($AC225=1,\"4\",\"\")","v":""},{"$f":"IF($AC225=1,\"5\",\"\")","v":""},{"$f":"IF($AC225=1,\"6\",\"\")","v":""},{"$f":"IF($AC225=1,\"7\",\"\")","v":""},{"$f":"IF($AC225=1,\"8\",\"\")","v":""},{"$f":"IF($AC225=1,\"9\",\"\")","v":""},{"$f":"IF($AC225=1,\"10\",\"\")","v":""},{"$f":"IF($AC225=1,\"11\",\"\")","v":""},{"$f":"IF($AC225=1,\"12\",\"\")","v":""},null,null,null,null,null," ",17,88,0,null,false]
[3,"A7","",null,0.01,null,null,{"$f":"IF(AC226=1,\"A\",\"\")","v":""},{"$f":"OFFSET($Z$2,ROW()-StartRow-1-$AA226*PanelHeight+$AA226*WellsInPlate+(COLUMN()-9)*8,0,1,1)","v":" "}," "," "," "," "," "," "," "," "," "," ",{"$f":"IF(COUNTIF(I226:S233,\" \")<88,\"leave empty\",\"\")","v":""},null,null,null,null,null," ",17,88,0,null,{"$f":"IF(COUNTBLANK(D226)=0,A218)","v":false}]
[3,"B7","",null,0.01,null,null,{"$f":"IF(AC227=1,\"B\",\"\")","v":""}," "," "," "," "," "," "," "," "," "," "," ",{"$f":"IF(T226=\"\",\"\",\"leave empty\")","v":""},null,null,null,null,null," ",17,88,0,null,false]
[3,"C7","",null,0.01,null,null,{"$f":"IF(AC228=1,\"C\",\"\")","v":""}," "," "," "," "," "," "," "," "," "," "," ",{"$f":"IF(T227=\"\",\"\",\"leave empty\")","v":""},null,null,null,null,null," ",17,88,0,null,false]
[3,"D7","",null,0.01,null,null,{"$f":"IF(AC229=1,\"D\",\"\")","v":""}," "," "," "," "," "," "," "," "," "," "," ","",null,null,null,null,null," ",{"$f":"CEILING((ROW()-StartRow+1)/PanelHeight,1)-1","v":17},88,{"$f":"IF(AB229=WellsInPlate,0,1)","v":0},null,false]
[3,"E7","",null,0.01,null,null,{"$f":"IF(AC230=1,\"E\",\"\")","v":""}," "," "," "," "," "," "," "," "," "," "," ","",null,null,null,null,null," ",17,88,0,null,false]
[3,"F7","",null,0.01,null,null,{"$f":"IF(AC231=1,\"F\",\"\")","v":""}," "," "," "," "," "," "," "," "," "," "," ","",null,null,null,null,null," ",17,88,0,null,false]
[3,"G7","",null,0.01,null,null,{"$f":"IF(AC232=1,\"G\",\"\")","v":""}," "," "," "," "," "," "," "," "," "," "," ","",null,null,null,null,null," ",17,88,0,null,false]
[3,"H7","",null,0.01,null,null,{"$f":"IF(AC233=1,\"H\",\"\")","v":""}," "," "," "," "," "," "," "," "," "," "," ","",null,null,null,null,null," ",17,88,0,null,false]
[3,"A8","",null,0.01,null,null,null,null,null,null,null,null,null,null,null,null,null,null,null,null,null,null,null,null," ",17,88,0,null,false]
[3,"B8","",null,0.01,null,null,null,null,null,null,null,null,null,null,null,null,null,null,null,null,null,null,null,null," ",17,88,0,null,false]
[3,"C8","",null,0.01,null,null,null,null,null,null,null,null,null,null,null,null,null,null,null,null,null,null,null,null," ",17,88,0,null,false]
[3,"D8","",null,0.01,null,null,null,{"$f":"IF(AC238=1,\"Plate \"&TEXT(AA238+1,\"0\"),\"\")","v":""},null,null,null,null,null,null,null,null,null,null,null,null,null,null,null,null," ",17,88,0,null,false]
[3,"E8","",null,0.01,null,null,null,{"$f":"IF($AC238=1,\"1\",\"\")","v":""},{"$f":"IF($AC238=1,\"2\",\"\")","v":""},{"$f":"IF($AC238=1,\"3\",\"\")","v":""},{"$f":"IF($AC238=1,\"4\",\"\")","v":""},{"$f":"IF($AC238=1,\"5\",\"\")","v":""},{"$f":"IF($AC238=1,\"6\",\"\")","v":""},{"$f":"IF($AC238=1,\"7\",\"\")","v":""},{"$f":"IF($AC238=1,\"8\",\"\")","v":""},{"$f":"IF($AC238=1,\"9\",\"\")","v":""},{"$f":"IF($AC238=1,\"10\",\"\")","v":""},{"$f":"IF($AC238=1,\"11\",\"\")","v":""},{"$f":"IF($AC238=1,\"12\",\"\")","v":""},null,null,null,null,null," ",18,88,0,null,false]
[3,"F8","",null,0.01,null,null,{"$f":"IF(AC239=1,\"A\",\"\")","v":""},{"$f":"OFFSET($Z$2,ROW()-StartRow-1-$AA239*PanelHeight+$AA239*WellsInPlate+(COLUMN()-9)*8,0,1,1)","v":" "}," "," "," "," "," "," "," "," "," "," ",{"$f":"IF(COUNTIF(I239:S246,\" \")<88,\"leave empty\",\"\")","v":""},null,null,null,null,null," ",18,88,0,null,false]
[3,"G8","",null,0.01,null,null,{"$f":"IF(AC240=1,\"B\",\"\")","v":""}," "," "," "," "," "," "," "," "," "," "," ",{"$f":"IF(T239=\"\",\"\",\"leave empty\")","v":""},null,null,null,null,null," ",18,88,0,null,false]
[3,"H8","",null,0.01,null,null,{"$f":"IF(AC241=1,\"C\",\"\")","v":""}," "," "," "," "," "," "," "," "," "," "," ",{"$f":"IF(T240=\"\",\"\",\"leave empty\")","v":""},null,null,null,null,null," ",18,88,0,null,false]
[3,"A9","",null,0.01,null,null,{"$f":"IF(AC242=1,\"D\",\"\")","v":""}," "," "," "," "," "," "," "," "," "," "," ","",null,null,null,null,null," ",18,88,0,null,false]
[3,"B9","",null,0.01,null,null,{"$f":"IF(AC243=1,\"E\",\"\")","v":""}," "," "," "," "," "," "," "," "," "," "," ","",null,null,null,null,null," ",18,88,0,null,false]
[3,"C9","",null,0.01,null,null,{"$f":"IF(AC244=1,\"F\",\"\")","v":""}," "," "," "," "," "," "," "," "," "," "," ","",null,null,null,null,null," ",18,88,0,null,false]
[3,"D9","",null,0.01,null,null,{"$f":"IF(AC245=1,\"G\",\"\")","v":""}," "," "," "," "," "," "," "," "," "," "," ","",null,null,null,null,null," ",18,88,0,null,false]
[3,"E9","",null,0.01,null,null,{"$f":"IF(AC246=1,\"H\",\"\")","v":""}," "," "," "," "," "," "," "," "," "," "," ","",null,null,null,null,null," ",18,88,0,null,false]
[3,"F9","",null,0.01,null,null,null,null,null,null,null,null,null,null,null,null,null,null,null,null,null,null,null,null," ",18,88,0,null,false]
[3,"G9","",null,0.01,null,null,null,null,null,null,null,null,null,null,null,null,null,null,null,null,null,null,null,null," ",18,88,0,null,false]
[3,"H9","",null,0.01,null,null,null,null,null,null,null,null,null,null,null,null,null,null,null,null,null,null,null,null," ",18,88,0,null,false]
[3,"A10","",null,0.01,null,null,null,{"$f":"IF(AC251=1,\"Plate \"&TEXT(AA251+1,\"0\"),\"\")","v":""},null,null,null,null,null,null,null,null,null,null,null,null,null,null,null,null," ",18,88,0,null,false]
[3,"B10","",null,0.01,null,null,null,{"$f":"IF($AC251=1,\"1\",\"\")","v":""},{"$f":"IF($AC251=1,\"2\",\"\")","v":""},{"$f":"IF($AC251=1,\"3\",\"\")","v":""},{"$f":"IF($AC251=1,\"4\",\"\")","v":""},{"$f":"IF($AC251=1,\"5\",\"\")","v":""},{"$f":"IF($AC251=1,\"6\",\"\")","v":""},{"$f":"IF($AC251=1,\"7\",\"\")","v":""},{"$f":"IF($AC251=1,\"8\",\"\")","v":""},{"$f":"IF($AC251=1,\"9\",\"\")","v":""},{"$f":"IF($AC251=1,\"10\",\"\")","v":""},{"$f":"IF($AC251=1,\"11\",\"\")","v":""},{"$f":"IF($AC251=1,\"12\",\"\")","v":""},null,null,null,null,null," ",19,88,0,null,false]
[3,"C10","",null,0.01,null,null,{"$f":"IF(AC252=1,\"A\",\"\")","v":""},{"$f":"OFFSET($Z$2,ROW()-StartRow-1-$AA252*PanelHeight+$AA252*WellsInPlate+(COLUMN()-9)*8,0,1,1)","v":" "}," "," "," "," "," "," "," "," "," "," ",{"$f":"IF(COUNTIF(I252:S259,\" \")<88,\"leave empty\",\"\")","v":""},null,null,null,null,null," ",19,88,0,null,false]
[3,"D10","",null,0.01,null,null,{"$f":"IF(AC253=1,\"B\",\"\")","v":""}," "," "," "," "," "," "," "," "," "," "," ",{"$f":"IF(T252=\"\",\"\",\"leave empty\")","v":""},null,null,null,null,null," ",19,88,0,null,false]
[3,"E10","",null,0.01,null,null,{"$f":"IF(AC254=1,\"C\",\"\")","v":""}," "," "," "," "," "," "," "," "," "," "," ",{"$f":"IF(T253=\"\",\"\",\"leave empty\")","v":""},null,null,null,null,null," ",19,88,0,null,false]
[3,"F10","",null,0.01,null,null,{"$f":"IF(AC255=1,\"D\",\"\")","v":""}," "," "," "," "," "," "," "," "," "," "," ","",null,null,null,null,null," ",19,88,0,null,false]
[3,"G10","",null,0.01,null,null,{"$f":"IF(AC256=1,\"E\",\"\")","v":""}," "," "," "," "," "," "," "," "," "," "," ","",null,null,null,null,null," ",19,88,0,null,false]
[3,"H10","",null,0.01,null,null,{"$f":"IF(AC257=1,\"F\",\"\")","v":""}," "," "," "," "," "," "," "," "," "," "," ","",null,null,null,null,null," ",19,88,0,null,false]
[3,"A11","",null,0.01,null,null,{"$f":"IF(AC258=1,\"G\",\"\")","v":""}," "," "," "," "," "," "," "," "," "," "," ","",null,null,null,null,null," ",19,88,0,null,false]
[3,"B11","",null,0.01,null,null,{"$f":"IF(AC259=1,\"H\",\"\")","v":""}," "," "," "," "," "," "," "," "," "," "," ","",null,null,null,null,null," ",19,88,0,null,false]
[3,"C11","",null,0.01,null,null,null,null,null,null,null,null,null,null,null,null,null,null,null,null,null,null,null,null,{"$f":"IF(LEN(INDEX($1:$1048576,ROW(),4))>0,INDEX($1:$1048576,ROW(),4),\" \")","v":" "},{"$f":"CEILING((ROW()-StartRow+1)/PanelHeight,1)-1","v":19},{"$f":"COUNTBLANK(OFFSET(INDEX($1:$1048576,2,4),AA260*WellsInPlate,0,WellsInPlate,1))","v":88},{"$f":"IF(AB260=WellsInPlate,0,1)","v":0},null,false]
[3,"D11",{"$f":"IF(D261=0,\"\",D261)","v":""},null,0.01,null,null,null,null,null,null,null,null,null,null,null,null,null,null,null,null,null,null,null,null," ",{"$f":"CEILING((ROW()-StartRow+1)/PanelHeight,1)-1","v":19},88,{"$f":"IF(AB261=WellsInPlate,0,1)","v":0},null,false]
[3,"E11","",null,0.01,null,null,null,null,null,null,null,null,null,null,null,null,null,null,null,null,null,null,null,null," ",19,88,0,null,false]
[3,"F11","",null,0.01,null,null,null,{"$f":"IF(AC264=1,\"Plate \"&TEXT(AA264+1,\"0\"),\"\")","v":""},null,null,null,null,null,null,null,null,null,null,null,null,null,null,null,null," ",19,88,0,null,false]
[3,"G11","",null,0.01,null,null,null,{"$f":"IF($AC264=1,\"1\",\"\")","v":""},{"$f":"IF($AC264=1,\"2\",\"\")","v":""},{"$f":"IF($AC264=1,\"3\",\"\")","v":""},{"$f":"IF($AC264=1,\"4\",\"\")","v":""},{"$f":"IF($AC264=1,\"5\",\"\")","v":""},{"$f":"IF($AC264=1,\"6\",\"\")","v":""},{"$f":"IF($AC264=1,\"7\",\"\")","v":""},{"$f":"IF($AC264=1,\"8\",\"\")","v":""},{"$f":"IF($AC264=1,\"9\",\"\")","v":""},{"$f":"IF($AC264=1,\"10\",\"\")","v":""},{"$f":"IF($AC264=1,\"11\",\"\")","v":""},{"$f":"IF($AC264=1,\"12\",\"\")","v":""},null,null,null,null,null," ",20,88,0,null,false]
[3,"H11","",null,0.01,null,null,{"$f":"IF(AC265=1,\"A\",\"\")","v":""},{"$f":"OFFSET($Z$2,ROW()-StartRow-1-$AA265*PanelHeight+$AA265*WellsInPlate+(COLUMN()-9)*8,0,1,1)","v":" "}," "," "," "," "," "," "," "," "," "," ",{"$f":"IF(COUNTIF(I265:S272,\" \")<88,\"leave empty\",\"\")","v":""},null,null,null,null,null," ",20,88,0,null,false]
[4,"A1","",null,0.01,null,null,{"$f":"IF(AC266=1,\"B\",\"\")","v":""}," "," "," "," "," "," "," "," "," "," "," ",{"$f":"IF(T265=\"\",\"\",\"leave empty\")","v":""},null,null,null,null,null," ",20,88,0,null,false]
[4,"B1","",null,0.01,null,null,{"$f":"IF(AC267=1,\"C\",\"\")","v":""}," "," "," "," "," "," "," "," "," "," "," ",{"$f":"IF(T266=\"\",\"\",\"leave empty\")","v":""},null,null,null,null,null," ",20,88,0,null,false]
[4,"C1","",null,0.01,null,null,{"$f":"IF(AC268=1,\"D\",\"\")","v":""}," "," "," "," "," "," "," "," "," "," "," ","",null,null,null,null,null," ",20,88,0,null,false]
[4,"D1","",null,0.01,null,null,{"$f":"IF(AC269=1,\"E\",\"\")","v":""}," "," "," "," "," "," "," "," "," "," "," ","",null,null,null,null,null," ",20,88,0,null,false]
[4,"E1","",null,0.01,null,null,{"$f":"IF(AC270=1,\"F\",\"\")","v":""}," "," "," "," "," "," "," "," "," "," "," ","",null,null,null,null,null," ",20,88,0,null,false]
[4,"F1","",null,0.01,null,null,{"$f":"IF(AC271=1,\"G\",\"\")","v":""}," "," "," "," "," "," "," "," "," "," "," ","",null,null,null,null,null," ",20,88,0,null,false]
[4,"G1","",null,0.01,null,null,{"$f":"IF(AC272=1,\"H\",\"\")","v":""}," "," "," "," "," "," "," "," "," "," "," ","",null,null,null,null,null," ",20,88,0,null,false]
[4,"H1","",null,0.01,null,null,null,null,null,null,null,null,null,null,null,null,null,null,null,null,null,null,null,null," ",20,88,0,null,false]
[4,"A2","",null,0.01,null,null,null,null,null,null,null,null,null,null,null,null,null,null,null,null,null,null,null,null," ",20,88,0,null,false]
[4,"B2","",null,0.01,null,null,null,null,null,null,null,null,null,null,null,null,null,null,null,null,null,null,null,null," ",20,88,0,null,false]
[4,"C2","",null,0.01,null,null,null,{"$f":"IF(AC277=1,\"Plate \"&TEXT(AA277+1,\"0\"),\"\")","v":""},null,null,null,null,null,null,null,null,null,null,null,null,null,null,null,null," ",20,88,0,null,false]
[4,"D2","",null,0.01,null,null,null,{"$f":"IF($AC277=1,\"1\",\"\")","v":""},{"$f":"IF($AC277=1,\"2\",\"\")","v":""},{"$f":"IF($AC277=1,\"3\",\"\")","v":""},{"$f":"IF($AC277=1,\"4\",\"\")","v":""},{"$f":"IF($AC277=1,\"5\",\"\")","v":""},{"$f":"IF($AC277=1,\"6\",\"\")","v":""},{"$f":"IF($AC277=1,\"7\",\"\")","v":""},{"$f":"IF($AC277=1,\"8\",\"\")","v":""},{"$f":"IF($AC277=1,\"9\",\"\")","v":""},{"$f":"IF($AC277=1,\"10\",\"\")","v":""},{"$f":"IF($AC277=1,\"11\",\"\")","v":""},{"$f":"IF($AC277=1,\"12\",\"\")","v":""},null,null,null,null,null," ",21,88,0,null,false]
[4,"E2","",null,0.01,null,null,{"$f":"IF(AC278=1,\"A\",\"\")","v":""},{"$f":"OFFSET($Z$2,ROW()-StartRow-1-$AA278*PanelHeight+$AA278*WellsInPlate+(COLUMN()-9)*8,0,1,1)","v":" "}," "," "," "," "," "," "," "," "," "," ",{"$f":"IF(COUNTIF(I278:S285,\" \")<88,\"leave empty\",\"\")","v":""},null,null,null,null,null," ",21,88,0,null,false]
[4,"F2","",null,0.01,null,null,{"$f":"IF(AC279=1,\"B\",\"\")","v":""}," "," "," "," "," "," "," "," "," "," "," ",{"$f":"IF(T278=\"\",\"\",\"leave empty\")","v":""},null,null,null,null,null," ",21,88,0,null,false]
[4,"G2","",null,0.01,null,null,{"$f":"IF(AC280=1,\"C\",\"\")","v":""}," "," "," "," "," "," "," "," "," "," "," ",{"$f":"IF(T279=\"\",\"\",\"leave empty\")","v":""},null,null,null,null,null," ",21,88,0,null,false]
[4,"H2","",null,0.01,null,null,{"$f":"IF(AC281=1,\"D\",\"\")","v":""}," "," "," "," "," "," "," "," "," "," "," ","",null,null,null,null,null," ",21,88,0,null,false]
[4,"A3","",null,0.01,null,null,{"$f":"IF(AC282=1,\"E\",\"\")","v":""}," "," "," "," "," "," "," "," "," "," "," ","",null,null,null,null,null," ",21,88,0,null,false]
[4,"B3","",null,0.01,null,null,{"$f":"IF(AC283=1,\"F\",\"\")","v":""}," "," "," "," "," "," "," "," "," "," "," ","",null,null,null,null,null," ",21,88,0,null,false]
[4,"C3","",null,0.01,null,null,{"$f":"IF(AC284=1,\"G\",\"\")","v":""}," "," "," "," "," "," "," "," "," "," "," ","",null,null,null,null,null," ",21,88,0,null,false]
[4,"D3","",null,0.01,null,null,{"$f":"IF(AC285=1,\"H\",\"\")","v":""}," "," "," "," "," "," "," "," "," "," "," ","",null,null,null,null,null," ",21,88,0,null,false]
[4,"E3","",null,0.01,null,null,null,null,null,null,null,null,null,null,null,null,null,null,null,null,null,null,null,null," ",21,88,0,null,false]
[4,"F3","",null,0.01,null,null,null,null,null,null,null,null,null,null,null,null,null,null,null,null,null,null,null,null," ",21,88,0,null,false]
[4,"G3","",null,0.01,null,null,null,null,null,null,null,null,null,null,null,null,null,null,null,null,null,null,null,null," ",21,88,0,null,false]
[4,"H3","",null,0.01,null,null,null,{"$f":"IF(AC290=1,\"Plate \"&TEXT(AA290+1,\"0\"),\"\")","v":""},null,null,null,null,null,null,null,null,null,null,null,null,null,null,null,null," ",21,88,0,null,false]
[4,"A4","",null,0.01,null,null,null,{"$f":"IF($AC290=1,\"1\",\"\")","v":""},{"$f":"IF($AC290=1,\"2\",\"\")","v":""},{"$f":"IF($AC290=1,\"3\",\"\")","v":""},{"$f":"IF($AC290=1,\"4\",\"\")","v":""},{"$f":"IF($AC290=1,\"5\",\"\")","v":""},{"$f":"IF($AC290=1,\"6\",\"\")","v":""},{"$f":"IF($AC290=1,\"7\",\"\")","v":""},{"$f":"IF($AC290=1,\"8\",\"\")","v":""},{"$f":"IF($AC290=1,\"9\",\"\")","v":""},{"$f":"IF($AC290=1,\"10\",\"\")","v":""},{"$f":"IF($AC290=1,\"11\",\"\")","v":""},{"$f":"IF($AC290=1,\"12\",\"\")","v":""},null,null,null,null,null," ",22,88,0,null,{"$f":"IF(COUNTBLANK(D290)=0,A282)","v":false}]
[4,"B4","",null,0.01,null,null,{"$f":"IF(AC291=1,\"A\",\"\")","v":""},{"$f":"OFFSET($Z$2,ROW()-StartRow-1-$AA291*PanelHeight+$AA291*WellsInPlate+(COLUMN()-9)*8,0,1,1)","v":" "}," "," "," "," "," "," "," "," "," "," ",{"$f":"IF(COUNTIF(I291:S298,\" \")<88,\"leave empty\",\"\")","v":""},null,null,null,null,null," ",22,88,0,null,false]
[4,"C4","",null,0.01,null,null,{"$f":"IF(AC292=1,\"B\",\"\")","v":""}," "," "," "," "," "," "," "," "," "," "," ",{"$f":"IF(T291=\"\",\"\",\"leave empty\")","v":""},null,null,null,null,null," ",22,88,0,null,false]
[4,"D4","",null,0.01,null,null,{"$f":"IF(AC293=1,\"C\",\"\")","v":""}," "," "," "," "," "," "," "," "," "," "," ",{"$f":"IF(T292=\"\",\"\",\"leave empty\")","v":""},null,null,null,null,null," ",{"$f":"CEILING((ROW()-StartRow+1)/PanelHeight,1)-1","v":22},88,{"$f":"IF(AB293=WellsInPlate,0,1)","v":0},null,false]
[4,"E4","",null,0.01,null,null,{"$f":"IF(AC294=1,\"D\",\"\")","v":""}," "," "," "," "," "," "," "," "," "," "," ","",null,null,null,null,null," ",22,88,0,null,false]
[4,"F4","",null,0.01,null,null,{"$f":"IF(AC295=1,\"E\",\"\")","v":""}," "," "," "," "," "," "," "," "," "," "," ","",null,null,null,null,null," ",22,88,0,null,false]
[4,"G4","",null,0.01,null,null,{"$f":"IF(AC296=1,\"F\",\"\")","v":""}," "," "," "," "," "," "," "," "," "," "," ","",null,null,null,null,null," ",22,88,0,null,false]
[4,"H4","",null,0.01,null,null,{"$f":"IF(AC297=1,\"G\",\"\")","v":""}," "," "," "," "," "," "," "," "," "," "," ","",null,null,null,null,null," ",22,88,0,null,false]
[4,"A5","",null,0.01,null,null,{"$f":"IF(AC298=1,\"H\",\"\")","v":""}," "," "," "," "," "," "," "," "," "," "," ","",null,null,null,null,null," ",22,88,0,null,false]
[4,"B5","",null,0.01,null,null,null,null,null,null,null,null,null,null,null,null,null,null,null,null,null,null,null,null," ",22,88,0,null,false]
[4,"C5","",null,0.01,null,null,null,null,null,null,null,null,null,null,null,null,null,null,null,null,null,null,null,null," ",22,88,0,null,false]
[4,"D5","",null,0.01,null,null,null,null,null,null,null,null,null,null,null,null,null,null,null,null,null,null,null,null," ",22,88,0,null,false]
[4,"E5","",null,0.01,null,null,null,{"$f":"IF(AC303=1,\"Plate \"&TEXT(AA303+1,\"0\"),\"\")","v":""},null,null,null,null,null,null,null,null,null,null,null,null,null,null,null,null," ",22,88,0,null,false]
[4,"F5","",null,0.01,null,null,null,{"$f":"IF($AC303=1,\"1\",\"\")","v":""},{"$f":"IF($AC303=1,\"2\",\"\")","v":""},{"$f":"IF($AC303=1,\"3\",\"\")","v":""},{"$f":"IF($AC303=1,\"4\",\"\")","v":""},{"$f":"IF($AC303=1,\"5\",\"\")","v":""},{"$f":"IF($AC303=1,\"6\",\"\")","v":""},{"$f":"IF($AC303=1,\"7\",\"\")","v":""},{"$f":"IF($AC303=1,\"8\",\"\")","v":""},{"$f":"IF($AC303=1,\"9\",\"\")","v":""},{"$f":"IF($AC303=1,\"10\",\"\")","v":""},{"$f":"IF($AC303=1,\"11\",\"\")","v":""},{"$f":"IF($AC303=1,\"12\",\"\")","v":""},null,null,null,null,null," ",23,88,0,null,false]
[4,"G5","",null,0.01,null,null,{"$f":"IF(AC304=1,\"A\",\"\")","v":""},{"$f":"OFFSET($Z$2,ROW()-StartRow-1-$AA304*PanelHeight+$AA304*WellsInPlate+(COLUMN()-9)*8,0,1,1)","v":" "}," "," "," "," "," "," "," "," "," "," ",{"$f":"IF(COUNTIF(I304:S311,\" \")<88,\"leave empty\",\"\")","v":""},null,null,null,null,null," ",23,88,0,null,false]
[4,"H5","",null,0.01,null,null,{"$f":"IF(AC305=1,\"B\",\"\")","v":""}," "," "," "," "," "," "," "," "," "," "," ",{"$f":"IF(T304=\"\",\"\",\"leave empty\")","v":""},null,null,null,null,null," ",23,88,0,null,false]
[4,"A6","",null,0.01,null,null,{"$f":"IF(AC306=1,\"C\",\"\")","v":""}," "," "," "," "," "," "," "," "," "," "," ",{"$f":"IF(T305=\"\",\"\",\"leave empty\")","v":""},null,null,null,null,null," ",23,88,0,null,false]
[4,"B6","",null,0.01,null,null,{"$f":"IF(AC307=1,\"D\",\"\")","v":""}," "," "," "," "," "," "," "," "," "," "," ","",null,null,null,null,null," ",23,88,0,null,false]
[4,"C6","",null,0.01,null,null,{"$f":"IF(AC308=1,\"E\",\"\")","v":""}," "," "," "," "," "," "," "," "," "," "," ","",null,null,null,null,null," ",23,88,0,null,false]
[4,"D6","",null,0.01,null,null,{"$f":"IF(AC309=1,\"F\",\"\")","v":""}," "," "," "," "," "," "," "," "," "," "," ","",null,null,null,null,null," ",23,88,0,null,false]
[4,"E6","",null,0.01,null,null,{"$f":"IF(AC310=1,\"G\",\"\")","v":""}," "," "," "," "," "," "," "," "," "," "," ","",null,null,null,null,null," ",23,88,0,null,false]
[4,"F6","",null,0.01,null,null,{"$f":"IF(AC311=1,\"H\",\"\")","v":""}," "," "," "," "," "," "," "," "," "," "," ","",null,null,null,null,null," ",23,88,0,null,false]
[4,"G6","",null,0.01,null,null,null,null,null,null,null,null,null,null,null,null,null,null,null,null,null,null,null,null," ",23,88,0,null,false]
[4,"H6","",null,0.01,null,null,null,null,null,null,null,null,null,null,null,null,null,null,null,null,null,null,null,null," ",23,88,0,null,false]
[4,"A7","",null,0.01,null,null,null,null,null,null,null,null,null,null,null,null,null,null,null,null,null,null,null,null," ",23,88,0,null,false]
[4,"B7","",null,0.01,null,null,null,{"$f":"IF(AC316=1,\"Plate \"&TEXT(AA316+1,\"0\"),\"\")","v":""},null,null,null,null,null,null,null,null,null,null,null,null,null,null,null,null," ",23,88,0,null,false]
[4,"C7","",null,0.01,null,null,null,{"$f":"IF($AC316=1,\"1\",\"\")","v":""},{"$f":"IF($AC316=1,\"2\",\"\")","v":""},{"$f":"IF($AC316=1,\"3\",\"\")","v":""},{"$f":"IF($AC316=1,\"4\",\"\")","v":""},{"$f":"IF($AC316=1,\"5\",\"\")","v":""},{"$f":"IF($AC316=1,\"6\",\"\")","v":""},{"$f":"IF($AC316=1,\"7\",\"\")","v":""},{"$f":"IF($AC316=1,\"8\",\"\")","v":""},{"$f":"IF($AC316=1,\"9\",\"\")","v":""},{"$f":"IF($AC316=1,\"10\",\"\")","v":""},{"$f":"IF($AC316=1,\"11\",\"\")","v":""},{"$f":"IF($AC316=1,\"12\",\"\")","v":""},null,null,null,null,null," ",24,88,0,null,false]
[4,"D7","",null,0.01,null,null,{"$f":"IF(AC317=1,\"A\",\"\")","v":""},{"$f":"OFFSET($Z$2,ROW()-StartRow-1-$AA317*PanelHeight+$AA317*WellsInPlate+(COLUMN()-9)*8,0,1,1)","v":" "}," "," "," "," "," "," "," "," "," "," ",{"$f":"IF(COUNTIF(I317:S324,\" \")<88,\"leave empty\",\"\")","v":""},null,null,null,null,null," ",24,88,0,null,false]
[4,"E7","",null,0.01,null,null,{"$f":"IF(AC318=1,\"B\",\"\")","v":""}," "," "," "," "," "," "," "," "," "," "," ",{"$f":"IF(T317=\"\",\"\",\"leave empty\")","v":""},null,null,null,null,null," ",24,88,0,null,false]
[4,"F7","",null,0.01,null,null,{"$f":"IF(AC319=1,\"C\",\"\")","v":""}," "," "," "," "," "," "," "," "," "," "," ",{"$f":"IF(T318=\"\",\"\",\"leave empty\")","v":""},null,null,null,null,null," ",24,88,0,null,false]
[4,"G7","",null,0.01,null,null,{"$f":"IF(AC320=1,\"D\",\"\")","v":""}," "," "," "," "," "," "," "," "," "," "," ","",null,null,null,null,null," ",24,88,0,null,false]
[4,"H7","",null,0.01,null,null,{"$f":"IF(AC321=1,\"E\",\"\")","v":""}," "," "," "," "," "," "," "," "," "," "," ","",null,null,null,null,null," ",24,88,0,null,false]
[4,"A8","",null,0.01,null,null,{"$f":"IF(AC322=1,\"F\",\"\")","v":""}," "," "," "," "," "," "," "," "," "," "," ","",null,null,null,null,null," ",24,88,0,null,false]
[4,"B8","",null,0.01,null,null,{"$f":"IF(AC323=1,\"G\",\"\")","v":""}," "," "," "," "," "," "," "," "," "," "," ","",null,null,null,null,null," ",24,88,0,null,false]
[4,"C8","",null,0.01,null,null,{"$f":"IF(AC324=1,\"H\",\"\")","v":""}," "," "," "," "," "," "," "," "," "," "," ","",null,null,null,null,null,{"$f":"IF(LEN(INDEX($1:$1048576,ROW(),4))>0,INDEX($1:$1048576,ROW(),4),\" \")","v":" "},{"$f":"CEILING((ROW()-StartRow+1)/PanelHeight,1)-1","v":24},{"$f":"COUNTBLANK(OFFSET(INDEX($1:$1048576,2,4),AA324*WellsInPlate,0,WellsInPlate,1))","v":88},{"$f":"IF(AB324=WellsInPlate,0,1)","v":0},null,false]
[4,"D8",{"$f":"IF(D325=0,\"\",D325)","v":""},null,0.01,null,null,null,null,null,null,null,null,null,null,null,null,null,null,null,null,null,null,null,null," ",{"$f":"CEILING((ROW()-StartRow+1)/PanelHeight,1)-1","v":24},88,{"$f":"IF(AB325=WellsInPlate,0,1)","v":0},null,false]
[4,"E8","",null,0.01,null,null,null,null,null,null,null,null,null,null,null,null,null,null,null,null,null,null,null,null," ",24,88,0,null,false]
[4,"F8","",null,0.01,null,null,null,null,null,null,null,null,null,null,null,null,null,null,null,null,null,null,null,null," ",24,88,0,null,false]
[4,"G8","",null,0.01,null,null,null,{"$f":"IF(AC329=1,\"Plate \"&TEXT(AA329+1,\"0\"),\"\")","v":""},null,null,null,null,null,null,null,null,null,null,null,null,null,null,null,null," ",24,88,0,null,false]
[4,"H8","",null,0.01,null,null,null,{"$f":"IF($AC329=1,\"1\",\"\")","v":""},{"$f":"IF($AC329=1,\"2\",\"\")","v":""},{"$f":"IF($AC329=1,\"3\",\"\")","v":""},{"$f":"IF($AC329=1,\"4\",\"\")","v":""},{"$f":"IF($AC329=1,\"5\",\"\")","v":""},{"$f":"IF($AC329=1,\"6\",\"\")","v":""},{"$f":"IF($AC329=1,\"7\",\"\")","v":""},{"$f":"IF($AC329=1,\"8\",\"\")","v":""},{"$f":"IF($AC329=1,\"9\",\"\")","v":""},{"$f":"IF($AC329=1,\"10\",\"\")","v":""},{"$f":"IF($AC329=1,\"11\",\"\")","v":""},{"$f":"IF($AC329=1,\"12\",\"\")","v":""},null,null,null,null,null," ",25,88,0,null,false]
[4,"A9","",null,0.01,null,null,{"$f":"IF(AC330=1,\"A\",\"\")","v":""},{"$f":"OFFSET($Z$2,ROW()-StartRow-1-$AA330*PanelHeight+$AA330*WellsInPlate+(COLUMN()-9)*8,0,1,1)","v":" "}," "," "," "," "," "," "," "," "," "," ",{"$f":"IF(COUNTIF(I330:S337,\" \")<88,\"leave empty\",\"\")","v":""},null,null,null,null,null," ",25,88,0,null,false]
[4,"B9","",null,0.01,null,null,{"$f":"IF(AC331=1,\"B\",\"\")","v":""}," "," "," "," "," "," "," "," "," "," "," ",{"$f":"IF(T330=\"\",\"\",\"leave empty\")","v":""},null,null,null,null,null," ",25,88,0,null,false]
[4,"C9","",null,0.01,null,null,{"$f":"IF(AC332=1,\"C\",\"\")","v":""}," "," "," "," "," "," "," "," "," "," "," ",{"$f":"IF(T331=\"\",\"\",\"leave empty\")","v":""},null,null,null,null,null," ",25,88,0,null,false]
[4,"D9","",null,0.01,null,null,{"$f":"IF(AC333=1,\"D\",\"\")","v":""}," "," "," "," "," "," "," "," "," "," "," ","",null,null,null,null,null," ",25,88,0,null,false]
[4,"E9","",null,0.01,null,null,{"$f":"IF(AC334=1,\"E\",\"\")","v":""}," "," "," "," "," "," "," "," "," "," "," ","",null,null,null,null,null," ",25,88,0,null,false]
[4,"F9","",null,0.01,null,null,{"$f":"IF(AC335=1,\"F\",\"\")","v":""}," "," "," "," "," "," "," "," "," "," "," ","",null,null,null,null,null," ",25,88,0,null,false]
[4,"G9","",null,0.01,null,null,{"$f":"IF(AC336=1,\"G\",\"\")","v":""}," "," "," "," "," "," "," "," "," "," "," ","",null,null,null,null,null," ",25,88,0,null,false]
[4,"H9","",null,0.01,null,null,{"$f":"IF(AC337=1,\"H\",\"\")","v":""}," "," "," "," "," "," "," "," "," "," "," ","",null,null,null,null,null," ",25,88,0,null,false]
[4,"A10","",null,0.01,null,null,null,null,null,null,null,null,null,null,null,null,null,null,null,null,null,null,null,null," ",25,88,0,null,false]
[4,"B10","",null,0.01,null,null,null,null,null,null,null,null,null,null,null,null,null,null,null,null,null,null,null,null," ",25,88,0,null,false]
[4,"C10","",null,0.01,null,null,null,null,null,null,null,null,null,null,null,null,null,null,null,null,null,null,null,null," ",25,88,0,null,false]
[4,"D10","",null,0.01,null,null,null,{"$f":"IF(AC342=1,\"Plate \"&TEXT(AA342+1,\"0\"),\"\")","v":""},null,null,null,null,null,null,null,null,null,null,null,null,null,null,null,null," ",25,88,0,null,false]
[4,"E10","",null,0.01,null,null,null,{"$f":"IF($AC342=1,\"1\",\"\")","v":""},{"$f":"IF($AC342=1,\"2\",\"\")","v":""},{"$f":"IF($AC342=1,\"3\",\"\")","v":""},{"$f":"IF($AC342=1,\"4\",\"\")","v":""},{"$f":"IF($AC342=1,\"5\",\"\")","v":""},{"$f":"IF($AC342=1,\"6\",\"\")","v":""},{"$f":"IF($AC342=1,\"7\",\"\")","v":""},{"$f":"IF($AC342=1,\"8\",\"\")","v":""},{"$f":"IF($AC342=1,\"9\",\"\")","v":""},{"$f":"IF($AC342=1,\"10\",\"\")","v":""},{"$f":"IF($AC342=1,\"11\",\"\")","v":""},{"$f":"IF($AC342=1,\"12\",\"\")","v":""},null,null,null,null,null," ",26,88,0,null,false]
[4,"F10","",null,0.01,null,null,{"$f":"IF(AC343=1,\"A\",\"\")","v":""},{"$f":"OFFSET($Z$2,ROW()-StartRow-1-$AA343*PanelHeight+$AA343*WellsInPlate+(COLUMN()-9)*8,0,1,1)","v":" "}," "," "," "," "," "," "," "," "," "," ",{"$f":"IF(COUNTIF(I343:S350,\" \")<88,\"leave empty\",\"\")","v":""},null,null,null,null,null," ",26,88,0,null,false]
[4,"G10","",null,0.01,null,null,{"$f":"IF(AC344=1,\"B\",\"\")","v":""}," "," "," "," "," "," "," "," "," "," "," ",{"$f":"IF(T343=\"\",\"\",\"leave empty\")","v":""},null,null,null,null,null," ",26,88,0,null,false]
[4,"H10","",null,0.01,null,null,{"$f":"IF(AC345=1,\"C\",\"\")","v":""}," "," "," "," "," "," "," "," "," "," "," ",{"$f":"IF(T344=\"\",\"\",\"leave empty\")","v":""},null,null,null,null,null," ",26,88,0,null,false]
[4,"A11","",null,0.01,null,null,{"$f":"IF(AC346=1,\"D\",\"\")","v":""}," "," "," "," "," "," "," "," "," "," "," ","",null,null,null,null,null," ",26,88,0,null,false]
[4,"B11","",null,0.01,null,null,{"$f":"IF(AC347=1,\"E\",\"\")","v":""}," "," "," "," "," "," "," "," "," "," "," ","",null,null,null,null,null," ",26,88,0,null,false]
[4,"C11","",null,0.01,null,null,{"$f":"IF(AC348=1,\"F\",\"\")","v":""}," "," "," "," "," "," "," "," "," "," "," ","",null,null,null,null,null," ",26,88,0,null,false]
[4,"D11","",null,0.01,null,null,{"$f":"IF(AC349=1,\"G\",\"\")","v":""}," "," "," "," "," "," "," "," "," "," "," ","",null,null,null,null,null," ",26,88,0,null,false]
[4,"E11","",null,0.01,null,null,{"$f":"IF(AC350=1,\"H\",\"\")","v":""}," "," "," "," "," "," "," "," "," "," "," ","",null,null,null,null,null," ",26,88,0,null,false]
[4,"F11","",null,0.01,null,null,null,null,null,null,null,null,null,null,null,null,null,null,null,null,null,null,null,null," ",26,88,0,null,false]
[4,"G11","",null,0.01,null,null,null,null,null,null,null,null,null,null,null,null,null,null,null,null,null,null,null,null," ",26,88,0,null,false]
[4,"H11","",null,0.01,null,null,null,null,null,null,null,null,null,null,null,null,null,null,null,null,null,null,null,null," ",26,88,0,null,false]
[5,"A1","",null,0.01,null,null,null,{"$f":"IF(AC355=1,\"Plate \"&TEXT(AA355+1,\"0\"),\"\")","v":""},null,null,null,null,null,null,null,null,null,null,null,null,null,null,null,null," ",26,88,0,null,{"$f":"IF(COUNTBLANK(D354)=0,A346)","v":false}]
[5,"B1","",null,0.01,null,null,null,{"$f":"IF($AC355=1,\"1\",\"\")","v":""},{"$f":"IF($AC355=1,\"2\",\"\")","v":""},{"$f":"IF($AC355=1,\"3\",\"\")","v":""},{"$f":"IF($AC355=1,\"4\",\"\")","v":""},{"$f":"IF($AC355=1,\"5\",\"\")","v":""},{"$f":"IF($AC355=1,\"6\",\"\")","v":""},{"$f":"IF($AC355=1,\"7\",\"\")","v":""},{"$f":"IF($AC355=1,\"8\",\"\")","v":""},{"$f":"IF($AC355=1,\"9\",\"\")","v":""},{"$f":"IF($AC355=1,\"10\",\"\")","v":""},{"$f":"IF($AC355=1,\"11\",\"\")","v":""},{"$f":"IF($AC355=1,\"12\",\"\")","v":""},null,null,null,null,null," ",27,88,0,null,false]
[5,"C1","",null,0.01,null,null,{"$f":"IF(AC356=1,\"A\",\"\")","v":""},{"$f":"OFFSET($Z$2,ROW()-StartRow-1-$AA356*PanelHeight+$AA356*WellsInPlate+(COLUMN()-9)*8,0,1,1)","v":" "}," "," "," "," "," "," "," "," "," "," ",{"$f":"IF(COUNTIF(I356:S363,\" \")<88,\"leave empty\",\"\")","v":""},null,null,null,null,null," ",27,88,0,null,false]
[5,"D1","",null,0.01,null,null,{"$f":"IF(AC357=1,\"B\",\"\")","v":""}," "," "," "," "," "," "," "," "," "," "," ",{"$f":"IF(T356=\"\",\"\",\"leave empty\")","v":""},null,null,null,null,null," ",{"$f":"CEILING((ROW()-StartRow+1)/PanelHeight,1)-1","v":27},88,{"$f":"IF(AB357=WellsInPlate,0,1)","v":0},null,false]
[5,"E1","",null,0.01,null,null,{"$f":"IF(AC358=1,\"C\",\"\")","v":""}," "," "," "," "," "," "," "," "," "," "," ",{"$f":"IF(T357=\"\",\"\",\"leave empty\")","v":""},null,null,null,null,null," ",27,88,0,null,false]
[5,"F1","",null,0.01,null,null,{"$f":"IF(AC359=1,\"D\",\"\")","v":""}," "," "," "," "," "," "," "," "," "," "," ","",null,null,null,null,null," ",27,88,0,null,false]
[5,"G1","",null,0.01,null,null,{"$f":"IF(AC360=1,\"E\",\"\")","v":""}," "," "," "," "," "," "," "," "," "," "," ","",null,null,null,null,null," ",27,88,0,null,false]
[5,"H1","",null,0.01,null,null,{"$f":"IF(AC361=1,\"F\",\"\")","v":""}," "," "," "," "," "," "," "," "," "," "," ","",null,null,null,null,null," ",27,88,0,null,false]
[5,"A2","",null,0.01,null,null,{"$f":"IF(AC362=1,\"G\",\"\")","v":""}," "," "," "," "," "," "," "," "," "," "," ","",null,null,null,null,null," ",27,88,0,null,false]
[5,"B2","",null,0.01,null,null,{"$f":"IF(AC363=1,\"H\",\"\")","v":""}," "," "," "," "," "," "," "," "," "," "," ","",null,null,null,null,null," ",27,88,0,null,false]
[5,"C2","",null,0.01,null,null,null,null,null,null,null,null,null,null,null,null,null,null,null,null,null,null,null,null," ",27,88,0,null,false]
[5,"D2","",null,0.01,null,null,null,null,null,null,null,null,null,null,null,null,null,null,null,null,null,null,null,null," ",27,88,0,null,false]
[5,"E2","",null,0.01,null,null,null,null,null,null,null,null,null,null,null,null,null,null,null,null,null,null,null,null," ",27,88,0,null,false]
[5,"F2","",null,0.01,null,null,null,{"$f":"IF(AC368=1,\"Plate \"&TEXT(AA368+1,\"0\"),\"\")","v":""},null,null,null,null,null,null,null,null,null,null,null,null,null,null,null,null," ",27,88,0,null,false]
[5,"G2","",null,0.01,null,null,null,{"$f":"IF($AC368=1,\"1\",\"\")","v":""},{"$f":"IF($AC368=1,\"2\",\"\")","v":""},{"$f":"IF($AC368=1,\"3\",\"\")","v":""},{"$f":"IF($AC368=1,\"4\",\"\")","v":""},{"$f":"IF($AC368=1,\"5\",\"\")","v":""},{"$f":"IF($AC368=1,\"6\",\"\")","v":""},{"$f":"IF($AC368=1,\"7\",\"\")","v":""},{"$f":"IF($AC368=1,\"8\",\"\")","v":""},{"$f":"IF($AC368=1,\"9\",\"\")","v":""},{"$f":"IF($AC368=1,\"10\",\"\")","v":""},{"$f":"IF($AC368=1,\"11\",\"\")","v":""},{"$f":"IF($AC368=1,\"12\",\"\")","v":""},null,null,null,null,null," ",28,88,0,null,false]
[5,"H2","",null,0.01,null,null,{"$f":"IF(AC369=1,\"A\",\"\")","v":""},{"$f":"OFFSET($Z$2,ROW()-StartRow-1-$AA369*PanelHeight+$AA369*WellsInPlate+(COLUMN()-9)*8,0,1,1)","v":" "}," "," "," "," "," "," "," "," "," "," ",{"$f":"IF(COUNTIF(I369:S376,\" \")<88,\"leave empty\",\"\")","v":""},null,null,null,null,null," ",28,88,0,null,false]
[5,"A3","",null,0.01,null,null,{"$f":"IF(AC370=1,\"B\",\"\")","v":""}," "," "," "," "," "," "," "," "," "," "," ",{"$f":"IF(T369=\"\",\"\",\"leave empty\")","v":""},null,null,null,null,null," ",28,88,0,null,false]
[5,"B3","",null,0.01,null,null,{"$f":"IF(AC371=1,\"C\",\"\")","v":""}," "," "," "," "," "," "," "," "," "," "," ",{"$f":"IF(T370=\"\",\"\",\"leave empty\")","v":""},null,null,null,null,null," ",28,88,0,null,false]
[5,"C3","",null,0.01,null,null,{"$f":"IF(AC372=1,\"D\",\"\")","v":""}," "," "," "," "," "," "," "," "," "," "," ","",null,null,null,null,null," ",28,88,0,null,false]
[5,"D3","",null,0.01,null,null,{"$f":"IF(AC373=1,\"E\",\"\")","v":""}," "," "," "," "," "," "," "," "," "," "," ","",null,null,null,null,null," ",28,88,0,null,false]
[5,"E3","",null,0.01,null,null,{"$f":"IF(AC374=1,\"F\",\"\")","v":""}," "," "," "," "," "," "," "," "," "," "," ","",null,null,null,null,null," ",28,88,0,null,false]
[5,"F3","",null,0.01,null,null,{"$f":"IF(AC375=1,\"G\",\"\")","v":""}," "," "," "," "," "," "," "," "," "," "," ","",null,null,null,null,null," ",28,88,0,null,false]
[5,"G3","",null,0.01,null,null,{"$f":"IF(AC376=1,\"H\",\"\")","v":""}," "," "," "," "," "," "," "," "," "," "," ","",null,null,null,null,null," ",28,88,0,null,false]
[5,"H3","",null,0.01,null,null,null,null,null,null,null,null,null,null,null,null,null,null,null,null,null,null,null,null," ",28,88,0,null,false]
[5,"A4","",null,0.01,null,null,null,null,null,null,null,null,null,null,null,null,null,null,null,null,null,null,null,null," ",28,88,0,null,false]
[5,"B4","",null,0.01,null,null,null,null,null,null,null,null,null,null,null,null,null,null,null,null,null,null,null,null," ",28,88,0,null,false]
[5,"C4","",null,0.01,null,null,null,{"$f":"IF(AC381=1,\"Plate \"&TEXT(AA381+1,\"0\"),\"\")","v":""},null,null,null,null,null,null,null,null,null,null,null,null,null,null,null,null," ",28,88,0,null,false]
[5,"D4","",null,0.01,null,null,null,{"$f":"IF($AC381=1,\"1\",\"\")","v":""},{"$f":"IF($AC381=1,\"2\",\"\")","v":""},{"$f":"IF($AC381=1,\"3\",\"\")","v":""},{"$f":"IF($AC381=1,\"4\",\"\")","v":""},{"$f":"IF($AC381=1,\"5\",\"\")","v":""},{"$f":"IF($AC381=1,\"6\",\"\")","v":""},{"$f":"IF($AC381=1,\"7\",\"\")","v":""},{"$f":"IF($AC381=1,\"8\",\"\")","v":""},{"$f":"IF($AC381=1,\"9\",\"\")","v":""},{"$f":"IF($AC381=1,\"10\",\"\")","v":""},{"$f":"IF($AC381=1,\"11\",\"\")","v":""},{"$f":"IF($AC381=1,\"12\",\"\")","v":""},null,null,null,null,null," ",29,88,0,null,false]
[5,"E4","",null,0.01,null,null,{"$f":"IF(AC382=1,\"A\",\"\")","v":""},{"$f":"OFFSET($Z$2,ROW()-StartRow-1-$AA382*PanelHeight+$AA382*WellsInPlate+(COLUMN()-9)*8,0,1,1)","v":" "}," "," "," "," "," "," "," "," "," "," ",{"$f":"IF(COUNTIF(I382:S389,\" \")<88,\"leave empty\",\"\")","v":""},null,null,null,null,null," ",29,88,0,null,false]
[5,"F4","",null,0.01,null,null,{"$f":"IF(AC383=1,\"B\",\"\")","v":""}," "," "," "," "," "," "," "," "," "," "," ",{"$f":"IF(T382=\"\",\"\",\"leave empty\")","v":""},null,null,null,null,null," ",29,88,0,null,false]
[5,"G4","",null,0.01,null,null,{"$f":"IF(AC384=1,\"C\",\"\")","v":""}," "," "," "," "," "," "," "," "," "," "," ",{"$f":"IF(T383=\"\",\"\",\"leave empty\")","v":""},null,null,null,null,null," ",29,88,0,null,false]
[5,"H4","",null,0.01,null,null,{"$f":"IF(AC385=1,\"D\",\"\")","v":""}," "," "," "," "," "," "," "," "," "," "," ","",null,null,null,null,null," ",29,88,0,null,false]
[5,"A5","",null,0.01,null,null,{"$f":"IF(AC386=1,\"E\",\"\")","v":""}," "," "," "," "," "," "," "," "," "," "," ","",null,null,null,null,null," ",29,88,0,null,false]
[5,"B5","",null,0.01,null,null,{"$f":"IF(AC387=1,\"F\",\"\")","v":""}," "," "," "," "," "," "," "," "," "," "," ","",null,null,null,null,null," ",29,88,0,null,false]
[5,"C5","",null,0.01,null,null,{"$f":"IF(AC388=1,\"G\",\"\")","v":""}," "," "," "," "," "," "," "," "," "," "," ","",null,null,null,null,null,{"$f":"IF(LEN(INDEX($1:$1048576,ROW(),4))>0,INDEX($1:$1048576,ROW(),4),\" \")","v":" "},{"$f":"CEILING((ROW()-StartRow+1)/PanelHeight,1)-1","v":29},{"$f":"COUNTBLANK(OFFSET(INDEX($1:$1048576,2,4),AA388*WellsInPlate,0,WellsInPlate,1))","v":88},{"$f":"IF(AB388=WellsInPlate,0,1)","v":0},null,false]
[5,"D5",{"$f":"IF(D389=0,\"\",D389)","v":""},null,0.01,null,null,{"$f":"IF(AC389=1,\"H\",\"\")","v":""}," "," "," "," "," "," "," "," "," "," "," ","",null,null,null,null,null," ",{"$f":"CEILING((ROW()-StartRow+1)/PanelHeight,1)-1","v":29},88,{"$f":"IF(AB389=WellsInPlate,0,1)","v":0},null,false]
[5,"E5","",null,0.01,null,null,null,null,null,null,null,null,null,null,null,null,null,null,null,null,null,null,null,null," ",29,88,0,null,false]
[5,"F5","",null,0.01,null,null,null,null,null,null,null,null,null,null,null,null,null,null,null,null,null,null,null,null," ",29,88,0,null,false]
[5,"G5","",null,0.01,null,null,null,null,null,null,null,null,null,null,null,null,null,null,null,null,null,null,null,null," ",29,88,0,null,false]
[5,"H5","",null,0.01,null,null,null,{"$f":"IF(AC394=1,\"Plate \"&TEXT(AA394+1,\"0\"),\"\")","v":""},null,null,null,null,null,null,null,null,null,null,null,null,null,null,null,null," ",29,88,0,null,false]
[5,"A6","",null,0.01,null,null,null,{"$f":"IF($AC394=1,\"1\",\"\")","v":""},{"$f":"IF($AC394=1,\"2\",\"\")","v":""},{"$f":"IF($AC394=1,\"3\",\"\")","v":""},{"$f":"IF($AC394=1,\"4\",\"\")","v":""},{"$f":"IF($AC394=1,\"5\",\"\")","v":""},{"$f":"IF($AC394=1,\"6\",\"\")","v":""},{"$f":"IF($AC394=1,\"7\",\"\")","v":""},{"$f":"IF($AC394=1,\"8\",\"\")","v":""},{"$f":"IF($AC394=1,\"9\",\"\")","v":""},{"$f":"IF($AC394=1,\"10\",\"\")","v":""},{"$f":"IF($AC394=1,\"11\",\"\")","v":""},{"$f":"IF($AC394=1,\"12\",\"\")","v":""},null,null,null,null,null," ",30,88,0,null,false]
[5,"B6","",null,0.01,null,null,{"$f":"IF(AC395=1,\"A\",\"\")","v":""},{"$f":"OFFSET($Z$2,ROW()-StartRow-1-$AA395*PanelHeight+$AA395*WellsInPlate+(COLUMN()-9)*8,0,1,1)","v":" "}," "," "," "," "," "," "," "," "," "," ",{"$f":"IF(COUNTIF(I395:S402,\" \")<88,\"leave empty\",\"\")","v":""},null,null,null,null,null," ",30,88,0,null,false]
[5,"C6","",null,0.01,null,null,{"$f":"IF(AC396=1,\"B\",\"\")","v":""}," "," "," "," "," "," "," "," "," "," "," ",{"$f":"IF(T395=\"\",\"\",\"leave empty\")","v":""},null,null,null,null,null," ",30,88,0,null,false]
[5,"D6","",null,0.01,null,null,{"$f":"IF(AC397=1,\"C\",\"\")","v":""}," "," "," "," "," "," "," "," "," "," "," ",{"$f":"IF(T396=\"\",\"\",\"leave empty\")","v":""},null,null,null,null,null," ",30,88,0,null,false]
[5,"E6","",null,0.01,null,null,{"$f":"IF(AC398=1,\"D\",\"\")","v":""}," "," "," "," "," "," "," "," "," "," "," ","",null,null,null,null,null," ",30,88,0,null,false]
[5,"F6","",null,0.01,null,null,{"$f":"IF(AC399=1,\"E\",\"\")","v":""}," "," "," "," "," "," "," "," "," "," "," ","",null,null,null,null,null," ",30,88,0,null,false]
[5,"G6","",null,0.01,null,null,{"$f":"IF(AC400=1,\"F\",\"\")","v":""}," "," "," "," "," "," "," "," "," "," "," ","",null,null,null,null,null," ",30,88,0,null,false]
[5,"H6","",null,0.01,null,null,{"$f":"IF(AC401=1,\"G\",\"\")","v":""}," "," "," "," "," "," "," "," "," "," "," ","",null,null,null,null,null," ",30,88,0,null,false]
[5,"A7","",null,0.01,null,null,{"$f":"IF(AC402=1,\"H\",\"\")","v":""}," "," "," "," "," "," "," "," "," "," "," ","",null,null,null,null,null," ",30,88,0,null,false]
[5,"B7","",null,0.01,null,null,null,null,null,null,null,null,null,null,null,null,null,null,null,null,null,null,null,null," ",30,88,0,null,false]
[5,"C7","",null,0.01,null,null,null,null,null,null,null,null,null,null,null,null,null,null,null,null,null,null,null,null," ",30,88,0,null,false]
[5,"D7","",null,0.01,null,null,null,null,null,null,null,null,null,null,null,null,null,null,null,null,null,null,null,null," ",30,88,0,null,false]
[5,"E7","",null,0.01,null,null,null,{"$f":"IF(AC407=1,\"Plate \"&TEXT(AA407+1,\"0\"),\"\")","v":""},null,null,null,null,null,null,null,null,null,null,null,null,null,null,null,null," ",30,88,0,null,false]
[5,"F7","",null,0.01,null,null,null,{"$f":"IF($AC407=1,\"1\",\"\")","v":""},{"$f":"IF($AC407=1,\"2\",\"\")","v":""},{"$f":"IF($AC407=1,\"3\",\"\")","v":""},{"$f":"IF($AC407=1,\"4\",\"\")","v":""},{"$f":"IF($AC407=1,\"5\",\"\")","v":""},{"$f":"IF($AC407=1,\"6\",\"\")","v":""},{"$f":"IF($AC407=1,\"7\",\"\")","v":""},{"$f":"IF($AC407=1,\"8\",\"\")","v":""},{"$f":"IF($AC407=1,\"9\",\"\")","v":""},{"$f":"IF($AC407=1,\"10\",\"\")","v":""},{"$f":"IF($AC407=1,\"11\",\"\")","v":""},{"$f":"IF($AC407=1,\"12\",\"\")","v":""},null,null,null,null,null," ",31,88,0,null,false]
[5,"G7","",null,0.01,null,null,{"$f":"IF(AC408=1,\"A\",\"\")","v":""},{"$f":"OFFSET($Z$2,ROW()-StartRow-1-$AA408*PanelHeight+$AA408*WellsInPlate+(COLUMN()-9)*8,0,1,1)","v":" "}," "," "," "," "," "," "," "," "," "," ",{"$f":"IF(COUNTIF(I408:S415,\" \")<88,\"leave empty\",\"\")","v":""},null,null,null,null,null," ",31,88,0,null,false]
[5,"H7","",null,0.01,null,null,{"$f":"IF(AC409=1,\"B\",\"\")","v":""}," "," "," "," "," "," "," "," "," "," "," ",{"$f":"IF(T408=\"\",\"\",\"leave empty\")","v":""},null,null,null,null,null," ",31,88,0,null,false]
[5,"A8","",null,0.01,null,null,{"$f":"IF(AC410=1,\"C\",\"\")","v":""}," "," "," "," "," "," "," "," "," "," "," ",{"$f":"IF(T409=\"\",\"\",\"leave empty\")","v":""},null,null,null,null,null," ",31,88,0,null,false]
[5,"B8","",null,0.01,null,null,{"$f":"IF(AC411=1,\"D\",\"\")","v":""}," "," "," "," "," "," "," "," "," "," "," ","",null,null,null,null,null," ",31,88,0,null,false]
[5,"C8","",null,0.01,null,null,{"$f":"IF(AC412=1,\"E\",\"\")","v":""}," "," "," "," "," "," "," "," "," "," "," ","",null,null,null,null,null," ",31,88,0,null,false]
[5,"D8","",null,0.01,null,null,{"$f":"IF(AC413=1,\"F\",\"\")","v":""}," "," "," "," "," "," "," "," "," "," "," ","",null,null,null,null,null," ",31,88,0,null,false]
[5,"E8","",null,0.01,null,null,{"$f":"IF(AC414=1,\"G\",\"\")","v":""}," "," "," "," "," "," "," "," "," "," "," ","",null,null,null,null,null," ",31,88,0,null,false]
[5,"F8","",null,0.01,null,null,{"$f":"IF(AC415=1,\"H\",\"\")","v":""}," "," "," "," "," "," "," "," "," "," "," ","",null,null,null,null,null," ",31,88,0,null,false]
[5,"G8","",null,0.01,null,null,null,null,null,null,null,null,null,null,null,null,null,null,null,null,null,null,null,null," ",31,88,0,null,false]
[5,"H8","",null,0.01,null,null,null,null,null,null,null,null,null,null,null,null,null,null,null,null,null,null,null,null," ",31,88,0,null,false]
[5,"A9","",null,0.01,null,null,null,null,null,null,null,null,null,null,null,null,null,null,null,null,null,null,null,null," ",31,88,0,null,{"$f":"IF(COUNTBLANK(D418)=0,A410)","v":false}]
[5,"B9","",null,0.01,null,null,null,{"$f":"IF(AC420=1,\"Plate \"&TEXT(AA420+1,\"0\"),\"\")","v":""},null,null,null,null,null,null,null,null,null,null,null,null,null,null,null,null," ",31,88,0,null,false]
[5,"C9","",null,0.01,null,null,null,{"$f":"IF($AC420=1,\"1\",\"\")","v":""},{"$f":"IF($AC420=1,\"2\",\"\")","v":""},{"$f":"IF($AC420=1,\"3\",\"\")","v":""},{"$f":"IF($AC420=1,\"4\",\"\")","v":""},{"$f":"IF($AC420=1,\"5\",\"\")","v":""},{"$f":"IF($AC420=1,\"6\",\"\")","v":""},{"$f":"IF($AC420=1,\"7\",\"\")","v":""},{"$f":"IF($AC420=1,\"8\",\"\")","v":""},{"$f":"IF($AC420=1,\"9\",\"\")","v":""},{"$f":"IF($AC420=1,\"10\",\"\")","v":""},{"$f":"IF($AC420=1,\"11\",\"\")","v":""},{"$f":"IF($AC420=1,\"12\",\"\")","v":""},null,null,null,null,null," ",32,88,0,null,false]
[5,"D9","",null,0.01,null,null,{"$f":"IF(AC421=1,\"A\",\"\")","v":""},{"$f":"OFFSET($Z$2,ROW()-StartRow-1-$AA421*PanelHeight+$AA421*WellsInPlate+(COLUMN()-9)*8,0,1,1)","v":" "}," "," "," "," "," "," "," "," "," "," ",{"$f":"IF(COUNTIF(I421:S428,\" \")<88,\"leave empty\",\"\")","v":""},null,null,null,null,null," ",{"$f":"CEILING((ROW()-StartRow+1)/PanelHeight,1)-1","v":32},88,{"$f":"IF(AB421=WellsInPlate,0,1)","v":0},null,false]
[5,"E9","",null,0.01,null,null,{"$f":"IF(AC422=1,\"B\",\"\")","v":""}," "," "," "," "," "," "," "," "," "," "," ",{"$f":"IF(T421=\"\",\"\",\"leave empty\")","v":""},null,null,null,null,null," ",32,88,0,null,false]
[5,"F9","",null,0.01,null,null,{"$f":"IF(AC423=1,\"C\",\"\")","v":""}," "," "," "," "," "," "," "," "," "," "," ",{"$f":"IF(T422=\"\",\"\",\"leave empty\")","v":""},null,null,null,null,null," ",32,88,0,null,false]
[5,"G9","",null,0.01,null,null,{"$f":"IF(AC424=1,\"D\",\"\")","v":""}," "," "," "," "," "," "," "," "," "," "," ","",null,null,null,null,null," ",32,88,0,null,false]
[5,"H9","",null,0.01,null,null,{"$f":"IF(AC425=1,\"E\",\"\")","v":""}," "," "," "," "," "," "," "," "," "," "," ","",null,null,null,null,null," ",32,88,0,null,false]
[5,"A10","",null,0.01,null,null,{"$f":"IF(AC426=1,\"F\",\"\")","v":""}," "," "," "," "," "," "," "," "," "," "," ","",null,null,null,null,null," ",32,88,0,null,false]
[5,"B10","",null,0.01,null,null,{"$f":"IF(AC427=1,\"G\",\"\")","v":""}," "," "," "," "," "," "," "," "," "," "," ","",null,null,null,null,null," ",32,88,0,null,false]
[5,"C10","",null,0.01,null,null,{"$f":"IF(AC428=1,\"H\",\"\")","v":""}," "," "," "," "," "," "," "," "," "," "," ","",null,null,null,null,null," ",32,88,0,null,false]
[5,"D10","",null,0.01,null,null,null,null,null,null,null,null,null,null,null,null,null,null,null,null,null,null,null,null," ",32,88,0,null,false]
[5,"E10","",null,0.01,null,null,null,null,null,null,null,null,null,null,null,null,null,null,null,null,null,null,null,null," ",32,88,0,null,false]
[5,"F10","",null,0.01,null,null,null,null,null,null,null,null,null,null,null,null,null,null,null,null,null,null,null,null," ",32,88,0,null,false]
[5,"G10","",null,0.01,null,null,null,{"$f":"IF(AC433=1,\"Plate \"&TEXT(AA433+1,\"0\"),\"\")","v":""},null,null,null,null,null,null,null,null,null,null,null,null,null,null,null,null," ",32,88,0,null,false]
[5,"H10","",null,0.01,null,null,null,{"$f":"IF($AC433=1,\"1\",\"\")","v":""},{"$f":"IF($AC433=1,\"2\",\"\")","v":""},{"$f":"IF($AC433=1,\"3\",\"\")","v":""},{"$f":"IF($AC433=1,\"4\",\"\")","v":""},{"$f":"IF($AC433=1,\"5\",\"\")","v":""},{"$f":"IF($AC433=1,\"6\",\"\")","v":""},{"$f":"IF($AC433=1,\"7\",\"\")","v":""},{"$f":"IF($AC433=1,\"8\",\"\")","v":""},{"$f":"IF($AC433=1,\"9\",\"\")","v":""},{"$f":"IF($AC433=1,\"10\",\"\")","v":""},{"$f":"IF($AC433=1,\"11\",\"\")","v":""},{"$f":"IF($AC433=1,\"12\",\"\")","v":""},null,null,null,null,null," ",33,88,0,null,false]
[5,"A11","",null,0.01,null,null,{"$f":"IF(AC434=1,\"A\",\"\")","v":""},{"$f":"OFFSET($Z$2,ROW()-StartRow-1-$AA434*PanelHeight+$AA434*WellsInPlate+(COLUMN()-9)*8,0,1,1)","v":" "}," "," "," "," "," "," "," "," "," "," ",{"$f":"IF(COUNTIF(I434:S441,\" \")<88,\"leave empty\",\"\")","v":""},null,null,null,null,null," ",33,88,0,null,false]
[5,"B11","",null,0.01,null,null,{"$f":"IF(AC435=1,\"B\",\"\")","v":""}," "," "," "," "," "," "," "," "," "," "," ",{"$f":"IF(T434=\"\",\"\",\"leave empty\")","v":""},null,null,null,null,null," ",33,88,0,null,false]
[5,"C11","",null,0.01,null,null,{"$f":"IF(AC436=1,\"C\",\"\")","v":""}," "," "," "," "," "," "," "," "," "," "," ",{"$f":"IF(T435=\"\",\"\",\"leave empty\")","v":""},null,null,null,null,null," ",33,88,0,null,false]
[5,"D11","",null,0.01,null,null,{"$f":"IF(AC437=1,\"D\",\"\")","v":""}," "," "," "," "," "," "," "," "," "," "," ","",null,null,null,null,null," ",33,88,0,null,false]
[5,"E11","",null,0.01,null,null,{"$f":"IF(AC438=1,\"E\",\"\")","v":""}," "," "," "," "," "," "," "," "," "," "," ","",null,null,null,null,null," ",33,88,0,null,false]
[5,"F11","",null,0.01,null,null,{"$f":"IF(AC439=1,\"F\",\"\")","v":""}," "," "," "," "," "," "," "," "," "," "," ","",null,null,null,null,null," ",33,88,0,null,false]
[5,"G11","",null,0.01,null,null,{"$f":"IF(AC440=1,\"G\",\"\")","v":""}," "," "," "," "," "," "," "," "," "," "," ","",null,null,null,null,null," ",33,88,0,null,false]
[5,"H11","",null,0.01,null,null,{"$f":"IF(AC441=1,\"H\",\"\")","v":""}," "," "," "," "," "," "," "," "," "," "," ","",null,null,null,null,null," ",33,88,0,null,false]
[6,"A1","",null,0.01,null,null,null,null,null,null,null,null,null,null,null,null,null,null,null,null,null,null,null,null," ",33,88,0,null,false]
[6,"B1","",null,0.01,null,null,null,null,null,null,null,null,null,null,null,null,null,null,null,null,null,null,null,null," ",33,88,0,null,false]
[6,"C1","",null,0.01,null,null,null,null,null,null,null,null,null,null,null,null,null,null,null,null,null,null,null,null," ",33,88,0,null,false]
[6,"D1","",null,0.01,null,null,null,{"$f":"IF(AC446=1,\"Plate \"&TEXT(AA446+1,\"0\"),\"\")","v":""},null,null,null,null,null,null,null,null,null,null,null,null,null,null,null,null," ",33,88,0,null,false]
[6,"E1","",null,0.01,null,null,null,{"$f":"IF($AC446=1,\"1\",\"\")","v":""},{"$f":"IF($AC446=1,\"2\",\"\")","v":""},{"$f":"IF($AC446=1,\"3\",\"\")","v":""},{"$f":"IF($AC446=1,\"4\",\"\")","v":""},{"$f":"IF($AC446=1,\"5\",\"\")","v":""},{"$f":"IF($AC446=1,\"6\",\"\")","v":""},{"$f":"IF($AC446=1,\"7\",\"\")","v":""},{"$f":"IF($AC446=1,\"8\",\"\")","v":""},{"$f":"IF($AC446=1,\"9\",\"\")","v":""},{"$f":"IF($AC446=1,\"10\",\"\")","v":""},{"$f":"IF($AC446=1,\"11\",\"\")","v":""},{"$f":"IF($AC446=1,\"12\",\"\")","v":""},null,null,null,null,null," ",34,88,0,null,false]
[6,"F1","",null,0.01,null,null,{"$f":"IF(AC447=1,\"A\",\"\")","v":""},{"$f":"OFFSET($Z$2,ROW()-StartRow-1-$AA447*PanelHeight+$AA447*WellsInPlate+(COLUMN()-9)*8,0,1,1)","v":" "}," "," "," "," "," "," "," "," "," "," ",{"$f":"IF(COUNTIF(I447:S454,\" \")<88,\"leave empty\",\"\")","v":""},null,null,null,null,null," ",34,88,0,null,false]
[6,"G1","",null,0.01,null,null,{"$f":"IF(AC448=1,\"B\",\"\")","v":""}," "," "," "," "," "," "," "," "," "," "," ",{"$f":"IF(T447=\"\",\"\",\"leave empty\")","v":""},null,null,null,null,null," ",34,88,0,null,false]
[6,"H1","",null,0.01,null,null,{"$f":"IF(AC449=1,\"C\",\"\")","v":""}," "," "," "," "," "," "," "," "," "," "," ",{"$f":"IF(T448=\"\",\"\",\"leave empty\")","v":""},null,null,null,null,null," ",34,88,0,null,false]
[6,"A2","",null,0.01,null,null,{"$f":"IF(AC450=1,\"D\",\"\")","v":""}," "," "," "," "," "," "," "," "," "," "," ","",null,null,null,null,null," ",34,88,0,null,false]
[6,"B2","",null,0.01,null,null,{"$f":"IF(AC451=1,\"E\",\"\")","v":""}," "," "," "," "," "," "," "," "," "," "," ","",null,null,null,null,null," ",34,88,0,null,false]
[6,"C2","",null,0.01,null,null,{"$f":"IF(AC452=1,\"F\",\"\")","v":""}," "," "," "," "," "," "," "," "," "," "," ","",null,null,null,null,null,{"$f":"IF(LEN(INDEX($1:$1048576,ROW(),4))>0,INDEX($1:$1048576,ROW(),4),\" \")","v":" "},{"$f":"CEILING((ROW()-StartRow+1)/PanelHeight,1)-1","v":34},{"$f":"COUNTBLANK(OFFSET(INDEX($1:$1048576,2,4),AA452*WellsInPlate,0,WellsInPlate,1))","v":88},{"$f":"IF(AB452=WellsInPlate,0,1)","v":0},null,false]
[6,"D2",{"$f":"IF(D453=0,\"\",D453)","v":""},null,0.01,null,null,{"$f":"IF(AC453=1,\"G\",\"\")","v":""}," "," "," "," "," "," "," "," "," "," "," ","",null,null,null,null,null," ",{"$f":"CEILING((ROW()-StartRow+1)/PanelHeight,1)-1","v":34},88,{"$f":"IF(AB453=WellsInPlate,0,1)","v":0},null,false]
[6,"E2","",null,0.01,null,null,{"$f":"IF(AC454=1,\"H\",\"\")","v":""}," "," "," "," "," "," "," "," "," "," "," ","",null,null,null,null,null," ",34,88,0,null,false]
[6,"F2","",null,0.01,null,null,null,null,null,null,null,null,null,null,null,null,null,null,null,null,null,null,null,null," ",34,88,0,null,false]
[6,"G2","",null,0.01,null,null,null,null,null,null,null,null,null,null,null,null,null,null,null,null,null,null,null,null," ",34,88,0,null,false]
[6,"H2","",null,0.01,null,null,null,null,null,null,null,null,null,null,null,null,null,null,null,null,null,null,null,null," ",34,88,0,null,false]
[6,"A3","",null,0.01,null,null,null,{"$f":"IF(AC459=1,\"Plate \"&TEXT(AA459+1,\"0\"),\"\")","v":""},null,null,null,null,null,null,null,null,null,null,null,null,null,null,null,null," ",34,88,0,null,false]
[6,"B3","",null,0.01,null,null,null,{"$f":"IF($AC459=1,\"1\",\"\")","v":""},{"$f":"IF($AC459=1,\"2\",\"\")","v":""},{"$f":"IF($AC459=1,\"3\",\"\")","v":""},{"$f":"IF($AC459=1,\"4\",\"\")","v":""},{"$f":"IF($AC459=1,\"5\",\"\")","v":""},{"$f":"IF($AC459=1,\"6\",\"\")","v":""},{"$f":"IF($AC459=1,\"7\",\"\")","v":""},{"$f":"IF($AC459=1,\"8\",\"\")","v":""},{"$f":"IF($AC459=1,\"9\",\"\")","v":""},{"$f":"IF($AC459=1,\"10\",\"\")","v":""},{"$f":"IF($AC459=1,\"11\",\"\")","v":""},{"$f":"IF($AC459=1,\"12\",\"\")","v":""},null,null,null,null,null," ",35,88,0,null,false]
[6,"C3","",null,0.01,null,null,{"$f":"IF(AC460=1,\"A\",\"\")","v":""},{"$f":"OFFSET($Z$2,ROW()-StartRow-1-$AA460*PanelHeight+$AA460*WellsInPlate+(COLUMN()-9)*8,0,1,1)","v":" "}," "," "," "," "," "," "," "," "," "," ",{"$f":"IF(COUNTIF(I460:S467,\" \")<88,\"leave empty\",\"\")","v":""},null,null,null,null,null," ",35,88,0,null,false]
[6,"D3","",null,0.01,null,null,{"$f":"IF(AC461=1,\"B\",\"\")","v":""}," "," "," "," "," "," "," "," "," "," "," ",{"$f":"IF(T460=\"\",\"\",\"leave empty\")","v":""},null,null,null,null,null," ",35,88,0,null,false]
[6,"E3","",null,0.01,null,null,{"$f":"IF(AC462=1,\"C\",\"\")","v":""}," "," "," "," "," "," "," "," "," "," "," ",{"$f":"IF(T461=\"\",\"\",\"leave empty\")","v":""},null,null,null,null,null," ",35,88,0,null,false]
[6,"F3","",null,0.01,null,null,{"$f":"IF(AC463=1,\"D\",\"\")","v":""}," "," "," "," "," "," "," "," "," "," "," ","",null,null,null,null,null," ",35,88,0,null,false]
[6,"G3","",null,0.01,null,null,{"$f":"IF(AC464=1,\"E\",\"\")","v":""}," "," "," "," "," "," "," "," "," "," "," ","",null,null,null,null,null," ",35,88,0,null,false]
[6,"H3","",null,0.01,null,null,{"$f":"IF(AC465=1,\"F\",\"\")","v":""}," "," "," "," "," "," "," "," "," "," "," ","",null,null,null,null,null," ",35,88,0,null,false]
[6,"A4","",null,0.01,null,null,{"$f":"IF(AC466=1,\"G\",\"\")","v":""}," "," "," "," "," "," "," "," "," "," "," ","",null,null,null,null,null," ",35,88,0,null,false]
[6,"B4","",null,0.01,null,null,{"$f":"IF(AC467=1,\"H\",\"\")","v":""}," "," "," "," "," "," "," "," "," "," "," ","",null,null,null,null,null," ",35,88,0,null,false]
[6,"C4","",null,0.01,null,null,null,null,null,null,null,null,null,null,null,null,null,null,null,null,null,null,null,null," ",35,88,0,null,false]
[6,"D4","",null,0.01,null,null,null,null,null,null,null,null,null,null,null,null,null,null,null,null,null,null,null,null," ",35,88,0,null,false]
[6,"E4","",null,0.01,null,null,null,null,null,null,null,null,null,null,null,null,null,null,null,null,null,null,null,null," ",35,88,0,null,false]
[6,"F4","",null,0.01,null,null,null,{"$f":"IF(AC472=1,\"Plate \"&TEXT(AA472+1,\"0\"),\"\")","v":""},null,null,null,null,null,null,null,null,null,null,null,null,null,null,null,null," ",35,88,0,null,false]
[6,"G4","",null,0.01,null,null,null,{"$f":"IF($AC472=1,\"1\",\"\")","v":""},{"$f":"IF($AC472=1,\"2\",\"\")","v":""},{"$f":"IF($AC472=1,\"3\",\"\")","v":""},{"$f":"IF($AC472=1,\"4\",\"\")","v":""},{"$f":"IF($AC472=1,\"5\",\"\")","v":""},{"$f":"IF($AC472=1,\"6\",\"\")","v":""},{"$f":"IF($AC472=1,\"7\",\"\")","v":""},{"$f":"IF($AC472=1,\"8\",\"\")","v":""},{"$f":"IF($AC472=1,\"9\",\"\")","v":""},{"$f":"IF($AC472=1,\"10\",\"\")","v":""},{"$f":"IF($AC472=1,\"11\",\"\")","v":""},{"$f":"IF($AC472=1,\"12\",\"\")","v":""},null,null,null,null,null," ",36,88,0,null,false]
[6,"H4","",null,0.01,null,null,{"$f":"IF(AC473=1,\"A\",\"\")","v":""},{"$f":"OFFSET($Z$2,ROW()-StartRow-1-$AA473*PanelHeight+$AA473*WellsInPlate+(COLUMN()-9)*8,0,1,1)","v":" "}," "," "," "," "," "," "," "," "," "," ",{"$f":"IF(COUNTIF(I473:S480,\" \")<88,\"leave empty\",\"\")","v":""},null,null,null,null,null," ",36,88,0,null,false]
[6,"A5","",null,0.01,null,null,{"$f":"IF(AC474=1,\"B\",\"\")","v":""}," "," "," "," "," "," "," "," "," "," "," ",{"$f":"IF(T473=\"\",\"\",\"leave empty\")","v":""},null,null,null,null,null," ",36,88,0,null,false]
[6,"B5","",null,0.01,null,null,{"$f":"IF(AC475=1,\"C\",\"\")","v":""}," "," "," "," "," "," "," "," "," "," "," ",{"$f":"IF(T474=\"\",\"\",\"leave empty\")","v":""},null,null,null,null,null," ",36,88,0,null,false]
[6,"C5","",null,0.01,null,null,{"$f":"IF(AC476=1,\"D\",\"\")","v":""}," "," "," "," "," "," "," "," "," "," "," ","",null,null,null,null,null," ",36,88,0,null,false]
[6,"D5","",null,0.01,null,null,{"$f":"IF(AC477=1,\"E\",\"\")","v":""}," "," "," "," "," "," "," "," "," "," "," ","",null,null,null,null,null," ",36,88,0,null,false]
[6,"E5","",null,0.01,null,null,{"$f":"IF(AC478=1,\"F\",\"\")","v":""}," "," "," "," "," "," "," "," "," "," "," ","",null,null,null,null,null," ",36,88,0,null,false]
[6,"F5","",null,0.01,null,null,{"$f":"IF(AC479=1,\"G\",\"\")","v":""}," "," "," "," "," "," "," "," "," "," "," ","",null,null,null,null,null," ",36,88,0,null,false]
[6,"G5","",null,0.01,null,null,{"$f":"IF(AC480=1,\"H\",\"\")","v":""}," "," "," "," "," "," "," "," "," "," "," ","",null,null,null,null,null," ",36,88,0,null,false]
[6,"H5","",null,0.01,null,null,null,null,null,null,null,null,null,null,null,null,null,null,null,null,null,null,null,null," ",36,88,0,null,false]
[6,"A6","",null,0.01,null,null,null,null,null,null,null,null,null,null,null,null,null,null,null,null,null,null,null,null," ",36,88,0,null,{"$f":"IF(COUNTBLANK(D482)=0,A474)","v":false}]
[6,"B6","",null,0.01,null,null,null,null,null,null,null,null,null,null,null,null,null,null,null,null,null,null,null,null," ",36,88,0,null,false]
[6,"C6","",null,0.01,null,null,null,{"$f":"IF(AC485=1,\"Plate \"&TEXT(AA485+1,\"0\"),\"\")","v":""},null,null,null,null,null,null,null,null,null,null,null,null,null,null,null,null," ",36,88,0,null,false]
[6,"D6","",null,0.01,null,null,null,{"$f":"IF($AC485=1,\"1\",\"\")","v":""},{"$f":"IF($AC485=1,\"2\",\"\")","v":""},{"$f":"IF($AC485=1,\"3\",\"\")","v":""},{"$f":"IF($AC485=1,\"4\",\"\")","v":""},{"$f":"IF($AC485=1,\"5\",\"\")","v":""},{"$f":"IF($AC485=1,\"6\",\"\")","v":""},{"$f":"IF($AC485=1,\"7\",\"\")","v":""},{"$f":"IF($AC485=1,\"8\",\"\")","v":""},{"$f":"IF($AC485=1,\"9\",\"\")","v":""},{"$f":"IF($AC485=1,\"10\",\"\")","v":""},{"$f":"IF($AC485=1,\"11\",\"\")","v":""},{"$f":"IF($AC485=1,\"12\",\"\")","v":""},null,null,null,null,null," ",{"$f":"CEILING((ROW()-StartRow+1)/PanelHeight,1)-1","v":37},88,{"$f":"IF(AB485=WellsInPlate,0,1)","v":0},null,false]
[6,"E6","",null,0.01,null,null,{"$f":"IF(AC486=1,\"A\",\"\")","v":""},{"$f":"OFFSET($Z$2,ROW()-StartRow-1-$AA486*PanelHeight+$AA486*WellsInPlate+(COLUMN()-9)*8,0,1,1)","v":" "}," "," "," "," "," "," "," "," "," "," ",{"$f":"IF(COUNTIF(I486:S493,\" \")<88,\"leave empty\",\"\")","v":""},null,null,null,null,null," ",37,88,0,null,false]
[6,"F6","",null,0.01,null,null,{"$f":"IF(AC487=1,\"B\",\"\")","v":""}," "," "," "," "," "," "," "," "," "," "," ",{"$f":"IF(T486=\"\",\"\",\"leave empty\")","v":""},null,null,null,null,null," ",37,88,0,null,false]
[6,"G6","",null,0.01,null,null,{"$f":"IF(AC488=1,\"C\",\"\")","v":""}," "," "," "," "," "," "," "," "," "," "," ",{"$f":"IF(T487=\"\",\"\",\"leave empty\")","v":""},null,null,null,null,null," ",37,88,0,null,false]
[6,"H6","",null,0.01,null,null,{"$f":"IF(AC489=1,\"D\",\"\")","v":""}," "," "," "," "," "," "," "," "," "," "," ","",null,null,null,null,null," ",37,88,0,null,false]
[6,"A7","",null,0.01,null,null,{"$f":"IF(AC490=1,\"E\",\"\")","v":""}," "," "," "," "," "," "," "," "," "," "," ","",null,null,null,null,null," ",37,88,0,null,false]
[6,"B7","",null,0.01,null,null,{"$f":"IF(AC491=1,\"F\",\"\")","v":""}," "," "," "," "," "," "," "," "," "," "," ","",null,null,null,null,null," ",37,88,0,null,false]
[6,"C7","",null,0.01,null,null,{"$f":"IF(AC492=1,\"G\",\"\")","v":""}," "," "," "," "," "," "," "," "," "," "," ","",null,null,null,null,null," ",37,88,0,null,false]
[6,"D7","",null,0.01,null,null,{"$f":"IF(AC493=1,\"H\",\"\")","v":""}," "," "," "," "," "," "," "," "," "," "," ","",null,null,null,null,null," ",37,88,0,null,false]
[6,"E7","",null,0.01,null,null,null,null,null,null,null,null,null,null,null,null,null,null,null,null,null,null,null,null," ",37,88,0,null,false]
[6,"F7","",null,0.01,null,null,null,null,null,null,null,null,null,null,null,null,null,null,null,null,null,null,null,null," ",37,88,0,null,false]
[6,"G7","",null,0.01,null,null,null,null,null,null,null,null,null,null,null,null,null,null,null,null,null,null,null,null," ",37,88,0,null,false]
[6,"H7","",null,0.01,null,null,null,{"$f":"IF(AC498=1,\"Plate \"&TEXT(AA498+1,\"0\"),\"\")","v":""},null,null,null,null,null,null,null,null,null,null,null,null,null,null,null,null," ",37,88,0,null,false]
[6,"A8","",null,0.01,null,null,null,{"$f":"IF($AC498=1,\"1\",\"\")","v":""},{"$f":"IF($AC498=1,\"2\",\"\")","v":""},{"$f":"IF($AC498=1,\"3\",\"\")","v":""},{"$f":"IF($AC498=1,\"4\",\"\")","v":""},{"$f":"IF($AC498=1,\"5\",\"\")","v":""},{"$f":"IF($AC498=1,\"6\",\"\")","v":""},{"$f":"IF($AC498=1,\"7\",\"\")","v":""},{"$f":"IF($AC498=1,\"8\",\"\")","v":""},{"$f":"IF($AC498=1,\"9\",\"\")","v":""},{"$f":"IF($AC498=1,\"10\",\"\")","v":""},{"$f":"IF($AC498=1,\"11\",\"\")","v":""},{"$f":"IF($AC498=1,\"12\",\"\")","v":""},null,null,null,null,null," ",38,88,0,null,false]
[6,"B8","",null,0.01,null,null,{"$f":"IF(AC499=1,\"A\",\"\")","v":""},{"$f":"OFFSET($Z$2,ROW()-StartRow-1-$AA499*PanelHeight+$AA499*WellsInPlate+(COLUMN()-9)*8,0,1,1)","v":" "}," "," "," "," "," "," "," "," "," "," ",{"$f":"IF(COUNTIF(I499:S506,\" \")<88,\"leave empty\",\"\")","v":""},null,null,null,null,null," ",38,88,0,null,false]
[6,"C8","",null,0.01,null,null,{"$f":"IF(AC500=1,\"B\",\"\")","v":""}," "," "," "," "," "," "," "," "," "," "," ",{"$f":"IF(T499=\"\",\"\",\"leave empty\")","v":""},null,null,null,null,null," ",38,88,0,null,false]
[6,"D8","",null,0.01,null,null,{"$f":"IF(AC501=1,\"C\",\"\")","v":""}," "," "," "," "," "," "," "," "," "," "," ",{"$f":"IF(T500=\"\",\"\",\"leave empty\")","v":""},null,null,null,null,null," ",38,88,0,null,false]
[6,"E8","",null,0.01,null,null,{"$f":"IF(AC502=1,\"D\",\"\")","v":""}," "," "," "," "," "," "," "," "," "," "," ","",null,null,null,null,null," ",38,88,0,null,false]
[6,"F8","",null,0.01,null,null,{"$f":"IF(AC503=1,\"E\",\"\")","v":""}," "," "," "," "," "," "," "," "," "," "," ","",null,null,null,null,null," ",38,88,0,null,false]
[6,"G8","",null,0.01,null,null,{"$f":"IF(AC504=1,\"F\",\"\")","v":""}," "," "," "," "," "," "," "," "," "," "," ","",null,null,null,null,null," ",38,88,0,null,false]
[6,"H8","",null,0.01,null,null,{"$f":"IF(AC505=1,\"G\",\"\")","v":""}," "," "," "," "," "," "," "," "," "," "," ","",null,null,null,null,null," ",38,88,0,null,false]
[6,"A9","",null,0.01,null,null,{"$f":"IF(AC506=1,\"H\",\"\")","v":""}," "," "," "," "," "," "," "," "," "," "," ","",null,null,null,null,null," ",38,88,0,null,false]
[6,"B9","",null,0.01,null,null,null,null,null,null,null,null,null,null,null,null,null,null,null,null,null,null,null,null," ",38,88,0,null,false]
[6,"C9","",null,0.01,null,null,null,null,null,null,null,null,null,null,null,null,null,null,null,null,null,null,null,null," ",38,88,0,null,false]
[6,"D9","",null,0.01,null,null,null,null,null,null,null,null,null,null,null,null,null,null,null,null,null,null,null,null," ",38,88,0,null,false]
[6,"E9","",null,0.01,null,null,null,{"$f":"IF(AC511=1,\"Plate \"&TEXT(AA511+1,\"0\"),\"\")","v":""},null,null,null,null,null,null,null,null,null,null,null,null,null,null,null,null," ",38,88,0,null,false]
[6,"F9","",null,0.01,null,null,null,{"$f":"IF($AC511=1,\"1\",\"\")","v":""},{"$f":"IF($AC511=1,\"2\",\"\")","v":""},{"$f":"IF($AC511=1,\"3\",\"\")","v":""},{"$f":"IF($AC511=1,\"4\",\"\")","v":""},{"$f":"IF($AC511=1,\"5\",\"\")","v":""},{"$f":"IF($AC511=1,\"6\",\"\")","v":""},{"$f":"IF($AC511=1,\"7\",\"\")","v":""},{"$f":"IF($AC511=1,\"8\",\"\")","v":""},{"$f":"IF($AC511=1,\"9\",\"\")","v":""},{"$f":"IF($AC511=1,\"10\",\"\")","v":""},{"$f":"IF($AC511=1,\"11\",\"\")","v":""},{"$f":"IF($AC511=1,\"12\",\"\")","v":""},null,null,null,null,null," ",39,88,0,null,false]
[6,"G9","",null,0.01,null,null,{"$f":"IF(AC512=1,\"A\",\"\")","v":""},{"$f":"OFFSET($Z$2,ROW()-StartRow-1-$AA512*PanelHeight+$AA512*WellsInPlate+(COLUMN()-9)*8,0,1,1)","v":" "}," "," "," "," "," "," "," "," "," "," ",{"$f":"IF(COUNTIF(I512:S519,\" \")<88,\"leave empty\",\"\")","v":""},null,null,null,null,null," ",39,88,0,null,false]
[6,"H9","",null,0.01,null,null,{"$f":"IF(AC513=1,\"B\",\"\")","v":""}," "," "," "," "," "," "," "," "," "," "," ",{"$f":"IF(T512=\"\",\"\",\"leave empty\")","v":""},null,null,null,null,null," ",39,88,0,null,false]
[6,"A10","",null,0.01,null,null,{"$f":"IF(AC514=1,\"C\",\"\")","v":""}," "," "," "," "," "," "," "," "," "," "," ",{"$f":"IF(T513=\"\",\"\",\"leave empty\")","v":""},null,null,null,null,null," ",39,88,0,null,false]
[6,"B10","",null,0.01,null,null,{"$f":"IF(AC515=1,\"D\",\"\")","v":""}," "," "," "," "," "," "," "," "," "," "," ","",null,null,null,null,null," ",39,88,0,null,false]
[6,"C10","",null,0.01,null,null,{"$f":"IF(AC516=1,\"E\",\"\")","v":""}," "," "," "," "," "," "," "," "," "," "," ","",null,null,null,null,null,{"$f":"IF(LEN(INDEX($1:$1048576,ROW(),4))>0,INDEX($1:$1048576,ROW(),4),\" \")","v":" "},{"$f":"CEILING((ROW()-StartRow+1)/PanelHeight,1)-1","v":39},{"$f":"COUNTBLANK(OFFSET(INDEX($1:$1048576,2,4),AA516*WellsInPlate,0,WellsInPlate,1))","v":88},{"$f":"IF(AB516=WellsInPlate,0,1)","v":0},null,false]
[6,"D10",{"$f":"IF(D517=0,\"\",D517)","v":""},null,0.01,null,null,{"$f":"IF(AC517=1,\"F\",\"\")","v":""}," "," "," "," "," "," "," "," "," "," "," ","",null,null,null,null,null," ",{"$f":"CEILING((ROW()-StartRow+1)/PanelHeight,1)-1","v":39},88,{"$f":"IF(AB517=WellsInPlate,0,1)","v":0},null,false]
[6,"E10","",null,0.01,null,null,{"$f":"IF(AC518=1,\"G\",\"\")","v":""}," "," "," "," "," "," "," "," "," "," "," ","",null,null,null,null,null," ",39,88,0,null,false]
[6,"F10","",null,0.01,null,null,{"$f":"IF(AC519=1,\"H\",\"\")","v":""}," "," "," "," "," "," "," "," "," "," "," ","",null,null,null,null,null," ",39,88,0,null,false]
[6,"G10","",null,0.01,null,null,null,null,null,null,null,null,null,null,null,null,null,null,null,null,null,null,null,null," ",39,88,0,null,false]
[6,"H10","",null,0.01,null,null,null,null,null,null,null,null,null,null,null,null,null,null,null,null,null,null,null,null," ",39,88,0,null,false]
[6,"A11","",null,0.01,null,null,null,null,null,null,null,null,null,null,null,null,null,null,null,null,null,null,null,null," ",39,88,0,null,false]
[6,"B11","",null,0.01,null,null,null,{"$f":"IF(AC524=1,\"Plate \"&TEXT(AA524+1,\"0\"),\"\")","v":""},null,null,null,null,null,null,null,null,null,null,null,null,null,null,null,null," ",39,88,0,null,false]
[6,"C11","",null,0.01,null,null,null,{"$f":"IF($AC524=1,\"1\",\"\")","v":""},{"$f":"IF($AC524=1,\"2\",\"\")","v":""},{"$f":"IF($AC524=1,\"3\",\"\")","v":""},{"$f":"IF($AC524=1,\"4\",\"\")","v":""},{"$f":"IF($AC524=1,\"5\",\"\")","v":""},{"$f":"IF($AC524=1,\"6\",\"\")","v":""},{"$f":"IF($AC524=1,\"7\",\"\")","v":""},{"$f":"IF($AC524=1,\"8\",\"\")","v":""},{"$f":"IF($AC524=1,\"9\",\"\")","v":""},{"$f":"IF($AC524=1,\"10\",\"\")","v":""},{"$f":"IF($AC524=1,\"11\",\"\")","v":""},{"$f":"IF($AC524=1,\"12\",\"\")","v":""},null,null,null,null,null," ",40,88,0,null,false]
[6,"D11","",null,0.01,null,null,{"$f":"IF(AC525=1,\"A\",\"\")","v":""},{"$f":"OFFSET($Z$2,ROW()-StartRow-1-$AA525*PanelHeight+$AA525*WellsInPlate+(COLUMN()-9)*8,0,1,1)","v":" "}," "," "," "," "," "," "," "," "," "," ",{"$f":"IF(COUNTIF(I525:S532,\" \")<88,\"leave empty\",\"\")","v":""},null,null,null,null,null," ",40,88,0,null,false]
[6,"E11","",null,0.01,null,null,{"$f":"IF(AC526=1,\"B\",\"\")","v":""}," "," "," "," "," "," "," "," "," "," "," ",{"$f":"IF(T525=\"\",\"\",\"leave empty\")","v":""},null,null,null,null,null," ",40,88,0,null,false]
[6,"F11","",null,0.01,null,null,{"$f":"IF(AC527=1,\"C\",\"\")","v":""}," "," "," "," "," "," "," "," "," "," "," ",{"$f":"IF(T526=\"\",\"\",\"leave empty\")","v":""},null,null,null,null,null," ",40,88,0,null,false]
[6,"G11","",null,0.01,null,null,{"$f":"IF(AC528=1,\"D\",\"\")","v":""}," "," "," "," "," "," "," "," "," "," "," ","",null,null,null,null,null," ",40,88,0,null,false]
[6,"H11","",null,0.01,null,null,{"$f":"IF(AC529=1,\"E\",\"\")","v":""}," "," "," "," "," "," "," "," "," "," "," ","",null,null,null,null,null," ",40,88,0,null,false]
[7,"A1","",null,0.01,null,null,{"$f":"IF(AC530=1,\"F\",\"\")","v":""}," "," "," "," "," "," "," "," "," "," "," ","",null,null,null,null,null," ",40,88,0,null,false]
[7,"B1","",null,0.01,null,null,{"$f":"IF(AC531=1,\"G\",\"\")","v":""}," "," "," "," "," "," "," "," "," "," "," ","",null,null,null,null,null," ",40,88,0,null,false]
[7,"C1","",null,0.01,null,null,{"$f":"IF(AC532=1,\"H\",\"\")","v":""}," "," "," "," "," "," "," "," "," "," "," ","",null,null,null,null,null," ",40,88,0,null,false]
[7,"D1","",null,0.01,null,null,null,null,null,null,null,null,null,null,null,null,null,null,null,null,null,null,null,null," ",40,88,0,null,false]
[7,"E1","",null,0.01,null,null,null,null,null,null,null,null,null,null,null,null,null,null,null,null,null,null,null,null," ",40,88,0,null,false]
[7,"F1","",null,0.01,null,null,null,null,null,null,null,null,null,null,null,null,null,null,null,null,null,null,null,null," ",40,88,0,null,false]
[7,"G1","",null,0.01,null,null,null,{"$f":"IF(AC537=1,\"Plate \"&TEXT(AA537+1,\"0\"),\"\")","v":""},null,null,null,null,null,null,null,null,null,null,null,null,null,null,null,null," ",40,88,0,null,false]
[7,"H1","",null,0.01,null,null,null,{"$f":"IF($AC537=1,\"1\",\"\")","v":""},{"$f":"IF($AC537=1,\"2\",\"\")","v":""},{"$f":"IF($AC537=1,\"3\",\"\")","v":""},{"$f":"IF($AC537=1,\"4\",\"\")","v":""},{"$f":"IF($AC537=1,\"5\",\"\")","v":""},{"$f":"IF($AC537=1,\"6\",\"\")","v":""},{"$f":"IF($AC537=1,\"7\",\"\")","v":""},{"$f":"IF($AC537=1,\"8\",\"\")","v":""},{"$f":"IF($AC537=1,\"9\",\"\")","v":""},{"$f":"IF($AC537=1,\"10\",\"\")","v":""},{"$f":"IF($AC537=1,\"11\",\"\")","v":""},{"$f":"IF($AC537=1,\"12\",\"\")","v":""},null,null,null,null,null," ",41,88,0,null,false]
[7,"A2","",null,0.01,null,null,{"$f":"IF(AC538=1,\"A\",\"\")","v":""},{"$f":"OFFSET($Z$2,ROW()-StartRow-1-$AA538*PanelHeight+$AA538*WellsInPlate+(COLUMN()-9)*8,0,1,1)","v":" "}," "," "," "," "," "," "," "," "," "," ",{"$f":"IF(COUNTIF(I538:S545,\" \")<88,\"leave empty\",\"\")","v":""},null,null,null,null,null," ",41,88,0,null,false]
[7,"B2","",null,0.01,null,null,{"$f":"IF(AC539=1,\"B\",\"\")","v":""}," "," "," "," "," "," "," "," "," "," "," ",{"$f":"IF(T538=\"\",\"\",\"leave empty\")","v":""},null,null,null,null,null," ",41,88,0,null,false]
[7,"C2","",null,0.01,null,null,{"$f":"IF(AC540=1,\"C\",\"\")","v":""}," "," "," "," "," "," "," "," "," "," "," ",{"$f":"IF(T539=\"\",\"\",\"leave empty\")","v":""},null,null,null,null,null," ",41,88,0,null,false]
[7,"D2","",null,0.01,null,null,{"$f":"IF(AC541=1,\"D\",\"\")","v":""}," "," "," "," "," "," "," "," "," "," "," ","",null,null,null,null,null," ",41,88,0,null,false]
[7,"E2","",null,0.01,null,null,{"$f":"IF(AC542=1,\"E\",\"\")","v":""}," "," "," "," "," "," "," "," "," "," "," ","",null,null,null,null,null," ",41,88,0,null,false]
[7,"F2","",null,0.01,null,null,{"$f":"IF(AC543=1,\"F\",\"\")","v":""}," "," "," "," "," "," "," "," "," "," "," ","",null,null,null,null,null," ",41,88,0,null,false]
[7,"G2","",null,0.01,null,null,{"$f":"IF(AC544=1,\"G\",\"\")","v":""}," "," "," "," "," "," "," "," "," "," "," ","",null,null,null,null,null," ",41,88,0,null,false]
[7,"H2","",null,0.01,null,null,{"$f":"IF(AC545=1,\"H\",\"\")","v":""}," "," "," "," "," "," "," "," "," "," "," ","",null,null,null,null,null," ",41,88,0,null,false]
[7,"A3","",null,0.01,null,null,null,null,null,null,null,null,null,null,null,null,null,null,null,null,null,null,null,null," ",41,88,0,null,{"$f":"IF(COUNTBLANK(D546)=0,A538)","v":false}]
[7,"B3","",null,0.01,null,null,null,null,null,null,null,null,null,null,null,null,null,null,null,null,null,null,null,null," ",41,88,0,null,false]
[7,"C3","",null,0.01,null,null,null,null,null,null,null,null,null,null,null,null,null,null,null,null,null,null,null,null," ",41,88,0,null,false]
[7,"D3","",null,0.01,null,null,null,{"$f":"IF(AC550=1,\"Plate \"&TEXT(AA550+1,\"0\"),\"\")","v":""},null,null,null,null,null,null,null,null,null,null,null,null,null,null,null,null," ",{"$f":"CEILING((ROW()-StartRow+1)/PanelHeight,1)-1","v":41},88,{"$f":"IF(AB549=WellsInPlate,0,1)","v":0},null,false]
[7,"E3","",null,0.01,null,null,null,{"$f":"IF($AC550=1,\"1\",\"\")","v":""},{"$f":"IF($AC550=1,\"2\",\"\")","v":""},{"$f":"IF($AC550=1,\"3\",\"\")","v":""},{"$f":"IF($AC550=1,\"4\",\"\")","v":""},{"$f":"IF($AC550=1,\"5\",\"\")","v":""},{"$f":"IF($AC550=1,\"6\",\"\")","v":""},{"$f":"IF($AC550=1,\"7\",\"\")","v":""},{"$f":"IF($AC550=1,\"8\",\"\")","v":""},{"$f":"IF($AC550=1,\"9\",\"\")","v":""},{"$f":"IF($AC550=1,\"10\",\"\")","v":""},{"$f":"IF($AC550=1,\"11\",\"\")","v":""},{"$f":"IF($AC550=1,\"12\",\"\")","v":""},null,null,null,null,null," ",42,88,0,null,false]
[7,"F3","",null,0.01,null,null,{"$f":"IF(AC551=1,\"A\",\"\")","v":""},{"$f":"OFFSET($Z$2,ROW()-StartRow-1-$AA551*PanelHeight+$AA551*WellsInPlate+(COLUMN()-9)*8,0,1,1)","v":" "}," "," "," "," "," "," "," "," "," "," ",{"$f":"IF(COUNTIF(I551:S558,\" \")<88,\"leave empty\",\"\")","v":""},null,null,null,null,null," ",42,88,0,null,false]
[7,"G3","",null,0.01,null,null,{"$f":"IF(AC552=1,\"B\",\"\")","v":""}," "," "," "," "," "," "," "," "," "," "," ",{"$f":"IF(T551=\"\",\"\",\"leave empty\")","v":""},null,null,null,null,null," ",42,88,0,null,false]
[7,"H3","",null,0.01,null,null,{"$f":"IF(AC553=1,\"C\",\"\")","v":""}," "," "," "," "," "," "," "," "," "," "," ",{"$f":"IF(T552=\"\",\"\",\"leave empty\")","v":""},null,null,null,null,null," ",42,88,0,null,false]
[7,"A4","",null,0.01,null,null,{"$f":"IF(AC554=1,\"D\",\"\")","v":""}," "," "," "," "," "," "," "," "," "," "," ","",null,null,null,null,null," ",42,88,0,null,false]
[7,"B4","",null,0.01,null,null,{"$f":"IF(AC555=1,\"E\",\"\")","v":""}," "," "," "," "," "," "," "," "," "," "," ","",null,null,null,null,null," ",42,88,0,null,false]
[7,"C4","",null,0.01,null,null,{"$f":"IF(AC556=1,\"F\",\"\")","v":""}," "," "," "," "," "," "," "," "," "," "," ","",null,null,null,null,null," ",42,88,0,null,false]
[7,"D4","",null,0.01,null,null,{"$f":"IF(AC557=1,\"G\",\"\")","v":""}," "," "," "," "," "," "," "," "," "," "," ","",null,null,null,null,null," ",42,88,0,null,false]
[7,"E4","",null,0.01,null,null,{"$f":"IF(AC558=1,\"H\",\"\")","v":""}," "," "," "," "," "," "," "," "," "," "," ","",null,null,null,null,null," ",42,88,0,null,false]
[7,"F4","",null,0.01,null,null,null,null,null,null,null,null,null,null,null,null,null,null,null,null,null,null,null,null," ",42,88,0,null,false]
[7,"G4","",null,0.01,null,null,null,null,null,null,null,null,null,null,null,null,null,null,null,null,null,null,null,null," ",42,88,0,null,false]
[7,"H4","",null,0.01,null,null,null,null,null,null,null,null,null,null,null,null,null,null,null,null,null,null,null,null," ",42,88,0,null,false]
[7,"A5","",null,0.01,null,null,null,{"$f":"IF(AC563=1,\"Plate \"&TEXT(AA563+1,\"0\"),\"\")","v":""},null,null,null,null,null,null,null,null,null,null,null,null,null,null,null,null," ",42,88,0,null,false]
[7,"B5","",null,0.01,null,null,null,{"$f":"IF($AC563=1,\"1\",\"\")","v":""},{"$f":"IF($AC563=1,\"2\",\"\")","v":""},{"$f":"IF($AC563=1,\"3\",\"\")","v":""},{"$f":"IF($AC563=1,\"4\",\"\")","v":""},{"$f":"IF($AC563=1,\"5\",\"\")","v":""},{"$f":"IF($AC563=1,\"6\",\"\")","v":""},{"$f":"IF($AC563=1,\"7\",\"\")","v":""},{"$f":"IF($AC563=1,\"8\",\"\")","v":""},{"$f":"IF($AC563=1,\"9\",\"\")","v":""},{"$f":"IF($AC563=1,\"10\",\"\")","v":""},{"$f":"IF($AC563=1,\"11\",\"\")","v":""},{"$f":"IF($AC563=1,\"12\",\"\")","v":""},null,null,null,null,null," ",43,88,0,null,false]
[7,"C5","",null,0.01,null,null,{"$f":"IF(AC564=1,\"A\",\"\")","v":""},{"$f":"OFFSET($Z$2,ROW()-StartRow-1-$AA564*PanelHeight+$AA564*WellsInPlate+(COLUMN()-9)*8,0,1,1)","v":" "}," "," "," "," "," "," "," "," "," "," ",{"$f":"IF(COUNTIF(I564:S571,\" \")<88,\"leave empty\",\"\")","v":""},null,null,null,null,null," ",43,88,0,null,false]
[7,"D5","",null,0.01,null,null,{"$f":"IF(AC565=1,\"B\",\"\")","v":""}," "," "," "," "," "," "," "," "," "," "," ",{"$f":"IF(T564=\"\",\"\",\"leave empty\")","v":""},null,null,null,null,null," ",43,88,0,null,false]
[7,"E5","",null,0.01,null,null,{"$f":"IF(AC566=1,\"C\",\"\")","v":""}," "," "," "," "," "," "," "," "," "," "," ",{"$f":"IF(T565=\"\",\"\",\"leave empty\")","v":""},null,null,null,null,null," ",43,88,0,null,false]
[7,"F5","",null,0.01,null,null,{"$f":"IF(AC567=1,\"D\",\"\")","v":""}," "," "," "," "," "," "," "," "," "," "," ","",null,null,null,null,null," ",43,88,0,null,false]
[7,"G5","",null,0.01,null,null,{"$f":"IF(AC568=1,\"E\",\"\")","v":""}," "," "," "," "," "," "," "," "," "," "," ","",null,null,null,null,null," ",43,88,0,null,false]
[7,"H5","",null,0.01,null,null,{"$f":"IF(AC569=1,\"F\",\"\")","v":""}," "," "," "," "," "," "," "," "," "," "," ","",null,null,null,null,null," ",43,88,0,null,false]
[7,"A6","",null,0.01,null,null,{"$f":"IF(AC570=1,\"G\",\"\")","v":""}," "," "," "," "," "," "," "," "," "," "," ","",null,null,null,null,null," ",43,88,0,null,false]
[7,"B6","",null,0.01,null,null,{"$f":"IF(AC571=1,\"H\",\"\")","v":""}," "," "," "," "," "," "," "," "," "," "," ","",null,null,null,null,null," ",43,88,0,null,false]
[7,"C6","",null,0.01,null,null,null,null,null,null,null,null,null,null,null,null,null,null,null,null,null,null,null,null," ",43,88,0,null,false]
[7,"D6","",null,0.01,null,null,null,null,null,null,null,null,null,null,null,null,null,null,null,null,null,null,null,null," ",43,88,0,null,false]
[7,"E6","",null,0.01,null,null,null,null,null,null,null,null,null,null,null,null,null,null,null,null,null,null,null,null," ",43,88,0,null,false]
[7,"F6","",null,0.01,null,null,null,{"$f":"IF(AC576=1,\"Plate \"&TEXT(AA576+1,\"0\"),\"\")","v":""},null,null,null,null,null,null,null,null,null,null,null,null,null,null,null,null," ",43,88,0,null,false]
[7,"G6","",null,0.01,null,null,null,{"$f":"IF($AC576=1,\"1\",\"\")","v":""},{"$f":"IF($AC576=1,\"2\",\"\")","v":""},{"$f":"IF($AC576=1,\"3\",\"\")","v":""},{"$f":"IF($AC576=1,\"4\",\"\")","v":""},{"$f":"IF($AC576=1,\"5\",\"\")","v":""},{"$f":"IF($AC576=1,\"6\",\"\")","v":""},{"$f":"IF($AC576=1,\"7\",\"\")","v":""},{"$f":"IF($AC576=1,\"8\",\"\")","v":""},{"$f":"IF($AC576=1,\"9\",\"\")","v":""},{"$f":"IF($AC576=1,\"10\",\"\")","v":""},{"$f":"IF($AC576=1,\"11\",\"\")","v":""},{"$f":"IF($AC576=1,\"12\",\"\")","v":""},null,null,null,null,null," ",44,88,0,null,false]
[7,"H6","",null,0.01,null,null,{"$f":"IF(AC577=1,\"A\",\"\")","v":""},{"$f":"OFFSET($Z$2,ROW()-StartRow-1-$AA577*PanelHeight+$AA577*WellsInPlate+(COLUMN()-9)*8,0,1,1)","v":" "}," "," "," "," "," "," "," "," "," "," ",{"$f":"IF(COUNTIF(I577:S584,\" \")<88,\"leave empty\",\"\")","v":""},null,null,null,null,null," ",44,88,0,null,false]
[7,"A7","",null,0.01,null,null,{"$f":"IF(AC578=1,\"B\",\"\")","v":""}," "," "," "," "," "," "," "," "," "," "," ",{"$f":"IF(T577=\"\",\"\",\"leave empty\")","v":""},null,null,null,null,null," ",44,88,0,null,false]
[7,"B7","",null,0.01,null,null,{"$f":"IF(AC579=1,\"C\",\"\")","v":""}," "," "," "," "," "," "," "," "," "," "," ",{"$f":"IF(T578=\"\",\"\",\"leave empty\")","v":""},null,null,null,null,null," ",44,88,0,null,false]
[7,"C7","",null,0.01,null,null,{"$f":"IF(AC580=1,\"D\",\"\")","v":""}," "," "," "," "," "," "," "," "," "," "," ","",null,null,null,null,null,{"$f":"IF(LEN(INDEX($1:$1048576,ROW(),4))>0,INDEX($1:$1048576,ROW(),4),\" \")","v":" "},{"$f":"CEILING((ROW()-StartRow+1)/PanelHeight,1)-1","v":44},{"$f":"COUNTBLANK(OFFSET(INDEX($1:$1048576,2,4),AA580*WellsInPlate,0,WellsInPlate,1))","v":88},{"$f":"IF(AB580=WellsInPlate,0,1)","v":0},null,false]
[7,"D7",{"$f":"IF(D581=0,\"\",D581)","v":""},null,0.01,null,null,{"$f":"IF(AC581=1,\"E\",\"\")","v":""}," "," "," "," "," "," "," "," "," "," "," ","",null,null,null,null,null," ",{"$f":"CEILING((ROW()-StartRow+1)/PanelHeight,1)-1","v":44},88,{"$f":"IF(AB581=WellsInPlate,0,1)","v":0},null,false]
[7,"E7","",null,0.01,null,null,{"$f":"IF(AC582=1,\"F\",\"\")","v":""}," "," "," "," "," "," "," "," "," "," "," ","",null,null,null,null,null," ",44,88,0,null,false]
[7,"F7","",null,0.01,null,null,{"$f":"IF(AC583=1,\"G\",\"\")","v":""}," "," "," "," "," "," "," "," "," "," "," ","",null,null,null,null,null," ",44,88,0,null,false]
[7,"G7","",null,0.01,null,null,{"$f":"IF(AC584=1,\"H\",\"\")","v":""}," "," "," "," "," "," "," "," "," "," "," ","",null,null,null,null,null," ",44,88,0,null,false]
[7,"H7","",null,0.01,null,null,null,null,null,null,null,null,null,null,null,null,null,null,null,null,null,null,null,null," ",44,88,0,null,false]
[7,"A8","",null,0.01,null,null,null,null,null,null,null,null,null,null,null,null,null,null,null,null,null,null,null,null," ",44,88,0,null,false]
[7,"B8","",null,0.01,null,null,null,null,null,null,null,null,null,null,null,null,null,null,null,null,null,null,null,null," ",44,88,0,null,false]
[7,"C8","",null,0.01,null,null,null,{"$f":"IF(AC589=1,\"Plate \"&TEXT(AA589+1,\"0\"),\"\")","v":""},null,null,null,null,null,null,null,null,null,null,null,null,null,null,null,null," ",44,88,0,null,false]
[7,"D8","",null,0.01,null,null,null,{"$f":"IF($AC589=1,\"1\",\"\")","v":""},{"$f":"IF($AC589=1,\"2\",\"\")","v":""},{"$f":"IF($AC589=1,\"3\",\"\")","v":""},{"$f":"IF($AC589=1,\"4\",\"\")","v":""},{"$f":"IF($AC589=1,\"5\",\"\")","v":""},{"$f":"IF($AC589=1,\"6\",\"\")","v":""},{"$f":"IF($AC589=1,\"7\",\"\")","v":""},{"$f":"IF($AC589=1,\"8\",\"\")","v":""},{"$f":"IF($AC589=1,\"9\",\"\")","v":""},{"$f":"IF($AC589=1,\"10\",\"\")","v":""},{"$f":"IF($AC589=1,\"11\",\"\")","v":""},{"$f":"IF($AC589=1,\"12\",\"\")","v":""},null,null,null,null,null," ",45,88,0,null,false]
[7,"E8","",null,0.01,null,null,{"$f":"IF(AC590=1,\"A\",\"\")","v":""},{"$f":"OFFSET($Z$2,ROW()-StartRow-1-$AA590*PanelHeight+$AA590*WellsInPlate+(COLUMN()-9)*8,0,1,1)","v":" "}," "," "," "," "," "," "," "," "," "," ",{"$f":"IF(COUNTIF(I590:S597,\" \")<88,\"leave empty\",\"\")","v":""},null,null,null,null,null," ",45,88,0,null,false]
[7,"F8","",null,0.01,null,null,{"$f":"IF(AC591=1,\"B\",\"\")","v":""}," "," "," "," "," "," "," "," "," "," "," ",{"$f":"IF(T590=\"\",\"\",\"leave empty\")","v":""},null,null,null,null,null," ",45,88,0,null,false]
[7,"G8","",null,0.01,null,null,{"$f":"IF(AC592=1,\"C\",\"\")","v":""}," "," "," "," "," "," "," "," "," "," "," ",{"$f":"IF(T591=\"\",\"\",\"leave empty\")","v":""},null,null,null,null,null," ",45,88,0,null,false]
[7,"H8","",null,0.01,null,null,{"$f":"IF(AC593=1,\"D\",\"\")","v":""}," "," "," "," "," "," "," "," "," "," "," ","",null,null,null,null,null," ",45,88,0,null,false]
[7,"A9","",null,0.01,null,null,{"$f":"IF(AC594=1,\"E\",\"\")","v":""}," "," "," "," "," "," "," "," "," "," "," ","",null,null,null,null,null," ",45,88,0,null,false]
[7,"B9","",null,0.01,null,null,{"$f":"IF(AC595=1,\"F\",\"\")","v":""}," "," "," "," "," "," "," "," "," "," "," ","",null,null,null,null,null," ",45,88,0,null,false]
[7,"C9","",null,0.01,null,null,{"$f":"IF(AC596=1,\"G\",\"\")","v":""}," "," "," "," "," "," "," "," "," "," "," ","",null,null,null,null,null," ",45,88,0,null,false]
[7,"D9","",null,0.01,null,null,{"$f":"IF(AC597=1,\"H\",\"\")","v":""}," "," "," "," "," "," "," "," "," "," "," ","",null,null,null,null,null," ",45,88,0,null,false]
[7,"E9","",null,0.01,null,null,null,null,null,null,null,null,null,null,null,null,null,null,null,null,null,null,null,null," ",45,88,0,null,false]
[7,"F9","",null,0.01,null,null,null,null,null,null,null,null,null,null,null,null,null,null,null,null,null,null,null,null," ",45,88,0,null,false]
[7,"G9","",null,0.01,null,null,null,null,null,null,null,null,null,null,null,null,null,null,null,null,null,null,null,null," ",45,88,0,null,false]
[7,"H9","",null,0.01,null,null,null,{"$f":"IF(AC602=1,\"Plate \"&TEXT(AA602+1,\"0\"),\"\")","v":""},null,null,null,null,null,null,null,null,null,null,null,null,null,null,null,null," ",45,88,0,null,false]
[7,"A10","",null,0.01,null,null,null,{"$f":"IF($AC602=1,\"1\",\"\")","v":""},{"$f":"IF($AC602=1,\"2\",\"\")","v":""},{"$f":"IF($AC602=1,\"3\",\"\")","v":""},{"$f":"IF($AC602=1,\"4\",\"\")","v":""},{"$f":"IF($AC602=1,\"5\",\"\")","v":""},{"$f":"IF($AC602=1,\"6\",\"\")","v":""},{"$f":"IF($AC602=1,\"7\",\"\")","v":""},{"$f":"IF($AC602=1,\"8\",\"\")","v":""},{"$f":"IF($AC602=1,\"9\",\"\")","v":""},{"$f":"IF($AC602=1,\"10\",\"\")","v":""},{"$f":"IF($AC602=1,\"11\",\"\")","v":""},{"$f":"IF($AC602=1,\"12\",\"\")","v":""},null,null,null,null,null," ",46,88,0,null,false]
[7,"B10","",null,0.01,null,null,{"$f":"IF(AC603=1,\"A\",\"\")","v":""},{"$f":"OFFSET($Z$2,ROW()-StartRow-1-$AA603*PanelHeight+$AA603*WellsInPlate+(COLUMN()-9)*8,0,1,1)","v":" "}," "," "," "," "," "," "," "," "," "," ",{"$f":"IF(COUNTIF(I603:S610,\" \")<88,\"leave empty\",\"\")","v":""},null,null,null,null,null," ",46,88,0,null,false]
[7,"C10","",null,0.01,null,null,{"$f":"IF(AC604=1,\"B\",\"\")","v":""}," "," "," "," "," "," "," "," "," "," "," ",{"$f":"IF(T603=\"\",\"\",\"leave empty\")","v":""},null,null,null,null,null," ",46,88,0,null,false]
[7,"D10","",null,0.01,null,null,{"$f":"IF(AC605=1,\"C\",\"\")","v":""}," "," "," "," "," "," "," "," "," "," "," ",{"$f":"IF(T604=\"\",\"\",\"leave empty\")","v":""},null,null,null,null,null," ",46,88,0,null,false]
[7,"E10","",null,0.01,null,null,{"$f":"IF(AC606=1,\"D\",\"\")","v":""}," "," "," "," "," "," "," "," "," "," "," ","",null,null,null,null,null," ",46,88,0,null,false]
[7,"F10","",null,0.01,null,null,{"$f":"IF(AC607=1,\"E\",\"\")","v":""}," "," "," "," "," "," "," "," "," "," "," ","",null,null,null,null,null," ",46,88,0,null,false]
[7,"G10","",null,0.01,null,null,{"$f":"IF(AC608=1,\"F\",\"\")","v":""}," "," "," "," "," "," "," "," "," "," "," ","",null,null,null,null,null," ",46,88,0,null,false]
[7,"H10","",null,0.01,null,null,{"$f":"IF(AC609=1,\"G\",\"\")","v":""}," "," "," "," "," "," "," "," "," "," "," ","",null,null,null,null,null," ",46,88,0,null,false]
[7,"A11","",null,0.01,null,null,{"$f":"IF(AC610=1,\"H\",\"\")","v":""}," "," "," "," "," "," "," "," "," "," "," ","",null,null,null,null,null," ",46,88,0,null,{"$f":"IF(COUNTBLANK(D610)=0,A602)","v":false}]
[7,"B11","",null,0.01,null,null,null,null,null,null,null,null,null,null,null,null,null,null,null,null,null,null,null,null," ",46,88,0,null,false]
[7,"C11","",null,0.01,null,null,null,null,null,null,null,null,null,null,null,null,null,null,null,null,null,null,null,null," ",46,88,0,null,false]
[7,"D11","",null,0.01,null,null,null,null,null,null,null,null,null,null,null,null,null,null,null,null,null,null,null,null," ",{"$f":"CEILING((ROW()-StartRow+1)/PanelHeight,1)-1","v":46},88,{"$f":"IF(AB613=WellsInPlate,0,1)","v":0},null,false]
[7,"E11","",null,0.01,null,null,null,{"$f":"IF(AC615=1,\"Plate \"&TEXT(AA615+1,\"0\"),\"\")","v":""},null,null,null,null,null,null,null,null,null,null,null,null,null,null,null,null," ",46,88,0,null,false]
[7,"F11","",null,0.01,null,null,null,{"$f":"IF($AC615=1,\"1\",\"\")","v":""},{"$f":"IF($AC615=1,\"2\",\"\")","v":""},{"$f":"IF($AC615=1,\"3\",\"\")","v":""},{"$f":"IF($AC615=1,\"4\",\"\")","v":""},{"$f":"IF($AC615=1,\"5\",\"\")","v":""},{"$f":"IF($AC615=1,\"6\",\"\")","v":""},{"$f":"IF($AC615=1,\"7\",\"\")","v":""},{"$f":"IF($AC615=1,\"8\",\"\")","v":""},{"$f":"IF($AC615=1,\"9\",\"\")","v":""},{"$f":"IF($AC615=1,\"10\",\"\")","v":""},{"$f":"IF($AC615=1,\"11\",\"\")","v":""},{"$f":"IF($AC615=1,\"12\",\"\")","v":""},null,null,null,null,null," ",47,88,0,null,false]
[7,"G11","",null,0.01,null,null,{"$f":"IF(AC616=1,\"A\",\"\")","v":""},{"$f":"OFFSET($Z$2,ROW()-StartRow-1-$AA616*PanelHeight+$AA616*WellsInPlate+(COLUMN()-9)*8,0,1,1)","v":" "}," "," "," "," "," "," "," "," "," "," ",{"$f":"IF(COUNTIF(I616:S623,\" \")<88,\"leave empty\",\"\")","v":""},null,null,null,null,null," ",47,88,0,null,false]
[7,"H11","",null,0.01,null,null,{"$f":"IF(AC617=1,\"B\",\"\")","v":""}," "," "," "," "," "," "," "," "," "," "," ",{"$f":"IF(T616=\"\",\"\",\"leave empty\")","v":""},null,null,null,null,null," ",47,88,0,null,false]
[8,"A1","",null,0.01,null,null,{"$f":"IF(AC618=1,\"C\",\"\")","v":""}," "," "," "," "," "," "," "," "," "," "," ",{"$f":"IF(T617=\"\",\"\",\"leave empty\")","v":""},null,null,null,null,null," ",47,88,0,null,false]
[8,"B1","",null,0.01,null,null,{"$f":"IF(AC619=1,\"D\",\"\")","v":""}," "," "," "," "," "," "," "," "," "," "," ","",null,null,null,null,null," ",47,88,0,null,false]
[8,"C1","",null,0.01,null,null,{"$f":"IF(AC620=1,\"E\",\"\")","v":""}," "," "," "," "," "," "," "," "," "," "," ","",null,null,null,null,null," ",47,88,0,null,false]
[8,"D1","",null,0.01,null,null,{"$f":"IF(AC621=1,\"F\",\"\")","v":""}," "," "," "," "," "," "," "," "," "," "," ","",null,null,null,null,null," ",47,88,0,null,false]
[8,"E1","",null,0.01,null,null,{"$f":"IF(AC622=1,\"G\",\"\")","v":""}," "," "," "," "," "," "," "," "," "," "," ","",null,null,null,null,null," ",47,88,0,null,false]
[8,"F1","",null,0.01,null,null,{"$f":"IF(AC623=1,\"H\",\"\")","v":""}," "," "," "," "," "," "," "," "," "," "," ","",null,null,null,null,null," ",47,88,0,null,false]
[8,"G1","",null,0.01,null,null,null,null,null,null,null,null,null,null,null,null,null,null,null,null,null,null,null,null," ",47,88,0,null,false]
[8,"H1","",null,0.01,null,null,null,null,null,null,null,null,null,null,null,null,null,null,null,null,null,null,null,null," ",47,88,0,null,false]
[8,"A2","",null,0.01,null,null,null,null,null,null,null,null,null,null,null,null,null,null,null,null,null,null,null,null," ",47,88,0,null,false]
[8,"B2","",null,0.01,null,null,null,{"$f":"IF(AC628=1,\"Plate \"&TEXT(AA628+1,\"0\"),\"\")","v":""},null,null,null,null,null,null,null,null,null,null,null,null,null,null,null,null," ",47,88,0,null,false]
[8,"C2","",null,0.01,null,null,null,{"$f":"IF($AC628=1,\"1\",\"\")","v":""},{"$f":"IF($AC628=1,\"2\",\"\")","v":""},{"$f":"IF($AC628=1,\"3\",\"\")","v":""},{"$f":"IF($AC628=1,\"4\",\"\")","v":""},{"$f":"IF($AC628=1,\"5\",\"\")","v":""},{"$f":"IF($AC628=1,\"6\",\"\")","v":""},{"$f":"IF($AC628=1,\"7\",\"\")","v":""},{"$f":"IF($AC628=1,\"8\",\"\")","v":""},{"$f":"IF($AC628=1,\"9\",\"\")","v":""},{"$f":"IF($AC628=1,\"10\",\"\")","v":""},{"$f":"IF($AC628=1,\"11\",\"\")","v":""},{"$f":"IF($AC628=1,\"12\",\"\")","v":""},null,null,null,null,null," ",48,88,0,null,false]
[8,"D2","",null,0.01,null,null,{"$f":"IF(AC629=1,\"A\",\"\")","v":""},{"$f":"OFFSET($Z$2,ROW()-StartRow-1-$AA629*PanelHeight+$AA629*WellsInPlate+(COLUMN()-9)*8,0,1,1)","v":" "}," "," "," "," "," "," "," "," "," "," ",{"$f":"IF(COUNTIF(I629:S636,\" \")<88,\"leave empty\",\"\")","v":""},null,null,null,null,null," ",48,88,0,null,false]
[8,"E2","",null,0.01,null,null,{"$f":"IF(AC630=1,\"B\",\"\")","v":""}," "," "," "," "," "," "," "," "," "," "," ",{"$f":"IF(T629=\"\",\"\",\"leave empty\")","v":""},null,null,null,null,null," ",48,88,0,null,false]
[8,"F2","",null,0.01,null,null,{"$f":"IF(AC631=1,\"C\",\"\")","v":""}," "," "," "," "," "," "," "," "," "," "," ",{"$f":"IF(T630=\"\",\"\",\"leave empty\")","v":""},null,null,null,null,null," ",48,88,0,null,false]
[8,"G2","",null,0.01,null,null,{"$f":"IF(AC632=1,\"D\",\"\")","v":""}," "," "," "," "," "," "," "," "," "," "," ","",null,null,null,null,null," ",48,88,0,null,false]
[8,"H2","",null,0.01,null,null,{"$f":"IF(AC633=1,\"E\",\"\")","v":""}," "," "," "," "," "," "," "," "," "," "," ","",null,null,null,null,null," ",48,88,0,null,false]
[8,"A3","",null,0.01,null,null,{"$f":"IF(AC634=1,\"F\",\"\")","v":""}," "," "," "," "," "," "," "," "," "," "," ","",null,null,null,null,null," ",48,88,0,null,false]
[8,"B3","",null,0.01,null,null,{"$f":"IF(AC635=1,\"G\",\"\")","v":""}," "," "," "," "," "," "," "," "," "," "," ","",null,null,null,null,null," ",48,88,0,null,false]
[8,"C3","",null,0.01,null,null,{"$f":"IF(AC636=1,\"H\",\"\")","v":""}," "," "," "," "," "," "," "," "," "," "," ","",null,null,null,null,null," ",48,88,0,null,false]
[8,"D3","",null,0.01,null,null,null,null,null,null,null,null,null,null,null,null,null,null,null,null,null,null,null,null," ",48,88,0,null,false]
[8,"E3","",null,0.01,null,null,null,null,null,null,null,null,null,null,null,null,null,null,null,null,null,null,null,null," ",48,88,0,null,false]
[8,"F3","",null,0.01,null,null,null,null,null,null,null,null,null,null,null,null,null,null,null,null,null,null,null,null," ",48,88,0,null,false]
[8,"G3","",null,0.01,null,null,null,{"$f":"IF(AC641=1,\"Plate \"&TEXT(AA641+1,\"0\"),\"\")","v":""},null,null,null,null,null,null,null,null,null,null,null,null,null,null,null,null," ",48,88,0,null,false]
[8,"H3","",null,0.01,null,null,null,{"$f":"IF($AC641=1,\"1\",\"\")","v":""},{"$f":"IF($AC641=1,\"2\",\"\")","v":""},{"$f":"IF($AC641=1,\"3\",\"\")","v":""},{"$f":"IF($AC641=1,\"4\",\"\")","v":""},{"$f":"IF($AC641=1,\"5\",\"\")","v":""},{"$f":"IF($AC641=1,\"6\",\"\")","v":""},{"$f":"IF($AC641=1,\"7\",\"\")","v":""},{"$f":"IF($AC641=1,\"8\",\"\")","v":""},{"$f":"IF($AC641=1,\"9\",\"\")","v":""},{"$f":"IF($AC641=1,\"10\",\"\")","v":""},{"$f":"IF($AC641=1,\"11\",\"\")","v":""},{"$f":"IF($AC641=1,\"12\",\"\")","v":""},null,null,null,null,null," ",49,88,0,null,false]
[8,"A4","",null,0.01,null,null,{"$f":"IF(AC642=1,\"A\",\"\")","v":""},{"$f":"OFFSET($Z$2,ROW()-StartRow-1-$AA642*PanelHeight+$AA642*WellsInPlate+(COLUMN()-9)*8,0,1,1)","v":" "}," "," "," "," "," "," "," "," "," "," ",{"$f":"IF(COUNTIF(I642:S649,\" \")<88,\"leave empty\",\"\")","v":""},null,null,null,null,null," ",49,88,0,null,false]
[8,"B4","",null,0.01,null,null,{"$f":"IF(AC643=1,\"B\",\"\")","v":""}," "," "," "," "," "," "," "," "," "," "," ",{"$f":"IF(T642=\"\",\"\",\"leave empty\")","v":""},null,null,null,null,null," ",49,88,0,null,false]
[8,"C4","",null,0.01,null,null,{"$f":"IF(AC644=1,\"C\",\"\")","v":""}," "," "," "," "," "," "," "," "," "," "," ",{"$f":"IF(T643=\"\",\"\",\"leave empty\")","v":""},null,null,null,null,null,{"$f":"IF(LEN(INDEX($1:$1048576,ROW(),4))>0,INDEX($1:$1048576,ROW(),4),\" \")","v":" "},{"$f":"CEILING((ROW()-StartRow+1)/PanelHeight,1)-1","v":49},{"$f":"COUNTBLANK(OFFSET(INDEX($1:$1048576,2,4),AA644*WellsInPlate,0,WellsInPlate,1))","v":88},{"$f":"IF(AB644=WellsInPlate,0,1)","v":0},null,false]
[8,"D4",{"$f":"IF(D645=0,\"\",D645)","v":""},null,0.01,null,null,{"$f":"IF(AC645=1,\"D\",\"\")","v":""}," "," "," "," "," "," "," "," "," "," "," ","",null,null,null,null,null," ",{"$f":"CEILING((ROW()-StartRow+1)/PanelHeight,1)-1","v":49},88,{"$f":"IF(AB645=WellsInPlate,0,1)","v":0},null,false]
[8,"E4","",null,0.01,null,null,{"$f":"IF(AC646=1,\"E\",\"\")","v":""}," "," "," "," "," "," "," "," "," "," "," ","",null,null,null,null,null," ",49,88,0,null,false]
[8,"F4","",null,0.01,null,null,{"$f":"IF(AC647=1,\"F\",\"\")","v":""}," "," "," "," "," "," "," "," "," "," "," ","",null,null,null,null,null," ",49,88,0,null,false]
[8,"G4","",null,0.01,null,null,{"$f":"IF(AC648=1,\"G\",\"\")","v":""}," "," "," "," "," "," "," "," "," "," "," ","",null,null,null,null,null," ",49,88,0,null,false]
[8,"H4","",null,0.01,null,null,{"$f":"IF(AC649=1,\"H\",\"\")","v":""}," "," "," "," "," "," "," "," "," "," "," ","",null,null,null,null,null," ",49,88,0,null,false]
[8,"A5","",null,0.01,null,null,null,null,null,null,null,null,null,null,null,null,null,null,null,null,null,null,null,null," ",49,88,0,null,false]
[8,"B5","",null,0.01,null,null,null,null,null,null,null,null,null,null,null,null,null,null,null,null,null,null,null,null," ",49,88,0,null,false]
[8,"C5","",null,0.01,null,null,null,null,null,null,null,null,null,null,null,null,null,null,null,null,null,null,null,null," ",49,88,0,null,false]
[8,"D5","",null,0.01,null,null,null,{"$f":"IF(AC654=1,\"Plate \"&TEXT(AA654+1,\"0\"),\"\")","v":""},null,null,null,null,null,null,null,null,null,null,null,null,null,null,null,null," ",49,88,0,null,false]
[8,"E5","",null,0.01,null,null,null,{"$f":"IF($AC654=1,\"1\",\"\")","v":""},{"$f":"IF($AC654=1,\"2\",\"\")","v":""},{"$f":"IF($AC654=1,\"3\",\"\")","v":""},{"$f":"IF($AC654=1,\"4\",\"\")","v":""},{"$f":"IF($AC654=1,\"5\",\"\")","v":""},{"$f":"IF($AC654=1,\"6\",\"\")","v":""},{"$f":"IF($AC654=1,\"7\",\"\")","v":""},{"$f":"IF($AC654=1,\"8\",\"\")","v":""},{"$f":"IF($AC654=1,\"9\",\"\")","v":""},{"$f":"IF($AC654=1,\"10\",\"\")","v":""},{"$f":"IF($AC654=1,\"11\",\"\")","v":""},{"$f":"IF($AC654=1,\"12\",\"\")","v":""},null,null,null,null,null," ",50,88,0,null,false]
[8,"F5","",null,0.01,null,null,{"$f":"IF(AC655=1,\"A\",\"\")","v":""},{"$f":"OFFSET($Z$2,ROW()-StartRow-1-$AA655*PanelHeight+$AA655*WellsInPlate+(COLUMN()-9)*8,0,1,1)","v":" "}," "," "," "," "," "," "," "," "," "," ",{"$f":"IF(COUNTIF(I655:S662,\" \")<88,\"leave empty\",\"\")","v":""},null,null,null,null,null," ",50,88,0,null,false]
[8,"G5","",null,0.01,null,null,{"$f":"IF(AC656=1,\"B\",\"\")","v":""}," "," "," "," "," "," "," "," "," "," "," ",{"$f":"IF(T655=\"\",\"\",\"leave empty\")","v":""},null,null,null,null,null," ",50,88,0,null,false]
[8,"H5","",null,0.01,null,null,{"$f":"IF(AC657=1,\"C\",\"\")","v":""}," "," "," "," "," "," "," "," "," "," "," ",{"$f":"IF(T656=\"\",\"\",\"leave empty\")","v":""},null,null,null,null,null," ",50,88,0,null,false]
[8,"A6","",null,0.01,null,null,{"$f":"IF(AC658=1,\"D\",\"\")","v":""}," "," "," "," "," "," "," "," "," "," "," ","",null,null,null,null,null," ",50,88,0,null,false]
[8,"B6","",null,0.01,null,null,{"$f":"IF(AC659=1,\"E\",\"\")","v":""}," "," "," "," "," "," "," "," "," "," "," ","",null,null,null,null,null," ",50,88,0,null,false]
[8,"C6","",null,0.01,null,null,{"$f":"IF(AC660=1,\"F\",\"\")","v":""}," "," "," "," "," "," "," "," "," "," "," ","",null,null,null,null,null," ",50,88,0,null,false]
[8,"D6","",null,0.01,null,null,{"$f":"IF(AC661=1,\"G\",\"\")","v":""}," "," "," "," "," "," "," "," "," "," "," ","",null,null,null,null,null," ",50,88,0,null,false]
[8,"E6","",null,0.01,null,null,{"$f":"IF(AC662=1,\"H\",\"\")","v":""}," "," "," "," "," "," "," "," "," "," "," ","",null,null,null,null,null," ",50,88,0,null,false]
[8,"F6","",null,0.01,null,null,null,null,null,null,null,null,null,null,null,null,null,null,null,null,null,null,null,null," ",50,88,0,null,false]
[8,"G6","",null,0.01,null,null,null,null,null,null,null,null,null,null,null,null,null,null,null,null,null,null,null,null," ",50,88,0,null,false]
[8,"H6","",null,0.01,null,null,null,null,null,null,null,null,null,null,null,null,null,null,null,null,null,null,null,null," ",50,88,0,null,false]
[8,"A7","",null,0.01,null,null,null,{"$f":"IF(AC667=1,\"Plate \"&TEXT(AA667+1,\"0\"),\"\")","v":""},null,null,null,null,null,null,null,null,null,null,null,null,null,null,null,null," ",50,88,0,null,false]
[8,"B7","",null,0.01,null,null,null,{"$f":"IF($AC667=1,\"1\",\"\")","v":""},{"$f":"IF($AC667=1,\"2\",\"\")","v":""},{"$f":"IF($AC667=1,\"3\",\"\")","v":""},{"$f":"IF($AC667=1,\"4\",\"\")","v":""},{"$f":"IF($AC667=1,\"5\",\"\")","v":""},{"$f":"IF($AC667=1,\"6\",\"\")","v":""},{"$f":"IF($AC667=1,\"7\",\"\")","v":""},{"$f":"IF($AC667=1,\"8\",\"\")","v":""},{"$f":"IF($AC667=1,\"9\",\"\")","v":""},{"$f":"IF($AC667=1,\"10\",\"\")","v":""},{"$f":"IF($AC667=1,\"11\",\"\")","v":""},{"$f":"IF($AC667=1,\"12\",\"\")","v":""},null,null,null,null,null," ",51,88,0,null,false]
[8,"C7","",null,0.01,null,null,{"$f":"IF(AC668=1,\"A\",\"\")","v":""},{"$f":"OFFSET($Z$2,ROW()-StartRow-1-$AA668*PanelHeight+$AA668*WellsInPlate+(COLUMN()-9)*8,0,1,1)","v":" "}," "," "," "," "," "," "," "," "," "," ",{"$f":"IF(COUNTIF(I668:S675,\" \")<88,\"leave empty\",\"\")","v":""},null,null,null,null,null," ",51,88,0,null,false]
[8,"D7","",null,0.01,null,null,{"$f":"IF(AC669=1,\"B\",\"\")","v":""}," "," "," "," "," "," "," "," "," "," "," ",{"$f":"IF(T668=\"\",\"\",\"leave empty\")","v":""},null,null,null,null,null," ",51,88,0,null,false]
[8,"E7","",null,0.01,null,null,{"$f":"IF(AC670=1,\"C\",\"\")","v":""}," "," "," "," "," "," "," "," "," "," "," ",{"$f":"IF(T669=\"\",\"\",\"leave empty\")","v":""},null,null,null,null,null," ",51,88,0,null,false]
[8,"F7","",null,0.01,null,null,{"$f":"IF(AC671=1,\"D\",\"\")","v":""}," "," "," "," "," "," "," "," "," "," "," ","",null,null,null,null,null," ",51,88,0,null,false]
[8,"G7","",null,0.01,null,null,{"$f":"IF(AC672=1,\"E\",\"\")","v":""}," "," "," "," "," "," "," "," "," "," "," ","",null,null,null,null,null," ",51,88,0,null,false]
[8,"H7","",null,0.01,null,null,{"$f":"IF(AC673=1,\"F\",\"\")","v":""}," "," "," "," "," "," "," "," "," "," "," ","",null,null,null,null,null," ",51,88,0,null,false]
[8,"A8","",null,0.01,null,null,{"$f":"IF(AC674=1,\"G\",\"\")","v":""}," "," "," "," "," "," "," "," "," "," "," ","",null,null,null,null,null," ",51,88,0,null,{"$f":"IF(COUNTBLANK(D674)=0,A666)","v":false}]
[8,"B8","",null,0.01,null,null,{"$f":"IF(AC675=1,\"H\",\"\")","v":""}," "," "," "," "," "," "," "," "," "," "," ","",null,null,null,null,null," ",51,88,0,null,false]
[8,"C8","",null,0.01,null,null,null,null,null,null,null,null,null,null,null,null,null,null,null,null,null,null,null,null," ",51,88,0,null,false]
[8,"D8","",null,0.01,null,null,null,null,null,null,null,null,null,null,null,null,null,null,null,null,null,null,null,null," ",{"$f":"CEILING((ROW()-StartRow+1)/PanelHeight,1)-1","v":51},88,{"$f":"IF(AB677=WellsInPlate,0,1)","v":0},null,false]
[8,"E8","",null,0.01,null,null,null,null,null,null,null,null,null,null,null,null,null,null,null,null,null,null,null,null," ",51,88,0,null,false]
[8,"F8","",null,0.01,null,null,null,{"$f":"IF(AC680=1,\"Plate \"&TEXT(AA680+1,\"0\"),\"\")","v":""},null,null,null,null,null,null,null,null,null,null,null,null,null,null,null,null," ",51,88,0,null,false]
[8,"G8","",null,0.01,null,null,null,{"$f":"IF($AC680=1,\"1\",\"\")","v":""},{"$f":"IF($AC680=1,\"2\",\"\")","v":""},{"$f":"IF($AC680=1,\"3\",\"\")","v":""},{"$f":"IF($AC680=1,\"4\",\"\")","v":""},{"$f":"IF($AC680=1,\"5\",\"\")","v":""},{"$f":"IF($AC680=1,\"6\",\"\")","v":""},{"$f":"IF($AC680=1,\"7\",\"\")","v":""},{"$f":"IF($AC680=1,\"8\",\"\")","v":""},{"$f":"IF($AC680=1,\"9\",\"\")","v":""},{"$f":"IF($AC680=1,\"10\",\"\")","v":""},{"$f":"IF($AC680=1,\"11\",\"\")","v":""},{"$f":"IF($AC680=1,\"12\",\"\")","v":""},null,null,null,null,null," ",52,88,0,null,false]
[8,"H8","",null,0.01,null,null,{"$f":"IF(AC681=1,\"A\",\"\")","v":""},{"$f":"OFFSET($Z$2,ROW()-StartRow-1-$AA681*PanelHeight+$AA681*WellsInPlate+(COLUMN()-9)*8,0,1,1)","v":" "}," "," "," "," "," "," "," "," "," "," ",{"$f":"IF(COUNTIF(I681:S688,\" \")<88,\"leave empty\",\"\")","v":""},null,null,null,null,null," ",52,88,0,null,false]
[8,"A9","",null,0.01,null,null,{"$f":"IF(AC682=1,\"B\",\"\")","v":""}," "," "," "," "," "," "," "," "," "," "," ",{"$f":"IF(T681=\"\",\"\",\"leave empty\")","v":""},null,null,null,null,null," ",52,88,0,null,false]
[8,"B9","",null,0.01,null,null,{"$f":"IF(AC683=1,\"C\",\"\")","v":""}," "," "," "," "," "," "," "," "," "," "," ",{"$f":"IF(T682=\"\",\"\",\"leave empty\")","v":""},null,null,null,null,null," ",52,88,0,null,false]
[8,"C9","",null,0.01,null,null,{"$f":"IF(AC684=1,\"D\",\"\")","v":""}," "," "," "," "," "," "," "," "," "," "," ","",null,null,null,null,null," ",52,88,0,null,false]
[8,"D9","",null,0.01,null,null,{"$f":"IF(AC685=1,\"E\",\"\")","v":""}," "," "," "," "," "," "," "," "," "," "," ","",null,null,null,null,null," ",52,88,0,null,false]
[8,"E9","",null,0.01,null,null,{"$f":"IF(AC686=1,\"F\",\"\")","v":""}," "," "," "," "," "," "," "," "," "," "," ","",null,null,null,null,null," ",52,88,0,null,false]
[8,"F9","",null,0.01,null,null,{"$f":"IF(AC687=1,\"G\",\"\")","v":""}," "," "," "," "," "," "," "," "," "," "," ","",null,null,null,null,null," ",52,88,0,null,false]
[8,"G9","",null,0.01,null,null,{"$f":"IF(AC688=1,\"H\",\"\")","v":""}," "," "," "," "," "," "," "," "," "," "," ","",null,null,null,null,null," ",52,88,0,null,false]
[8,"H9","",null,0.01,null,null,null,null,null,null,null,null,null,null,null,null,null,null,null,null,null,null,null,null," ",52,88,0,null,false]
[8,"A10","",null,0.01,null,null,null,null,null,null,null,null,null,null,null,null,null,null,null,null,null,null,null,null," ",52,88,0,null,false]
[8,"B10","",null,0.01,null,null,null,null,null,null,null,null,null,null,null,null,null,null,null,null,null,null,null,null," ",52,88,0,null,false]
[8,"C10","",null,0.01,null,null,null,{"$f":"IF(AC693=1,\"Plate \"&TEXT(AA693+1,\"0\"),\"\")","v":""},null,null,null,null,null,null,null,null,null,null,null,null,null,null,null,null," ",52,88,0,null,false]
[8,"D10","",null,0.01,null,null,null,{"$f":"IF($AC693=1,\"1\",\"\")","v":""},{"$f":"IF($AC693=1,\"2\",\"\")","v":""},{"$f":"IF($AC693=1,\"3\",\"\")","v":""},{"$f":"IF($AC693=1,\"4\",\"\")","v":""},{"$f":"IF($AC693=1,\"5\",\"\")","v":""},{"$f":"IF($AC693=1,\"6\",\"\")","v":""},{"$f":"IF($AC693=1,\"7\",\"\")","v":""},{"$f":"IF($AC693=1,\"8\",\"\")","v":""},{"$f":"IF($AC693=1,\"9\",\"\")","v":""},{"$f":"IF($AC693=1,\"10\",\"\")","v":""},{"$f":"IF($AC693=1,\"11\",\"\")","v":""},{"$f":"IF($AC693=1,\"12\",\"\")","v":""},null,null,null,null,null," ",53,88,0,null,false]
[8,"E10","",null,0.01,null,null,{"$f":"IF(AC694=1,\"A\",\"\")","v":""},{"$f":"OFFSET($Z$2,ROW()-StartRow-1-$AA694*PanelHeight+$AA694*WellsInPlate+(COLUMN()-9)*8,0,1,1)","v":" "}," "," "," "," "," "," "," "," "," "," ",{"$f":"IF(COUNTIF(I694:S701,\" \")<88,\"leave empty\",\"\")","v":""},null,null,null,null,null," ",53,88,0,null,false]
[8,"F10","",null,0.01,null,null,{"$f":"IF(AC695=1,\"B\",\"\")","v":""}," "," "," "," "," "," "," "," "," "," "," ",{"$f":"IF(T694=\"\",\"\",\"leave empty\")","v":""},null,null,null,null,null," ",53,88,0,null,false]
[8,"G10","",null,0.01,null,null,{"$f":"IF(AC696=1,\"C\",\"\")","v":""}," "," "," "," "," "," "," "," "," "," "," ",{"$f":"IF(T695=\"\",\"\",\"leave empty\")","v":""},null,null,null,null,null," ",53,88,0,null,false]
[8,"H10","",null,0.01,null,null,{"$f":"IF(AC697=1,\"D\",\"\")","v":""}," "," "," "," "," "," "," "," "," "," "," ","",null,null,null,null,null," ",53,88,0,null,false]
[8,"A11","",null,0.01,null,null,{"$f":"IF(AC698=1,\"E\",\"\")","v":""}," "," "," "," "," "," "," "," "," "," "," ","",null,null,null,null,null," ",53,88,0,null,false]
[8,"B11","",null,0.01,null,null,{"$f":"IF(AC699=1,\"F\",\"\")","v":""}," "," "," "," "," "," "," "," "," "," "," ","",null,null,null,null,null," ",53,88,0,null,false]
[8,"C11","",null,0.01,null,null,{"$f":"IF(AC700=1,\"G\",\"\")","v":""}," "," "," "," "," "," "," "," "," "," "," ","",null,null,null,null,null," ",53,88,0,null,false]
[8,"D11","",null,0.01,null,null,{"$f":"IF(AC701=1,\"H\",\"\")","v":""}," "," "," "," "," "," "," "," "," "," "," ","",null,null,null,null,null," ",53,88,0,null,false]
[8,"E11","",null,0.01,null,null,null,null,null,null,null,null,null,null,null,null,null,null,null,null,null,null,null,null," ",53,88,0,null,false]
[8,"F11","",null,0.01,null,null,null,null,null,null,null,null,null,null,null,null,null,null,null,null,null,null,null,null," ",53,88,0,null,false]
[8,"G11","",null,0.01,null,null,null,null,null,null,null,null,null,null,null,null,null,null,null,null,null,null,null,null," ",53,88,0,null,false]
[8,"H11","",null,0.01,null,null,null,{"$f":"IF(AC706=1,\"Plate \"&TEXT(AA706+1,\"0\"),\"\")","v":""},null,null,null,null,null,null,null,null,null,null,null,null,null,null,null,null," ",53,88,0,null,false]
[9,"A1","",null,0.01,null,null,null,{"$f":"IF($AC706=1,\"1\",\"\")","v":""},{"$f":"IF($AC706=1,\"2\",\"\")","v":""},{"$f":"IF($AC706=1,\"3\",\"\")","v":""},{"$f":"IF($AC706=1,\"4\",\"\")","v":""},{"$f":"IF($AC706=1,\"5\",\"\")","v":""},{"$f":"IF($AC706=1,\"6\",\"\")","v":""},{"$f":"IF($AC706=1,\"7\",\"\")","v":""},{"$f":"IF($AC706=1,\"8\",\"\")","v":""},{"$f":"IF($AC706=1,\"9\",\"\")","v":""},{"$f":"IF($AC706=1,\"10\",\"\")","v":""},{"$f":"IF($AC706=1,\"11\",\"\")","v":""},{"$f":"IF($AC706=1,\"12\",\"\")","v":""},null,null,null,null,null," ",54,88,0,null,false]
[9,"B1","",null,0.01,null,null,{"$f":"IF(AC707=1,\"A\",\"\")","v":""},{"$f":"OFFSET($Z$2,ROW()-StartRow-1-$AA707*PanelHeight+$AA707*WellsInPlate+(COLUMN()-9)*8,0,1,1)","v":" "}," "," "," "," "," "," "," "," "," "," ",{"$f":"IF(COUNTIF(I707:S714,\" \")<88,\"leave empty\",\"\")","v":""},null,null,null,null,null," ",54,88,0,null,false]
[9,"C1","",null,0.01,null,null,{"$f":"IF(AC708=1,\"B\",\"\")","v":""}," "," "," "," "," "," "," "," "," "," "," ",{"$f":"IF(T707=\"\",\"\",\"leave empty\")","v":""},null,null,null,null,null,{"$f":"IF(LEN(INDEX($1:$1048576,ROW(),4))>0,INDEX($1:$1048576,ROW(),4),\" \")","v":" "},{"$f":"CEILING((ROW()-StartRow+1)/PanelHeight,1)-1","v":54},{"$f":"COUNTBLANK(OFFSET(INDEX($1:$1048576,2,4),AA708*WellsInPlate,0,WellsInPlate,1))","v":88},{"$f":"IF(AB708=WellsInPlate,0,1)","v":0},null,false]
[9,"D1",{"$f":"IF(D709=0,\"\",D709)","v":""},null,0.01,null,null,{"$f":"IF(AC709=1,\"C\",\"\")","v":""}," "," "," "," "," "," "," "," "," "," "," ",{"$f":"IF(T708=\"\",\"\",\"leave empty\")","v":""},null,null,null,null,null," ",{"$f":"CEILING((ROW()-StartRow+1)/PanelHeight,1)-1","v":54},88,{"$f":"IF(AB709=WellsInPlate,0,1)","v":0},null,false]
[9,"E1","",null,0.01,null,null,{"$f":"IF(AC710=1,\"D\",\"\")","v":""}," "," "," "," "," "," "," "," "," "," "," ","",null,null,null,null,null," ",54,88,0,null,false]
[9,"F1","",null,0.01,null,null,{"$f":"IF(AC711=1,\"E\",\"\")","v":""}," "," "," "," "," "," "," "," "," "," "," ","",null,null,null,null,null," ",54,88,0,null,false]
[9,"G1","",null,0.01,null,null,{"$f":"IF(AC712=1,\"F\",\"\")","v":""}," "," "," "," "," "," "," "," "," "," "," ","",null,null,null,null,null," ",54,88,0,null,false]
[9,"H1","",null,0.01,null,null,{"$f":"IF(AC713=1,\"G\",\"\")","v":""}," "," "," "," "," "," "," "," "," "," "," ","",null,null,null,null,null," ",54,88,0,null,false]
[9,"A2","",null,0.01,null,null,{"$f":"IF(AC714=1,\"H\",\"\")","v":""}," "," "," "," "," "," "," "," "," "," "," ","",null,null,null,null,null," ",54,88,0,null,false]
[9,"B2","",null,0.01,null,null,null,null,null,null,null,null,null,null,null,null,null,null,null,null,null,null,null,null," ",54,88,0,null,false]
[9,"C2","",null,0.01,null,null,null,null,null,null,null,null,null,null,null,null,null,null,null,null,null,null,null,null," ",54,88,0,null,false]
[9,"D2","",null,0.01,null,null,null,null,null,null,null,null,null,null,null,null,null,null,null,null,null,null,null,null," ",54,88,0,null,false]
[9,"E2","",null,0.01,null,null,null,{"$f":"IF(AC719=1,\"Plate \"&TEXT(AA719+1,\"0\"),\"\")","v":""},null,null,null,null,null,null,null,null,null,null,null,null,null,null,null,null," ",54,88,0,null,false]
[9,"F2","",null,0.01,null,null,null,{"$f":"IF($AC719=1,\"1\",\"\")","v":""},{"$f":"IF($AC719=1,\"2\",\"\")","v":""},{"$f":"IF($AC719=1,\"3\",\"\")","v":""},{"$f":"IF($AC719=1,\"4\",\"\")","v":""},{"$f":"IF($AC719=1,\"5\",\"\")","v":""},{"$f":"IF($AC719=1,\"6\",\"\")","v":""},{"$f":"IF($AC719=1,\"7\",\"\")","v":""},{"$f":"IF($AC719=1,\"8\",\"\")","v":""},{"$f":"IF($AC719=1,\"9\",\"\")","v":""},{"$f":"IF($AC719=1,\"10\",\"\")","v":""},{"$f":"IF($AC719=1,\"11\",\"\")","v":""},{"$f":"IF($AC719=1,\"12\",\"\")","v":""},null,null,null,null,null," ",55,88,0,null,false]
[9,"G2","",null,0.01,null,null,{"$f":"IF(AC720=1,\"A\",\"\")","v":""},{"$f":"OFFSET($Z$2,ROW()-StartRow-1-$AA720*PanelHeight+$AA720*WellsInPlate+(COLUMN()-9)*8,0,1,1)","v":" "}," "," "," "," "," "," "," "," "," "," ",{"$f":"IF(COUNTIF(I720:S727,\" \")<88,\"leave empty\",\"\")","v":""},null,null,null,null,null," ",55,88,0,null,false]
[9,"H2","",null,0.01,null,null,{"$f":"IF(AC721=1,\"B\",\"\")","v":""}," "," "," "," "," "," "," "," "," "," "," ",{"$f":"IF(T720=\"\",\"\",\"leave empty\")","v":""},null,null,null,null,null," ",55,88,0,null,false]
[9,"A3","",null,0.01,null,null,{"$f":"IF(AC722=1,\"C\",\"\")","v":""}," "," "," "," "," "," "," "," "," "," "," ",{"$f":"IF(T721=\"\",\"\",\"leave empty\")","v":""},null,null,null,null,null," ",55,88,0,null,false]
[9,"B3","",null,0.01,null,null,{"$f":"IF(AC723=1,\"D\",\"\")","v":""}," "," "," "," "," "," "," "," "," "," "," ","",null,null,null,null,null," ",55,88,0,null,false]
[9,"C3","",null,0.01,null,null,{"$f":"IF(AC724=1,\"E\",\"\")","v":""}," "," "," "," "," "," "," "," "," "," "," ","",null,null,null,null,null," ",55,88,0,null,false]
[9,"D3","",null,0.01,null,null,{"$f":"IF(AC725=1,\"F\",\"\")","v":""}," "," "," "," "," "," "," "," "," "," "," ","",null,null,null,null,null," ",55,88,0,null,false]
[9,"E3","",null,0.01,null,null,{"$f":"IF(AC726=1,\"G\",\"\")","v":""}," "," "," "," "," "," "," "," "," "," "," ","",null,null,null,null,null," ",55,88,0,null,false]
[9,"F3","",null,0.01,null,null,{"$f":"IF(AC727=1,\"H\",\"\")","v":""}," "," "," "," "," "," "," "," "," "," "," ","",null,null,null,null,null," ",55,88,0,null,false]
[9,"G3","",null,0.01,null,null,null,null,null,null,null,null,null,null,null,null,null,null,null,null,null,null,null,null," ",55,88,0,null,false]
[9,"H3","",null,0.01,null,null,null,null,null,null,null,null,null,null,null,null,null,null,null,null,null,null,null,null," ",55,88,0,null,false]
[9,"A4","",null,0.01,null,null,null,null,null,null,null,null,null,null,null,null,null,null,null,null,null,null,null,null," ",55,88,0,null,false]
[9,"B4","",null,0.01,null,null,null,{"$f":"IF(AC732=1,\"Plate \"&TEXT(AA732+1,\"0\"),\"\")","v":""},null,null,null,null,null,null,null,null,null,null,null,null,null,null,null,null," ",55,88,0,null,false]
[9,"C4","",null,0.01,null,null,null,{"$f":"IF($AC732=1,\"1\",\"\")","v":""},{"$f":"IF($AC732=1,\"2\",\"\")","v":""},{"$f":"IF($AC732=1,\"3\",\"\")","v":""},{"$f":"IF($AC732=1,\"4\",\"\")","v":""},{"$f":"IF($AC732=1,\"5\",\"\")","v":""},{"$f":"IF($AC732=1,\"6\",\"\")","v":""},{"$f":"IF($AC732=1,\"7\",\"\")","v":""},{"$f":"IF($AC732=1,\"8\",\"\")","v":""},{"$f":"IF($AC732=1,\"9\",\"\")","v":""},{"$f":"IF($AC732=1,\"10\",\"\")","v":""},{"$f":"IF($AC732=1,\"11\",\"\")","v":""},{"$f":"IF($AC732=1,\"12\",\"\")","v":""},null,null,null,null,null," ",56,88,0,null,false]
[9,"D4","",null,0.01,null,null,{"$f":"IF(AC733=1,\"A\",\"\")","v":""},{"$f":"OFFSET($Z$2,ROW()-StartRow-1-$AA733*PanelHeight+$AA733*WellsInPlate+(COLUMN()-9)*8,0,1,1)","v":" "}," "," "," "," "," "," "," "," "," "," ",{"$f":"IF(COUNTIF(I733:S740,\" \")<88,\"leave empty\",\"\")","v":""},null,null,null,null,null," ",56,88,0,null,false]
[9,"E4","",null,0.01,null,null,{"$f":"IF(AC734=1,\"B\",\"\")","v":""}," "," "," "," "," "," "," "," "," "," "," ",{"$f":"IF(T733=\"\",\"\",\"leave empty\")","v":""},null,null,null,null,null," ",56,88,0,null,false]
[9,"F4","",null,0.01,null,null,{"$f":"IF(AC735=1,\"C\",\"\")","v":""}," "," "," "," "," "," "," "," "," "," "," ",{"$f":"IF(T734=\"\",\"\",\"leave empty\")","v":""},null,null,null,null,null," ",56,88,0,null,false]
[9,"G4","",null,0.01,null,null,{"$f":"IF(AC736=1,\"D\",\"\")","v":""}," "," "," "," "," "," "," "," "," "," "," ","",null,null,null,null,null," ",56,88,0,null,false]
[9,"H4","",null,0.01,null,null,{"$f":"IF(AC737=1,\"E\",\"\")","v":""}," "," "," "," "," "," "," "," "," "," "," ","",null,null,null,null,null," ",56,88,0,null,false]
[9,"A5","",null,0.01,null,null,{"$f":"IF(AC738=1,\"F\",\"\")","v":""}," "," "," "," "," "," "," "," "," "," "," ","",null,null,null,null,null," ",56,88,0,null,{"$f":"IF(COUNTBLANK(D738)=0,A730)","v":false}]
[9,"B5","",null,0.01,null,null,{"$f":"IF(AC739=1,\"G\",\"\")","v":""}," "," "," "," "," "," "," "," "," "," "," ","",null,null,null,null,null," ",56,88,0,null,false]
[9,"C5","",null,0.01,null,null,{"$f":"IF(AC740=1,\"H\",\"\")","v":""}," "," "," "," "," "," "," "," "," "," "," ","",null,null,null,null,null," ",56,88,0,null,false]
[9,"D5","",null,0.01,null,null,null,null,null,null,null,null,null,null,null,null,null,null,null,null,null,null,null,null," ",{"$f":"CEILING((ROW()-StartRow+1)/PanelHeight,1)-1","v":56},88,{"$f":"IF(AB741=WellsInPlate,0,1)","v":0},null,false]
[9,"E5","",null,0.01,null,null,null,null,null,null,null,null,null,null,null,null,null,null,null,null,null,null,null,null," ",56,88,0,null,false]
[9,"F5","",null,0.01,null,null,null,null,null,null,null,null,null,null,null,null,null,null,null,null,null,null,null,null," ",56,88,0,null,false]
[9,"G5","",null,0.01,null,null,null,{"$f":"IF(AC745=1,\"Plate \"&TEXT(AA745+1,\"0\"),\"\")","v":""},null,null,null,null,null,null,null,null,null,null,null,null,null,null,null,null," ",56,88,0,null,false]
[9,"H5","",null,0.01,null,null,null,{"$f":"IF($AC745=1,\"1\",\"\")","v":""},{"$f":"IF($AC745=1,\"2\",\"\")","v":""},{"$f":"IF($AC745=1,\"3\",\"\")","v":""},{"$f":"IF($AC745=1,\"4\",\"\")","v":""},{"$f":"IF($AC745=1,\"5\",\"\")","v":""},{"$f":"IF($AC745=1,\"6\",\"\")","v":""},{"$f":"IF($AC745=1,\"7\",\"\")","v":""},{"$f":"IF($AC745=1,\"8\",\"\")","v":""},{"$f":"IF($AC745=1,\"9\",\"\")","v":""},{"$f":"IF($AC745=1,\"10\",\"\")","v":""},{"$f":"IF($AC745=1,\"11\",\"\")","v":""},{"$f":"IF($AC745=1,\"12\",\"\")","v":""},null,null,null,null,null," ",57,88,0,null,false]
[9,"A6","",null,0.01,null,null,{"$f":"IF(AC746=1,\"A\",\"\")","v":""},{"$f":"OFFSET($Z$2,ROW()-StartRow-1-$AA746*PanelHeight+$AA746*WellsInPlate+(COLUMN()-9)*8,0,1,1)","v":" "}," "," "," "," "," "," "," "," "," "," ",{"$f":"IF(COUNTIF(I746:S753,\" \")<88,\"leave empty\",\"\")","v":""},null,null,null,null,null," ",57,88,0,null,false]
[9,"B6","",null,0.01,null,null,{"$f":"IF(AC747=1,\"B\",\"\")","v":""}," "," "," "," "," "," "," "," "," "," "," ",{"$f":"IF(T746=\"\",\"\",\"leave empty\")","v":""},null,null,null,null,null," ",57,88,0,null,false]
[9,"C6","",null,0.01,null,null,{"$f":"IF(AC748=1,\"C\",\"\")","v":""}," "," "," "," "," "," "," "," "," "," "," ",{"$f":"IF(T747=\"\",\"\",\"leave empty\")","v":""},null,null,null,null,null," ",57,88,0,null,false]
[9,"D6","",null,0.01,null,null,{"$f":"IF(AC749=1,\"D\",\"\")","v":""}," "," "," "," "," "," "," "," "," "," "," ","",null,null,null,null,null," ",57,88,0,null,false]
[9,"E6","",null,0.01,null,null,{"$f":"IF(AC750=1,\"E\",\"\")","v":""}," "," "," "," "," "," "," "," "," "," "," ","",null,null,null,null,null," ",57,88,0,null,false]
[9,"F6","",null,0.01,null,null,{"$f":"IF(AC751=1,\"F\",\"\")","v":""}," "," "," "," "," "," "," "," "," "," "," ","",null,null,null,null,null," ",57,88,0,null,false]
[9,"G6","",null,0.01,null,null,{"$f":"IF(AC752=1,\"G\",\"\")","v":""}," "," "," "," "," "," "," "," "," "," "," ","",null,null,null,null,null," ",57,88,0,null,false]
[9,"H6","",null,0.01,null,null,{"$f":"IF(AC753=1,\"H\",\"\")","v":""}," "," "," "," "," "," "," "," "," "," "," ","",null,null,null,null,null," ",57,88,0,null,false]
[9,"A7","",null,0.01,null,null,null,null,null,null,null,null,null,null,null,null,null,null,null,null,null,null,null,null," ",57,88,0,null,false]
[9,"B7","",null,0.01,null,null,null,null,null,null,null,null,null,null,null,null,null,null,null,null,null,null,null,null," ",57,88,0,null,false]
[9,"C7","",null,0.01,null,null,null,null,null,null,null,null,null,null,null,null,null,null,null,null,null,null,null,null," ",57,88,0,null,false]
[9,"D7","",null,0.01,null,null,null,{"$f":"IF(AC758=1,\"Plate \"&TEXT(AA758+1,\"0\"),\"\")","v":""},null,null,null,null,null,null,null,null,null,null,null,null,null,null,null,null," ",57,88,0,null,false]
[9,"E7","",null,0.01,null,null,null,{"$f":"IF($AC758=1,\"1\",\"\")","v":""},{"$f":"IF($AC758=1,\"2\",\"\")","v":""},{"$f":"IF($AC758=1,\"3\",\"\")","v":""},{"$f":"IF($AC758=1,\"4\",\"\")","v":""},{"$f":"IF($AC758=1,\"5\",\"\")","v":""},{"$f":"IF($AC758=1,\"6\",\"\")","v":""},{"$f":"IF($AC758=1,\"7\",\"\")","v":""},{"$f":"IF($AC758=1,\"8\",\"\")","v":""},{"$f":"IF($AC758=1,\"9\",\"\")","v":""},{"$f":"IF($AC758=1,\"10\",\"\")","v":""},{"$f":"IF($AC758=1,\"11\",\"\")","v":""},{"$f":"IF($AC758=1,\"12\",\"\")","v":""},null,null,null,null,null," ",58,88,0,null,false]
[9,"F7","",null,0.01,null,null,{"$f":"IF(AC759=1,\"A\",\"\")","v":""},{"$f":"OFFSET($Z$2,ROW()-StartRow-1-$AA759*PanelHeight+$AA759*WellsInPlate+(COLUMN()-9)*8,0,1,1)","v":" "}," "," "," "," "," "," "," "," "," "," ",{"$f":"IF(COUNTIF(I759:S766,\" \")<88,\"leave empty\",\"\")","v":""},null,null,null,null,null," ",58,88,0,null,false]
[9,"G7","",null,0.01,null,null,{"$f":"IF(AC760=1,\"B\",\"\")","v":""}," "," "," "," "," "," "," "," "," "," "," ",{"$f":"IF(T759=\"\",\"\",\"leave empty\")","v":""},null,null,null,null,null," ",58,88,0,null,false]
[9,"H7","",null,0.01,null,null,{"$f":"IF(AC761=1,\"C\",\"\")","v":""}," "," "," "," "," "," "," "," "," "," "," ",{"$f":"IF(T760=\"\",\"\",\"leave empty\")","v":""},null,null,null,null,null," ",58,88,0,null,false]
[9,"A8","",null,0.01,null,null,{"$f":"IF(AC762=1,\"D\",\"\")","v":""}," "," "," "," "," "," "," "," "," "," "," ","",null,null,null,null,null," ",58,88,0,null,false]
[9,"B8","",null,0.01,null,null,{"$f":"IF(AC763=1,\"E\",\"\")","v":""}," "," "," "," "," "," "," "," "," "," "," ","",null,null,null,null,null," ",58,88,0,null,false]
[9,"C8","",null,0.01,null,null,{"$f":"IF(AC764=1,\"F\",\"\")","v":""}," "," "," "," "," "," "," "," "," "," "," ","",null,null,null,null,null," ",58,88,0,null,false]
[9,"D8","",null,0.01,null,null,{"$f":"IF(AC765=1,\"G\",\"\")","v":""}," "," "," "," "," "," "," "," "," "," "," ","",null,null,null,null,null," ",58,88,0,null,false]
[9,"E8","",null,0.01,null,null,{"$f":"IF(AC766=1,\"H\",\"\")","v":""}," "," "," "," "," "," "," "," "," "," "," ","",null,null,null,null,null," ",58,88,0,null,false]
[9,"F8","",null,0.01,null,null,null,null,null,null,null,null,null,null,null,null,null,null,null,null,null,null,null,null," ",58,88,0,null,false]
[9,"G8","",null,0.01,null,null,null,null,null,null,null,null,null,null,null,null,null,null,null,null,null,null,null,null," ",58,88,0,null,false]
[9,"H8","",null,0.01,null,null,null,null,null,null,null,null,null,null,null,null,null,null,null,null,null,null,null,null," ",58,88,0,null,false]
[9,"A9","",null,0.01,null,null,null,{"$f":"IF(AC771=1,\"Plate \"&TEXT(AA771+1,\"0\"),\"\")","v":""},null,null,null,null,null,null,null,null,null,null,null,null,null,null,null,null," ",58,88,0,null,false]
[9,"B9","",null,0.01,null,null,null,{"$f":"IF($AC771=1,\"1\",\"\")","v":""},{"$f":"IF($AC771=1,\"2\",\"\")","v":""},{"$f":"IF($AC771=1,\"3\",\"\")","v":""},{"$f":"IF($AC771=1,\"4\",\"\")","v":""},{"$f":"IF($AC771=1,\"5\",\"\")","v":""},{"$f":"IF($AC771=1,\"6\",\"\")","v":""},{"$f":"IF($AC771=1,\"7\",\"\")","v":""},{"$f":"IF($AC771=1,\"8\",\"\")","v":""},{"$f":"IF($AC771=1,\"9\",\"\")","v":""},{"$f":"IF($AC771=1,\"10\",\"\")","v":""},{"$f":"IF($AC771=1,\"11\",\"\")","v":""},{"$f":"IF($AC771=1,\"12\",\"\")","v":""},null,null,null,null,null," ",59,88,0,null,false]
[9,"C9","",null,0.01,null,null,{"$f":"IF(AC772=1,\"A\",\"\")","v":""},{"$f":"OFFSET($Z$2,ROW()-StartRow-1-$AA772*PanelHeight+$AA772*WellsInPlate+(COLUMN()-9)*8,0,1,1)","v":" "}," "," "," "," "," "," "," "," "," "," ",{"$f":"IF(COUNTIF(I772:S779,\" \")<88,\"leave empty\",\"\")","v":""},null,null,null,null,null,{"$f":"IF(LEN(INDEX($1:$1048576,ROW(),4))>0,INDEX($1:$1048576,ROW(),4),\" \")","v":" "},{"$f":"CEILING((ROW()-StartRow+1)/PanelHeight,1)-1","v":59},{"$f":"COUNTBLANK(OFFSET(INDEX($1:$1048576,2,4),AA772*WellsInPlate,0,WellsInPlate,1))","v":88},{"$f":"IF(AB772=WellsInPlate,0,1)","v":0},null,false]
[9,"D9",{"$f":"IF(D773=0,\"\",D773)","v":""},null,0.01,null,null,{"$f":"IF(AC773=1,\"B\",\"\")","v":""}," "," "," "," "," "," "," "," "," "," "," ",{"$f":"IF(T772=\"\",\"\",\"leave empty\")","v":""},null,null,null,null,null," ",{"$f":"CEILING((ROW()-StartRow+1)/PanelHeight,1)-1","v":59},88,{"$f":"IF(AB773=WellsInPlate,0,1)","v":0},null,false]
[9,"E9","",null,0.01,null,null,{"$f":"IF(AC774=1,\"C\",\"\")","v":""}," "," "," "," "," "," "," "," "," "," "," ",{"$f":"IF(T773=\"\",\"\",\"leave empty\")","v":""},null,null,null,null,null," ",59,88,0,null,false]
[9,"F9","",null,0.01,null,null,{"$f":"IF(AC775=1,\"D\",\"\")","v":""}," "," "," "," "," "," "," "," "," "," "," ","",null,null,null,null,null," ",59,88,0,null,false]
[9,"G9","",null,0.01,null,null,{"$f":"IF(AC776=1,\"E\",\"\")","v":""}," "," "," "," "," "," "," "," "," "," "," ","",null,null,null,null,null," ",59,88,0,null,false]
[9,"H9","",null,0.01,null,null,{"$f":"IF(AC777=1,\"F\",\"\")","v":""}," "," "," "," "," "," "," "," "," "," "," ","",null,null,null,null,null," ",59,88,0,null,false]
[9,"A10","",null,0.01,null,null,{"$f":"IF(AC778=1,\"G\",\"\")","v":""}," "," "," "," "," "," "," "," "," "," "," ","",null,null,null,null,null," ",59,88,0,null,false]
[9,"B10","",null,0.01,null,null,{"$f":"IF(AC779=1,\"H\",\"\")","v":""}," "," "," "," "," "," "," "," "," "," "," ","",null,null,null,null,null," ",59,88,0,null,false]
[9,"C10","",null,0.01,null,null,null,null,null,null,null,null,null,null,null,null,null,null,null,null,null,null,null,null," ",59,88,0,null,false]
[9,"D10","",null,0.01,null,null,null,null,null,null,null,null,null,null,null,null,null,null,null,null,null,null,null,null," ",59,88,0,null,false]
[9,"E10","",null,0.01,null,null,null,null,null,null,null,null,null,null,null,null,null,null,null,null,null,null,null,null," ",59,88,0,null,false]
[9,"F10","",null,0.01,null,null,null,{"$f":"IF(AC784=1,\"Plate \"&TEXT(AA784+1,\"0\"),\"\")","v":""},null,null,null,null,null,null,null,null,null,null,null,null,null,null,null,null," ",59,88,0,null,false]
[9,"G10","",null,0.01,null,null,null,{"$f":"IF($AC784=1,\"1\",\"\")","v":""},{"$f":"IF($AC784=1,\"2\",\"\")","v":""},{"$f":"IF($AC784=1,\"3\",\"\")","v":""},{"$f":"IF($AC784=1,\"4\",\"\")","v":""},{"$f":"IF($AC784=1,\"5\",\"\")","v":""},{"$f":"IF($AC784=1,\"6\",\"\")","v":""},{"$f":"IF($AC784=1,\"7\",\"\")","v":""},{"$f":"IF($AC784=1,\"8\",\"\")","v":""},{"$f":"IF($AC784=1,\"9\",\"\")","v":""},{"$f":"IF($AC784=1,\"10\",\"\")","v":""},{"$f":"IF($AC784=1,\"11\",\"\")","v":""},{"$f":"IF($AC784=1,\"12\",\"\")","v":""},null,null,null,null,null," ",60,88,0,null,false]
[9,"H10","",null,0.01,null,null,{"$f":"IF(AC785=1,\"A\",\"\")","v":""},{"$f":"OFFSET($Z$2,ROW()-StartRow-1-$AA785*PanelHeight+$AA785*WellsInPlate+(COLUMN()-9)*8,0,1,1)","v":" "}," "," "," "," "," "," "," "," "," "," ",{"$f":"IF(COUNTIF(I785:S792,\" \")<88,\"leave empty\",\"\")","v":""},null,null,null,null,null," ",60,88,0,null,false]
[9,"A11","",null,0.01,null,null,{"$f":"IF(AC786=1,\"B\",\"\")","v":""}," "," "," "," "," "," "," "," "," "," "," ",{"$f":"IF(T785=\"\",\"\",\"leave empty\")","v":""},null,null,null,null,null," ",60,88,0,null,false]
[9,"B11","",null,0.01,null,null,{"$f":"IF(AC787=1,\"C\",\"\")","v":""}," "," "," "," "," "," "," "," "," "," "," ","",null,null,null,null,null," ",60,88,0,null,false]
[9,"C11","",null,0.01,null,null,{"$f":"IF(AC788=1,\"D\",\"\")","v":""}," "," "," "," "," "," "," "," "," "," "," ","",null,null,null,null,null," ",60,88,0,null,false]
[9,"D11","",null,0.01,null,null,{"$f":"IF(AC789=1,\"E\",\"\")","v":""}," "," "," "," "," "," "," "," "," "," "," ","",null,null,null,null,null," ",60,88,0,null,false]
[9,"E11","",null,0.01,null,null,{"$f":"IF(AC790=1,\"F\",\"\")","v":""}," "," "," "," "," "," "," "," "," "," "," ","",null,null,null,null,null," ",60,88,0,null,false]
[9,"F11","",null,0.01,null,null,{"$f":"IF(AC791=1,\"G\",\"\")","v":""}," "," "," "," "," "," "," "," "," "," "," ","",null,null,null,null,null," ",60,88,0,null,false]
[9,"G11","",null,0.01,null,null,{"$f":"IF(AC792=1,\"H\",\"\")","v":""}," "," "," "," "," "," "," "," "," "," "," ","",null,null,null,null,null," ",60,88,0,null,false]
[9,"H11","",null,0.01,null,null,null,null,null,null,null,null,null,null,null,null,null,null,null,null,null,null,null,null," ",60,88,0,null,false]
[10,"A1","",null,0.01,null,null,null,null,null,null,null,null,null,null,null,null,null,null,null,null,null,null,null,null," ",60,88,0,null,false]
[10,"B1","",null,0.01,null,null,null,null,null,null,null,null,null,null,null,null,null,null,null,null,null,null,null,null," ",60,88,0,null,false]
[10,"C1","",null,0.01,null,null,null,{"$f":"IF(AC797=1,\"Plate \"&TEXT(AA797+1,\"0\"),\"\")","v":""},null,null,null,null,null,null,null,null,null,null,null,null,null,null,null,null," ",60,88,0,null,false]
[10,"D1","",null,0.01,null,null,null,{"$f":"IF($AC797=1,\"1\",\"\")","v":""},{"$f":"IF($AC797=1,\"2\",\"\")","v":""},{"$f":"IF($AC797=1,\"3\",\"\")","v":""},{"$f":"IF($AC797=1,\"4\",\"\")","v":""},{"$f":"IF($AC797=1,\"5\",\"\")","v":""},{"$f":"IF($AC797=1,\"6\",\"\")","v":""},{"$f":"IF($AC797=1,\"7\",\"\")","v":""},{"$f":"IF($AC797=1,\"8\",\"\")","v":""},{"$f":"IF($AC797=1,\"9\",\"\")","v":""},{"$f":"IF($AC797=1,\"10\",\"\")","v":""},{"$f":"IF($AC797=1,\"11\",\"\")","v":""},{"$f":"IF($AC797=1,\"12\",\"\")","v":""},null,null,null,null,null," ",61,88,0,null,false]
[10,"E1","",null,0.01,null,null,{"$f":"IF(AC798=1,\"A\",\"\")","v":""}," "," "," "," "," "," "," "," "," "," "," ",{"$f":"IF(COUNTIF(I798:S805,\" \")<88,\"leave empty\",\"\")","v":""},null,null,null,null,null," ",61,88,0,null,false]
[10,"F1","",null,0.01,null,null,{"$f":"IF(AC799=1,\"B\",\"\")","v":""}," "," "," "," "," "," "," "," "," "," "," ",{"$f":"IF(T798=\"\",\"\",\"leave empty\")","v":""},null,null,null,null,null," ",61,88,0,null,false]
[10,"G1","",null,0.01,null,null,{"$f":"IF(AC800=1,\"C\",\"\")","v":""}," "," "," "," "," "," "," "," "," "," "," ","",null,null,null,null,null," ",61,88,0,null,false]
[10,"H1","",null,0.01,null,null,{"$f":"IF(AC801=1,\"D\",\"\")","v":""}," "," "," "," "," "," "," "," "," "," "," ","",null,null,null,null,null," ",61,88,0,null,false]
[10,"A2","",null,0.01,null,null,{"$f":"IF(AC802=1,\"E\",\"\")","v":""}," "," "," "," "," "," "," "," "," "," "," ","",null,null,null,null,null," ",61,88,0,null,{"$f":"IF(COUNTBLANK(D802)=0,A794)","v":false}]
[10,"B2","",null,0.01,null,null,{"$f":"IF(AC803=1,\"F\",\"\")","v":""}," "," "," "," "," "," "," "," "," "," "," ","",null,null,null,null,null," ",61,88,0,null,false]
[10,"C2","",null,0.01,null,null,{"$f":"IF(AC804=1,\"G\",\"\")","v":""}," "," "," "," "," "," "," "," "," "," "," ","",null,null,null,null,null," ",61,88,0,null,false]
[10,"D2","",null,0.01,null,null,{"$f":"IF(AC805=1,\"H\",\"\")","v":""}," "," "," "," "," "," "," "," "," "," "," ","",null,null,null,null,null," ",{"$f":"CEILING((ROW()-StartRow+1)/PanelHeight,1)-1","v":61},88,{"$f":"IF(AB805=WellsInPlate,0,1)","v":0},null,false]
[10,"E2","",null,0.01,null,null,null,null,null,null,null,null,null,null,null,null,null,null,null,null,null,null,null,null," ",61,88,0,null,false]
[10,"F2","",null,0.01,null,null,null,null,null,null,null,null,null,null,null,null,null,null,null,null,null,null,null,null," ",61,88,0,null,false]
[10,"G2","",null,0.01,null,null,null,null,null,null,null,null,null,null,null,null,null,null,null,null,null,null,null,null," ",61,88,0,null,false]
[10,"H2","",null,0.01,null,null,null,{"$f":"IF(AC810=1,\"Plate \"&TEXT(AA810+1,\"0\"),\"\")","v":""},null,null,null,null,null,null,null,null,null,null,null,null,null,null,null,null," ",61,88,0,null,false]
[10,"A3","",null,0.01,null,null,null,{"$f":"IF($AC810=1,\"1\",\"\")","v":""},{"$f":"IF($AC810=1,\"2\",\"\")","v":""},{"$f":"IF($AC810=1,\"3\",\"\")","v":""},{"$f":"IF($AC810=1,\"4\",\"\")","v":""},{"$f":"IF($AC810=1,\"5\",\"\")","v":""},{"$f":"IF($AC810=1,\"6\",\"\")","v":""},{"$f":"IF($AC810=1,\"7\",\"\")","v":""},{"$f":"IF($AC810=1,\"8\",\"\")","v":""},{"$f":"IF($AC810=1,\"9\",\"\")","v":""},{"$f":"IF($AC810=1,\"10\",\"\")","v":""},{"$f":"IF($AC810=1,\"11\",\"\")","v":""},{"$f":"IF($AC810=1,\"12\",\"\")","v":""},null,null,null,null,null," ",62,88,0,null,false]
[10,"B3","",null,0.01,null,null,{"$f":"IF(AC811=1,\"A\",\"\")","v":""},{"$f":"OFFSET($Z$2,ROW()-StartRow-1-$AA811*PanelHeight+$AA811*WellsInPlate+(COLUMN()-9)*8,0,1,1)","v":" "}," "," "," "," "," "," "," "," "," "," ",{"$f":"IF(COUNTIF(I811:S818,\" \")<88,\"leave empty\",\"\")","v":""},null,null,null,null,null," ",62,88,0,null,false]
[10,"C3","",null,0.01,null,null,{"$f":"IF(AC812=1,\"B\",\"\")","v":""}," "," "," "," "," "," "," "," "," "," "," ",{"$f":"IF(T811=\"\",\"\",\"leave empty\")","v":""},null,null,null,null,null," ",62,88,0,null,false]
[10,"D3","",null,0.01,null,null,{"$f":"IF(AC813=1,\"C\",\"\")","v":""}," "," "," "," "," "," "," "," "," "," "," ","",null,null,null,null,null," ",62,88,0,null,false]
[10,"E3","",null,0.01,null,null,{"$f":"IF(AC814=1,\"D\",\"\")","v":""}," "," "," "," "," "," "," "," "," "," "," ","",null,null,null,null,null," ",62,88,0,null,false]
[10,"F3","",null,0.01,null,null,{"$f":"IF(AC815=1,\"E\",\"\")","v":""}," "," "," "," "," "," "," "," "," "," "," ","",null,null,null,null,null," ",62,88,0,null,false]
[10,"G3","",null,0.01,null,null,{"$f":"IF(AC816=1,\"F\",\"\")","v":""}," "," "," "," "," "," "," "," "," "," "," ","",null,null,null,null,null," ",62,88,0,null,false]
[10,"H3","",null,0.01,null,null,{"$f":"IF(AC817=1,\"G\",\"\")","v":""}," "," "," "," "," "," "," "," "," "," "," ","",null,null,null,null,null," ",62,88,0,null,false]
[10,"A4","",null,0.01,null,null,{"$f":"IF(AC818=1,\"H\",\"\")","v":""}," "," "," "," "," "," "," "," "," "," "," ","",null,null,null,null,null," ",62,88,0,null,false]
[10,"B4","",null,0.01,null,null,null,null,null,null,null,null,null,null,null,null,null,null,null,null,null,null,null,null," ",62,88,0,null,false]
[10,"C4","",null,0.01,null,null,null,null,null,null,null,null,null,null,null,null,null,null,null,null,null,null,null,null," ",62,88,0,null,false]
[10,"D4","",null,0.01,null,null,null,null,null,null,null,null,null,null,null,null,null,null,null,null,null,null,null,null," ",62,88,0,null,false]
[10,"E4","",null,0.01,null,null,null,{"$f":"IF(AC823=1,\"Plate \"&TEXT(AA823+1,\"0\"),\"\")","v":""},null,null,null,null,null,null,null,null,null,null,null,null,null,null,null,null," ",62,88,0,null,false]
[10,"F4","",null,0.01,null,null,null,"","","","","","","","","","","","",null,null,null,null,null," ",63,88,0,null,false]
[10,"G4","",null,0.01,null,null,{"$f":"IF(AC824=1,\"A\",\"\")","v":""}," "," "," "," "," "," "," "," "," "," "," ",{"$f":"IF(COUNTIF(I824:S831,\" \")<88,\"leave empty\",\"\")","v":""},null,null,null,null,null," ",63,88,0,null,false]
[10,"H4","",null,0.01,null,null,{"$f":"IF(AC825=1,\"B\",\"\")","v":""}," "," "," "," "," "," "," "," "," "," "," ",{"$f":"IF(T824=\"\",\"\",\"leave empty\")","v":""},null,null,null,null,null," ",63,88,0,null,false]
[10,"A5","",null,0.01,null,null,{"$f":"IF(AC826=1,\"C\",\"\")","v":""}," "," "," "," "," "," "," "," "," "," "," ","",null,null,null,null,null," ",63,88,0,null,false]
[10,"B5","",null,0.01,null,null,{"$f":"IF(AC827=1,\"D\",\"\")","v":""}," "," "," "," "," "," "," "," "," "," "," ","",null,null,null,null,null," ",63,88,0,null,false]
[10,"C5","",null,0.01,null,null,{"$f":"IF(AC828=1,\"E\",\"\")","v":""}," "," "," "," "," "," "," "," "," "," "," ","",null,null,null,null,null," ",63,88,0,null,false]
[10,"D5","",null,0.01,null,null,{"$f":"IF(AC829=1,\"F\",\"\")","v":""}," "," "," "," "," "," "," "," "," "," "," ","",null,null,null,null,null," ",63,88,0,null,false]
[10,"E5","",null,0.01,null,null,{"$f":"IF(AC830=1,\"G\",\"\")","v":""}," "," "," "," "," "," "," "," "," "," "," ","",null,null,null,null,null," ",63,88,0,null,false]
[10,"F5","",null,0.01,null,null,{"$f":"IF(AC831=1,\"H\",\"\")","v":""}," "," "," "," "," "," "," "," "," "," "," ","",null,null,null,null,null," ",63,88,0,null,false]
[10,"G5","",null,0.01,null,null,null,null,null,null,null,null,null,null,null,null,null,null,null,null,null,null,null,null," ",63,88,0,null,false]
[10,"H5","",null,0.01,null,null,null,null,null,null,null,null,null,null,null,null,null,null,null,null,null,null,null,null," ",63,88,0,null,false]
[10,"A6","",null,0.01,null,null,null,null,null,null,null,null,null,null,null,null,null,null,null,null,null,null,null,null," ",63,88,0,null,false]
[10,"B6","",null,0.01,null,null,null,{"$f":"IF(AC836=1,\"Plate \"&TEXT(AA836+1,\"0\"),\"\")","v":""},null,null,null,null,null,null,null,null,null,null,null,null,null,null,null,null," ",63,88,0,null,false]
[10,"C6","",null,0.01,null,null,null,"","","","","","","","","","","","",null,null,null,null,null,{"$f":"IF(LEN(INDEX($1:$1048576,ROW(),4))>0,INDEX($1:$1048576,ROW(),4),\" \")","v":" "},{"$f":"CEILING((ROW()-StartRow+1)/PanelHeight,1)-1","v":64},{"$f":"COUNTBLANK(OFFSET(INDEX($1:$1048576,2,4),AA836*WellsInPlate,0,WellsInPlate,1))","v":88},{"$f":"IF(AB836=WellsInPlate,0,1)","v":0},null,false]
[10,"D6",{"$f":"IF(D837=0,\"\",D837)","v":""},null,0.01,null,null,{"$f":"IF(AC837=1,\"A\",\"\")","v":""}," "," "," "," "," "," "," "," "," "," "," ",{"$f":"IF(COUNTIF(I837:S844,\" \")<88,\"leave empty\",\"\")","v":""},null,null,null,null,null," ",{"$f":"CEILING((ROW()-StartRow+1)/PanelHeight,1)-1","v":64},88,{"$f":"IF(AB837=WellsInPlate,0,1)","v":0},null,false]
[10,"E6","",null,0.01,null,null,{"$f":"IF(AC838=1,\"B\",\"\")","v":""}," "," "," "," "," "," "," "," "," "," "," ",{"$f":"IF(T837=\"\",\"\",\"leave empty\")","v":""},null,null,null,null,null," ",64,88,0,null,false]
[10,"F6","",null,0.01,null,null,{"$f":"IF(AC839=1,\"C\",\"\")","v":""}," "," "," "," "," "," "," "," "," "," "," ","",null,null,null,null,null," ",64,88,0,null,false]
[10,"G6","",null,0.01,null,null,{"$f":"IF(AC840=1,\"D\",\"\")","v":""}," "," "," "," "," "," "," "," "," "," "," ","",null,null,null,null,null," ",64,88,0,null,false]
[10,"H6","",null,0.01,null,null,{"$f":"IF(AC841=1,\"E\",\"\")","v":""}," "," "," "," "," "," "," "," "," "," "," ","",null,null,null,null,null," ",64,88,0,null,false]
[10,"A7","",null,0.01,null,null,{"$f":"IF(AC842=1,\"F\",\"\")","v":""}," "," "," "," "," "," "," "," "," "," "," ","",null,null,null,null,null," ",64,88,0,null,false]
[10,"B7","",null,0.01,null,null,{"$f":"IF(AC843=1,\"G\",\"\")","v":""}," "," "," "," "," "," "," "," "," "," "," ","",null,null,null,null,null," ",64,88,0,null,false]
[10,"C7","",null,0.01,null,null,{"$f":"IF(AC844=1,\"H\",\"\")","v":""}," "," ",{"$f":"OFFSET($Z$2,ROW()-StartRow-1-$AA844*PanelHeight+$AA844*WellsInPlate+(COLUMN()-9)*8,0,1,1)","v":" "}," "," "," "," "," "," "," "," ","",null,null,null,null,null," ",64,88,0,null,false]
[10,"D7","",null,0.01,null,null,null,null,null,null,null,null,null,null,null,null,null,null,null,null,null,null,null,null," ",64,88,0,null,false]
[10,"E7","",null,0.01,null,null,null,null,null,null,null,null,null,null,null,null,null,null,null,null,null,null,null,null," ",64,88,0,null,false]
[10,"F7","",null,0.01,null,null,null,null,null,null,null,null,null,null,null,null,null,null,null,null,null,null,null,null," ",64,88,0,null,false]
[10,"G7","",null,0.01,null,null,null,{"$f":"IF(AC849=1,\"Plate \"&TEXT(AA849+1,\"0\"),\"\")","v":""},null,null,null,null,null,null,null,null,null,null,null,null,null,null,null,null," ",64,88,0,null,false]
[10,"H7","",null,0.01,null,null,null,"","","","","","","","","","","","",null,null,null,null,null," ",65,88,0,null,false]
[10,"A8","",null,0.01,null,null,{"$f":"IF(AC850=1,\"A\",\"\")","v":""}," "," "," "," "," "," "," "," "," "," "," ",{"$f":"IF(COUNTIF(I850:S857,\" \")<88,\"leave empty\",\"\")","v":""},null,null,null,null,null," ",65,88,0,null,false]
[10,"B8","",null,0.01,null,null,{"$f":"IF(AC851=1,\"B\",\"\")","v":""}," "," "," "," "," "," "," "," "," "," "," ",{"$f":"IF(T850=\"\",\"\",\"leave empty\")","v":""},null,null,null,null,null," ",65,88,0,null,false]
[10,"C8","",null,0.01,null,null,{"$f":"IF(AC852=1,\"C\",\"\")","v":""}," "," "," "," "," "," "," "," "," "," "," ","",null,null,null,null,null," ",65,88,0,null,false]
[10,"D8","",null,0.01,null,null,{"$f":"IF(AC853=1,\"D\",\"\")","v":""}," "," "," "," "," "," "," "," "," "," "," ","",null,null,null,null,null," ",65,88,0,null,false]
[10,"E8","",null,0.01,null,null,{"$f":"IF(AC854=1,\"E\",\"\")","v":""}," "," "," "," "," "," "," "," "," "," "," ","",null,null,null,null,null," ",65,88,0,null,false]
[10,"F8","",null,0.01,null,null,{"$f":"IF(AC855=1,\"F\",\"\")","v":""}," "," "," "," "," "," "," "," "," "," "," ","",null,null,null,null,null," ",65,88,0,null,false]
[10,"G8","",null,0.01,null,null,{"$f":"IF(AC856=1,\"G\",\"\")","v":""}," "," "," "," "," "," "," "," "," "," "," ","",null,null,null,null,null," ",65,88,0,null,false]
[10,"H8","",null,0.01,null,null,{"$f":"IF(AC857=1,\"H\",\"\")","v":""}," "," "," "," "," "," "," "," "," "," "," ","",null,null,null,null,null," ",65,88,0,null,false]
[10,"A9","",null,0.01,null,null,null,null,null,null,null,null,null,null,null,null,null,null,null,null,null,null,null,null," ",65,88,0,null,false]
[10,"B9","",null,0.01,null,null,null,null,null,null,null,null,null,null,null,null,null,null,null,null,null,null,null,null," ",65,88,0,null,false]
[10,"C9","",null,0.01,null,null,null,null,null,null,null,null,null,null,null,null,null,null,null,null,null,null,null,null," ",65,88,0,null,false]
[10,"D9","",null,0.01,null,null,null,{"$f":"IF(AC862=1,\"Plate \"&TEXT(AA862+1,\"0\"),\"\")","v":""},null,null,null,null,null,null,null,null,null,null,null,null,null,null,null,null," ",65,88,0,null,false]
[10,"E9","",null,0.01,null,null,null,"","","","","","","","","","","","",null,null,null,null,null," ",66,88,0,null,false]
[10,"F9","",null,0.01,null,null,{"$f":"IF(AC863=1,\"A\",\"\")","v":""}," "," "," "," "," "," "," "," "," "," "," ",{"$f":"IF(COUNTIF(I863:S870,\" \")<88,\"leave empty\",\"\")","v":""},null,null,null,null,null," ",66,88,0,null,false]
[10,"G9","",null,0.01,null,null,{"$f":"IF(AC864=1,\"B\",\"\")","v":""}," "," "," "," "," "," "," "," "," "," "," ",{"$f":"IF(T863=\"\",\"\",\"leave empty\")","v":""},null,null,null,null,null," ",66,88,0,null,false]
[10,"H9","",null,0.01,null,null,{"$f":"IF(AC865=1,\"C\",\"\")","v":""}," "," "," "," "," "," "," "," "," "," "," ","",null,null,null,null,null," ",66,88,0,null,false]
[10,"A10","",null,0.01,null,null,{"$f":"IF(AC866=1,\"D\",\"\")","v":""}," "," "," "," "," "," "," "," "," "," "," ","",null,null,null,null,null," ",66,88,0,null,{"$f":"IF(COUNTBLANK(D866)=0,A858)","v":false}]
[10,"B10","",null,0.01,null,null,{"$f":"IF(AC867=1,\"E\",\"\")","v":""}," "," "," "," "," "," "," "," "," "," "," ","",null,null,null,null,null," ",66,88,0,null,false]
[10,"C10","",null,0.01,null,null,{"$f":"IF(AC868=1,\"F\",\"\")","v":""}," "," "," "," "," "," "," "," "," "," "," ","",null,null,null,null,null," ",66,88,0,null,false]
[10,"D10","",null,0.01,null,null,{"$f":"IF(AC869=1,\"G\",\"\")","v":""}," "," "," "," "," "," "," "," "," "," "," ","",null,null,null,null,null," ",{"$f":"CEILING((ROW()-StartRow+1)/PanelHeight,1)-1","v":66},88,{"$f":"IF(AB869=WellsInPlate,0,1)","v":0},null,false]
[10,"E10","",null,0.01,null,null,{"$f":"IF(AC870=1,\"H\",\"\")","v":""}," "," "," "," "," "," "," "," "," "," "," ","",null,null,null,null,null," ",66,88,0,null,false]
[10,"F10","",null,0.01,null,null,null,null,null,null,null,null,null,null,null,null,null,null,null,null,null,null,null,null," ",66,88,0,null,false]
[10,"G10","",null,0.01,null,null,null,null,null,null,null,null,null,null,null,null,null,null,null,null,null,null,null,null," ",66,88,0,null,false]
[10,"H10","",null,0.01,null,null,null,null,null,null,null,null,null,null,null,null,null,null,null,null,null,null,null,null," ",66,88,0,null,false]
[10,"A11","",null,0.01,null,null,null,{"$f":"IF(AC875=1,\"Plate \"&TEXT(AA875+1,\"0\"),\"\")","v":""},null,null,null,null,null,null,null,null,null,null,null,null,null,null,null,null," ",66,88,0,null,false]
[10,"B11","",null,0.01,null,null,null,{"$f":"IF($AC875=1,\"1\",\"\")","v":""},{"$f":"IF($AC875=1,\"2\",\"\")","v":""},{"$f":"IF($AC875=1,\"3\",\"\")","v":""},{"$f":"IF($AC875=1,\"4\",\"\")","v":""},{"$f":"IF($AC875=1,\"5\",\"\")","v":""},{"$f":"IF($AC875=1,\"6\",\"\")","v":""},{"$f":"IF($AC875=1,\"7\",\"\")","v":""},{"$f":"IF($AC875=1,\"8\",\"\")","v":""},{"$f":"IF($AC875=1,\"9\",\"\")","v":""},{"$f":"IF($AC875=1,\"10\",\"\")","v":""},{"$f":"IF($AC875=1,\"11\",\"\")","v":""},{"$f":"IF($AC875=1,\"12\",\"\")","v":""},null,null,null,null,null," ",67,88,0,null,false]
[10,"C11","",null,0.01,null,null,{"$f":"IF(AC876=1,\"A\",\"\")","v":""}," "," "," "," "," "," "," "," "," "," "," ",{"$f":"IF(COUNTIF(I876:S883,\" \")<88,\"leave empty\",\"\")","v":""},null,null,null,null,null," ",67,88,0,null,false]
[10,"D11","",null,0.01,null,null,{"$f":"IF(AC877=1,\"B\",\"\")","v":""}," "," "," "," "," "," "," "," "," "," "," ",{"$f":"IF(T876=\"\",\"\",\"leave empty\")","v":""},null,null,null,null,null," ",67,88,0,null,false]
[10,"E11","",null,0.01,null,null,{"$f":"IF(AC878=1,\"C\",\"\")","v":""}," "," "," "," "," "," "," "," "," "," "," ","",null,null,null,null,null," ",67,88,0,null,false]
[10,"F11","",null,0.01,null,null,{"$f":"IF(AC879=1,\"D\",\"\")","v":""}," "," "," "," "," "," "," "," "," "," "," ","",null,null,null,null,null," ",67,88,0,null,false]
[10,"G11","",null,0.01,null,null,{"$f":"IF(AC880=1,\"E\",\"\")","v":""}," "," "," "," "," "," "," "," "," "," "," ","",null,null,null,null,null," ",67,88,0,null,false]
[10,"H11","",null,0.01,null,null,{"$f":"IF(AC881=1,\"F\",\"\")","v":""}," "," "," "," "," "," "," "," "," "," "," ","",null,null,null,null,null," ",67,88,0,null,false]
[11,"A1","",null,0.01,null,null,{"$f":"IF(AC882=1,\"G\",\"\")","v":""}," "," "," "," ",{"$f":"OFFSET($Z$2,ROW()-StartRow-1-$AA882*PanelHeight+$AA882*WellsInPlate+(COLUMN()-9)*8,0,1,1)","v":" "}," "," "," "," "," "," ","",null,null,null,null,null," ",67,88,0,null,false]
[11,"B1","",null,0.01,null,null,{"$f":"IF(AC883=1,\"H\",\"\")","v":""}," "," "," "," "," "," "," "," "," "," "," ","",null,null,null,null,null," ",67,88,0,null,false]
[11,"C1","",null,0.01,null,null,null,null,null,null,null,null,null,null,null,null,null,null,null,null,null,null,null,null," ",67,88,0,null,false]
[11,"D1","",null,0.01,null,null,null,null,null,null,null,null,null,null,null,null,null,null,null,null,null,null,null,null," ",67,88,0,null,false]
[11,"E1","",null,0.01,null,null,null,null,null,null,null,null,null,null,null,null,null,null,null,null,null,null,null,null," ",67,88,0,null,false]
[11,"F1","",null,0.01,null,null,null,{"$f":"IF(AC888=1,\"Plate \"&TEXT(AA888+1,\"0\"),\"\")","v":""},null,null,null,null,null,null,null,null,null,null,null,null,null,null,null,null," ",67,88,0,null,false]
[11,"G1","",null,0.01,null,null,null,"","","","","","","","","","","","",null,null,null,null,null," ",68,88,0,null,false]
[11,"H1","",null,0.01,null,null,{"$f":"IF(AC889=1,\"A\",\"\")","v":""}," "," "," "," "," "," "," "," "," "," "," ",{"$f":"IF(COUNTIF(I889:S896,\" \")<88,\"leave empty\",\"\")","v":""},null,null,null,null,null," ",68,88,0,null,false]
[11,"A2","",null,0.01,null,null,{"$f":"IF(AC890=1,\"B\",\"\")","v":""}," "," "," "," "," "," "," "," "," "," "," ",{"$f":"IF(T889=\"\",\"\",\"leave empty\")","v":""},null,null,null,null,null," ",68,88,0,null,false]
[11,"B2","",null,0.01,null,null,{"$f":"IF(AC891=1,\"C\",\"\")","v":""}," "," "," "," "," "," "," "," "," "," "," ","",null,null,null,null,null," ",68,88,0,null,false]
[11,"C2","",null,0.01,null,null,{"$f":"IF(AC892=1,\"D\",\"\")","v":""}," "," "," "," "," "," "," "," "," "," "," ","",null,null,null,null,null," ",68,88,0,null,false]
[11,"D2","",null,0.01,null,null,{"$f":"IF(AC893=1,\"E\",\"\")","v":""}," "," "," "," "," "," "," "," "," "," "," ","",null,null,null,null,null," ",68,88,0,null,false]
[11,"E2","",null,0.01,null,null,{"$f":"IF(AC894=1,\"F\",\"\")","v":""}," "," "," "," "," "," "," "," "," "," "," ","",null,null,null,null,null," ",68,88,0,null,false]
[11,"F2","",null,0.01,null,null,{"$f":"IF(AC895=1,\"G\",\"\")","v":""}," "," "," "," "," "," "," "," "," "," "," ","",null,null,null,null,null," ",68,88,0,null,false]
[11,"G2","",null,0.01,null,null,{"$f":"IF(AC896=1,\"H\",\"\")","v":""}," "," "," "," "," "," "," "," "," "," "," ","",null,null,null,null,null," ",68,88,0,null,false]
[11,"H2","",null,0.01,null,null,null,null,null,null,null,null,null,null,null,null,null,null,null,null,null,null,null,null," ",68,88,0,null,false]
[11,"A3","",null,0.01,null,null,null,null,null,null,null,null,null,null,null,null,null,null,null,null,null,null,null,null," ",68,88,0,null,false]
[11,"B3","",null,0.01,null,null,null,null,null,null,null,null,null,null,null,null,null,null,null,null,null,null,null,null," ",68,88,0,null,false]
[11,"C3","",null,0.01,null,null,null,{"$f":"IF(AC901=1,\"Plate \"&TEXT(AA901+1,\"0\"),\"\")","v":""},null,null,null,null,null,null,null,null,null,null,null,null,null,null,null,null,{"$f":"IF(LEN(INDEX($1:$1048576,ROW(),4))>0,INDEX($1:$1048576,ROW(),4),\" \")","v":" "},{"$f":"CEILING((ROW()-StartRow+1)/PanelHeight,1)-1","v":68},{"$f":"COUNTBLANK(OFFSET(INDEX($1:$1048576,2,4),AA900*WellsInPlate,0,WellsInPlate,1))","v":88},{"$f":"IF(AB900=WellsInPlate,0,1)","v":0},null,false]
[11,"D3",{"$f":"IF(D901=0,\"\",D901)","v":""},null,0.01,null,null,null,"","","","","","","","","","","","",null,null,null,null,null," ",{"$f":"CEILING((ROW()-StartRow+1)/PanelHeight,1)-1","v":69},88,{"$f":"IF(AB901=WellsInPlate,0,1)","v":0},null,false]
[11,"E3","",null,0.01,null,null,{"$f":"IF(AC902=1,\"A\",\"\")","v":""}," "," "," "," "," "," "," "," "," "," "," ",{"$f":"IF(COUNTIF(I902:S909,\" \")<88,\"leave empty\",\"\")","v":""},null,null,null,null,null," ",69,88,0,null,false]
[11,"F3","",null,0.01,null,null,{"$f":"IF(AC903=1,\"B\",\"\")","v":""}," "," "," "," "," "," "," "," "," "," "," ",{"$f":"IF(T902=\"\",\"\",\"leave empty\")","v":""},null,null,null,null,null," ",69,88,0,null,false]
[11,"G3","",null,0.01,null,null,{"$f":"IF(AC904=1,\"C\",\"\")","v":""}," "," "," "," "," "," "," "," "," "," "," ","",null,null,null,null,null," ",69,88,0,null,false]
[11,"H3","",null,0.01,null,null,{"$f":"IF(AC905=1,\"D\",\"\")","v":""}," "," "," "," "," "," "," "," "," "," "," ","",null,null,null,null,null," ",69,88,0,null,false]
[11,"A4","",null,0.01,null,null,{"$f":"IF(AC906=1,\"E\",\"\")","v":""}," "," "," "," "," "," "," "," "," "," "," ","",null,null,null,null,null," ",69,88,0,null,false]
[11,"B4","",null,0.01,null,null,{"$f":"IF(AC907=1,\"F\",\"\")","v":""}," "," "," "," "," "," "," "," "," "," "," ","",null,null,null,null,null," ",69,88,0,null,false]
[11,"C4","",null,0.01,null,null,{"$f":"IF(AC908=1,\"G\",\"\")","v":""}," "," "," "," "," "," "," "," "," "," "," ","",null,null,null,null,null," ",69,88,0,null,false]
[11,"D4","",null,0.01,null,null,{"$f":"IF(AC909=1,\"H\",\"\")","v":""}," "," "," "," "," "," "," "," "," "," "," ","",null,null,null,null,null," ",69,88,0,null,false]
[11,"E4","",null,0.01,null,null,null,null,null,null,null,null,null,null,null,null,null,null,null,null,null,null,null,null," ",69,88,0,null,false]
[11,"F4","",null,0.01,null,null,null,null,null,null,null,null,null,null,null,null,null,null,null,null,null,null,null,null," ",69,88,0,null,false]
[11,"G4","",null,0.01,null,null,null,null,null,null,null,null,null,null,null,null,null,null,null,null,null,null,null,null," ",69,88,0,null,false]
[11,"H4","",null,0.01,null,null,null,{"$f":"IF(AC914=1,\"Plate \"&TEXT(AA914+1,\"0\"),\"\")","v":""},null,null,null,null,null,null,null,null,null,null,null,null,null,null,null,null," ",69,88,0,null,false]
[11,"A5","",null,0.01,null,null,null,"","","","","","","","","","","","",null,null,null,null,null," ",70,88,0,null,false]
[11,"B5","",null,0.01,null,null,{"$f":"IF(AC915=1,\"A\",\"\")","v":""}," "," "," "," "," "," "," "," "," "," "," ",{"$f":"IF(COUNTIF(I915:S922,\" \")<88,\"leave empty\",\"\")","v":""},null,null,null,null,null," ",70,88,0,null,false]
[11,"C5","",null,0.01,null,null,{"$f":"IF(AC916=1,\"B\",\"\")","v":""}," "," "," "," "," "," "," "," "," "," "," ",{"$f":"IF(T915=\"\",\"\",\"leave empty\")","v":""},null,null,null,null,null," ",70,88,0,null,false]
[11,"D5","",null,0.01,null,null,{"$f":"IF(AC917=1,\"C\",\"\")","v":""}," "," "," "," "," "," "," "," "," "," "," ","",null,null,null,null,null," ",70,88,0,null,false]
[11,"E5","",null,0.01,null,null,{"$f":"IF(AC918=1,\"D\",\"\")","v":""}," "," "," "," "," "," "," "," "," "," "," ","",null,null,null,null,null," ",70,88,0,null,false]
[11,"F5","",null,0.01,null,null,{"$f":"IF(AC919=1,\"E\",\"\")","v":""}," "," "," "," "," "," "," "," "," "," "," ","",null,null,null,null,null," ",70,88,0,null,false]
[11,"G5","",null,0.01,null,null,{"$f":"IF(AC920=1,\"F\",\"\")","v":""}," "," "," "," "," "," ",{"$f":"OFFSET($Z$2,ROW()-StartRow-1-$AA920*PanelHeight+$AA920*WellsInPlate+(COLUMN()-9)*8,0,1,1)","v":" "}," "," "," "," ","",null,null,null,null,null," ",70,88,0,null,false]
[11,"H5","",null,0.01,null,null,{"$f":"IF(AC921=1,\"G\",\"\")","v":""},{"$f":"OFFSET($Z$2,ROW()-StartRow-1-$AA921*PanelHeight+$AA921*WellsInPlate+(COLUMN()-9)*8,0,1,1)","v":" "}," "," "," "," "," "," "," "," "," "," ","",null,null,null,null,null," ",70,88,0,null,false]
[11,"A6","",null,0.01,null,null,{"$f":"IF(AC922=1,\"H\",\"\")","v":""}," "," "," "," "," "," "," "," "," "," "," ","",null,null,null,null,null," ",70,88,0,null,false]
[11,"B6","",null,0.01,null,null,null,null,null,null,null,null,null,null,null,null,null,null,null,null,null,null,null,null," ",70,88,0,null,false]
[11,"C6","",null,0.01,null,null,null,null,null,null,null,null,null,null,null,null,null,null,null,null,null,null,null,null," ",70,88,0,null,false]
[11,"D6","",null,0.01,null,null,null,null,null,null,null,null,null,null,null,null,null,null,null,null,null,null,null,null," ",70,88,0,null,false]
[11,"E6","",null,0.01,null,null,null,{"$f":"IF(AC927=1,\"Plate \"&TEXT(AA927+1,\"0\"),\"\")","v":""},null,null,null,null,null,null,null,null,null,null,null,null,null,null,null,null," ",70,88,0,null,false]
[11,"F6","",null,0.01,null,null,null,"","","","","","","","","","","","",null,null,null,null,null," ",71,88,0,null,false]
[11,"G6","",null,0.01,null,null,{"$f":"IF(AC928=1,\"A\",\"\")","v":""}," "," "," "," "," "," "," "," "," "," "," ",{"$f":"IF(COUNTIF(I928:S935,\" \")<88,\"leave empty\",\"\")","v":""},null,null,null,null,null," ",71,88,0,null,false]
[11,"H6","",null,0.01,null,null,{"$f":"IF(AC929=1,\"B\",\"\")","v":""}," "," "," "," "," "," "," "," "," "," "," ",{"$f":"IF(T928=\"\",\"\",\"leave empty\")","v":""},null,null,null,null,null," ",71,88,0,null,false]
[11,"A7","",null,0.01,null,null,{"$f":"IF(AC930=1,\"C\",\"\")","v":""}," "," "," "," "," "," "," "," "," "," "," ","",null,null,null,null,null," ",71,88,0,null,{"$f":"IF(COUNTBLANK(D930)=0,A922)","v":false}]
[11,"B7","",null,0.01,null,null,{"$f":"IF(AC931=1,\"D\",\"\")","v":""}," "," "," "," "," "," "," "," "," "," "," ","",null,null,null,null,null," ",71,88,0,null,false]
[11,"C7","",null,0.01,null,null,{"$f":"IF(AC932=1,\"E\",\"\")","v":""}," "," "," "," "," "," "," "," "," "," "," ","",null,null,null,null,null," ",71,88,0,null,false]
[11,"D7","",null,0.01,null,null,{"$f":"IF(AC933=1,\"F\",\"\")","v":""}," "," "," "," "," "," "," "," "," "," "," ","",null,null,null,null,null," ",{"$f":"CEILING((ROW()-StartRow+1)/PanelHeight,1)-1","v":71},88,{"$f":"IF(AB933=WellsInPlate,0,1)","v":0},null,false]
[11,"E7","",null,0.01,null,null,{"$f":"IF(AC934=1,\"G\",\"\")","v":""}," "," "," "," "," "," "," "," "," "," "," ","",null,null,null,null,null," ",71,88,0,null,false]
[11,"F7","",null,0.01,null,null,{"$f":"IF(AC935=1,\"H\",\"\")","v":""}," "," "," "," "," "," "," "," "," "," "," ","",null,null,null,null,null," ",71,88,0,null,false]
[11,"G7","",null,0.01,null,null,null,null,null,null,null,null,null,null,null,null,null,null,null,null,null,null,null,null," ",71,88,0,null,false]
[11,"H7","",null,0.01,null,null,null,null,null,null,null,null,null,null,null,null,null,null,null,null,null,null,null,null," ",71,88,0,null,false]
[11,"A8","",null,0.01,null,null,null,null,null,null,null,null,null,null,null,null,null,null,null,null,null,null,null,null," ",71,88,0,null,false]
[11,"B8","",null,0.01,null,null,null,{"$f":"IF(AC940=1,\"Plate \"&TEXT(AA940+1,\"0\"),\"\")","v":""},null,null,null,null,null,null,null,null,null,null,null,null,null,null,null,null," ",71,88,0,null,false]
[11,"C8","",null,0.01,null,null,null,{"$f":"IF($AC940=1,\"1\",\"\")","v":""},{"$f":"IF($AC940=1,\"2\",\"\")","v":""},{"$f":"IF($AC940=1,\"3\",\"\")","v":""},{"$f":"IF($AC940=1,\"4\",\"\")","v":""},{"$f":"IF($AC940=1,\"5\",\"\")","v":""},{"$f":"IF($AC940=1,\"6\",\"\")","v":""},{"$f":"IF($AC940=1,\"7\",\"\")","v":""},{"$f":"IF($AC940=1,\"8\",\"\")","v":""},{"$f":"IF($AC940=1,\"9\",\"\")","v":""},{"$f":"IF($AC940=1,\"10\",\"\")","v":""},{"$f":"IF($AC940=1,\"11\",\"\")","v":""},{"$f":"IF($AC940=1,\"12\",\"\")","v":""},null,null,null,null,null," ",72,88,0,null,false]
[11,"D8","",null,0.01,null,null,{"$f":"IF(AC941=1,\"A\",\"\")","v":""}," "," "," "," "," "," "," "," "," "," "," ",{"$f":"IF(COUNTIF(I941:S948,\" \")<88,\"leave empty\",\"\")","v":""},null,null,null,null,null," ",72,88,0,null,false]
[11,"E8","",null,0.01,null,null,{"$f":"IF(AC942=1,\"B\",\"\")","v":""}," "," "," "," "," "," "," "," "," "," "," ",{"$f":"IF(T941=\"\",\"\",\"leave empty\")","v":""},null,null,null,null,null," ",72,88,0,null,false]
[11,"F8","",null,0.01,null,null,{"$f":"IF(AC943=1,\"C\",\"\")","v":""}," "," "," "," "," "," "," "," "," "," "," ","",null,null,null,null,null," ",72,88,0,null,false]
[11,"G8","",null,0.01,null,null,{"$f":"IF(AC944=1,\"D\",\"\")","v":""}," "," "," "," "," "," "," "," "," "," "," ","",null,null,null,null,null," ",72,88,0,null,false]
[11,"H8","",null,0.01,null,null,{"$f":"IF(AC945=1,\"E\",\"\")","v":""}," "," "," "," "," "," "," "," "," "," "," ","",null,null,null,null,null," ",72,88,0,null,false]
[11,"A9","",null,0.01,null,null,{"$f":"IF(AC946=1,\"F\",\"\")","v":""}," "," "," "," "," "," "," "," "," "," "," ","",null,null,null,null,null," ",72,88,0,null,false]
[11,"B9","",null,0.01,null,null,{"$f":"IF(AC947=1,\"G\",\"\")","v":""}," "," "," "," "," "," "," "," "," "," "," ","",null,null,null,null,null," ",72,88,0,null,false]
[11,"C9","",null,0.01,null,null,{"$f":"IF(AC948=1,\"H\",\"\")","v":""}," "," "," "," "," "," "," "," "," "," "," ","",null,null,null,null,null," ",72,88,0,null,false]
[11,"D9","",null,0.01,null,null,null,null,null,null,null,null,null,null,null,null,null,null,null,null,null,null,null,null," ",72,88,0,null,false]
[11,"E9","",null,0.01,null,null,null,null,null,null,null,null,null,null,null,null,null,null,null,null,null,null,null,null," ",72,88,0,null,false]
[11,"F9","",null,0.01,null,null,null,null,null,null,null,null,null,null,null,null,null,null,null,null,null,null,null,null," ",72,88,0,null,false]
[11,"G9","",null,0.01,null,null,null,{"$f":"IF(AC953=1,\"Plate \"&TEXT(AA953+1,\"0\"),\"\")","v":""},null,null,null,null,null,null,null,null,null,null,null,null,null,null,null,null," ",72,88,0,null,false]
[11,"H9","",null,0.01,null,null,null,"","","","","","","","","","","","",null,null,null,null,null," ",73,88,0,null,false]
[11,"A10","",null,0.01,null,null,{"$f":"IF(AC954=1,\"A\",\"\")","v":""}," "," "," "," "," "," "," "," "," "," "," ",{"$f":"IF(COUNTIF(I954:S961,\" \")<88,\"leave empty\",\"\")","v":""},null,null,null,null,null," ",73,88,0,null,false]
[11,"B10","",null,0.01,null,null,{"$f":"IF(AC955=1,\"B\",\"\")","v":""}," "," "," "," "," "," "," "," "," "," "," ",{"$f":"IF(T954=\"\",\"\",\"leave empty\")","v":""},null,null,null,null,null," ",73,88,0,null,false]
[11,"C10","",null,0.01,null,null,{"$f":"IF(AC956=1,\"C\",\"\")","v":""}," "," "," "," "," "," "," "," "," "," "," ","",null,null,null,null,null," ",73,88,0,null,false]
[11,"D10","",null,0.01,null,null,{"$f":"IF(AC957=1,\"D\",\"\")","v":""}," "," "," "," "," "," "," "," "," "," "," ","",null,null,null,null,null," ",73,88,0,null,false]
[11,"E10","",null,0.01,null,null,{"$f":"IF(AC958=1,\"E\",\"\")","v":""}," "," "," "," "," "," "," "," ",{"$f":"OFFSET($Z$2,ROW()-StartRow-1-$AA958*PanelHeight+$AA958*WellsInPlate+(COLUMN()-9)*8,0,1,1)","v":" "}," "," ","",null,null,null,null,null," ",73,88,0,null,false]
[11,"F10","",null,0.01,null,null,{"$f":"IF(AC959=1,\"F\",\"\")","v":""},{"$f":"OFFSET($Z$2,ROW()-StartRow-1-$AA959*PanelHeight+$AA959*WellsInPlate+(COLUMN()-9)*8,0,1,1)","v":" "}," "," "," "," "," "," "," "," "," "," ","",null,null,null,null,null," ",73,88,0,null,false]
[11,"G10","",null,0.01,null,null,{"$f":"IF(AC960=1,\"G\",\"\")","v":""}," "," "," "," "," "," "," "," "," "," "," ","",null,null,null,null,null," ",73,88,0,null,false]
[11,"H10","",null,0.01,null,null,{"$f":"IF(AC961=1,\"H\",\"\")","v":""}," "," "," "," "," "," "," "," "," "," "," ","",null,null,null,null,null," ",73,88,0,null,false]
[11,"A11","",null,0.01,null,null,null,null,null,null,null,null,null,null,null,null,null,null,null,null,null,null,null,null," ",73,88,0,null,false]
[11,"B11","",null,0.01,null,null,null,null,null,null,null,null,null,null,null,null,null,null,null,null,null,null,null,null," ",73,88,0,null,false]
[11,"C11","",null,0.01,null,null,null,null,null,null,null,null,null,null,null,null,null,null,null,null,null,null,null,null,{"$f":"IF(LEN(INDEX($1:$1048576,ROW(),4))>0,INDEX($1:$1048576,ROW(),4),\" \")","v":" "},{"$f":"CEILING((ROW()-StartRow+1)/PanelHeight,1)-1","v":73},{"$f":"COUNTBLANK(OFFSET(INDEX($1:$1048576,2,4),AA964*WellsInPlate,0,WellsInPlate,1))","v":88},{"$f":"IF(AB964=WellsInPlate,0,1)","v":0},null,false]
[11,"D11",{"$f":"IF(D965=0,\"\",D965)","v":""},null,0.01,null,null,null,{"$f":"IF(AC966=1,\"Plate \"&TEXT(AA966+1,\"0\"),\"\")","v":""},null,null,null,null,null,null,null,null,null,null,null,null,null,null,null,null," ",{"$f":"CEILING((ROW()-StartRow+1)/PanelHeight,1)-1","v":73},88,{"$f":"IF(AB965=WellsInPlate,0,1)","v":0},null,false]
[11,"E11","",null,0.01,null,null,null,"","","","","","","","","","","","",null,null,null,null,null," ",74,88,0,null,false]
[11,"F11","",null,0.01,null,null,{"$f":"IF(AC967=1,\"A\",\"\")","v":""}," "," "," "," "," "," "," "," "," "," "," ",{"$f":"IF(COUNTIF(I967:S974,\" \")<88,\"leave empty\",\"\")","v":""},null,null,null,null,null," ",74,88,0,null,false]
[11,"G11","",null,0.01,null,null,{"$f":"IF(AC968=1,\"B\",\"\")","v":""}," "," "," "," "," "," "," "," "," "," "," ",{"$f":"IF(T967=\"\",\"\",\"leave empty\")","v":""},null,null,null,null,null," ",74,88,0,null,false]
[11,"H11","",null,0.01,null,null,{"$f":"IF(AC969=1,\"C\",\"\")","v":""}," "," "," "," "," "," "," "," "," "," "," ","",null,null,null,null,null," ",74,88,0,null,false]
[12,"A1","",null,0.01,null,null,{"$f":"IF(AC970=1,\"D\",\"\")","v":""}," "," "," "," "," "," "," "," "," "," "," ","",null,null,null,null,null," ",74,88,0,null,false]
[12,"B1","",null,0.01,null,null,{"$f":"IF(AC971=1,\"E\",\"\")","v":""}," "," "," "," "," "," "," "," "," "," "," ","",null,null,null,null,null," ",74,88,0,null,false]
[12,"C1","",null,0.01,null,null,{"$f":"IF(AC972=1,\"F\",\"\")","v":""}," "," "," "," "," "," "," "," "," "," "," ","",null,null,null,null,null," ",74,88,0,null,false]
[12,"D1","",null,0.01,null,null,{"$f":"IF(AC973=1,\"G\",\"\")","v":""}," "," "," "," "," "," "," "," "," "," "," ","",null,null,null,null,null," ",74,88,0,null,false]
[12,"E1","",null,0.01,null,null,{"$f":"IF(AC974=1,\"H\",\"\")","v":""}," "," "," "," "," "," "," "," "," "," "," ","",null,null,null,null,null," ",74,88,0,null,false]
[12,"F1","",null,0.01,null,null,null,null,null,null,null,null,null,null,null,null,null,null,null,null,null,null,null,null," ",74,88,0,null,false]
[12,"G1","",null,0.01,null,null,null,null,null,null,null,null,null,null,null,null,null,null,null,null,null,null,null,null," ",74,88,0,null,false]
[12,"H1","",null,0.01,null,null,null,null,null,null,null,null,null,null,null,null,null,null,null,null,null,null,null,null," ",74,88,0,null,false]
[12,"A2","",null,0.01,null,null,null,{"$f":"IF(AC979=1,\"Plate \"&TEXT(AA979+1,\"0\"),\"\")","v":""},null,null,null,null,null,null,null,null,null,null,null,null,null,null,null,null," ",74,88,0,null,false]
[12,"B2","",null,0.01,null,null,null,"","","","","","","","","","","","",null,null,null,null,null," ",75,88,0,null,false]
[12,"C2","",null,0.01,null,null,{"$f":"IF(AC980=1,\"A\",\"\")","v":""}," "," "," "," "," "," "," "," "," "," "," ",{"$f":"IF(COUNTIF(I980:S987,\" \")<88,\"leave empty\",\"\")","v":""},null,null,null,null,null," ",75,88,0,null,false]
[12,"D2","",null,0.01,null,null,{"$f":"IF(AC981=1,\"B\",\"\")","v":""}," "," "," "," "," "," "," "," "," "," "," ",{"$f":"IF(T980=\"\",\"\",\"leave empty\")","v":""},null,null,null,null,null," ",75,88,0,null,false]
[12,"E2","",null,0.01,null,null,{"$f":"IF(AC982=1,\"C\",\"\")","v":""}," "," "," "," "," "," "," "," "," "," "," ","",null,null,null,null,null," ",75,88,0,null,false]
[12,"F2","",null,0.01,null,null,{"$f":"IF(AC983=1,\"D\",\"\")","v":""}," "," "," "," "," "," "," "," "," "," "," ","",null,null,null,null,null," ",75,88,0,null,false]
[12,"G2","",null,0.01,null,null,{"$f":"IF(AC984=1,\"E\",\"\")","v":""}," "," "," "," "," "," "," "," "," "," "," ","",null,null,null,null,null," ",75,88,0,null,false]
[12,"H2","",null,0.01,null,null,{"$f":"IF(AC985=1,\"F\",\"\")","v":""}," "," "," "," "," "," "," "," "," "," "," ","",null,null,null,null,null," ",75,88,0,null,false]
[12,"A3","",null,0.01,null,null,{"$f":"IF(AC986=1,\"G\",\"\")","v":""}," "," "," "," "," "," "," "," "," "," "," ","",null,null,null,null,null," ",75,88,0,null,false]
[12,"B3","",null,0.01,null,null,{"$f":"IF(AC987=1,\"H\",\"\")","v":""}," "," "," "," "," "," "," "," "," "," "," ","",null,null,null,null,null," ",75,88,0,null,false]
[12,"C3","",null,0.01,null,null,null,null,null,null,null,null,null,null,null,null,null,null,null,null,null,null,null,null," ",75,88,0,null,false]
[12,"D3","",null,0.01,null,null,null,null,null,null,null,null,null,null,null,null,null,null,null,null,null,null,null,null," ",75,88,0,null,false]
[12,"E3","",null,0.01,null,null,null,null,null,null,null,null,null,null,null,null,null,null,null,null,null,null,null,null," ",75,88,0,null,false]
[12,"F3","",null,0.01,null,null,null,{"$f":"IF(AC992=1,\"Plate \"&TEXT(AA992+1,\"0\"),\"\")","v":""},null,null,null,null,null,null,null,null,null,null,null,null,null,null,null,null," ",75,88,0,null,false]
[12,"G3","",null,0.01,null,null,null,"","","","","","","","","","","","",null,null,null,null,null," ",76,88,0,null,false]
[12,"H3","",null,0.01,null,null,{"$f":"IF(AC993=1,\"A\",\"\")","v":""}," "," "," "," "," "," "," "," "," "," "," ",{"$f":"IF(COUNTIF(I993:S1000,\" \")<88,\"leave empty\",\"\")","v":""},null,null,null,null,null," ",76,88,0,null,false]
[12,"A4","",null,0.01,null,null,{"$f":"IF(AC994=1,\"B\",\"\")","v":""}," "," "," "," "," "," "," "," "," "," "," ",{"$f":"IF(T993=\"\",\"\",\"leave empty\")","v":""},null,null,null,null,null," ",76,88,0,null,{"$f":"IF(COUNTBLANK(D994)=0,A986)","v":false}]
[12,"B4","",null,0.01,null,null,{"$f":"IF(AC995=1,\"C\",\"\")","v":""}," "," "," "," "," "," "," "," "," "," "," ","",null,null,null,null,null," ",76,88,0,null,false]
[12,"C4","",null,0.01,null,null,{"$f":"IF(AC996=1,\"D\",\"\")","v":""}," "," "," "," "," "," "," "," "," "," ",{"$f":"OFFSET($Z$2,ROW()-StartRow-1-$AA996*PanelHeight+$AA996*WellsInPlate+(COLUMN()-9)*8,0,1,1)","v":" "},"",null,null,null,null,null," ",76,88,0,null,false]
[12,"D4","",null,0.01,null,null,{"$f":"IF(AC997=1,\"E\",\"\")","v":""},{"$f":"OFFSET($Z$2,ROW()-StartRow-1-$AA997*PanelHeight+$AA997*WellsInPlate+(COLUMN()-9)*8,0,1,1)","v":" "}," "," "," "," "," "," "," "," "," "," ","",null,null,null,null,null," ",{"$f":"CEILING((ROW()-StartRow+1)/PanelHeight,1)-1","v":76},88,{"$f":"IF(AB997=WellsInPlate,0,1)","v":0},null,false]
[12,"E4","",null,0.01,null,null,{"$f":"IF(AC998=1,\"F\",\"\")","v":""}," "," "," "," "," "," "," "," "," "," "," ","",null,null,null,null,null," ",76,88,0,null,false]
[12,"F4","",null,0.01,null,null,{"$f":"IF(AC999=1,\"G\",\"\")","v":""}," "," "," "," "," "," "," "," "," "," "," ","",null,null,null,null,null," ",76,88,0,null,false]
[12,"G4","",null,0.01,null,null,{"$f":"IF(AC1000=1,\"H\",\"\")","v":""}," "," "," "," "," "," "," "," "," "," "," ","",null,null,null,null,null," ",76,88,0,null,false]
[12,"E5","",null,0.01,null,null,{"$f":"IF(AC1006=1,\"A\",\"\")","v":""}," "," "," "," "," "," "," "," "," "," "," ",{"$f":"IF(COUNTIF(I1006:S1013,\" \")<88,\"leave empty\",\"\")","v":""},null,null,null,null,null," ",77,88,0,null,false]
[12,"H6","",null,0.01,null,null,null,{"$f":"IF(AC1018=1,\"Plate \"&TEXT(AA1018+1,\"0\"),\"\")","v":""},null,null,null,null,null,null,null,null,null,null,null,null,null,null,null,null," ",77,88,0,null,false]
[12,"E7","",null,0.01,null,null,{"$f":"IF(AC1022=1,\"D\",\"\")","v":""}," "," "," "," "," "," "," "," "," "," "," ","",null,null,null,null,null," ",78,88,0,null,false]
[12,"E9","",null,0.01,null,null,{"$f":"IF(AC1038=1,\"G\",\"\")","v":""}," "," "," "," "," "," "," "," "," "," "," ","",null,null,null,null,null," ",79,88,0,null,false]
[12,"H10","",null,0.01,null,null,{"$f":"IF(AC1049=1,\"E\",\"\")","v":""}," "," "," "," "," "," "," "," "," "," "," ","",null,null,null,null,null," ",80,88,0,null,false]
[12,"E11","",null,0.01,null,null,null,null,null,null,null,null,null,null,null,null,null,null,null,null,null,null,null,null," ",80,88,0,null,false]
[13,"H1","",null,0.01,null,null,{"$f":"IF(AC1065=1,\"H\",\"\")","v":""}," "," "," "," "," "," "," "," "," "," "," ","",null,null,null,null,null," ",81,88,0,null,false]
[13,"A3","",null,0.01,null,null,{"$f":"IF(AC1074=1,\"D\",\"\")","v":""}," "," "," "," "," "," "," "," "," "," "," ","",null,null,null,null,null," ",82,88,0,null,false]
[13,"C5","",null,0.01,null,null,null,null,null,null,null,null,null,null,null,null,null,null,null,null,null,null,null,null,{"$f":"IF(LEN(INDEX($1:$1048576,ROW(),4))>0,INDEX($1:$1048576,ROW(),4),\" \")","v":" "},{"$f":"CEILING((ROW()-StartRow+1)/PanelHeight,1)-1","v":83},{"$f":"COUNTBLANK(OFFSET(INDEX($1:$1048576,2,4),AA1092*WellsInPlate,0,WellsInPlate,1))","v":88},{"$f":"IF(AB1092=WellsInPlate,0,1)","v":0},null,false]
[13,"H5","",null,0.01,null,null,{"$f":"IF(AC1097=1,\"A\",\"\")","v":""}," "," "," "," "," "," "," "," "," "," "," ",{"$f":"IF(COUNTIF(I1097:S1104,\" \")<88,\"leave empty\",\"\")","v":""},null,null,null,null,null," ",84,88,0,null,false]
[13,"G7","",null,0.01,null,null,{"$f":"IF(AC1112=1,\"C\",\"\")","v":""}," "," "," "," "," "," "," "," "," "," "," ","",null,null,null,null,null," ",85,88,0,null,false]
[13,"A8","",null,0.01,null,null,{"$f":"IF(AC1114=1,\"E\",\"\")","v":""}," "," "," "," "," "," "," "," "," "," "," ","",null,null,null,null,null," ",85,88,0,null,false]
[13,"H9","",null,0.01,null,null,{"$f":"IF(AC1129=1,\"G\",\"\")","v":""}," "," "," "," "," "," "," "," "," "," "," ","",null,null,null,null,null," ",86,88,0,null,false]
[13,"E10","",null,0.01,null,null,null,{"$f":"IF(AC1135=1,\"Plate \"&TEXT(AA1135+1,\"0\"),\"\")","v":""},null,null,null,null,null,null,null,null,null,null,null,null,null,null,null,null," ",86,88,0,null,false]
[13,"H11","",null,0.01,null,null,null,null,null,null,null,null,null,null,null,null,null,null,null,null,null,null,null,null," ",87,88,0,null,false]
[14,"H2","",null,0.01,null,null,null,"","","","","","","","","","","","",null,null,null,null,null," ",89,88,0,null,false]
[14,"C4","",null,0.01,null,null,null,null,null,null,null,null,null,null,null,null,null,null,null,null,null,null,null,null," ",89,88,0,null,false]
[14,"H4","",null,0.01,null,null,{"$f":"IF(AC1177=1,\"C\",\"\")","v":""}," "," "," "," "," "," "," "," "," "," "," ","",null,null,null,null,null," ",90,88,0,null,false]
[14,"G6","",null,0.01,null,null,{"$f":"IF(AC1192=1,\"E\",\"\")","v":""}," "," "," "," "," "," "," "," "," "," "," ","",null,null,null,null,null," ",91,88,0,null,false]
[14,"C8","",null,0.01,null,null,{"$f":"IF(AC1204=1,\"D\",\"\")","v":""}," "," "," "," "," "," "," "," "," "," "," ","",null,null,null,null,null," ",92,88,0,null,false]
[14,"H8","",null,0.01,null,null,null,null,null,null,null,null,null,null,null,null,null,null,null,null,null,null,null,null," ",92,88,0,null,false]
[14,"C10","",null,0.01,null,null,{"$f":"IF(AC1220=1,\"G\",\"\")","v":""}," "," "," "," "," "," "," "," "," "," "," ","",null,null,null,null,null,{"$f":"IF(LEN(INDEX($1:$1048576,ROW(),4))>0,INDEX($1:$1048576,ROW(),4),\" \")","v":" "},{"$f":"CEILING((ROW()-StartRow+1)/PanelHeight,1)-1","v":93},{"$f":"COUNTBLANK(OFFSET(INDEX($1:$1048576,2,4),AA1220*WellsInPlate,0,WellsInPlate,1))","v":88},{"$f":"IF(AB1220=WellsInPlate,0,1)","v":0},null,false]
[14,"G11","",null,0.01,null,null,{"$f":"IF(AC1232=1,\"F\",\"\")","v":""}," "," "," "," "," "," "," "," "," "," "," ","",null,null,null,null,null," ",94,88,0,null,false]
[15,"H1","",null,0.01,null,null,{"$f":"IF(AC1241=1,\"B\",\"\")","v":""}," "," "," "," "," "," "," "," "," "," "," ",{"$f":"IF(T1240=\"\",\"\",\"leave empty\")","v":""},null,null,null,null,null," ",95,88,0,null,false]
[15,"C3","",null,0.01,null,null,null,"","","","","","","","","","","","",null,null,null,null,null," ",96,88,0,null,false]
[15,"F4","",null,0.01,null,null,null,null,null,null,null,null,null,null,null,null,null,null,null,null,null,null,null,null," ",96,88,0,null,false]
[15,"H5","",null,0.01,null,null,{"$f":"IF(AC1273=1,\"H\",\"\")","v":""}," "," "," "," "," "," "," "," "," "," "," ","",null,null,null,null,null," ",97,88,0,null,false]
[15,"C7","",null,0.01,null,null,{"$f":"IF(AC1284=1,\"F\",\"\")","v":""}," "," "," "," "," "," "," "," "," "," "," ","",null,null,null,null,null,{"$f":"IF(LEN(INDEX($1:$1048576,ROW(),4))>0,INDEX($1:$1048576,ROW(),4),\" \")","v":" "},{"$f":"CEILING((ROW()-StartRow+1)/PanelHeight,1)-1","v":98},{"$f":"COUNTBLANK(OFFSET(INDEX($1:$1048576,2,4),AA1284*WellsInPlate,0,WellsInPlate,1))","v":88},{"$f":"IF(AB1284=WellsInPlate,0,1)","v":0},null,false]
[15,"H7","",null,0.01,null,null,null,null,null,null,null,null,null,null,null,null,null,null,null,null,null,null,null,null," ",98,88,0,null,false]
[15,"F9","",null,0.01,null,null,null,{"$f":"IF(AC1304=1,\"Plate \"&TEXT(AA1304+1,\"0\"),\"\")","v":""},null,null,null,null,null,null,null,null,null,null,null,null,null,null,null,null," ",99,88,0,null,false]
[15,"C11","",null,0.01,null,null,null,{"$f":"IF(AC1317=1,\"Plate \"&TEXT(AA1317+1,\"0\"),\"\")","v":""},null,null,null,null,null,null,null,null,null,null,null,null,null,null,null,null," ",100,88,0,null,false]
[15,"H11","",null,0.01,null,null,{"$f":"IF(AC1321=1,\"D\",\"\")","v":""}," "," "," "," "," "," "," "," "," "," "," ","",null,null,null,null,null," ",101,88,0,null,false]
[16,"C2","",null,0.01,null,null,{"$f":"IF(AC1332=1,\"B\",\"\")","v":""}," "," "," "," "," "," "," "," "," "," "," ",{"$f":"IF(T1331=\"\",\"\",\"leave empty\")","v":""},null,null,null,null,null," ",102,88,0,null,false]
[16,"B3","",null,0.01,null,null,null,null,null,null,null,null,null,null,null,null,null,null,null,null,null,null,null,null," ",102,88,0,null,false]
[16,"H4","",null,0.01,null,null,null,null,null,null,null,null,null,null,null,null,null,null,null,null,null,null,null,null," ",103,88,0,null,false]
[16,"C6","",null,0.01,null,null,{"$f":"IF(AC1364=1,\"H\",\"\")","v":""}," "," "," "," "," "," "," "," "," "," "," ","",null,null,null,null,null," ",104,88,0,null,false]
[16,"A7","",null,0.01,null,null,{"$f":"IF(AC1370=1,\"A\",\"\")","v":""}," "," "," "," "," "," "," "," "," "," "," ",{"$f":"IF(COUNTIF(I1370:S1377,\" \")<88,\"leave empty\",\"\")","v":""},null,null,null,null,null," ",105,88,0,null,false]
[16,"D8","",null,0.01,null,null,null,{"$f":"IF(AC1382=1,\"Plate \"&TEXT(AA1382+1,\"0\"),\"\")","v":""},null,null,null,null,null,null,null,null,null,null,null,null,null,null,null,null," ",{"$f":"CEILING((ROW()-StartRow+1)/PanelHeight,1)-1","v":105},88,{"$f":"IF(AB1381=WellsInPlate,0,1)","v":0},null,false]
[16,"C10","",null,0.01,null,null,{"$f":"IF(AC1396=1,\"A\",\"\")","v":""}," "," "," "," "," "," "," "," "," "," "," ",{"$f":"IF(COUNTIF(I1396:S1403,\" \")<88,\"leave empty\",\"\")","v":""},null,null,null,null,null," ",107,88,0,null,false]
[16,"H10","",null,0.01,null,null,{"$f":"IF(AC1401=1,\"F\",\"\")","v":""}," "," "," "," "," "," "," "," "," "," "," ","",null,null,null,null,null," ",107,88,0,null,false]
[17,"D2","",null,0.01,null,null,null,"","","","","","","","","","","","",null,null,null,null,null," ",109,88,0,null,false]
[17,"C3","",null,0.01,null,null,{"$f":"IF(AC1428=1,\"G\",\"\")","v":""}," "," "," "," "," "," "," "," "," "," "," ","",null,null,null,null,null," ",109,88,0,null,false]
[17,"F4","",null,0.01,null,null,{"$f":"IF(AC1439=1,\"E\",\"\")","v":""}," "," "," "," "," "," "," "," "," "," "," ","",null,null,null,null,null," ",110,88,0,null,false]
[17,"C5","",null,0.01,null,null,null,null,null,null,null,null,null,null,null,null,null,null,null,null,null,null,null,null," ",110,88,0,null,false]
[17,"H6","",null,0.01,null,null,null,null,null,null,null,null,null,null,null,null,null,null,null,null,null,null,null,null," ",111,88,0,null,false]
[17,"F8","",null,0.01,null,null,null,null,null,null,null,null,null,null,null,null,null,null,null,null,null,null,null,null," ",112,88,0,null,false]
[17,"C9","",null,0.01,null,null,{"$f":"IF(AC1476=1,\"C\",\"\")","v":""}," "," "," "," "," "," "," "," "," "," "," ","",null,null,null,null,null,{"$f":"IF(LEN(INDEX($1:$1048576,ROW(),4))>0,INDEX($1:$1048576,ROW(),4),\" \")","v":" "},{"$f":"CEILING((ROW()-StartRow+1)/PanelHeight,1)-1","v":113},{"$f":"COUNTBLANK(OFFSET(INDEX($1:$1048576,2,4),AA1476*WellsInPlate,0,WellsInPlate,1))","v":88},{"$f":"IF(AB1476=WellsInPlate,0,1)","v":0},null,false]
[17,"G10","",null,0.01,null,null,null,null,null,null,null,null,null,null,null,null,null,null,null,null,null,null,null,null," ",114,88,0,null,false]
[18,"F1","",null,0.01,null,null,null,null,null,null,null,null,null,null,null,null,null,null,null,null,null,null,null,null," ",115,88,0,null,false]
[18,"C2","",null,0.01,null,null,null,null,null,null,null,null,null,null,null,null,null,null,null,null,null,null,null,null," ",115,88,0,null,false]
[18,"F3","",null,0.01,null,null,null,null,null,null,null,null,null,null,null,null,null,null,null,null,null,null,null,null," ",116,88,0,null,false]
[18,"G4","",null,0.01,null,null,null,null,null,null,null,null,null,null,null,null,null,null,null,null,null,null,null,null," ",117,88,0,null,false]
[18,"C6","",null,0.01,null,null,null,null,null,null,null,null,null,null,null,null,null,null,null,null,null,null,null,null,{"$f":"IF(LEN(INDEX($1:$1048576,ROW(),4))>0,INDEX($1:$1048576,ROW(),4),\" \")","v":" "},{"$f":"CEILING((ROW()-StartRow+1)/PanelHeight,1)-1","v":118},{"$f":"COUNTBLANK(OFFSET(INDEX($1:$1048576,2,4),AA1540*WellsInPlate,0,WellsInPlate,1))","v":88},{"$f":"IF(AB1540=WellsInPlate,0,1)","v":0},null,false]
[18,"F7","",null,0.01,null,null,null,null,null,null,null,null,null,null,null,null,null,null,null,null,null,null,null,null," ",119,88,0,null,false]
[18,"C8","",null,0.01,null,null,null,null,null,null,null,null,null,null,null,null,null,null,null,null,null,null,null,null," ",119,88,0,null,false]
[18,"G9","",null,0.01,null,null,null,null,null,null,null,null,null,null,null,null,null,null,null,null,null,null,null,null," ",120,88,0,null,false]
[18,"F11","",null,0.01,null,null,null,null,null,null,null,null,null,null,null,null,null,null,null,null,null,null,null,null," ",121,88,0,null,false]
[19,"C1","",null,0.01,null,null,null,null,null,null,null,null,null,null,null,null,null,null,null,null,null,null,null,null," ",121,88,0,null,false]
[19,"F2","",null,0.01,null,null,null,null,null,null,null,null,null,null,null,null,null,null,null,null,null,null,null,null," ",122,88,0,null,false]
[19,"F4","",null,0.01,null,null,null,null,null,null,null,null,null,null,null,null,null,null,null,null,null,null,null,null," ",123,88,0,null,false]
[19,"C5","",null,0.01,null,null,null,null,null,null,null,null,null,null,null,null,null,null,null,null,null,null,null,null," ",124,88,0,null,false]
[19,"F6","",null,0.01,null,null,null,null,null,null,null,null,null,null,null,null,null,null,null,null,null,null,null,null," ",125,88,0,null,false]
[19,"E8","",null,0.01,null,null,null,null,null,null,null,null,null,null,null,null,null,null,null,null,null,null,null,null," ",126,88,0,null,false]
[19,"G8","",null,0.01,null,null,null,null,null,null,null,null,null,null,null,null,null,null,null,null,null,null,null,null," ",126,88,0,null,false]
[19,"F10","",null,0.01,null,null,null,null,null,null,null,null,null,null,null,null,null,null,null,null,null,null,null,null," ",127,88,0,null,false]
[19,"C11","",null,0.01,null,null,null,null,null,null,null,null,null,null,null,null,null,null,null,null,null,null,null,null,{"$f":"IF(LEN(INDEX($1:$1048576,ROW(),4))>0,INDEX($1:$1048576,ROW(),4),\" \")","v":" "},{"$f":"CEILING((ROW()-StartRow+1)/PanelHeight,1)-1","v":128},{"$f":"COUNTBLANK(OFFSET(INDEX($1:$1048576,2,4),AA1668*WellsInPlate,0,WellsInPlate,1))","v":88},{"$f":"IF(AB1668=WellsInPlate,0,1)","v":0},null,false]
[20,"E2","",null,0.01,null,null,null,null,null,null,null,null,null,null,null,null,null,null,null,null,null,null,null,null," ",129,88,0,null,false]
[20,"F3","",null,0.01,null,null,null,null,null,null,null,null,null,null,null,null,null,null,null,null,null,null,null,null," ",130,88,0,null,false]
[20,"C4","",null,0.01,null,null,null,null,null,null,null,null,null,null,null,null,null,null,null,null,null,null,null,null," ",130,88,0,null,false]
[20,"F5","",null,0.01,null,null,null,null,null,null,null,null,null,null,null,null,null,null,null,null,null,null,null,null," ",131,88,0,null,false]
[20,"A7","",null,0.01,null,null,null,null,null,null,null,null,null,null,null,null,null,null,null,null,null,null,null,null," ",132,88,0,null,false]
[20,"A9","",null,0.01,null,null,null,null,null,null,null,null,null,null,null,null,null,null,null,null,null,null,null,null," ",133,88,0,null,false]
[20,"F9","",null,0.01,null,null,null,null,null,null,null,null,null,null,null,null,null,null,null,null,null,null,null,null," ",133,88,0,null,false]
[20,"H10","",null,0.01,null,null,null,null,null,null,null,null,null,null,null,null,null,null,null,null,null,null,null,null," ",134,88,0,null,false]
[21,"A2","",null,0.01,null,null,null,null,null,null,null,null,null,null,null,null,null,null,null,null,null,null,null,null," ",135,88,0,null,false]
[21,"F2","",null,0.01,null,null,null,null,null,null,null,null,null,null,null,null,null,null,null,null,null,null,null,null," ",136,88,0,null,false]
[21,"A4","",null,0.01,null,null,null,null,null,null,null,null,null,null,null,null,null,null,null,null,null,null,null,null," ",137,88,0,null,false]
[21,"H4","",null,0.01,null,null,null,null,null,null,null,null,null,null,null,null,null,null,null,null,null,null,null,null," ",137,88,0,null,false]
[21,"F6","",null,0.01,null,null,null,null,null,null,null,null,null,null,null,null,null,null,null,null,null,null,null,null," ",138,88,0,null,false]
[21,"A8","",null,0.01,null,null,null,null,null,null,null,null,null,null,null,null,null,null,null,null,null,null,null,null," ",139,88,0,null,false]
[21,"F8","",null,0.01,null,null,null,null,null,null,null,null,null,null,null,null,null,null,null,null,null,null,null,null," ",139,88,0,null,false]
[21,"G10","",null,0.01,null,null,null,null,null,null,null,null,null,null,null,null,null,null,null,null,null,null,null,null," ",141,88,0,null,false]
[22,"A1","",null,0.01,null,null,null,null,null,null,null,null,null,null,null,null,null,null,null,null,null,null,null,null," ",142,88,0,null,false]
[22,"F1","",null,0.01,null,null,null,null,null,null,null,null,null,null,null,null,null,null,null,null,null,null,null,null," ",142,88,0,null,false]
[22,"G2","",null,0.01,null,null,null,null,null,null,null,null,null,null,null,null,null,null,null,null,null,null,null,null," ",143,88,0,null,false]
[22,"A5","",null,0.01,null,null,null,null,null,null,null,null,null,null,null,null,null,null,null,null,null,null,null,null," ",144,88,0,null,false]
[22,"F5","",null,0.01,null,null,null,null,null,null,null,null,null,null,null,null,null,null,null,null,null,null,null,null," ",144,88,0,null,false]
[22,"A7","",null,0.01,null,null,null,null,null,null,null,null,null,null,null,null,null,null,null,null,null,null,null,null," ",145,88,0,null,false]
[22,"F8","",null,0.01,null,null,null,null,null,null,null,null,null,null,null,null,null,null,null,null,null,null,null,null," ",146,88,0,null,false]
[22,"F9","",null,0.01,null,null,null,null,null,null,null,null,null,null,null,null,null,null,null,null,null,null,null,null," ",147,88,0,null,false]
[22,"A11","",null,0.01,null,null,null,null,null,null,null,null,null,null,null,null,null,null,null,null,null,null,null,null," ",148,88,0,null,false]
[22,"F11","",null,0.01,null,null,null,null,null,null,null,null,null,null,null,null,null,null,null,null,null,null,null,null," ",148,88,0,null,false]
[23,"F2","",null,0.01,null,null,null,null,null,null,null,null,null,null,null,null,null,null,null,null,null,null,null,null," ",149,88,0,null,false]
[23,"A4","",null,0.01,null,null,null,null,null,null,null,null,null,null,null,null,null,null,null,null,null,null,null,null," ",150,88,0,null,false]
[23,"F4","",null,0.01,null,null,null,null,null,null,null,null,null,null,null,null,null,null,null,null,null,null,null,null," ",151,88,0,null,false]
[23,"E6","",null,0.01,null,null,null,null,null,null,null,null,null,null,null,null,null,null,null,null,null,null,null,null," ",152,88,0,null,false]
[23,"A8","",null,0.01,null,null,null,null,null,null,null,null,null,null,null,null,null,null,null,null,null,null,null,null," ",153,88,0,null,false]
[23,"D9","",null,0.01,null,null,null,null,null,null,null,null,null,null,null,null,null,null,null,null,null,null,null,null," ",153,88,0,null,false]
[23,"A10","",null,0.01,null,null,null,null,null,null,null,null,null,null,null,null,null,null,null,null,null,null,null,null," ",154,88,0,null,false]
[23,"A11","",null,0.01,null,null,null,null,null,null,null,null,null,null,null,null,null,null,null,null,null,null,null,null," ",154,88,0,null,{"$f":"IF(COUNTBLANK(D2018)=0,A2010)","v":false}]
[24,"D2","",null,0.01,null,null,null,null,null,null,null,null,null,null,null,null,null,null,null,null,null,null,null,null," ",156,88,0,null,false]
[24,"A3","",null,0.01,null,null,null,null,null,null,null,null,null,null,null,null,null,null,null,null,null,null,null,null," ",156,88,0,null,false]
[24,"H4","",null,0.01,null,null,null,null,null,null,null,null,null,null,null,null,null,null,null,null,null,null,null,null," ",157,88,0,null,false]
[24,"A5","",null,0.01,null,null,null,null,null,null,null,null,null,null,null,null,null,null,null,null,null,null,null,null," ",158,88,0,null,false]
[24,"A7","",null,0.01,null,null,null,null,null,null,null,null,null,null,null,null,null,null,null,null,null,null,null,null," ",159,88,0,null,false]
[24,"D8","",null,0.01,null,null,null,null,null,null,null,null,null,null,null,null,null,null,null,null,null,null,null,null," ",{"$f":"CEILING((ROW()-StartRow+1)/PanelHeight,1)-1","v":160},88,{"$f":"IF(AB2085=WellsInPlate,0,1)","v":0},null,false]
[24,"A9","",null,0.01,null,null,null,null,null,null,null,null,null,null,null,null,null,null,null,null,null,null,null,null," ",160,88,0,null,false]
[24,"H10","",null,0.01,null,null,null,null,null,null,null,null,null,null,null,null,null,null,null,null,null,null,null,null," ",161,88,0,null,false]
[25,"D1",{"$f":"IF(D2117=0,\"\",D2117)","v":""},null,0.01,null,null,null,null,null,null,null,null,null,null,null,null,null,null,null,null,null,null,null,null," ",{"$f":"CEILING((ROW()-StartRow+1)/PanelHeight,1)-1","v":162},88,{"$f":"IF(AB2117=WellsInPlate,0,1)","v":0},null,false]
[25,"A2","",null,0.01,null,null,null,null,null,null,null,null,null,null,null,null,null,null,null,null,null,null,null,null," ",162,88,0,null,false]
[25,"C4","",null,0.01,null,null,null,null,null,null,null,null,null,null,null,null,null,null,null,null,null,null,null,null," ",164,88,0,null,false]
[25,"D5","",null,0.01,null,null,null,null,null,null,null,null,null,null,null,null,null,null,null,null,null,null,null,null," ",{"$f":"CEILING((ROW()-StartRow+1)/PanelHeight,1)-1","v":165},88,{"$f":"IF(AB2149=WellsInPlate,0,1)","v":0},null,false]
[25,"A6","",null,0.01,null,null,null,null,null,null,null,null,null,null,null,null,null,null,null,null,null,null,null,null," ",165,88,0,null,false]
[25,"D7","",null,0.01,null,null,null,null,null,null,null,null,null,null,null,null,null,null,null,null,null,null,null,null," ",166,88,0,null,false]
[25,"G8","",null,0.01,null,null,null,null,null,null,null,null,null,null,null,null,null,null,null,null,null,null,null,null," ",167,88,0,null,false]
[25,"A10","",null,0.01,null,null,null,null,null,null,null,null,null,null,null,null,null,null,null,null,null,null,null,null," ",167,88,0,null,false]
[25,"D11","",null,0.01,null,null,null,null,null,null,null,null,null,null,null,null,null,null,null,null,null,null,null,null," ",168,88,0,null,false]
[26,"A1","",null,0.01,null,null,null,null,null,null,null,null,null,null,null,null,null,null,null,null,null,null,null,null," ",169,88,0,null,false]
[26,"G2","",null,0.01,null,null,null,null,null,null,null,null,null,null,null,null,null,null,null,null,null,null,null,null," ",170,88,0,null,false]
[26,"D4","",null,0.01,null,null,null,null,null,null,null,null,null,null,null,null,null,null,null,null,null,null,null,null," ",171,88,0,null,false]
[26,"A5","",null,0.01,null,null,null,null,null,null,null,null,null,null,null,null,null,null,null,null,null,null,null,null," ",171,88,0,null,false]
[26,"F6","",null,0.01,null,null,null,null,null,null,null,null,null,null,null,null,null,null,null,null,null,null,null,null," ",172,88,0,null,false]
[26,"D8","",null,0.01,null,null,null,null,null,null,null,null,null,null,null,null,null,null,null,null,null,null,null,null," ",173,88,0,null,false]
[26,"A9","",null,0.01,null,null,null,null,null,null,null,null,null,null,null,null,null,null,null,null,null,null,null,null," ",174,88,0,null,false]
[26,"D10","",null,0.01,null,null,null,null,null,null,null,null,null,null,null,null,null,null,null,null,null,null,null,null," ",{"$f":"CEILING((ROW()-StartRow+1)/PanelHeight,1)-1","v":174},88,{"$f":"IF(AB2277=WellsInPlate,0,1)","v":0},null,false]
[27,"E1","",null,0.01,null,null,null,null,null,null,null,null,null,null,null,null,null,null,null,null,null,null,null,null," ",176,88,0,null,false]
[27,"G2","",null,0.01,null,null,null,null,null,null,null,null,null,null,null,null,null,null,null,null,null,null,null,null," ",176,88,0,null,false]
[27,"D3",{"$f":"IF(D2309=0,\"\",D2309)","v":""},null,0.01,null,null,null,null,null,null,null,null,null,null,null,null,null,null,null,null,null,null,null,null," ",{"$f":"CEILING((ROW()-StartRow+1)/PanelHeight,1)-1","v":177},88,{"$f":"IF(AB2309=WellsInPlate,0,1)","v":0},null,false]
[27,"C5","",null,0.01,null,null,null,null,null,null,null,null,null,null,null,null,null,null,null,null,null,null,null,null," ",178,88,0,null,false]
[27,"E6","",null,0.01,null,null,null,null,null,null,null,null,null,null,null,null,null,null,null,null,null,null,null,null," ",179,88,0,null,false]
[27,"D7","",null,0.01,null,null,null,null,null,null,null,null,null,null,null,null,null,null,null,null,null,null,null,null," ",{"$f":"CEILING((ROW()-StartRow+1)/PanelHeight,1)-1","v":179},88,{"$f":"IF(AB2341=WellsInPlate,0,1)","v":0},null,false]
[27,"G8","",null,0.01,null,null,null,null,null,null,null,null,null,null,null,null,null,null,null,null,null,null,null,null," ",180,88,0,null,false]
[27,"D10","",null,0.01,null,null,null,null,null,null,null,null,null,null,null,null,null,null,null,null,null,null,null,null," ",181,88,0,null,false]
[27,"D11",{"$f":"IF(D2373=0,\"\",D2373)","v":""},null,0.01,null,null,null,null,null,null,null,null,null,null,null,null,null,null,null,null,null,null,null,null," ",{"$f":"CEILING((ROW()-StartRow+1)/PanelHeight,1)-1","v":182},88,{"$f":"IF(AB2373=WellsInPlate,0,1)","v":0},null,false]
[28,"G1","",null,0.01,null,null,null,null,null,null,null,null,null,null,null,null,null,null,null,null,null,null,null,null," ",183,88,0,null,false]
[28,"D2","",null,0.01,null,null,null,null,null,null,null,null,null,null,null,null,null,null,null,null,null,null,null,null," ",183,88,0,null,false]
[28,"H3","",null,0.01,null,null,null,null,null,null,null,null,null,null,null,null,null,null,null,null,null,null,null,null," ",184,88,0,null,false]
[28,"G5","",null,0.01,null,null,null,null,null,null,null,null,null,null,null,null,null,null,null,null,null,null,null,null," ",185,88,0,null,false]
[28,"D6","",null,0.01,null,null,null,null,null,null,null,null,null,null,null,null,null,null,null,null,null,null,null,null," ",185,88,0,null,false]
[28,"G7","",null,0.01,null,null,null,null,null,null,null,null,null,null,null,null,null,null,null,null,null,null,null,null," ",186,88,0,null,false]
[28,"H8","",null,0.01,null,null,null,null,null,null,null,null,null,null,null,null,null,null,null,null,null,null,null,null," ",187,88,0,null,false]
[28,"D10","",null,0.01,null,null,null,null,null,null,null,null,null,null,null,null,null,null,null,null,null,null,null,null," ",188,88,0,null,false]
[28,"G11","",null,0.01,null,null,null,null,null,null,null,null,null,null,null,null,null,null,null,null,null,null,null,null," ",189,88,0,null,false]
[29,"G1","",null,0.01,null,null,null,null,null,null,null,null,null,null,null,null,null,null,null,null,null,null,null,null," ",189,88,0,null,false]
[29,"H2","",null,0.01,null,null,null,null,null,null,null,null,null,null,null,null,null,null,null,null,null,null,null,null," ",190,88,0,null,false]
[29,"G4","",null,0.01,null,null,null,null,null,null,null,null,null,null,null,null,null,null,null,null,null,null,null,null," ",191,88,0,null,false]
[29,"D5",{"$f":"IF(D2501=0,\"\",D2501)","v":""},null,0.01,null,null,null,null,null,null,null,null,null,null,null,null,null,null,null,null,null,null,null,null," ",{"$f":"CEILING((ROW()-StartRow+1)/PanelHeight,1)-1","v":192},88,{"$f":"IF(AB2501=WellsInPlate,0,1)","v":0},null,false]
[29,"G6","",null,0.01,null,null,null,null,null,null,null,null,null,null,null,null,null,null,null,null,null,null,null,null," ",192,88,0,null,false]
[29,"G8","",null,0.01,null,null,null,null,null,null,null,null,null,null,null,null,null,null,null,null,null,null,null,null," ",194,88,0,null,false]
[29,"D9","",null,0.01,null,null,null,null,null,null,null,null,null,null,null,null,null,null,null,null,null,null,null,null," ",{"$f":"CEILING((ROW()-StartRow+1)/PanelHeight,1)-1","v":194},88,{"$f":"IF(AB2533=WellsInPlate,0,1)","v":0},null,false]
[29,"G10","",null,0.01,null,null,null,null,null,null,null,null,null,null,null,null,null,null,null,null,null,null,null,null," ",195,88,0,null,false]
[30,"F1","",null,0.01,null,null,null,null,null,null,null,null,null,null,null,null,null,null,null,null,null,null,null,null," ",196,88,0,null,false]
[30,"B3","",null,0.01,null,null,null,null,null,null,null,null,null,null,null,null,null,null,null,null,null,null,null,null," ",197,88,0,null,false]
[30,"G3","",null,0.01,null,null,null,null,null,null,null,null,null,null,null,null,null,null,null,null,null,null,null,null," ",197,88,0,null,false]
[30,"E5","",null,0.01,null,null,null,null,null,null,null,null,null,null,null,null,null,null,null,null,null,null,null,null," ",198,88,0,null,false]
[30,"H5","",null,0.01,null,null,null,null,null,null,null,null,null,null,null,null,null,null,null,null,null,null,null,null," ",199,88,0,null,false]
[30,"G7","",null,0.01,null,null,null,null,null,null,null,null,null,null,null,null,null,null,null,null,null,null,null,null," ",200,88,0,null,false]
[30,"D8","",null,0.01,null,null,null,null,null,null,null,null,null,null,null,null,null,null,null,null,null,null,null,null," ",200,88,0,null,false]
[30,"E10","",null,0.01,null,null,null,null,null,null,null,null,null,null,null,null,null,null,null,null,null,null,null,null," ",202,88,0,null,false]
[30,"G11","",null,0.01,null,null,null,null,null,null,null,null,null,null,null,null,null,null,null,null,null,null,null,null," ",202,88,0,null,false]
[31,"B2","",null,0.01,null,null,null,null,null,null,null,null,null,null,null,null,null,null,null,null,null,null,null,null," ",203,88,0,null,false]
[31,"G2","",null,0.01,null,null,null,null,null,null,null,null,null,null,null,null,null,null,null,null,null,null,null,null," ",204,88,0,null,false]
[31,"A4","",null,0.01,null,null,null,null,null,null,null,null,null,null,null,null,null,null,null,null,null,null,null,null," ",204,88,0,null,false]
[31,"B6","",null,0.01,null,null,null,null,null,null,null,null,null,null,null,null,null,null,null,null,null,null,null,null," ",206,88,0,null,false]
[31,"G6","",null,0.01,null,null,null,null,null,null,null,null,null,null,null,null,null,null,null,null,null,null,null,null," ",206,88,0,null,false]
[31,"B8","",null,0.01,null,null,null,null,null,null,null,null,null,null,null,null,null,null,null,null,null,null,null,null," ",207,88,0,null,false]
[31,"A9","",null,0.01,null,null,null,null,null,null,null,null,null,null,null,null,null,null,null,null,null,null,null,null," ",207,88,0,null,false]
[31,"G10","",null,0.01,null,null,null,null,null,null,null,null,null,null,null,null,null,null,null,null,null,null,null,null," ",208,88,0,null,false]
[32,"B1","",null,0.01,null,null,null,null,null,null,null,null,null,null,null,null,null,null,null,null,null,null,null,null," ",209,88,0,null,false]
[32,"H1","",null,0.01,null,null,null,null,null,null,null,null,null,null,null,null,null,null,null,null,null,null,null,null," ",210,88,0,null,false]
[32,"G3","",null,0.01,null,null,null,null,null,null,null,null,null,null,null,null,null,null,null,null,null,null,null,null," ",211,88,0,null,false]
[32,"B5","",null,0.01,null,null,null,null,null,null,null,null,null,null,null,null,null,null,null,null,null,null,null,null," ",212,88,0,null,false]
[32,"G5","",null,0.01,null,null,null,null,null,null,null,null,null,null,null,null,null,null,null,null,null,null,null,null," ",212,88,0,null,false]
[32,"H6","",null,0.01,null,null,null,null,null,null,null,null,null,null,null,null,null,null,null,null,null,null,null,null," ",213,88,0,null,false]
[32,"B9","",null,0.01,null,null,null,null,null,null,null,null,null,null,null,null,null,null,null,null,null,null,null,null," ",214,88,0,null,false]
[32,"G9","",null,0.01,null,null,null,null,null,null,null,null,null,null,null,null,null,null,null,null,null,null,null,null," ",215,88,0,null,false]
[32,"B11","",null,0.01,null,null,null,null,null,null,null,null,null,null,null,null,null,null,null,null,null,null,null,null," ",215,88,0,null,false]
[33,"G1","",null,0.01,null,null,null,null,null,null,null,null,null,null,null,null,null,null,null,null,null,null,null,null," ",216,88,0,null,false]
[33,"G2","",null,0.01,null,null,null,null,null,null,null,null,null,null,null,null,null,null,null,null,null,null,null,null," ",217,88,0,null,false]
[33,"B4","",null,0.01,null,null,null,null,null,null,null,null,null,null,null,null,null,null,null,null,null,null,null,null," ",218,88,0,null,false]
[33,"F5","",null,0.01,null,null,null,null,null,null,null,null,null,null,null,null,null,null,null,null,null,null,null,null," ",219,88,0,null,false]
[33,"C6","",null,0.01,null,null,null,null,null,null,null,null,null,null,null,null,null,null,null,null,null,null,null,null," ",219,88,0,null,false]
[33,"B8","",null,0.01,null,null,null,null,null,null,null,null,null,null,null,null,null,null,null,null,null,null,null,null," ",220,88,0,null,false]
[33,"G8","",null,0.01,null,null,null,null,null,null,null,null,null,null,null,null,null,null,null,null,null,null,null,null," ",221,88,0,null,false]
[33,"F10","",null,0.01,null,null,null,null,null,null,null,null,null,null,null,null,null,null,null,null,null,null,null,null," ",222,88,0,null,false]
[34,"B1","",null,0.01,null,null,null,null,null,null,null,null,null,null,null,null,null,null,null,null,null,null,null,null," ",223,88,0,null,false]
[34,"E2","",null,0.01,null,null,null,null,null,null,null,null,null,null,null,null,null,null,null,null,null,null,null,null," ",224,88,0,null,false]
[34,"B3","",null,0.01,null,null,null,null,null,null,null,null,null,null,null,null,null,null,null,null,null,null,null,null," ",224,88,0,null,false]
[34,"B4","",null,0.01,null,null,null,null,null,null,null,null,null,null,null,null,null,null,null,null,null,null,null,null," ",225,88,0,null,false]
[34,"E6","",null,0.01,null,null,null,null,null,null,null,null,null,null,null,null,null,null,null,null,null,null,null,null," ",226,88,0,null,false]
[34,"B7","",null,0.01,null,null,null,null,null,null,null,null,null,null,null,null,null,null,null,null,null,null,null,null," ",227,88,0,null,false]
[34,"A8","",null,0.01,null,null,null,null,null,null,null,null,null,null,null,null,null,null,null,null,null,null,null,null," ",227,88,0,null,false]
[34,"E10","",null,0.01,null,null,null,null,null,null,null,null,null,null,null,null,null,null,null,null,null,null,null,null," ",229,88,0,null,false]
[34,"B11","",null,0.01,null,null,null,null,null,null,null,null,null,null,null,null,null,null,null,null,null,null,null,null," ",229,88,0,null,false]
[35,"E1","",null,0.01,null,null,null,null,null,null,null,null,null,null,null,null,null,null,null,null,null,null,null,null," ",230,88,0,null,false]
[35,"D3",{"$f":"IF(D3013=0,\"\",D3013)","v":""},null,0.01,null,null,null,null,null,null,null,null,null,null,null,null,null,null,null,null,null,null,null,null," ",{"$f":"CEILING((ROW()-StartRow+1)/PanelHeight,1)-1","v":231},88,{"$f":"IF(AB3013=WellsInPlate,0,1)","v":0},null,false]
[35,"B4","",null,0.01,null,null,null,null,null,null,null,null,null,null,null,null,null,null,null,null,null,null,null,null," ",231,88,0,null,false]
[35,"E5","",null,0.01,null,null,null,null,null,null,null,null,null,null,null,null,null,null,null,null,null,null,null,null," ",232,88,0,null,false]
[35,"B6","",null,0.01,null,null,null,null,null,null,null,null,null,null,null,null,null,null,null,null,null,null,null,null," ",233,88,0,null,false]
[35,"D8","",null,0.01,null,null,null,null,null,null,null,null,null,null,null,null,null,null,null,null,null,null,null,null," ",234,88,0,null,false]
[35,"E9","",null,0.01,null,null,null,null,null,null,null,null,null,null,null,null,null,null,null,null,null,null,null,null," ",235,88,0,null,false]
[35,"B10","",null,0.01,null,null,null,null,null,null,null,null,null,null,null,null,null,null,null,null,null,null,null,null," ",235,88,0,null,false]
[36,"C1","",null,0.01,null,null,null,null,null,null,null,null,null,null,null,null,null,null,null,null,null,null,null,null," ",236,88,0,null,false]
[36,"E2","",null,0.01,null,null,null,null,null,null,null,null,null,null,null,null,null,null,null,null,null,null,null,null," ",237,88,0,null,false]
[36,"B3","",null,0.01,null,null,null,null,null,null,null,null,null,null,null,null,null,null,null,null,null,null,null,null," ",238,88,0,null,false]
[36,"E4","",null,0.01,null,null,null,null,null,null,null,null,null,null,null,null,null,null,null,null,null,null,null,null," ",238,88,0,null,false]
[36,"G5","",null,0.01,null,null,null,null,null,null,null,null,null,null,null,null,null,null,null,null,null,null,null,null," ",239,88,0,null,false]
[36,"F6","",null,0.01,null,null,null,null,null,null,null,null,null,null,null,null,null,null,null,null,null,null,null,null," ",240,88,0,null,false]
[36,"E8","",null,0.01,null,null,null,null,null,null,null,null,null,null,null,null,null,null,null,null,null,null,null,null," ",241,88,0,null,false]
[36,"B9","",null,0.01,null,null,null,null,null,null,null,null,null,null,null,null,null,null,null,null,null,null,null,null," ",241,88,0,null,false]
[36,"G10","",null,0.01,null,null,null,null,null,null,null,null,null,null,null,null,null,null,null,null,null,null,null,null," ",242,88,0,null,false]
[37,"E1","",null,0.01,null,null,null,null,null,null,null,null,null,null,null,null,null,null,null,null,null,null,null,null," ",243,88,0,null,false]
[37,"B2","",null,0.01,null,null,null,null,null,null,null,null,null,null,null,null,null,null,null,null,null,null,null,null," ",244,88,0,null,false]
[37,"E3","",null,0.01,null,null,null,null,null,null,null,null,null,null,null,null,null,null,null,null,null,null,null,null," ",245,88,0,null,false]
[37,"F5","",null,0.01,null,null,null,null,null,null,null,null,null,null,null,null,null,null,null,null,null,null,null,null," ",246,88,0,null,false]
[37,"H6","",null,0.01,null,null,null,null,null,null,null,null,null,null,null,null,null,null,null,null,null,null,null,null," ",247,88,0,null,false]
[37,"E7","",null,0.01,null,null,null,null,null,null,null,null,null,null,null,null,null,null,null,null,null,null,null,null," ",247,88,0,null,false]
[37,"E9","",null,0.01,null,null,null,null,null,null,null,null,null,null,null,null,null,null,null,null,null,null,null,null," ",248,88,0,null,false]
[37,"H10","",null,0.01,null,null,null,null,null,null,null,null,null,null,null,null,null,null,null,null,null,null,null,null," ",249,88,0,null,false]
[37,"E11","",null,0.01,null,null,null,null,null,null,null,null,null,null,null,null,null,null,null,null,null,null,null,null," ",250,88,0,null,false]
[38,"H1","",null,0.01,null,null,null,null,null,null,null,null,null,null,null,null,null,null,null,null,null,null,null,null," ",250,88,0,null,false]
[38,"E3","",null,0.01,null,null,null,null,null,null,null,null,null,null,null,null,null,null,null,null,null,null,null,null," ",251,88,0,null,false]
[38,"E4","",null,0.01,null,null,null,null,null,null,null,null,null,null,null,null,null,null,null,null,null,null,null,null," ",252,88,0,null,false]
[38,"H5","",null,0.01,null,null,null,null,null,null,null,null,null,null,null,null,null,null,null,null,null,null,null,null," ",253,88,0,null,false]
[38,"E6","",null,0.01,null,null,null,null,null,null,null,null,null,null,null,null,null,null,null,null,null,null,null,null," ",253,88,0,null,false]
[38,"A8","",null,0.01,null,null,null,null,null,null,null,null,null,null,null,null,null,null,null,null,null,null,null,null," ",254,88,0,null,false]
[38,"H9","",null,0.01,null,null,null,null,null,null,null,null,null,null,null,null,null,null,null,null,null,null,null,null," ",255,88,0,null,false]
[38,"E10","",null,0.01,null,null,null,null,null,null,null,null,null,null,null,null,null,null,null,null,null,null,null,null," ",256,88,0,null,false]
[39,"D1","",null,0.01,null,null,null,null,null,null,null,null,null,null,null,null,null,null,null,null,null,null,null,null," ",257,88,0,null,false]
[39,"H2","",null,0.01,null,null,null,null,null,null,null,null,null,null,null,null,null,null,null,null,null,null,null,null," ",258,88,0,null,false]
[39,"E3","",null,0.01,null,null,null,null,null,null,null,null,null,null,null,null,null,null,null,null,null,null,null,null," ",258,88,0,null,false]
[39,"H4","",null,0.01,null,null,null,null,null,null,null,null,null,null,null,null,null,null,null,null,null,null,null,null," ",259,88,0,null,false]
[39,"H5","",null,0.01,null,null,null,null,null,null,null,null,null,null,null,null,null,null,null,null,null,null,null,null," ",260,88,0,null,false]
[39,"E7","",null,0.01,null,null,null,null,null,null,null,null,null,null,null,null,null,null,null,null,null,null,null,null," ",261,88,0,null,false]
[39,"H8","",null,0.01,null,null,null,null,null,null,null,null,null,null,null,null,null,null,null,null,null,null,null,null," ",261,88,0,null,false]
[39,"E9","",null,0.01,null,null,null,null,null,null,null,null,null,null,null,null,null,null,null,null,null,null,null,null," ",262,88,0,null,false]
[39,"H10","",null,0.01,null,null,null,null,null,null,null,null,null,null,null,null,null,null,null,null,null,null,null,null," ",263,88,0,null,false]
[40,"H1","",null,0.01,null,null,null,null,null,null,null,null,null,null,null,null,null,null,null,null,null,null,null,null," ",264,88,0,null,false]
[40,"E2","",null,0.01,null,null,null,null,null,null,null,null,null,null,null,null,null,null,null,null,null,null,null,null," ",264,88,0,null,false]
[40,"G3","",null,0.01,null,null,null,null,null,null,null,null,null,null,null,null,null,null,null,null,null,null,null,null," ",265,88,0,null,false]
[40,"H5","",null,0.01,null,null,null,null,null,null,null,null,null,null,null,null,null,null,null,null,null,null,null,null," ",266,88,0,null,false]
[40,"C7","",null,0.01,null,null,null,null,null,null,null,null,null,null,null,null,null,null,null,null,null,null,null,null," ",267,88,0,null,false]
[40,"H7","",null,0.01,null,null,null,null,null,null,null,null,null,null,null,null,null,null,null,null,null,null,null,null," ",268,88,0,null,false]
[40,"F9","",null,0.01,null,null,null,null,null,null,null,null,null,null,null,null,null,null,null,null,null,null,null,null," ",269,88,0,null,false]
[40,"C11","",null,0.01,null,null,null,null,null,null,null,null,null,null,null,null,null,null,null,null,null,null,null,null," ",270,88,0,null,false]
[40,"H11","",null,0.01,null,null,null,null,null,null,null,null,null,null,null,null,null,null,null,null,null,null,null,null," ",270,88,0,null,false]
[41,"G2","",null,0.01,null,null,null,null,null,null,null,null,null,null,null,null,null,null,null,null,null,null,null,null," ",271,88,0,null,false]
[41,"F3","",null,0.01,null,null,null,null,null,null,null,null,null,null,null,null,null,null,null,null,null,null,null,null," ",272,88,0,null,false]
[41,"H4","",null,0.01,null,null,null,null,null,null,null,null,null,null,null,null,null,null,null,null,null,null,null,null," ",273,88,0,null,false]
[41,"C6","",null,0.01,null,null,null,null,null,null,null,null,null,null,null,null,null,null,null,null,null,null,null,null," ",273,88,0,null,false]
[41,"E7","",null,0.01,null,null,null,null,null,null,null,null,null,null,null,null,null,null,null,null,null,null,null,null," ",274,88,0,null,false]
[41,"H8","",null,0.01,null,null,null,null,null,null,null,null,null,null,null,null,null,null,null,null,null,null,null,null," ",275,88,0,null,false]
[41,"C10","",null,0.01,null,null,null,null,null,null,null,null,null,null,null,null,null,null,null,null,null,null,null,null," ",276,88,0,null,false]
[41,"H10","",null,0.01,null,null,null,null,null,null,null,null,null,null,null,null,null,null,null,null,null,null,null,null," ",276,88,0,null,false]
[42,"E1","",null,0.01,null,null,null,null,null,null,null,null,null,null,null,null,null,null,null,null,null,null,null,null," ",277,88,0,null,false]
[42,"C3","",null,0.01,null,null,null,null,null,null,null,null,null,null,null,null,null,null,null,null,null,null,null,null," ",278,88,0,null,false]
[42,"H3","",null,0.01,null,null,null,null,null,null,null,null,null,null,null,null,null,null,null,null,null,null,null,null," ",279,88,0,null,false]
[42,"C5","",null,0.01,null,null,null,null,null,null,null,null,null,null,null,null,null,null,null,null,null,null,null,null," ",280,88,0,null,false]
[42,"A6","",null,0.01,null,null,null,null,null,null,null,null,null,null,null,null,null,null,null,null,null,null,null,null," ",280,88,0,null,false]
[42,"H7","",null,0.01,null,null,null,null,null,null,null,null,null,null,null,null,null,null,null,null,null,null,null,null," ",281,88,0,null,false]
[42,"C9","",null,0.01,null,null,null,null,null,null,null,null,null,null,null,null,null,null,null,null,null,null,null,null," ",282,88,0,null,false]
[42,"H9","",null,0.01,null,null,null,null,null,null,null,null,null,null,null,null,null,null,null,null,null,null,null,null," ",282,88,0,null,false]
[42,"D11","",null,0.01,null,null,null,null,null,null,null,null,null,null,null,null,null,null,null,null,null,null,null,null," ",283,88,0,null,false]
[43,"C2","",null,0.01,null,null,null,null,null,null,null,null,null,null,null,null,null,null,null,null,null,null,null,null," ",284,88,0,null,false]
[43,"H2","",null,0.01,null,null,null,null,null,null,null,null,null,null,null,null,null,null,null,null,null,null,null,null," ",285,88,0,null,false]
[43,"C5","",null,0.01,null,null,null,null,null,null,null,null,null,null,null,null,null,null,null,null,null,null,null,null," ",286,88,0,null,false]
[43,"C6","",null,0.01,null,null,null,null,null,null,null,null,null,null,null,null,null,null,null,null,null,null,null,null," ",287,88,0,null,false]
[43,"H6","",null,0.01,null,null,null,null,null,null,null,null,null,null,null,null,null,null,null,null,null,null,null,null," ",287,88,0,null,false]
[43,"C8","",null,0.01,null,null,null,null,null,null,null,null,null,null,null,null,null,null,null,null,null,null,null,null," ",288,88,0,null,false]
[43,"G9","",null,0.01,null,null,null,null,null,null,null,null,null,null,null,null,null,null,null,null,null,null,null,null," ",289,88,0,null,false]
[43,"F11","",null,0.01,null,null,null,null,null,null,null,null,null,null,null,null,null,null,null,null,null,null,null,null," ",290,88,0,null,false]
[44,"C1","",null,0.01,null,null,null,null,null,null,null,null,null,null,null,null,null,null,null,null,null,null,null,null," ",291,88,0,null,false]
[44,"B3","",null,0.01,null,null,null,null,null,null,null,null,null,null,null,null,null,null,null,null,null,null,null,null," ",292,88,0,null,false]
[44,"G3","",null,0.01,null,null,null,null,null,null,null,null,null,null,null,null,null,null,null,null,null,null,null,null," ",292,88,0,null,false]
[44,"C5","",null,0.01,null,null,null,null,null,null,null,null,null,null,null,null,null,null,null,null,null,null,null,null," ",293,88,0,null,false]
[44,"F6","",null,0.01,null,null,null,null,null,null,null,null,null,null,null,null,null,null,null,null,null,null,null,null," ",294,88,0,null,false]
[44,"F7","",null,0.01,null,null,null,null,null,null,null,null,null,null,null,null,null,null,null,null,null,null,null,null," ",295,88,0,null,false]
[44,"C9","",null,0.01,null,null,null,null,null,null,null,null,null,null,null,null,null,null,null,null,null,null,null,null," ",296,88,0,null,false]
[44,"F10","",null,0.01,null,null,null,null,null,null,null,null,null,null,null,null,null,null,null,null,null,null,null,null," ",296,88,0,null,false]
[44,"C11","",null,0.01,null,null,null,null,null,null,null,null,null,null,null,null,null,null,null,null,null,null,null,null," ",297,88,0,null,false]
[45,"E2","",null,0.01,null,null,null,null,null,null,null,null,null,null,null,null,null,null,null,null,null,null,null,null," ",298,88,0,null,false]
[45,"F3","",null,0.01,null,null,null,null,null,null,null,null,null,null,null,null,null,null,null,null,null,null,null,null," ",299,88,0,null,false]
[45,"C4","",null,0.01,null,null,null,null,null,null,null,null,null,null,null,null,null,null,null,null,null,null,null,null," ",299,88,0,null,false]
[45,"F5","",null,0.01,null,null,null,null,null,null,null,null,null,null,null,null,null,null,null,null,null,null,null,null," ",300,88,0,null,false]
[45,"E7","",null,0.01,null,null,null,null,null,null,null,null,null,null,null,null,null,null,null,null,null,null,null,null," ",301,88,0,null,false]
[45,"C8","",null,0.01,null,null,null,null,null,null,null,null,null,null,null,null,null,null,null,null,null,null,null,null," ",302,88,0,null,false]
[45,"F9","",null,0.01,null,null,null,null,null,null,null,null,null,null,null,null,null,null,null,null,null,null,null,null," ",303,88,0,null,false]
[45,"D11","",null,0.01,null,null,null,null,null,null,null,null,null,null,null,null,null,null,null,null,null,null,null,null," ",304,88,0,null,false]
[45,"G11","",null,0.01,null,null,null,null,null,null,null,null,null,null,null,null,null,null,null,null,null,null,null,null," ",304,88,0,null,false]
[46,"F2","",null,0.01,null,null,null,null,null,null,null,null,null,null,null,null,null,null,null,null,null,null,null,null," ",305,88,0,null,false]
[46,"C3","",null,0.01,null,null,null,null,null,null,null,null,null,null,null,null,null,null,null,null,null,null,null,null," ",305,88,0,null,false]
[46,"D5","",null,0.01,null,null,null,null,null,null,null,null,null,null,null,null,null,null,null,null,null,null,null,null," ",307,88,0,null,false]
[46,"F6","",null,0.01,null,null,null,null,null,null,null,null,null,null,null,null,null,null,null,null,null,null,null,null," ",307,88,0,null,false]
[46,"C7","",null,0.01,null,null,null,null,null,null,null,null,null,null,null,null,null,null,null,null,null,null,null,null," ",308,88,0,null,false]
[46,"F8","",null,0.01,null,null,null,null,null,null,null,null,null,null,null,null,null,null,null,null,null,null,null,null," ",309,88,0,null,false]
[46,"H9","",null,0.01,null,null,null,null,null,null,null,null,null,null,null,null,null,null,null,null,null,null,null,null," ",309,88,0,null,false]
[47,"A1","",null,0.01,null,null,null,null,null,null,null,null,null,null,null,null,null,null,null,null,null,null,null,null," ",311,88,0,null,false]
[47,"F1","",null,0.01,null,null,null,null,null,null,null,null,null,null,null,null,null,null,null,null,null,null,null,null," ",311,88,0,null,false]
[47,"G2","",null,0.01,null,null,null,null,null,null,null,null,null,null,null,null,null,null,null,null,null,null,null,null," ",312,88,0,null,false]
[47,"G3","",null,0.01,null,null,null,null,null,null,null,null,null,null,null,null,null,null,null,null,null,null,null,null," ",312,88,0,null,false]
[47,"F5","",null,0.01,null,null,null,null,null,null,null,null,null,null,null,null,null,null,null,null,null,null,null,null," ",314,88,0,null,false]
[47,"C6","",null,0.01,null,null,null,null,null,null,null,null,null,null,null,null,null,null,null,null,null,null,null,null," ",314,88,0,null,false]
[47,"G7","",null,0.01,null,null,null,null,null,null,null,null,null,null,null,null,null,null,null,null,null,null,null,null," ",315,88,0,null,false]
[47,"F9","",null,0.01,null,null,null,null,null,null,null,null,null,null,null,null,null,null,null,null,null,null,null,null," ",316,88,0,null,false]
[47,"A11","",null,0.01,null,null,null,null,null,null,null,null,null,null,null,null,null,null,null,null,null,null,null,null," ",317,88,0,null,{"$f":"IF(COUNTBLANK(D4130)=0,A4122)","v":false}]
[47,"F11","",null,0.01,null,null,null,null,null,null,null,null,null,null,null,null,null,null,null,null,null,null,null,null," ",317,88,0,null,false]
[48,"F2","",null,0.01,null,null,null,null,null,null,null,null,null,null,null,null,null,null,null,null,null,null,null,null," ",319,88,0,null,false]
[48,"A4","",null,0.01,null,null,null,null,null,null,null,null,null,null,null,null,null,null,null,null,null,null,null,null," ",319,88,0,null,false]
[48,"F4","",null,0.01,null,null,null,null,null,null,null,null,null,null,null,null,null,null,null,null,null,null,null,null," ",320,88,0,null,false]
[48,"F5","",null,0.01,null,null,null,null,null,null,null,null,null,null,null,null,null,null,null,null,null,null,null,null," ",320,88,0,null,false]
[48,"A8","",null,0.01,null,null,null,null,null,null,null,null,null,null,null,null,null,null,null,null,null,null,null,null," ",322,88,0,null,{"$f":"IF(COUNTBLANK(D4194)=0,A4186)","v":false}]
[48,"F8","",null,0.01,null,null,null,null,null,null,null,null,null,null,null,null,null,null,null,null,null,null,null,null," ",322,88,0,null,false]
[48,"A10","",null,0.01,null,null,null,null,null,null,null,null,null,null,null,null,null,null,null,null,null,null,null,null," ",323,88,0,null,false]
[48,"E11","",null,0.01,null,null,null,null,null,null,null,null,null,null,null,null,null,null,null,null,null,null,null,null," ",324,88,0,null,false]
[49,"F1","",null,0.01,null,null,null,null,null,null,null,null,null,null,null,null,null,null,null,null,null,null,null,null," ",325,88,0,null,false]
[49,"A3","",null,0.01,null,null,null,null,null,null,null,null,null,null,null,null,null,null,null,null,null,null,null,null," ",326,88,0,null,false]
[49,"F3","",null,0.01,null,null,null,null,null,null,null,null,null,null,null,null,null,null,null,null,null,null,null,null," ",326,88,0,null,false]
[49,"E5","",null,0.01,null,null,null,null,null,null,null,null,null,null,null,null,null,null,null,null,null,null,null,null," ",327,88,0,null,false]
[49,"A7","",null,0.01,null,null,null,null,null,null,null,null,null,null,null,null,null,null,null,null,null,null,null,null," ",328,88,0,null,false]
[49,"F7","",null,0.01,null,null,null,null,null,null,null,null,null,null,null,null,null,null,null,null,null,null,null,null," ",328,88,0,null,false]
[49,"A9","",null,0.01,null,null,null,null,null,null,null,null,null,null,null,null,null,null,null,null,null,null,null,null," ",329,88,0,null,false]
[49,"A10","",null,0.01,null,null,null,null,null,null,null,null,null,null,null,null,null,null,null,null,null,null,null,null," ",330,88,0,null,false]
[49,"F11","",null,0.01,null,null,null,null,null,null,null,null,null,null,null,null,null,null,null,null,null,null,null,null," ",331,88,0,null,false]
[50,"A2","",null,0.01,null,null,null,null,null,null,null,null,null,null,null,null,null,null,null,null,null,null,null,null," ",332,88,0,null,{"$f":"IF(COUNTBLANK(D4322)=0,A4314)","v":false}]
[50,"H2","",null,0.01,null,null,null,null,null,null,null,null,null,null,null,null,null,null,null,null,null,null,null,null," ",332,88,0,null,false]
[50,"B4","",null,0.01,null,null,null,null,null,null,null,null,null,null,null,null,null,null,null,null,null,null,null,null," ",333,88,0,null,false]
[50,"A6","",null,0.01,null,null,null,null,null,null,null,null,null,null,null,null,null,null,null,null,null,null,null,null," ",334,88,0,null,false]
[50,"F6","",null,0.01,null,null,null,null,null,null,null,null,null,null,null,null,null,null,null,null,null,null,null,null," ",335,88,0,null,false]
[50,"H7","",null,0.01,null,null,null,null,null,null,null,null,null,null,null,null,null,null,null,null,null,null,null,null," ",335,88,0,null,false]
[50,"A10","",null,0.01,null,null,null,null,null,null,null,null,null,null,null,null,null,null,null,null,null,null,null,null," ",337,88,0,null,{"$f":"IF(COUNTBLANK(D4386)=0,A4378)","v":false}]
[50,"D11","",null,0.01,null,null,null,null,null,null,null,null,null,null,null,null,null,null,null,null,null,null,null,null," ",337,88,0,null,false]
[51,"A1","",null,0.01,null,null,null,null,null,null,null,null,null,null,null,null,null,null,null,null,null,null,null,null," ",338,88,0,null,false]
[51,"G2","",null,0.01,null,null,null,null,null,null,null,null,null,null,null,null,null,null,null,null,null,null,null,null," ",339,88,0,null,false]
[51,"D4","",null,0.01,null,null,null,null,null,null,null,null,null,null,null,null,null,null,null,null,null,null,null,null," ",340,88,0,null,false]
[51,"A5","",null,0.01,null,null,null,null,null,null,null,null,null,null,null,null,null,null,null,null,null,null,null,null," ",340,88,0,null,false]
[51,"F6","",null,0.01,null,null,null,null,null,null,null,null,null,null,null,null,null,null,null,null,null,null,null,null," ",341,88,0,null,false]
[51,"D8","",null,0.01,null,null,null,null,null,null,null,null,null,null,null,null,null,null,null,null,null,null,null,null," ",342,88,0,null,false]
[51,"A9","",null,0.01,null,null,null,null,null,null,null,null,null,null,null,null,null,null,null,null,null,null,null,null," ",343,88,0,null,false]
[51,"D10","",null,0.01,null,null,null,null,null,null,null,null,null,null,null,null,null,null,null,null,null,null,null,null," ",344,88,0,null,false]
[51,"F11","",null,0.01,null,null,null,null,null,null,null,null,null,null,null,null,null,null,null,null,null,null,null,null," ",344,88,0,null,false]
[52,"A2","",null,0.01,null,null,null,null,null,null,null,null,null,null,null,null,null,null,null,null,null,null,null,null," ",345,88,0,null,false]
[52,"D3","",null,0.01,null,null,null,null,null,null,null,null,null,null,null,null,null,null,null,null,null,null,null,null," ",346,88,0,null,false]
[52,"A4","",null,0.01,null,null,null,null,null,null,null,null,null,null,null,null,null,null,null,null,null,null,null,null," ",346,88,0,null,{"$f":"IF(COUNTBLANK(D4514)=0,A4506)","v":false}]
[52,"F5","",null,0.01,null,null,null,null,null,null,null,null,null,null,null,null,null,null,null,null,null,null,null,null," ",347,88,0,null,false]
[52,"D7","",null,0.01,null,null,null,null,null,null,null,null,null,null,null,null,null,null,null,null,null,null,null,null," ",349,88,0,null,false]
[52,"A8","",null,0.01,null,null,null,null,null,null,null,null,null,null,null,null,null,null,null,null,null,null,null,null," ",349,88,0,null,false]
[52,"E9","",null,0.01,null,null,null,null,null,null,null,null,null,null,null,null,null,null,null,null,null,null,null,null," ",350,88,0,null,false]
[52,"D11","",null,0.01,null,null,null,null,null,null,null,null,null,null,null,null,null,null,null,null,null,null,null,null," ",351,88,0,null,false]
[53,"A1","",null,0.01,null,null,null,null,null,null,null,null,null,null,null,null,null,null,null,null,null,null,null,null," ",351,88,0,null,{"$f":"IF(COUNTBLANK(D4578)=0,A4570)","v":false}]
[53,"D2","",null,0.01,null,null,null,null,null,null,null,null,null,null,null,null,null,null,null,null,null,null,null,null," ",352,88,0,null,false]
[53,"D4","",null,0.01,null,null,null,null,null,null,null,null,null,null,null,null,null,null,null,null,null,null,null,null," ",353,88,0,null,false]
[53,"E4","",null,0.01,null,null,null,null,null,null,null,null,null,null,null,null,null,null,null,null,null,null,null,null," ",354,88,0,null,false]
[53,"D6","",null,0.01,null,null,null,null,null,null,null,null,null,null,null,null,null,null,null,null,null,null,null,null," ",355,88,0,null,false]
[53,"A7","",null,0.01,null,null,null,null,null,null,null,null,null,null,null,null,null,null,null,null,null,null,null,null," ",355,88,0,null,false]
[53,"D9","",null,0.01,null,null,null,null,null,null,null,null,null,null,null,null,null,null,null,null,null,null,null,null," ",{"$f":"CEILING((ROW()-StartRow+1)/PanelHeight,1)-1","v":357},88,{"$f":"IF(AB4645=WellsInPlate,0,1)","v":0},null,false]
[53,"D10","",null,0.01,null,null,null,null,null,null,null,null,null,null,null,null,null,null,null,null,null,null,null,null," ",357,88,0,null,false]
[53,"A11","",null,0.01,null,null,null,null,null,null,null,null,null,null,null,null,null,null,null,null,null,null,null,null," ",358,88,0,null,false]
[54,"C2","",null,0.01,null,null,null,null,null,null,null,null,null,null,null,null,null,null,null,null,null,null,null,null,{"$f":"IF(LEN(INDEX($1:$1048576,ROW(),4))>0,INDEX($1:$1048576,ROW(),4),\" \")","v":" "},{"$f":"CEILING((ROW()-StartRow+1)/PanelHeight,1)-1","v":359},{"$f":"COUNTBLANK(OFFSET(INDEX($1:$1048576,2,4),AA4676*WellsInPlate,0,WellsInPlate,1))","v":88},{"$f":"IF(AB4676=WellsInPlate,0,1)","v":0},null,false]
[54,"D3","",null,0.01,null,null,null,null,null,null,null,null,null,null,null,null,null,null,null,null,null,null,null,null," ",360,88,0,null,false]
[54,"G4","",null,0.01,null,null,null,null,null,null,null,null,null,null,null,null,null,null,null,null,null,null,null,null," ",360,88,0,null,false]
[54,"D5","",null,0.01,null,null,null,null,null,null,null,null,null,null,null,null,null,null,null,null,null,null,null,null," ",361,88,0,null,false]
[54,"G6","",null,0.01,null,null,null,null,null,null,null,null,null,null,null,null,null,null,null,null,null,null,null,null," ",362,88,0,null,false]
[54,"G8","",null,0.01,null,null,null,null,null,null,null,null,null,null,null,null,null,null,null,null,null,null,null,null," ",363,88,0,null,false]
[54,"D9","",null,0.01,null,null,null,null,null,null,null,null,null,null,null,null,null,null,null,null,null,null,null,null," ",363,88,0,null,false]
[54,"G10","",null,0.01,null,null,null,null,null,null,null,null,null,null,null,null,null,null,null,null,null,null,null,null," ",364,88,0,null,false]
[54,"G11","",null,0.01,null,null,null,null,null,null,null,null,null,null,null,null,null,null,null,null,null,null,null,null," ",365,88,0,null,false]
[55,"D2","",null,0.01,null,null,null,null,null,null,null,null,null,null,null,null,null,null,null,null,null,null,null,null," ",366,88,0,null,false]
[55,"G3","",null,0.01,null,null,null,null,null,null,null,null,null,null,null,null,null,null,null,null,null,null,null,null," ",367,88,0,null,false]
[55,"D4","",null,0.01,null,null,null,null,null,null,null,null,null,null,null,null,null,null,null,null,null,null,null,null," ",367,88,0,null,false]
[55,"F6","",null,0.01,null,null,null,null,null,null,null,null,null,null,null,null,null,null,null,null,null,null,null,null," ",368,88,0,null,false]
[55,"G7","",null,0.01,null,null,null,null,null,null,null,null,null,null,null,null,null,null,null,null,null,null,null,null," ",369,88,0,null,false]
[55,"D8","",null,0.01,null,null,null,null,null,null,null,null,null,null,null,null,null,null,null,null,null,null,null,null," ",369,88,0,null,false]
[55,"F9","",null,0.01,null,null,null,null,null,null,null,null,null,null,null,null,null,null,null,null,null,null,null,null," ",370,88,0,null,false]
[55,"G11","",null,0.01,null,null,null,null,null,null,null,null,null,null,null,null,null,null,null,null,null,null,null,null," ",372,88,0,null,false]
[56,"D1","",null,0.01,null,null,null,null,null,null,null,null,null,null,null,null,null,null,null,null,null,null,null,null," ",372,88,0,null,false]
[56,"G2","",null,0.01,null,null,null,null,null,null,null,null,null,null,null,null,null,null,null,null,null,null,null,null," ",373,88,0,null,false]
[56,"E4","",null,0.01,null,null,null,null,null,null,null,null,null,null,null,null,null,null,null,null,null,null,null,null," ",374,88,0,null,false]
[56,"H4","",null,0.01,null,null,null,null,null,null,null,null,null,null,null,null,null,null,null,null,null,null,null,null," ",374,88,0,null,false]
[56,"G6","",null,0.01,null,null,null,null,null,null,null,null,null,null,null,null,null,null,null,null,null,null,null,null," ",375,88,0,null,false]
[56,"D7","",null,0.01,null,null,null,null,null,null,null,null,null,null,null,null,null,null,null,null,null,null,null,null," ",376,88,0,null,false]
[56,"E9","",null,0.01,null,null,null,null,null,null,null,null,null,null,null,null,null,null,null,null,null,null,null,null," ",377,88,0,null,false]
[56,"G10","",null,0.01,null,null,null,null,null,null,null,null,null,null,null,null,null,null,null,null,null,null,null,null," ",378,88,0,null,false]
[56,"D11","",null,0.01,null,null,null,null,null,null,null,null,null,null,null,null,null,null,null,null,null,null,null,null," ",378,88,0,null,false]
[57,"D2","",null,0.01,null,null,null,null,null,null,null,null,null,null,null,null,null,null,null,null,null,null,null,null," ",379,88,0,null,false]
[57,"G3","",null,0.01,null,null,null,null,null,null,null,null,null,null,null,null,null,null,null,null,null,null,null,null," ",380,88,0,null,false]
[57,"B5","",null,0.01,null,null,null,null,null,null,null,null,null,null,null,null,null,null,null,null,null,null,null,null," ",381,88,0,null,false]
[57,"G5","",null,0.01,null,null,null,null,null,null,null,null,null,null,null,null,null,null,null,null,null,null,null,null," ",381,88,0,null,false]
[57,"H6","",null,0.01,null,null,null,null,null,null,null,null,null,null,null,null,null,null,null,null,null,null,null,null," ",382,88,0,null,false]
[57,"B9","",null,0.01,null,null,null,null,null,null,null,null,null,null,null,null,null,null,null,null,null,null,null,null," ",383,88,0,null,false]
[57,"G9","",null,0.01,null,null,null,null,null,null,null,null,null,null,null,null,null,null,null,null,null,null,null,null," ",384,88,0,null,false]
[57,"F11","",null,0.01,null,null,null,null,null,null,null,null,null,null,null,null,null,null,null,null,null,null,null,null," ",385,88,0,null,false]
[57,"H11","",null,0.01,null,null,null,null,null,null,null,null,null,null,null,null,null,null,null,null,null,null,null,null," ",385,88,0,null,false]
[58,"G2","",null,0.01,null,null,null,null,null,null,null,null,null,null,null,null,null,null,null,null,null,null,null,null," ",386,88,0,null,false]
[58,"B4","",null,0.01,null,null,null,null,null,null,null,null,null,null,null,null,null,null,null,null,null,null,null,null," ",387,88,0,null,false]
[58,"G4","",null,0.01,null,null,null,null,null,null,null,null,null,null,null,null,null,null,null,null,null,null,null,null," ",388,88,0,null,false]
[58,"G6","",null,0.01,null,null,null,null,null,null,null,null,null,null,null,null,null,null,null,null,null,null,null,null," ",389,88,0,null,false]
[58,"B8","",null,0.01,null,null,null,null,null,null,null,null,null,null,null,null,null,null,null,null,null,null,null,null," ",390,88,0,null,false]
[58,"G8","",null,0.01,null,null,null,null,null,null,null,null,null,null,null,null,null,null,null,null,null,null,null,null," ",390,88,0,null,false]
[58,"G9","",null,0.01,null,null,null,null,null,null,null,null,null,null,null,null,null,null,null,null,null,null,null,null," ",391,88,0,null,false]
[59,"B1","",null,0.01,null,null,null,null,null,null,null,null,null,null,null,null,null,null,null,null,null,null,null,null," ",392,88,0,null,false]
[59,"G1","",null,0.01,null,null,null,null,null,null,null,null,null,null,null,null,null,null,null,null,null,null,null,null," ",392,88,0,null,false]
[59,"B3","",null,0.01,null,null,null,null,null,null,null,null,null,null,null,null,null,null,null,null,null,null,null,null," ",393,88,0,null,false]
[59,"F4","",null,0.01,null,null,null,null,null,null,null,null,null,null,null,null,null,null,null,null,null,null,null,null," ",394,88,0,null,false]
[59,"G5","",null,0.01,null,null,null,null,null,null,null,null,null,null,null,null,null,null,null,null,null,null,null,null," ",395,88,0,null,false]
[59,"B7","",null,0.01,null,null,null,null,null,null,null,null,null,null,null,null,null,null,null,null,null,null,null,null," ",396,88,0,null,false]
[59,"E8","",null,0.01,null,null,null,null,null,null,null,null,null,null,null,null,null,null,null,null,null,null,null,null," ",397,88,0,null,false]
[59,"C9","",null,0.01,null,null,null,null,null,null,null,null,null,null,null,null,null,null,null,null,null,null,null,null," ",397,88,0,null,false]
[59,"B11","",null,0.01,null,null,null,null,null,null,null,null,null,null,null,null,null,null,null,null,null,null,null,null," ",398,88,0,null,false]
[59,"G11","",null,0.01,null,null,null,null,null,null,null,null,null,null,null,null,null,null,null,null,null,null,null,null," ",399,88,0,null,false]
[60,"E2","",null,0.01,null,null,null,null,null,null,null,null,null,null,null,null,null,null,null,null,null,null,null,null," ",400,88,0,null,false]
[60,"B4","",null,0.01,null,null,null,null,null,null,null,null,null,null,null,null,null,null,null,null,null,null,null,null," ",401,88,0,null,false]
[60,"G4","",null,0.01,null,null,null,null,null,null,null,null,null,null,null,null,null,null,null,null,null,null,null,null," ",401,88,0,null,false]
[60,"B6","",null,0.01,null,null,null,null,null,null,null,null,null,null,null,null,null,null,null,null,null,null,null,null," ",402,88,0,null,false]
[60,"A7","",null,0.01,null,null,null,null,null,null,null,null,null,null,null,null,null,null,null,null,null,null,null,null," ",402,88,0,null,false]
[60,"E9","",null,0.01,null,null,null,null,null,null,null,null,null,null,null,null,null,null,null,null,null,null,null,null," ",404,88,0,null,false]
[60,"B10","",null,0.01,null,null,null,null,null,null,null,null,null,null,null,null,null,null,null,null,null,null,null,null," ",404,88,0,null,false]
[60,"H10","",null,0.01,null,null,null,null,null,null,null,null,null,null,null,null,null,null,null,null,null,null,null,null," ",405,88,0,null,false]
[61,"C1","",null,0.01,null,null,null,null,null,null,null,null,null,null,null,null,null,null,null,null,null,null,null,null," ",406,88,0,null,false]
[61,"B3","",null,0.01,null,null,null,null,null,null,null,null,null,null,null,null,null,null,null,null,null,null,null,null," ",407,88,0,null,false]
[61,"E4","",null,0.01,null,null,null,null,null,null,null,null,null,null,null,null,null,null,null,null,null,null,null,null," ",408,88,0,null,false]
[61,"C6","",null,0.01,null,null,null,null,null,null,null,null,null,null,null,null,null,null,null,null,null,null,null,null," ",409,88,0,null,false]
[61,"B7","",null,0.01,null,null,null,null,null,null,null,null,null,null,null,null,null,null,null,null,null,null,null,null," ",409,88,0,null,false]
[61,"E8","",null,0.01,null,null,null,null,null,null,null,null,null,null,null,null,null,null,null,null,null,null,null,null," ",410,88,0,null,false]
[61,"B9","",null,0.01,null,null,null,null,null,null,null,null,null,null,null,null,null,null,null,null,null,null,null,null," ",411,88,0,null,false]
[61,"G10","",null,0.01,null,null,null,null,null,null,null,null,null,null,null,null,null,null,null,null,null,null,null,null," ",412,88,0,null,false]
[62,"E1","",null,0.01,null,null,null,null,null,null,null,null,null,null,null,null,null,null,null,null,null,null,null,null," ",413,88,0,null,false]
[62,"B2","",null,0.01,null,null,null,null,null,null,null,null,null,null,null,null,null,null,null,null,null,null,null,null," ",413,88,0,null,false]
[62,"E3","",null,0.01,null,null,null,null,null,null,null,null,null,null,null,null,null,null,null,null,null,null,null,null," ",414,88,0,null,false]
[62,"G4","",null,0.01,null,null,null,null,null,null,null,null,null,null,null,null,null,null,null,null,null,null,null,null," ",415,88,0,null,false]
[62,"B6","",null,0.01,null,null,null,null,null,null,null,null,null,null,null,null,null,null,null,null,null,null,null,null," ",415,88,0,null,false]
[62,"E7","",null,0.01,null,null,null,null,null,null,null,null,null,null,null,null,null,null,null,null,null,null,null,null," ",416,88,0,null,false]
[62,"F8","",null,0.01,null,null,null,null,null,null,null,null,null,null,null,null,null,null,null,null,null,null,null,null," ",417,88,0,null,false]
[62,"F9","",null,0.01,null,null,null,null,null,null,null,null,null,null,null,null,null,null,null,null,null,null,null,null," ",418,88,0,null,false]
[62,"E11","",null,0.01,null,null,null,null,null,null,null,null,null,null,null,null,null,null,null,null,null,null,null,null," ",419,88,0,null,false]
[63,"B1","",null,0.01,null,null,null,null,null,null,null,null,null,null,null,null,null,null,null,null,null,null,null,null," ",419,88,0,null,false]
[63,"F2","",null,0.01,null,null,null,null,null,null,null,null,null,null,null,null,null,null,null,null,null,null,null,null," ",420,88,0,null,false]
[63,"E4","",null,0.01,null,null,null,null,null,null,null,null,null,null,null,null,null,null,null,null,null,null,null,null," ",421,88,0,null,false]
[63,"B5","",null,0.01,null,null,null,null,null,null,null,null,null,null,null,null,null,null,null,null,null,null,null,null," ",422,88,0,null,false]
[63,"E6","",null,0.01,null,null,null,null,null,null,null,null,null,null,null,null,null,null,null,null,null,null,null,null," ",422,88,0,null,false]
[63,"E8","",null,0.01,null,null,null,null,null,null,null,null,null,null,null,null,null,null,null,null,null,null,null,null," ",424,88,0,null,false]
[63,"H9","",null,0.01,null,null,null,null,null,null,null,null,null,null,null,null,null,null,null,null,null,null,null,null," ",425,88,0,null,false]
[63,"E10","",null,0.01,null,null,null,null,null,null,null,null,null,null,null,null,null,null,null,null,null,null,null,null," ",425,88,0,null,false]
[64,"D1","",null,0.01,null,null,null,null,null,null,null,null,null,null,null,null,null,null,null,null,null,null,null,null," ",426,88,0,null,false]
[64,"F1","",null,0.01,null,null,null,null,null,null,null,null,null,null,null,null,null,null,null,null,null,null,null,null," ",426,88,0,null,false]
[64,"E3","",null,0.01,null,null,null,null,null,null,null,null,null,null,null,null,null,null,null,null,null,null,null,null," ",427,88,0,null,false]
[64,"B4","",null,0.01,null,null,null,null,null,null,null,null,null,null,null,null,null,null,null,null,null,null,null,null," ",428,88,0,null,false]
[64,"D6","",null,0.01,null,null,null,null,null,null,null,null,null,null,null,null,null,null,null,null,null,null,null,null," ",429,88,0,null,false]
[64,"E7","",null,0.01,null,null,null,null,null,null,null,null,null,null,null,null,null,null,null,null,null,null,null,null," ",430,88,0,null,false]
[64,"H8","",null,0.01,null,null,null,null,null,null,null,null,null,null,null,null,null,null,null,null,null,null,null,null," ",431,88,0,null,false]
[64,"E9","",null,0.01,null,null,null,null,null,null,null,null,null,null,null,null,null,null,null,null,null,null,null,null," ",431,88,0,null,false]
[64,"H10","",null,0.01,null,null,null,null,null,null,null,null,null,null,null,null,null,null,null,null,null,null,null,null," ",432,88,0,null,false]
[65,"H1","",null,0.01,null,null,null,null,null,null,null,null,null,null,null,null,null,null,null,null,null,null,null,null," ",433,88,0,null,false]
[65,"E2","",null,0.01,null,null,null,null,null,null,null,null,null,null,null,null,null,null,null,null,null,null,null,null," ",434,88,0,null,false]
[65,"C4","",null,0.01,null,null,null,null,null,null,null,null,null,null,null,null,null,null,null,null,null,null,null,null," ",435,88,0,null,false]
[65,"H5","",null,0.01,null,null,null,null,null,null,null,null,null,null,null,null,null,null,null,null,null,null,null,null," ",436,88,0,null,false]
[65,"E6","",null,0.01,null,null,null,null,null,null,null,null,null,null,null,null,null,null,null,null,null,null,null,null," ",436,88,0,null,false]
[65,"H7","",null,0.01,null,null,null,null,null,null,null,null,null,null,null,null,null,null,null,null,null,null,null,null," ",437,88,0,null,false]
[65,"G8","",null,0.01,null,null,null,null,null,null,null,null,null,null,null,null,null,null,null,null,null,null,null,null," ",437,88,0,null,false]
[65,"E10","",null,0.01,null,null,null,null,null,null,null,null,null,null,null,null,null,null,null,null,null,null,null,null," ",438,88,0,null,false]
[65,"H11","",null,0.01,null,null,null,null,null,null,null,null,null,null,null,null,null,null,null,null,null,null,null,null," ",439,88,0,null,false]
[66,"E1","",null,0.01,null,null,null,null,null,null,null,null,null,null,null,null,null,null,null,null,null,null,null,null," ",440,88,0,null,false]
[66,"G2","",null,0.01,null,null,null,null,null,null,null,null,null,null,null,null,null,null,null,null,null,null,null,null," ",440,88,0,null,false]
[66,"H4","",null,0.01,null,null,null,null,null,null,null,null,null,null,null,null,null,null,null,null,null,null,null,null," ",442,88,0,null,false]
[66,"E5","",null,0.01,null,null,null,null,null,null,null,null,null,null,null,null,null,null,null,null,null,null,null,null," ",442,88,0,null,false]
[66,"F6","",null,null,null,null,null,null,null,null,null,null,null,null,null,null,null,null,null,null,null,null,null,null," ",443,88,0,null,false]
[66,"H8","",null,null,null,null,null,null,null,null,null,null,null,null,null,null,null,null,null,null,null,null,null,null," ",444,88,0,null,false]
[66,"E9","",null,null,null,null,null,null,null,null,null,null,null,null,null,null,null,null,null,null,null,null,null,null," ",445,88,0,null,false]
[66,"H10","",null,null,null,null,null,null,null,null,null,null,null,null,null,null,null,null,null,null,null,null,null,null," ",445,88,0,null,false]
[67,"E1","",null,null,null,null,null,null,null,null,null,null,null,null,null,null,null,null,null,null,null,null,null,null," ",446,88,0,null,false]
[67,"A2","",null,null,null,null,null,null,null,null,null,null,null,null,null,null,null,null,null,null,null,null,null,null," ",447,88,0,null,false]
[67,"H3","",null,null,null,null,null,null,null,null,null,null,null,null,null,null,null,null,null,null,null,null,null,null," ",448,88,0,null,false]
[67,"E4","",null,null,null,null,null,null,null,null,null,null,null,null,null,null,null,null,null,null,null,null,null,null," ",448,88,0,null,false]
[67,"E6","",null,null,null,null,null,null,null,null,null,null,null,null,null,null,null,null,null,null,null,null,null,null," ",450,88,0,null,false]
[67,"H7","",null,null,null,null,null,null,null,null,null,null,null,null,null,null,null,null,null,null,null,null,null,null," ",450,88,0,null,false]
[67,"C9","",null,null,null,null,null,null,null,null,null,null,null,null,null,null,null,null,null,null,null,null,null,null," ",451,88,0,null,false]
[67,"H9","",null,null,null,null,null,null,null,null,null,null,null,null,null,null,null,null,null,null,null,null,null,null," ",452,88,0,null,false]
[67,"A11","",null,null,null,null,null,null,null,null,null,null,null,null,null,null,null,null,null,null,null,null,null,null," ",452,88,0,null,false]
[68,"C2","",null,null,null,null,null,null,null,null,null,null,null,null,null,null,null,null,null,null,null,null,null,null," ",454,88,0,null,false]
[68,"H2","",null,null,null,null,null,null,null,null,null,null,null,null,null,null,null,null,null,null,null,null,null,null," ",454,88,0,null,false]
[68,"H3","",null,null,null,null,null,null,null,null,null,null,null,null,null,null,null,null,null,null,null,null,null,null," ",455,88,0,null,false]
[68,"C6","",null,null,null,null,null,null,null,null,null,null,null,null,null,null,null,null,null,null,null,null,null,null," ",456,88,0,null,false]
[68,"H6","",null,null,null,null,null,null,null,null,null,null,null,null,null,null,null,null,null,null,null,null,null,null," ",457,88,0,null,false]
[68,"C8","",null,null,null,null,null,null,null,null,null,null,null,null,null,null,null,null,null,null,null,null,null,null,{"$f":"IF(LEN(INDEX($1:$1048576,ROW(),4))>0,INDEX($1:$1048576,ROW(),4),\" \")","v":" "},457,88,0,null,false]
[68,"H8","",null,null,null,null,null,null,null,null,null,null,null,null,null,null,null,null,null,null,null,null,null,null," ",458,88,0,null,false]
[68,"H10","",null,null,null,null,null,null,null,null,null,null,null,null,null,null,null,null,null,null,null,null,null,null," ",459,88,0,null,false]
[69,"C1","",null,null,null,null,null,null,null,null,null,null,null,null,null,null,null,null,null,null,null,null,null,null," ",460,88,0,null,false]
[69,"H1","",null,null,null,null,null,null,null,null,null,null,null,null,null,null,null,null,null,null,null,null,null,null," ",460,88,0,null,false]
[69,"C4","",null,null,null,null,null,null,null,null,null,null,null,null,null,null,null,null,null,null,null,null,null,null," ",462,88,0,null,false]
[69,"C5","",null,null,null,null,null,null,null,null,null,null,null,null,null,null,null,null,null,null,null,null,null,null,{"$f":"IF(LEN(INDEX($1:$1048576,ROW(),4))>0,INDEX($1:$1048576,ROW(),4),\" \")","v":" "},462,88,0,null,false]
[69,"H5","",null,null,null,null,null,null,null,null,null,null,null,null,null,null,null,null,null,null,null,null,null,null," ",463,88,0,null,false]
[69,"B8","",null,null,null,null,null,null,null,null,null,null,null,null,null,null,null,null,null,null,null,null,null,null," ",464,88,0,null,false]
[69,"C9","",null,null,null,null,null,null,null,null,null,null,null,null,null,null,null,null,null,null,null,null,null,null," ",465,88,0,null,false]
[69,"H9","",null,null,null,null,null,null,null,null,null,null,null,null,null,null,null,null,null,null,null,null,null,null," ",465,88,0,null,false]
[69,"C11","",null,null,null,null,null,null,null,null,null,null,null,null,null,null,null,null,null,null,null,null,null,null," ",466,88,0,null,false]
[70,"F1","",null,null,null,null,null,null,null,null,null,null,null,null,null,null,null,null,null,null,null,null,null,null," ",467,88,0,null,false]
[70,"D2",{"$f":"IF(D6085=0,\"\",D6085)","v":""},null,null,null,null,null,null,null,null,null,null,null,null,null,null,null,null,null,null,null,null,null,null," ",467,88,0,null,false]
[70,"C4","",null,null,null,null,null,null,null,null,null,null,null,null,null,null,null,null,null,null,null,null,null,null," ",468,88,0,null,false]
[70,"H4","",null,null,null,null,null,null,null,null,null,null,null,null,null,null,null,null,null,null,null,null,null,null," ",469,88,0,null,false]
[70,"F6","",null,null,null,null,null,null,null,null,null,null,null,null,null,null,null,null,null,null,null,null,null,null," ",470,88,0,null,false]
[70,"C8","",null,null,null,null,null,null,null,null,null,null,null,null,null,null,null,null,null,null,null,null,null,null," ",471,88,0,null,false]
[70,"H8","",null,null,null,null,null,null,null,null,null,null,null,null,null,null,null,null,null,null,null,null,null,null," ",471,88,0,null,false]
[70,"E10","",null,null,null,null,null,null,null,null,null,null,null,null,null,null,null,null,null,null,null,null,null,null," ",472,88,0,null,false]
[71,"C1","",null,null,null,null,null,null,null,null,null,null,null,null,null,null,null,null,null,null,null,null,null,null," ",473,88,0,null,false]
[71,"F2","",null,null,null,null,null,null,null,null,null,null,null,null,null,null,null,null,null,null,null,null,null,null," ",474,88,0,null,false]
[71,"C3","",null,null,null,null,null,null,null,null,null,null,null,null,null,null,null,null,null,null,null,null,null,null," ",475,88,0,null,false]
[71,"D5","",null,null,null,null,null,null,null,null,null,null,null,null,null,null,null,null,null,null,null,null,null,null," ",476,88,0,null,false]
[71,"F6","",null,null,null,null,null,null,null,null,null,null,null,null,null,null,null,null,null,null,null,null,null,null," ",477,88,0,null,{"$f":"IF(COUNTBLANK(E6207)=0,B6199)","v":false}]
[71,"C7","",null,null,null,null,null,null,null,null,null,null,null,null,null,null,null,null,null,null,null,null,null,null,{"$f":"IF(LEN(INDEX($1:$1048576,ROW(),4))>0,INDEX($1:$1048576,ROW(),4),\" \")","v":" "},477,88,0,null,false]
[71,"F8","",null,null,null,null,null,null,null,null,null,null,null,null,null,null,null,null,null,null,null,null,null,null," ",478,88,0,null,false]
[71,"D10","",null,null,null,null,null,null,null,null,null,null,null,null,null,null,null,null,null,null,null,null,null,null," ",479,88,0,null,false]
[71,"C11","",null,null,null,null,null,null,null,null,null,null,null,null,null,null,null,null,null,null,null,null,null,null," ",480,88,0,null,false]
[72,"F1","",null,null,null,null,null,null,null,null,null,null,null,null,null,null,null,null,null,null,null,null,null,null," ",480,88,0,null,false]
[72,"C3","",null,null,null,null,null,null,null,null,null,null,null,null,null,null,null,null,null,null,null,null,null,null," ",481,88,0,null,false]
[72,"C4","",null,null,null,null,null,null,null,null,null,null,null,null,null,null,null,null,null,null,null,null,null,null,{"$f":"IF(LEN(INDEX($1:$1048576,ROW(),4))>0,INDEX($1:$1048576,ROW(),4),\" \")","v":" "},482,88,0,null,false]
[72,"F5","",null,null,null,null,null,null,null,null,null,null,null,null,null,null,null,null,null,null,null,null,null,null," ",483,88,0,null,false]
[72,"C6","",null,null,null,null,null,null,null,null,null,null,null,null,null,null,null,null,null,null,null,null,null,null," ",483,88,0,null,false]
[72,"C8","",null,null,null,null,null,null,null,null,null,null,null,null,null,null,null,null,null,null,null,null,null,null," ",484,88,0,null,false]
[72,"F9","",null,null,null,null,null,null,null,null,null,null,null,null,null,null,null,null,null,null,null,null,null,null," ",485,88,0,null,false]
[72,"C10","",null,null,null,null,null,null,null,null,null,null,null,null,null,null,null,null,null,null,null,null,null,null," ",486,88,0,null,false]
[72,"F11","",null,null,null,null,null,null,null,null,null,null,null,null,null,null,null,null,null,null,null,null,null,null," ",487,88,0,null,{"$f":"IF(COUNTBLANK(E6335)=0,B6327)","v":false}]
[73,"G1","",null,null,null,null,null,null,null,null,null,null,null,null,null,null,null,null,null,null,null,null,null,null," ",487,88,0,null,false]
[73,"G2","",null,null,null,null,null,null,null,null,null,null,null,null,null,null,null,null,null,null,null,null,null,null," ",488,88,0,null,false]
[73,"F4","",null,null,null,null,null,null,null,null,null,null,null,null,null,null,null,null,null,null,null,null,null,null," ",489,88,0,null,false]
[73,"F5","",null,null,null,null,null,null,null,null,null,null,null,null,null,null,null,null,null,null,null,null,null,null," ",490,88,0,null,false]
[73,"G6","",null,null,null,null,null,null,null,null,null,null,null,null,null,null,null,null,null,null,null,null,null,null," ",490,88,0,null,false]
[73,"F8","",null,null,null,null,null,null,null,null,null,null,null,null,null,null,null,null,null,null,null,null,null,null," ",491,88,0,null,{"$f":"IF(COUNTBLANK(E6399)=0,B6391)","v":false}]
[73,"C9","",null,null,null,null,null,null,null,null,null,null,null,null,null,null,null,null,null,null,null,null,null,null,{"$f":"IF(LEN(INDEX($1:$1048576,ROW(),4))>0,INDEX($1:$1048576,ROW(),4),\" \")","v":" "},492,88,0,null,false]
[73,"F10","",null,null,null,null,null,null,null,null,null,null,null,null,null,null,null,null,null,null,null,null,null,null," ",493,88,0,null,false]
[74,"F1","",null,null,null,null,null,null,null,null,null,null,null,null,null,null,null,null,null,null,null,null,null,null," ",494,88,0,null,false]
[74,"A3","",null,null,null,null,null,null,null,null,null,null,null,null,null,null,null,null,null,null,null,null,null,null," ",495,88,0,null,false]
[74,"F3","",null,null,null,null,null,null,null,null,null,null,null,null,null,null,null,null,null,null,null,null,null,null," ",495,88,0,null,false]
[74,"E5","",null,null,null,null,null,null,null,null,null,null,null,null,null,null,null,null,null,null,null,null,null,null," ",496,88,0,null,false]
[74,"A7","",null,null,null,null,null,null,null,null,null,null,null,null,null,null,null,null,null,null,null,null,null,null," ",497,88,0,null,false]
[74,"F7","",null,null,null,null,null,null,null,null,null,null,null,null,null,null,null,null,null,null,null,null,null,null," ",498,88,0,null,false]
[74,"E9","",null,null,null,null,null,null,null,null,null,null,null,null,null,null,null,null,null,null,null,null,null,null," ",499,88,0,null,false]
[74,"E10","",null,null,null,null,null,null,null,null,null,null,null,null,null,null,null,null,null,null,null,null,null,null," ",499,88,0,null,false]
[74,"F11","",null,null,null,null,null,null,null,null,null,null,null,null,null,null,null,null,null,null,null,null,null,null," ",500,88,0,null,false]
[75,"A2","",null,null,null,null,null,null,null,null,null,null,null,null,null,null,null,null,null,null,null,null,null,null," ",501,88,0,null,false]
[75,"D3",{"$f":"IF(D6533=0,\"\",D6533)","v":""},null,null,null,null,null,null,null,null,null,null,null,null,null,null,null,null,null,null,null,null,null,null," ",502,88,0,null,false]
[75,"F4","",null,null,null,null,null,null,null,null,null,null,null,null,null,null,null,null,null,null,null,null,null,null," ",503,88,0,null,false]
[75,"A6","",null,null,null,null,null,null,null,null,null,null,null,null,null,null,null,null,null,null,null,null,null,null," ",503,88,0,null,false]
[75,"F6","",null,null,null,null,null,null,null,null,null,null,null,null,null,null,null,null,null,null,null,null,null,null," ",504,88,0,null,false]
[75,"D8","",null,null,null,null,null,null,null,null,null,null,null,null,null,null,null,null,null,null,null,null,null,null," ",505,88,0,null,false]
[75,"A10","",null,null,null,null,null,null,null,null,null,null,null,null,null,null,null,null,null,null,null,null,null,null," ",506,88,0,null,false]
[75,"F10","",null,null,null,null,null,null,null,null,null,null,null,null,null,null,null,null,null,null,null,null,null,null," ",506,88,0,null,{"$f":"IF(COUNTBLANK(E6591)=0,B6583)","v":false}]
[76,"A1","",null,null,null,null,null,null,null,null,null,null,null,null,null,null,null,null,null,null,null,null,null,null," ",507,88,0,null,false]
[76,"H1","",null,null,null,null,null,null,null,null,null,null,null,null,null,null,null,null,null,null,null,null,null,null," ",508,88,0,null,false]
[76,"F3","",null,null,null,null,null,null,null,null,null,null,null,null,null,null,null,null,null,null,null,null,null,null," ",509,88,0,null,false]
[76,"A5","",null,null,null,null,null,null,null,null,null,null,null,null,null,null,null,null,null,null,null,null,null,null," ",510,88,0,null,false]
[76,"G5","",null,null,null,null,null,null,null,null,null,null,null,null,null,null,null,null,null,null,null,null,null,null," ",510,88,0,null,false]
[76,"B7","",null,null,null,null,null,null,null,null,null,null,null,null,null,null,null,null,null,null,null,null,null,null," ",511,88,0,null,false]
[76,"A9","",null,null,null,null,null,null,null,null,null,null,null,null,null,null,null,null,null,null,null,null,null,null," ",512,88,0,null,false]
[76,"F9","",null,null,null,null,null,null,null,null,null,null,null,null,null,null,null,null,null,null,null,null,null,null," ",512,88,0,null,false]
[76,"G10","",null,null,null,null,null,null,null,null,null,null,null,null,null,null,null,null,null,null,null,null,null,null," ",513,{"$f":"COUNTBLANK(OFFSET(INDEX($1:$1048576,2,4),AA6680*WellsInPlate,0,WellsInPlate,1))","v":88},{"$f":"IF(AB6680=WellsInPlate,0,1)","v":0},null,false]
[77,"A2","",null,null,null,null,null,null,null,null,null,null,null,null,null,null,null,null,null,null,null,null,null,null," ",514,88,0,null,false]
[77,"F2","",null,null,null,null,null,null,null,null,null,null,null,null,null,null,null,null,null,null,null,null,null,null," ",515,88,0,null,false]
[77,"A4","",null,null,null,null,null,null,null,null,null,null,null,null,null,null,null,null,null,null,null,null,null,null," ",516,88,0,null,false]
[77,"F5","",null,null,null,null,null,null,null,null,null,null,null,null,null,null,null,null,null,null,null,null,null,null," ",517,88,0,null,false]
[77,"D7","",null,null,null,null,null,null,null,null,null,null,null,null,null,null,null,null,null,null,null,null,null,null," ",518,88,0,null,false]
[77,"A8","",null,null,null,null,null,null,null,null,null,null,null,null,null,null,null,null,null,null,null,null,null,null," ",518,88,0,null,false]
[77,"E9","",null,null,null,null,null,null,null,null,null,null,null,null,null,null,null,null,null,null,null,null,null,null," ",519,88,0,null,false]
[77,"B10","",null,null,null,null,null,null,null,null,null,null,null,null,null,null,null,null,null,null,null,null,null,null," ",519,88,0,null,false]
[78,"A1","",null,null,null,null,null,null,null,null,null,null,null,null,null,null,null,null,null,null,null,null,null,null," ",521,88,0,null,false]
[78,"D2",{"$f":"IF(D6789=0,\"\",D6789)","v":""},null,null,null,null,null,null,null,null,null,null,null,null,null,null,null,null,null,null,null,null,null,null," ",521,88,0,null,false]
[78,"E3","",null,null,null,null,null,null,null,null,null,null,null,null,null,null,null,null,null,null,null,null,null,null," ",522,88,0,null,false]
[78,"A5","",null,null,null,null,null,null,null,null,null,null,null,null,null,null,null,null,null,null,null,null,null,null," ",523,88,0,null,false]
[78,"D6","",null,null,null,null,null,null,null,null,null,null,null,null,null,null,null,null,null,null,null,null,null,null," ",{"$f":"CEILING((ROW()-StartRow+1)/PanelHeight,1)-1","v":524},88,0,null,false]
[78,"A7","",null,null,null,null,null,null,null,null,null,null,null,null,null,null,null,null,null,null,null,null,null,null," ",524,88,0,null,false]
[78,"A8","",null,null,null,null,null,null,null,null,null,null,null,null,null,null,null,null,null,null,null,null,null,null," ",525,88,0,null,false]
[78,"D10",{"$f":"IF(D6853=0,\"\",D6853)","v":""},null,null,null,null,null,null,null,null,null,null,null,null,null,null,null,null,null,null,null,null,null,null," ",526,88,0,null,false]
[78,"A11","",null,null,null,null,null,null,null,null,null,null,null,null,null,null,null,null,null,null,null,null,null,null," ",527,88,0,null,false]
[79,"D1","",null,null,null,null,null,null,null,null,null,null,null,null,null,null,null,null,null,null,null,null,null,null," ",528,88,0,null,false]
[79,"D3","",null,null,null,null,null,null,null,null,null,null,null,null,null,null,null,null,null,null,null,null,null,null," ",{"$f":"CEILING((ROW()-StartRow+1)/PanelHeight,1)-1","v":529},88,0,null,false]
[79,"A4","",null,null,null,null,null,null,null,null,null,null,null,null,null,null,null,null,null,null,null,null,null,null," ",529,88,0,null,false]
[79,"D5","",null,null,null,null,null,null,null,null,null,null,null,null,null,null,null,null,null,null,null,null,null,null," ",530,88,0,null,false]
[79,"C7","",null,null,null,null,null,null,null,null,null,null,null,null,null,null,null,null,null,null,null,null,null,null,{"$f":"IF(LEN(INDEX($1:$1048576,ROW(),4))>0,INDEX($1:$1048576,ROW(),4),\" \")","v":" "},531,88,0,null,false]
[79,"E7","",null,null,null,null,null,null,null,null,null,null,null,null,null,null,null,null,null,null,null,null,null,null," ",531,88,0,null,false]
[79,"D9","",null,null,null,null,null,null,null,null,null,null,null,null,null,null,null,null,null,null,null,null,null,null," ",533,88,0,null,false]
[79,"A10","",null,null,null,null,null,null,null,null,null,null,null,null,null,null,null,null,null,null,null,null,null,null," ",533,88,0,null,false]
[80,"C1","",null,null,null,null,null,null,null,null,null,null,null,null,null,null,null,null,null,null,null,null,null,null," ",534,88,0,null,false]
[80,"D2","",null,null,null,null,null,null,null,null,null,null,null,null,null,null,null,null,null,null,null,null,null,null," ",535,88,0,null,false]
[80,"A3","",null,null,null,null,null,null,null,null,null,null,null,null,null,null,null,null,null,null,null,null,null,null," ",535,88,0,null,false]
[80,"D4",{"$f":"IF(D6981=0,\"\",D6981)","v":""},null,null,null,null,null,null,null,null,null,null,null,null,null,null,null,null,null,null,null,null,null,null," ",536,88,0,null,false]
[80,"G5","",null,null,null,null,null,null,null,null,null,null,null,null,null,null,null,null,null,null,null,null,null,null," ",537,88,0,null,false]
[80,"G7","",null,null,null,null,null,null,null,null,null,null,null,null,null,null,null,null,null,null,null,null,null,null," ",538,88,0,null,false]
[80,"D8","",null,null,null,null,null,null,null,null,null,null,null,null,null,null,null,null,null,null,null,null,null,null," ",{"$f":"CEILING((ROW()-StartRow+1)/PanelHeight,1)-1","v":539},88,0,null,false]
[80,"F9","",null,null,null,null,null,null,null,null,null,null,null,null,null,null,null,null,null,null,null,null,null,null," ",539,88,0,null,false]
[80,"E10","",null,null,null,null,null,null,null,null,null,null,null,null,null,null,null,null,null,null,null,null,null,null," ",540,88,0,null,false]
[81,"D1",{"$f":"IF(D7045=0,\"\",D7045)","v":""},null,null,null,null,null,null,null,null,null,null,null,null,null,null,null,null,null,null,null,null,null,null," ",541,88,0,null,false]
[81,"A2","",null,null,null,null,null,null,null,null,null,null,null,null,null,null,null,null,null,null,null,null,null,null," ",542,88,0,null,false]
[81,"F3","",null,null,null,null,null,null,null,null,null,null,null,null,null,null,null,null,null,null,null,null,null,null," ",543,88,0,null,false]
[81,"D5","",null,null,null,null,null,null,null,null,null,null,null,null,null,null,null,null,null,null,null,null,null,null," ",{"$f":"CEILING((ROW()-StartRow+1)/PanelHeight,1)-1","v":544},88,0,null,false]
[81,"G6","",null,null,null,null,null,null,null,null,null,null,null,null,null,null,null,null,null,null,null,null,null,null," ",544,88,0,null,false]
[81,"D7","",null,null,null,null,null,null,null,null,null,null,null,null,null,null,null,null,null,null,null,null,null,null," ",545,88,0,null,false]
[81,"E9","",null,null,null,null,null,null,null,null,null,null,null,null,null,null,null,null,null,null,null,null,null,null," ",546,88,0,null,false]
[81,"G10","",null,null,null,null,null,null,null,null,null,null,null,null,null,null,null,null,null,null,null,null,null,null," ",547,88,0,null,false]
[81,"D11","",null,null,null,null,null,null,null,null,null,null,null,null,null,null,null,null,null,null,null,null,null,null," ",547,88,0,null,false]
[82,"E1","",null,null,null,null,null,null,null,null,null,null,null,null,null,null,null,null,null,null,null,null,null,null," ",548,88,0,null,false]
[82,"G3","",null,null,null,null,null,null,null,null,null,null,null,null,null,null,null,null,null,null,null,null,null,null," ",549,88,0,null,false]
[82,"D4","",null,null,null,null,null,null,null,null,null,null,null,null,null,null,null,null,null,null,null,null,null,null," ",550,88,0,null,false]
[82,"G5","",null,null,null,null,null,null,null,null,null,null,null,null,null,null,null,null,null,null,null,null,null,null," ",551,88,0,null,false]
[82,"D7","",null,null,null,null,null,null,null,null,null,null,null,null,null,null,null,null,null,null,null,null,null,null," ",552,88,0,null,false]
[82,"D8","",null,null,null,null,null,null,null,null,null,null,null,null,null,null,null,null,null,null,null,null,null,null," ",552,88,0,null,false]
[82,"G9","",null,null,null,null,null,null,null,null,null,null,null,null,null,null,null,null,null,null,null,null,null,null," ",553,88,0,null,false]
[82,"D10","",null,null,null,null,null,null,null,null,null,null,null,null,null,null,null,null,null,null,null,null,null,null," ",{"$f":"CEILING((ROW()-StartRow+1)/PanelHeight,1)-1","v":553},88,0,null,false]
[83,"D1","",null,null,null,null,null,null,null,null,null,null,null,null,null,null,null,null,null,null,null,null,null,null," ",555,88,0,null,false]
[83,"G2","",null,null,null,null,null,null,null,null,null,null,null,null,null,null,null,null,null,null,null,null,null,null," ",556,88,0,null,false]
[83,"D3",{"$f":"IF(D7237=0,\"\",D7237)","v":""},null,null,null,null,null,null,null,null,null,null,null,null,null,null,null,null,null,null,null,null,null,null," ",556,88,0,null,false]
[83,"C5","",null,null,null,null,null,null,null,null,null,null,null,null,null,null,null,null,null,null,null,null,null,null," ",557,88,0,null,false]
[83,"G6","",null,null,null,null,null,null,null,null,null,null,null,null,null,null,null,null,null,null,null,null,null,null," ",558,88,0,null,false]
[83,"D7","",null,null,null,null,null,null,null,null,null,null,null,null,null,null,null,null,null,null,null,null,null,null," ",{"$f":"CEILING((ROW()-StartRow+1)/PanelHeight,1)-1","v":558},88,0,null,false]
[83,"G8","",null,null,null,null,null,null,null,null,null,null,null,null,null,null,null,null,null,null,null,null,null,null," ",559,88,0,null,false]
[83,"G9","",null,null,null,null,null,null,null,null,null,null,null,null,null,null,null,null,null,null,null,null,null,null," ",560,88,0,null,false]
[83,"H10","",null,null,null,null,null,null,null,null,null,null,null,null,null,null,null,null,null,null,null,null,null,null," ",561,88,0,null,false]
[84,"G1","",null,null,null,null,null,null,null,null,null,null,null,null,null,null,null,null,null,null,null,null,null,null," ",562,88,0,null,false]
[84,"D2","",null,null,null,null,null,null,null,null,null,null,null,null,null,null,null,null,null,null,null,null,null,null," ",562,88,0,null,false]
[84,"G3","",null,null,null,null,null,null,null,null,null,null,null,null,null,null,null,null,null,null,null,null,null,null," ",563,88,0,null,false]
[84,"G5","",null,null,null,null,null,null,null,null,null,null,null,null,null,null,null,null,null,null,null,null,null,null," ",564,88,0,null,false]
[84,"B7","",null,null,null,null,null,null,null,null,null,null,null,null,null,null,null,null,null,null,null,null,null,null," ",565,88,0,null,false]
[84,"F7","",null,null,null,null,null,null,null,null,null,null,null,null,null,null,null,null,null,null,null,null,null,null," ",565,88,0,null,{"$f":"IF(COUNTBLANK(E7359)=0,B7351)","v":false}]
[84,"G9","",null,null,null,null,null,null,null,null,null,null,null,null,null,null,null,null,null,null,null,null,null,null," ",567,88,0,null,false]
[84,"B11","",null,null,null,null,null,null,null,null,null,null,null,null,null,null,null,null,null,null,null,null,null,null," ",567,88,0,null,false]
[84,"G11","",null,null,null,null,null,null,null,null,null,null,null,null,null,null,null,null,null,null,null,null,null,null," ",568,88,0,null,false]
[85,"E2","",null,null,null,null,null,null,null,null,null,null,null,null,null,null,null,null,null,null,null,null,null,null," ",569,88,0,null,false]
[85,"B4","",null,null,null,null,null,null,null,null,null,null,null,null,null,null,null,null,null,null,null,null,null,null," ",570,88,0,null,false]
[85,"G4","",null,null,null,null,null,null,null,null,null,null,null,null,null,null,null,null,null,null,null,null,null,null," ",570,88,0,null,false]
[85,"B6","",null,null,null,null,null,null,null,null,null,null,null,null,null,null,null,null,null,null,null,null,null,null," ",571,88,0,null,false]
[85,"E7","",null,null,null,null,null,null,null,null,null,null,null,null,null,null,null,null,null,null,null,null,null,null," ",572,88,0,null,false]
[85,"G8","",null,null,null,null,null,null,null,null,null,null,null,null,null,null,null,null,null,null,null,null,null,null," ",573,88,0,null,false]
[85,"B10","",null,null,null,null,null,null,null,null,null,null,null,null,null,null,null,null,null,null,null,null,null,null," ",574,88,0,null,false]
[85,"D11","",null,null,null,null,null,null,null,null,null,null,null,null,null,null,null,null,null,null,null,null,null,null," ",574,88,0,null,false]
[86,"C1","",null,null,null,null,null,null,null,null,null,null,null,null,null,null,null,null,null,null,null,null,null,null," ",575,88,0,null,false]
[86,"B3","",null,null,null,null,null,null,null,null,null,null,null,null,null,null,null,null,null,null,null,null,null,null," ",576,88,0,null,false]
[86,"G3","",null,null,null,null,null,null,null,null,null,null,null,null,null,null,null,null,null,null,null,null,null,null," ",576,88,0,null,false]
[86,"D5","",null,null,null,null,null,null,null,null,null,null,null,null,null,null,null,null,null,null,null,null,null,null," ",577,88,0,null,false]
[86,"B7","",null,null,null,null,null,null,null,null,null,null,null,null,null,null,null,null,null,null,null,null,null,null," ",579,88,0,null,false]
[86,"G7","",null,null,null,null,null,null,null,null,null,null,null,null,null,null,null,null,null,null,null,null,null,null," ",579,88,0,null,false]
[86,"B9","",null,null,null,null,null,null,null,null,null,null,null,null,null,null,null,null,null,null,null,null,null,null," ",580,88,0,null,false]
[86,"H9","",null,null,null,null,null,null,null,null,null,null,null,null,null,null,null,null,null,null,null,null,null,null," ",580,88,0,null,false]
[86,"C11","",null,null,null,null,null,null,null,null,null,null,null,null,null,null,null,null,null,null,null,null,null,null," ",581,88,0,null,false]
[87,"B2","",null,null,null,null,null,null,null,null,null,null,null,null,null,null,null,null,null,null,null,null,null,null," ",582,88,0,null,false]
[87,"G2","",null,null,null,null,null,null,null,null,null,null,null,null,null,null,null,null,null,null,null,null,null,null," ",583,88,0,null,false]
[87,"C5","",null,null,null,null,null,null,null,null,null,null,null,null,null,null,null,null,null,null,null,null,null,null," ",584,88,0,null,false]
[87,"B6","",null,null,null,null,null,null,null,null,null,null,null,null,null,null,null,null,null,null,null,null,null,null," ",585,88,0,null,false]
[87,"G6","",null,null,null,null,null,null,null,null,null,null,null,null,null,null,null,null,null,null,null,null,null,null," ",585,88,0,null,false]
[87,"B9","",null,null,null,null,null,null,null,null,null,null,null,null,null,null,null,null,null,null,null,null,null,null," ",587,88,0,null,false]
[87,"B10","",null,null,null,null,null,null,null,null,null,null,null,null,null,null,null,null,null,null,null,null,null,null," ",587,88,0,null,false]
[87,"E11","",null,null,null,null,null,null,null,null,null,null,null,null,null,null,null,null,null,null,null,null,null,null," ",588,88,0,null,false]
[88,"B1","",null,null,null,null,null,null,null,null,null,null,null,null,null,null,null,null,null,null,null,null,null,null," ",588,88,0,null,false]
[88,"F2","",null,null,null,null,null,null,null,null,null,null,null,null,null,null,null,null,null,null,null,null,null,null," ",589,88,0,null,false]
[88,"E4","",null,null,null,null,null,null,null,null,null,null,null,null,null,null,null,null,null,null,null,null,null,null," ",590,88,0,null,false]
[88,"B5","",null,null,null,null,null,null,null,null,null,null,null,null,null,null,null,null,null,null,null,null,null,null," ",591,88,0,null,false]
[88,"E6","",null,null,null,null,null,null,null,null,null,null,null,null,null,null,null,null,null,null,null,null,null,null," ",592,88,0,null,false]
[88,"F7","",null,null,null,null,null,null,null,null,null,null,null,null,null,null,null,null,null,null,null,null,null,null," ",592,88,0,null,false]
[88,"B9","",null,null,null,null,null,null,null,null,null,null,null,null,null,null,null,null,null,null,null,null,null,null," ",593,88,0,null,false]
[88,"E10","",null,null,null,null,null,null,null,null,null,null,null,null,null,null,null,null,null,null,null,null,null,null," ",594,88,0,null,false]
[88,"E11","",null,null,null,null,null,null,null,null,null,null,null,null,null,null,null,null,null,null,null,null,null,null," ",595,88,0,null,false]
[89,"B2","",null,null,null,null,null,null,null,null,null,null,null,null,null,null,null,null,null,null,null,null,null,null," ",596,88,0,null,false]
[89,"E3","",null,null,null,null,null,null,null,null,null,null,null,null,null,null,null,null,null,null,null,null,null,null," ",597,88,0,null,false]
[89,"B4","",null,null,null,null,null,null,null,null,null,null,null,null,null,null,null,null,null,null,null,null,null,null," ",597,88,0,null,false]
[89,"E5","",null,null,null,null,null,null,null,null,null,null,null,null,null,null,null,null,null,null,null,null,null,null," ",598,88,0,null,false]
[89,"E7","",null,null,null,null,null,null,null,null,null,null,null,null,null,null,null,null,null,null,null,null,null,null," ",599,88,0,null,false]
[89,"B8","",null,null,null,null,null,null,null,null,null,null,null,null,null,null,null,null,null,null,null,null,null,null," ",599,88,0,null,false]
[89,"E9","",null,null,null,null,null,null,null,null,null,null,null,null,null,null,null,null,null,null,null,null,null,null," ",600,88,0,null,false]
[89,"D11","",null,null,null,null,null,null,null,null,null,null,null,null,null,null,null,null,null,null,null,null,null,null," ",601,88,0,null,false]
[89,"F11","",null,null,null,null,null,null,null,null,null,null,null,null,null,null,null,null,null,null,null,null,null,null," ",602,88,0,null,false]
[90,"E2","",null,null,null,null,null,null,null,null,null,null,null,null,null,null,null,null,null,null,null,null,null,null," ",603,88,0,null,false]
[90,"C4","",null,null,null,null,null,null,null,null,null,null,null,null,null,null,null,null,null,null,null,null,null,null," ",604,88,0,null,false]
[90,"F4","",null,null,null,null,null,null,null,null,null,null,null,null,null,null,null,null,null,null,null,null,null,null," ",604,88,0,null,false]
[90,"E6","",null,null,null,null,null,null,null,null,null,null,null,null,null,null,null,null,null,null,null,null,null,null," ",605,88,0,null,false]
[90,"B7","",null,null,null,null,null,null,null,null,null,null,null,null,null,null,null,null,null,null,null,null,null,null," ",606,88,0,null,false]
[90,"C9","",null,null,null,null,null,null,null,null,null,null,null,null,null,null,null,null,null,null,null,null,null,null," ",607,88,0,null,false]
[90,"E10","",null,null,null,null,null,null,null,null,null,null,null,null,null,null,null,null,null,null,null,null,null,null," ",608,88,0,null,false]
[90,"H11","",null,null,null,null,null,null,null,null,null,null,null,null,null,null,null,null,null,null,null,null,null,null," ",609,88,0,null,false]
[91,"E1","",null,null,null,null,null,null,null,null,null,null,null,null,null,null,null,null,null,null,null,null,null,null," ",609,88,0,null,false]
[91,"G2","",null,null,null,null,null,null,null,null,null,null,null,null,null,null,null,null,null,null,null,null,null,null," ",610,88,0,null,false]
[91,"H4","",null,null,null,null,null,null,null,null,null,null,null,null,null,null,null,null,null,null,null,null,null,null," ",611,88,0,null,false]
[91,"E5","",null,null,null,null,null,null,null,null,null,null,null,null,null,null,null,null,null,null,null,null,null,null," ",611,88,0,null,false]
[91,"F6","",null,null,null,null,null,null,null,null,null,null,null,null,null,null,null,null,null,null,null,null,null,null," ",612,88,0,null,false]
[91,"F7","",null,null,null,null,null,null,null,null,null,null,null,null,null,null,null,null,null,null,null,null,null,null," ",613,88,0,null,false]
[91,"E9","",null,null,null,null,null,null,null,null,null,null,null,null,null,null,null,null,null,null,null,null,null,null," ",614,88,0,null,false]
[91,"H10","",null,null,null,null,null,null,null,null,null,null,null,null,null,null,null,null,null,null,null,null,null,null," ",615,88,0,null,false]
[91,"F11","",null,null,null,null,null,null,null,null,null,null,null,null,null,null,null,null,null,null,null,null,null,null," ",615,88,0,null,false]
[92,"E2","",null,null,null,null,null,null,null,null,null,null,null,null,null,null,null,null,null,null,null,null,null,null," ",616,88,0,null,false]
[92,"H3","",null,null,null,null,null,null,null,null,null,null,null,null,null,null,null,null,null,null,null,null,null,null," ",617,88,0,null,false]
[92,"E4","",null,null,null,null,null,null,null,null,null,null,null,null,null,null,null,null,null,null,null,null,null,null," ",618,88,0,null,false]
[92,"F5","",null,null,null,null,null,null,null,null,null,null,null,null,null,null,null,null,null,null,null,null,null,null," ",618,88,0,null,false]
[92,"H7","",null,null,null,null,null,null,null,null,null,null,null,null,null,null,null,null,null,null,null,null,null,null," ",620,88,0,null,false]
[92,"E8","",null,null,null,null,null,null,null,null,null,null,null,null,null,null,null,null,null,null,null,null,null,null," ",620,88,0,null,false]
[92,"H9","",null,null,null,null,null,null,null,null,null,null,null,null,null,null,null,null,null,null,null,null,null,null," ",621,88,0,null,false]
[92,"E11","",null,null,null,null,null,null,null,null,null,null,null,null,null,null,null,null,null,null,null,null,null,null," ",622,88,0,null,false]
[93,"E1","",null,null,null,null,null,null,null,null,null,null,null,null,null,null,null,null,null,null,null,null,null,null," ",622,88,0,null,false]
[93,"H2","",null,null,null,null,null,null,null,null,null,null,null,null,null,null,null,null,null,null,null,null,null,null," ",623,88,0,null,false]
[93,"D4","",null,null,null,null,null,null,null,null,null,null,null,null,null,null,null,null,null,null,null,null,null,null," ",624,88,0,null,false]
[93,"A5","",null,null,null,null,null,null,null,null,null,null,null,null,null,null,null,null,null,null,null,null,null,null," ",625,88,0,null,false]
[93,"H6","",null,null,null,null,null,null,null,null,null,null,null,null,null,null,null,null,null,null,null,null,null,null," ",626,88,0,null,false]
[93,"E7","",null,null,null,null,null,null,null,null,null,null,null,null,null,null,null,null,null,null,null,null,null,null," ",626,88,0,null,false]
[93,"D9","",null,null,null,null,null,null,null,null,null,null,null,null,null,null,null,null,null,null,null,null,null,null," ",{"$f":"CEILING((ROW()-StartRow+1)/PanelHeight,1)-1","v":627},88,0,null,false]
[93,"H10","",null,null,null,null,null,null,null,null,null,null,null,null,null,null,null,null,null,null,null,null,null,null," ",628,88,0,null,false]
[93,"E11","",null,null,null,null,null,null,null,null,null,null,null,null,null,null,null,null,null,null,null,null,null,null," ",629,88,0,null,false]
[94,"H1","",null,null,null,null,null,null,null,null,null,null,null,null,null,null,null,null,null,null,null,null,null,null," ",629,88,0,null,false]
[94,"H2","",null,null,null,null,null,null,null,null,null,null,null,null,null,null,null,null,null,null,null,null,null,null," ",630,88,0,null,false]
[94,"C5","",null,null,null,null,null,null,null,null,null,null,null,null,null,null,null,null,null,null,null,null,null,null," ",632,88,0,null,false]
[94,"H5","",null,null,null,null,null,null,null,null,null,null,null,null,null,null,null,null,null,null,null,null,null,null," ",632,88,0,null,false]
[94,"G6","",null,null,null,null,null,null,null,null,null,null,null,null,null,null,null,null,null,null,null,null,null,null," ",632,88,0,null,false]
[94,"A8","",null,null,null,null,null,null,null,null,null,null,null,null,null,null,null,null,null,null,null,null,null,null," ",633,88,0,null,false]
[94,"H9","",null,null,null,null,null,null,null,null,null,null,null,null,null,null,null,null,null,null,null,null,null,null," ",634,88,0,null,false]
[94,"C11","",null,null,null,null,null,null,null,null,null,null,null,null,null,null,null,null,null,null,null,null,null,null," ",635,88,0,null,false]
[94,"G11","",null,null,null,null,null,null,null,null,null,null,null,null,null,null,null,null,null,null,null,null,null,null," ",636,88,0,null,false]
[95,"H2","",null,null,null,null,null,null,null,null,null,null,null,null,null,null,null,null,null,null,null,null,null,null," ",637,88,0,null,false]
[95,"C4","",null,null,null,null,null,null,null,null,null,null,null,null,null,null,null,null,null,null,null,null,null,null," ",638,88,0,null,false]
[95,"H4","",null,null,null,null,null,null,null,null,null,null,null,null,null,null,null,null,null,null,null,null,null,null," ",638,88,0,null,false]
[95,"F6","",null,null,null,null,null,null,null,null,null,null,null,null,null,null,null,null,null,null,null,null,null,null," ",639,88,0,null,{"$f":"IF(COUNTBLANK(E8319)=0,B8311)","v":false}]
[95,"C8","",null,null,null,null,null,null,null,null,null,null,null,null,null,null,null,null,null,null,null,null,null,null," ",640,88,0,null,false]
[95,"H8","",null,null,null,null,null,null,null,null,null,null,null,null,null,null,null,null,null,null,null,null,null,null," ",641,88,0,null,false]
[95,"A11","",null,null,null,null,null,null,null,null,null,null,null,null,null,null,null,null,null,null,null,null,null,null," ",642,88,0,null,false]
[96,"C1","",null,null,null,null,null,null,null,null,null,null,null,null,null,null,null,null,null,null,null,null,null,null," ",643,88,0,null,false]
[96,"H1","",null,null,null,null,null,null,null,null,null,null,null,null,null,null,null,null,null,null,null,null,null,null," ",643,88,0,null,false]
[96,"C3","",null,null,null,null,null,null,null,null,null,null,null,null,null,null,null,null,null,null,null,null,null,null," ",644,88,0,null,false]
[96,"E4","",null,null,null,null,null,null,null,null,null,null,null,null,null,null,null,null,null,null,null,null,null,null," ",645,88,0,null,false]
[96,"D5","",null,null,null,null,null,null,null,null,null,null,null,null,null,null,null,null,null,null,null,null,null,null," ",645,88,0,null,false]
[96,"C7","",null,null,null,null,null,null,null,null,null,null,null,null,null,null,null,null,null,null,null,null,null,null," ",646,88,0,null,false]
[96,"H7","",null,null,null,null,null,null,null,null,null,null,null,null,null,null,null,null,null,null,null,null,null,null," ",647,88,0,null,false]
[96,"E9","",null,null,null,null,null,null,null,null,null,null,null,null,null,null,null,null,null,null,null,null,null,null," ",648,88,0,null,false]
[96,"C11","",null,null,null,null,null,null,null,null,null,null,null,null,null,null,null,null,null,null,null,null,null,null," ",649,88,0,null,false]
[96,"H11","",null,null,null,null,null,null,null,null,null,null,null,null,null,null,null,null,null,null,null,null,null,null," ",649,88,0,null,false]
[97,"D2","",null,null,null,null,null,null,null,null,null,null,null,null,null,null,null,null,null,null,null,null,null,null," ",650,88,0,null,false]
[97,"C4","",null,null,null,null,null,null,null,null,null,null,null,null,null,null,null,null,null,null,null,null,null,null," ",651,88,0,null,false]
[97,"F5","",null,null,null,null,null,null,null,null,null,null,null,null,null,null,null,null,null,null,null,null,null,null," ",652,88,0,null,false]
[97,"C6","",null,null,null,null,null,null,null,null,null,null,null,null,null,null,null,null,null,null,null,null,null,null," ",652,88,0,null,false]
[97,"C8","",null,null,null,null,null,null,null,null,null,null,null,null,null,null,null,null,null,null,null,null,null,null," ",654,88,0,null,false]
[97,"D8","",null,null,null,null,null,null,null,null,null,null,null,null,null,null,null,null,null,null,null,null,null,null," ",654,88,0,null,false]
[97,"C10","",null,null,null,null,null,null,null,null,null,null,null,null,null,null,null,null,null,null,null,null,null,null," ",655,88,0,null,false]
[97,"H10","",null,null,null,null,null,null,null,null,null,null,null,null,null,null,null,null,null,null,null,null,null,null," ",655,88,0,null,false]
[98,"C2","",null,null,null,null,null,null,null,null,null,null,null,null,null,null,null,null,null,null,null,null,null,null," ",657,88,0,null,false]
[98,"C3","",null,null,null,null,null,null,null,null,null,null,null,null,null,null,null,null,null,null,null,null,null,null," ",657,88,0,null,false]
[98,"F4","",null,null,null,null,null,null,null,null,null,null,null,null,null,null,null,null,null,null,null,null,null,null," ",658,88,0,null,false]
[98,"C5","",null,null,null,null,null,null,null,null,null,null,null,null,null,null,null,null,null,null,null,null,null,null," ",659,88,0,null,false]
[98,"G6","",null,null,null,null,null,null,null,null,null,null,null,null,null,null,null,null,null,null,null,null,null,null," ",660,88,0,null,false]
[98,"F8","",null,null,null,null,null,null,null,null,null,null,null,null,null,null,null,null,null,null,null,null,null,null," ",661,88,0,null,false]
[98,"C9","",null,null,null,null,null,null,null,null,null,null,null,null,null,null,null,null,null,null,null,null,null,null," ",661,88,0,null,false]
[98,"B11","",null,null,null,null,null,null,null,null,null,null,null,null,null,null,null,null,null,null,null,null,null,null," ",662,88,0,null,false]
[99,"F1","",null,null,null,null,null,null,null,null,null,null,null,null,null,null,null,null,null,null,null,null,null,null," ",663,88,0,null,false]
[99,"C2","",null,null,null,null,null,null,null,null,null,null,null,null,null,null,null,null,null,null,null,null,null,null," ",664,88,0,null,false]
[99,"F3","",null,null,null,null,null,null,null,null,null,null,null,null,null,null,null,null,null,null,null,null,null,null," ",664,88,0,null,false]
[99,"F4","",null,null,null,null,null,null,null,null,null,null,null,null,null,null,null,null,null,null,null,null,null,null," ",665,88,0,null,false]
[99,"C6","",null,null,null,null,null,null,null,null,null,null,null,null,null,null,null,null,null,null,null,null,null,null," ",666,88,0,null,false]
[99,"F7","",null,null,null,null,null,null,null,null,null,null,null,null,null,null,null,null,null,null,null,null,null,null," ",667,88,0,null,false]
[99,"C8","",null,null,null,null,null,null,null,null,null,null,null,null,null,null,null,null,null,null,null,null,null,null," ",667,88,0,null,false]
[99,"F9","",null,null,null,null,null,null,null,null,null,null,null,null,null,null,null,null,null,null,null,null,null,null," ",668,88,0,null,false]
[99,"F11","",null,null,null,null,null,null,null,null,null,null,null,null,null,null,null,null,null,null,null,null,null,null," ",669,88,0,null,false]
[100,"C1","",null,null,null,null,null,null,null,null,null,null,null,null,null,null,null,null,null,null,null,null,null,null," ",670,88,0,null,false]
[100,"E2","",null,null,null,null,null,null,null,null,null,null,null,null,null,null,null,null,null,null,null,null,null,null," ",670,88,0,null,false]
[100,"F4","",null,null,null,null,null,null,null,null,null,null,null,null,null,null,null,null,null,null,null,null,null,null," ",672,88,0,null,false]
[100,"A6","",null,null,null,null,null,null,null,null,null,null,null,null,null,null,null,null,null,null,null,null,null,null," ",673,88,0,null,false]
[100,"F6","",null,null,null,null,null,null,null,null,null,null,null,null,null,null,null,null,null,null,null,null,null,null," ",673,88,0,null,false]
[100,"D8",{"$f":"IF(D8773=0,\"\",D8773)","v":""},null,null,null,null,null,null,null,null,null,null,null,null,null,null,null,null,null,null,null,null,null,null,{"$f":"IF(LEN(INDEX($1:$1048576,ROW(),4))>0,INDEX($1:$1048576,ROW(),4),\" \")","v":" "},674,88,0,null,false]
[100,"G8","",null,null,null,null,null,null,null,null,null,null,null,null,null,null,null,null,null,null,null,null,null,null," ",674,88,0,null,false]
[100,"F10","",null,null,null,null,null,null,null,null,null,null,null,null,null,null,null,null,null,null,null,null,null,null," ",675,88,0,null,false]
[100,"C11","",null,null,null,null,null,null,null,null,null,null,null,null,null,null,null,null,null,null,null,null,null,null," ",676,88,0,null,false]
[101,"D2","",null,null,null,null,null,null,null,null,null,null,null,null,null,null,null,null,null,null,null,null,null,null," ",677,88,0,null,false]
[101,"F3","",null,null,null,null,null,null,null,null,null,null,null,null,null,null,null,null,null,null,null,null,null,null," ",678,88,0,null,false]
[101,"A5","",null,null,null,null,null,null,null,null,null,null,null,null,null,null,null,null,null,null,null,null,null,null," ",679,88,0,null,false]
[101,"C6","",null,null,null,null,null,null,null,null,null,null,null,null,null,null,null,null,null,null,null,null,null,null," ",680,88,0,null,false]
[101,"F7","",null,null,null,null,null,null,null,null,null,null,null,null,null,null,null,null,null,null,null,null,null,null," ",680,88,0,null,false]
[101,"A9","",null,null,null,null,null,null,null,null,null,null,null,null,null,null,null,null,null,null,null,null,null,null," ",681,88,0,null,false]
[101,"F9","",null,null,null,null,null,null,null,null,null,null,null,null,null,null,null,null,null,null,null,null,null,null," ",682,88,0,null,false]
[101,"G10","",null,null,null,null,null,null,null,null,null,null,null,null,null,null,null,null,null,null,null,null,null,null," ",682,88,0,null,false]
[102,"A2","",null,null,null,null,null,null,null,null,null,null,null,null,null,null,null,null,null,null,null,null,null,null," ",684,88,0,null,false]
[102,"F2","",null,null,null,null,null,null,null,null,null,null,null,null,null,null,null,null,null,null,null,null,null,null," ",684,88,0,null,false]
[102,"A4","",null,null,null,null,null,null,null,null,null,null,null,null,null,null,null,null,null,null,null,null,null,null," ",685,88,0,null,false]
[102,"G4","",null,null,null,null,null,null,null,null,null,null,null,null,null,null,null,null,null,null,null,null,null,null," ",685,88,0,null,false]
[102,"F6","",null,null,null,null,null,null,null,null,null,null,null,null,null,null,null,null,null,null,null,null,null,null," ",687,88,0,null,false]
[102,"A8","",null,null,null,null,null,null,null,null,null,null,null,null,null,null,null,null,null,null,null,null,null,null," ",687,88,0,null,false]
[102,"F8","",null,null,null,null,null,null,null,null,null,null,null,null,null,null,null,null,null,null,null,null,null,null," ",688,88,0,null,false]
[102,"B10","",null,null,null,null,null,null,null,null,null,null,null,null,null,null,null,null,null,null,null,null,null,null," ",689,88,0,null,false]
[103,"A1","",null,null,null,null,null,null,null,null,null,null,null,null,null,null,null,null,null,null,null,null,null,null," ",690,88,0,null,false]
[103,"F1","",null,null,null,null,null,null,null,null,null,null,null,null,null,null,null,null,null,null,null,null,null,null," ",690,88,0,null,false]
[103,"F2","",null,null,null,null,null,null,null,null,null,null,null,null,null,null,null,null,null,null,null,null,null,null," ",691,88,0,null,false]
[103,"A5","",null,null,null,null,null,null,null,null,null,null,null,null,null,null,null,null,null,null,null,null,null,null," ",692,88,0,null,false]
[103,"F5","",null,null,null,null,null,null,null,null,null,null,null,null,null,null,null,null,null,null,null,null,null,null," ",693,88,0,null,false]
[103,"A7","",null,null,null,null,null,null,null,null,null,null,null,null,null,null,null,null,null,null,null,null,null,null," ",694,88,0,null,false]
[103,"E8","",null,null,null,null,null,null,null,null,null,null,null,null,null,null,null,null,null,null,null,null,null,null," ",694,88,0,null,false]
[103,"B9","",null,null,null,null,null,null,null,null,null,null,null,null,null,null,null,null,null,null,null,null,null,null," ",695,88,0,null,false]
[103,"A11","",null,null,null,null,null,null,null,null,null,null,null,null,null,null,null,null,null,null,null,null,null,null," ",696,88,0,null,false]
[104,"D1","",null,null,null,null,null,null,null,null,null,null,null,null,null,null,null,null,null,null,null,null,null,null," ",697,88,0,null,false]
[104,"B2","",null,null,null,null,null,null,null,null,null,null,null,null,null,null,null,null,null,null,null,null,null,null," ",697,88,0,null,false]
[104,"A4","",null,null,null,null,null,null,null,null,null,null,null,null,null,null,null,null,null,null,null,null,null,null," ",698,88,0,null,false]
[104,"F4","",null,null,null,null,null,null,null,null,null,null,null,null,null,null,null,null,null,null,null,null,null,null," ",699,88,0,null,false]
[104,"D6","",null,null,null,null,null,null,null,null,null,null,null,null,null,null,null,null,null,null,null,null,null,null," ",700,88,0,null,false]
[104,"A8","",null,null,null,null,null,null,null,null,null,null,null,null,null,null,null,null,null,null,null,null,null,null," ",701,88,0,null,false]
[104,"D9","",null,null,null,null,null,null,null,null,null,null,null,null,null,null,null,null,null,null,null,null,null,null," ",702,88,0,null,false]
[104,"A10","",null,null,null,null,null,null,null,null,null,null,null,null,null,null,null,null,null,null,null,null,null,null," ",702,88,0,null,false]
[104,"H10","",null,null,null,null,null,null,null,null,null,null,null,null,null,null,null,null,null,null,null,null,null,null," ",703,88,0,null,false]
[105,"D2","",null,null,null,null,null,null,null,null,null,null,null,null,null,null,null,null,null,null,null,null,null,null," ",704,88,0,null,false]
[105,"A3","",null,null,null,null,null,null,null,null,null,null,null,null,null,null,null,null,null,null,null,null,null,null," ",705,88,0,null,false]
[105,"D4","",null,null,null,null,null,null,null,null,null,null,null,null,null,null,null,null,null,null,null,null,null,null," ",705,88,0,null,false]
[105,"C6","",null,null,null,null,null,null,null,null,null,null,null,null,null,null,null,null,null,null,null,null,null,null," ",707,88,0,null,false]
[105,"A7","",null,null,null,null,null,null,null,null,null,null,null,null,null,null,null,null,null,null,null,null,null,null," ",707,88,0,null,false]
[105,"D8","",null,null,null,null,null,null,null,null,null,null,null,null,null,null,null,null,null,null,null,null,null,null," ",708,88,0,null,false]
[105,"B10","",null,null,null,null,null,null,null,null,null,null,null,null,null,null,null,null,null,null,null,null,null,null," ",709,88,0,null,false]
[105,"A11","",null,null,null,null,null,null,null,null,null,null,null,null,null,null,null,null,null,null,null,null,null,null," ",710,88,0,null,false]
[106,"D1","",null,null,null,null,null,null,null,null,null,null,null,null,null,null,null,null,null,null,null,null,null,null," ",710,88,0,null,false]
[106,"A2","",null,null,null,null,null,null,null,null,null,null,null,null,null,null,null,null,null,null,null,null,null,null," ",711,88,0,null,false]
[106,"B4","",null,null,null,null,null,null,null,null,null,null,null,null,null,null,null,null,null,null,null,null,null,null," ",712,88,0,null,false]
[106,"D5","",null,null,null,null,null,null,null,null,null,null,null,null,null,null,null,null,null,null,null,null,null,null," ",713,88,0,null,false]
[106,"A6","",null,null,null,null,null,null,null,null,null,null,null,null,null,null,null,null,null,null,null,null,null,null," ",713,88,0,null,false]
[106,"D7","",null,null,null,null,null,null,null,null,null,null,null,null,null,null,null,null,null,null,null,null,null,null," ",714,88,0,null,false]
[106,"F8","",null,null,null,null,null,null,null,null,null,null,null,null,null,null,null,null,null,null,null,null,null,null," ",715,88,0,null,false]
[106,"E9","",null,null,null,null,null,null,null,null,null,null,null,null,null,null,null,null,null,null,null,null,null,null," ",715,88,0,null,false]
[106,"D11","",null,null,null,null,null,null,null,null,null,null,null,null,null,null,null,null,null,null,null,null,null,null," ",717,88,0,null,false]
[107,"E1","",null,null,null,null,null,null,null,null,null,null,null,null,null,null,null,null,null,null,null,null,null,null," ",717,88,0,null,false]
[107,"E2","",null,null,null,null,null,null,null,null,null,null,null,null,null,null,null,null,null,null,null,null,null,null," ",718,88,0,null,false]
[107,"D4","",null,null,null,null,null,null,null,null,null,null,null,null,null,null,null,null,null,null,null,null,null,null," ",719,88,0,null,false]
[107,"A5","",null,null,null,null,null,null,null,null,null,null,null,null,null,null,null,null,null,null,null,null,null,null," ",719,88,0,null,false]
[107,"E6","",null,null,null,null,null,null,null,null,null,null,null,null,null,null,null,null,null,null,null,null,null,null," ",720,88,0,null,false]
[107,"D8","",null,null,null,null,null,null,null,null,null,null,null,null,null,null,null,null,null,null,null,null,null,null," ",721,88,0,null,false]
[107,"G9","",null,null,null,null,null,null,null,null,null,null,null,null,null,null,null,null,null,null,null,null,null,null," ",722,88,0,null,false]
[107,"D10","",null,null,null,null,null,null,null,null,null,null,null,null,null,null,null,null,null,null,null,null,null,null," ",723,88,0,null,false]
[108,"D1","",null,null,null,null,null,null,null,null,null,null,null,null,null,null,null,null,null,null,null,null,null,null," ",724,88,0,null,false]
[108,"G2","",null,null,null,null,null,null,null,null,null,null,null,null,null,null,null,null,null,null,null,null,null,null," ",725,88,0,null,false]
[108,"D3","",null,null,null,null,null,null,null,null,null,null,null,null,null,null,null,null,null,null,null,null,null,null," ",725,88,0,null,false]
[108,"C5","",null,null,null,null,null,null,null,null,null,null,null,null,null,null,null,null,null,null,null,null,null,null," ",726,88,0,null,false]
[108,"E5","",null,null,null,null,null,null,null,null,null,null,null,null,null,null,null,null,null,null,null,null,null,null," ",726,88,0,null,false]
[108,"D7","",null,null,null,null,null,null,null,null,null,null,null,null,null,null,null,null,null,null,null,null,null,null," ",728,88,0,null,false]
[108,"G8","",null,null,null,null,null,null,null,null,null,null,null,null,null,null,null,null,null,null,null,null,null,null," ",728,88,0,null,false]
[108,"C10","",null,null,null,null,null,null,null,null,null,null,null,null,null,null,null,null,null,null,null,null,null,null," ",729,88,0,null,false]
[108,"D11","",null,null,null,null,null,null,null,null,null,null,null,null,null,null,null,null,null,null,null,null,null,null," ",730,88,0,null,false]
[109,"G1","",null,null,null,null,null,null,null,null,null,null,null,null,null,null,null,null,null,null,null,null,null,null," ",731,88,0,null,false]
[109,"D2","",null,null,null,null,null,null,null,null,null,null,null,null,null,null,null,null,null,null,null,null,null,null," ",731,88,0,null,false]
[109,"C4","",null,null,null,null,null,null,null,null,null,null,null,null,null,null,null,null,null,null,null,null,null,null," ",732,88,0,null,false]
[109,"G5","",null,null,null,null,null,null,null,null,null,null,null,null,null,null,null,null,null,null,null,null,null,null," ",733,88,0,null,false]
[109,"D6","",null,null,null,null,null,null,null,null,null,null,null,null,null,null,null,null,null,null,null,null,null,null," ",734,88,0,null,false]
[109,"B8","",null,null,null,null,null,null,null,null,null,null,null,null,null,null,null,null,null,null,null,null,null,null," ",735,88,0,null,false]
[109,"G9","",null,null,null,null,null,null,null,null,null,null,null,null,null,null,null,null,null,null,null,null,null,null," ",736,88,0,null,false]
[109,"D10","",null,null,null,null,null,null,null,null,null,null,null,null,null,null,null,null,null,null,null,null,null,null," ",736,88,0,null,false]
[109,"G11","",null,null,null,null,null,null,null,null,null,null,null,null,null,null,null,null,null,null,null,null,null,null," ",737,88,0,null,false]
[110,"F1","",null,null,null,null,null,null,null,null,null,null,null,null,null,null,null,null,null,null,null,null,null,null," ",738,88,0,null,{"$f":"IF(COUNTBLANK(E9599)=0,B9591)","v":false}]
[110,"H2","",null,null,null,null,null,null,null,null,null,null,null,null,null,null,null,null,null,null,null,null,null,null," ",738,88,0,null,false]
[110,"G4","",null,null,null,null,null,null,null,null,null,null,null,null,null,null,null,null,null,null,null,null,null,null," ",740,88,0,null,false]
[110,"D5","",null,null,null,null,null,null,null,null,null,null,null,null,null,null,null,null,null,null,null,null,null,null," ",740,88,0,null,false]
[110,"F6","",null,null,null,null,null,null,null,null,null,null,null,null,null,null,null,null,null,null,null,null,null,null," ",741,88,0,null,false]
[110,"G8","",null,null,null,null,null,null,null,null,null,null,null,null,null,null,null,null,null,null,null,null,null,null," ",742,88,0,null,false]
[110,"D9","",null,null,null,null,null,null,null,null,null,null,null,null,null,null,null,null,null,null,null,null,null,null," ",742,88,0,null,false]
[110,"G10","",null,null,null,null,null,null,null,null,null,null,null,null,null,null,null,null,null,null,null,null,null,null," ",743,88,0,null,false]
[111,"E1","",null,null,null,null,null,null,null,null,null,null,null,null,null,null,null,null,null,null,null,null,null,null," ",744,88,0,null,false]
[111,"B3","",null,null,null,null,null,null,null,null,null,null,null,null,null,null,null,null,null,null,null,null,null,null," ",745,88,0,null,false]
[111,"G3","",null,null,null,null,null,null,null,null,null,null,null,null,null,null,null,null,null,null,null,null,null,null," ",746,88,0,null,false]
[111,"D5","",null,null,null,null,null,null,null,null,null,null,null,null,null,null,null,null,null,null,null,null,null,null," ",747,88,0,null,false]
[111,"H5","",null,null,null,null,null,null,null,null,null,null,null,null,null,null,null,null,null,null,null,null,null,null," ",747,88,0,null,false]
[111,"G7","",null,null,null,null,null,null,null,null,null,null,null,null,null,null,null,null,null,null,null,null,null,null," ",748,88,0,null,false]
[111,"B9","",null,null,null,null,null,null,null,null,null,null,null,null,null,null,null,null,null,null,null,null,null,null," ",749,88,0,null,false]
[111,"D10","",null,null,null,null,null,null,null,null,null,null,null,null,null,null,null,null,null,null,null,null,null,null," ",750,88,0,null,false]
[111,"G11","",null,null,null,null,null,null,null,null,null,null,null,null,null,null,null,null,null,null,null,null,null,null," ",751,88,0,null,false]
[112,"B2","",null,null,null,null,null,null,null,null,null,null,null,null,null,null,null,null,null,null,null,null,null,null," ",751,88,0,null,false]
[112,"G2","",null,null,null,null,null,null,null,null,null,null,null,null,null,null,null,null,null,null,null,null,null,null," ",752,88,0,null,false]
[112,"H3","",null,null,null,null,null,null,null,null,null,null,null,null,null,null,null,null,null,null,null,null,null,null," ",753,88,0,null,false]
[112,"B6","",null,null,null,null,null,null,null,null,null,null,null,null,null,null,null,null,null,null,null,null,null,null," ",754,88,0,null,false]
[112,"G6","",null,null,null,null,null,null,null,null,null,null,null,null,null,null,null,null,null,null,null,null,null,null," ",754,88,0,null,false]
[112,"C8","",null,null,null,null,null,null,null,null,null,null,null,null,null,null,null,null,null,null,null,null,null,null," ",755,88,0,null,false]
[112,"B10","",null,null,null,null,null,null,null,null,null,null,null,null,null,null,null,null,null,null,null,null,null,null," ",756,88,0,null,false]
[112,"G10","",null,null,null,null,null,null,null,null,null,null,null,null,null,null,null,null,null,null,null,null,null,null," ",757,88,0,null,false]
[113,"B1","",null,null,null,null,null,null,null,null,null,null,null,null,null,null,null,null,null,null,null,null,null,null," ",758,88,0,null,false]
[113,"G1","",null,null,null,null,null,null,null,null,null,null,null,null,null,null,null,null,null,null,null,null,null,null," ",758,88,0,null,false]
[113,"C3","",null,null,null,null,null,null,null,null,null,null,null,null,null,null,null,null,null,null,null,null,null,null," ",759,88,0,null,false]
[113,"B5","",null,null,null,null,null,null,null,null,null,null,null,null,null,null,null,null,null,null,null,null,null,null," ",760,88,0,null,false]
[113,"G5","",null,null,null,null,null,null,null,null,null,null,null,null,null,null,null,null,null,null,null,null,null,null," ",760,88,0,null,false]
[113,"B8","",null,null,null,null,null,null,null,null,null,null,null,null,null,null,null,null,null,null,null,null,null,null," ",762,88,0,null,false]
[113,"B9","",null,null,null,null,null,null,null,null,null,null,null,null,null,null,null,null,null,null,null,null,null,null," ",763,88,0,null,false]
[113,"G9","",null,null,null,null,null,null,null,null,null,null,null,null,null,null,null,null,null,null,null,null,null,null," ",763,88,0,null,false]
[114,"A1","",null,null,null,null,null,null,null,null,null,null,null,null,null,null,null,null,null,null,null,null,null,null," ",764,88,0,null,false]
[114,"B2","",null,null,null,null,null,null,null,null,null,null,null,null,null,null,null,null,null,null,null,null,null,null," ",765,88,0,null,false]
[114,"E3","",null,null,null,null,null,null,null,null,null,null,null,null,null,null,null,null,null,null,null,null,null,null," ",766,88,0,null,false]
[114,"B4","",null,null,null,null,null,null,null,null,null,null,null,null,null,null,null,null,null,null,null,null,null,null," ",766,88,0,null,false]
[114,"E5","",null,null,null,null,null,null,null,null,null,null,null,null,null,null,null,null,null,null,null,null,null,null," ",767,88,0,null,false]
[114,"C6","",null,null,null,null,null,null,null,null,null,null,null,null,null,null,null,null,null,null,null,null,null,null," ",768,{"$f":"COUNTBLANK(OFFSET(INDEX($1:$1048576,2,4),AA9988*WellsInPlate,0,WellsInPlate,1))","v":88},{"$f":"IF(AB9988=WellsInPlate,0,1)","v":0},null,false]
[114,"B8","",null,null,null,null,null,null,null,null,null,null,null,null,null,null,null,null,null,null,null,null,null,null," ",769,88,0,null,false]
[114,"G8","",null,null,null,null,null,null,null,null,null,null,null,null,null,null,null,null,null,null,null,null,null,null," ",769,88,0,null,false]
[114,"E10","",null,null,null,null,null,null,null,null,null,null,null,null,null,null,null,null,null,null,null,null,null,null," ",770,88,0,null,false]
[null,null,null,null,null,null,null,null,null,null,null,null,null,null,null,null,null,null,null,null,null,null,null,null,null," ",771,88,0,null,false]
[null,null,null,null,null,null,null,null,null,null,null,null,null,null,null,null,null,null,null,null,null,null,null,null,null,null,null,null,null,null,false]
[null,null,null,null,null,null,null,null,null,null,null,null,null,null,null,null,null,null,null,null,null,null,null,null,null,null,null,null,null,null,false]
[null,null,null,null,null,null,null,null,null,null,null,null,null,null,null,null,null,null,null,null,null,null,null,null,null,null,null,null,null,null,false]
[null,null,null,null,null,null,null,null,null,null,null,null,null,null,null,null,null,null,null,null,null,null,null,null,null,null,null,null,null,null,false]
[null,null,null,null,null,null,null,null,null,null,null,null,null,null,null,null,null,null,null,null,null,null,null,null,null,null,null,null,null,null,false]
[null,null,null,null,null,null,null,null,null,null,null,null,null,null,null,null,null,null,null,null,null,null,null,null,null,null,null,null,null,null,false]
[null,null,null,null,null,null,null,null,null,null,null,null,null,null,null,null,null,null,null,null,null,null,null,null,null,null,null,null,null,null,false]
[null,null,null,null,null,null,null,null,null,null,null,null,null,null,null,null,null,null,null,null,null,null,null,null,null,null,null,null,null,null,false]
[null,null,null,null,null,null,null,null,null,null,null,null,null,null,null,null,null,null,null,null,null,null,null,null,null,null,null,null,null,null,false]
[null,null,null,null,null,null,null,null,null,null,null,null,null,null,null,null,null,null,null,null,null,null,null,null,null,null,null,null,null,null,false]
[null,null,null,null,null,null,null,null,null,null,null,null,null,null,null,null,null,null,null,null,null,null,null,null,null,null,null,null,null,null,false]
[null,null,null,null,null,null,null,null,null,null,null,null,null,null,null,null,null,null,null,null,null,null,null,null,null,null,null,null,null,null,false]
[null,null,null,null,null,null,null,null,null,null,null,null,null,null,null,null,null,null,null,null,null,null,null,null,null,null,null,null,null,null,false]
[null,null,null,null,null,null,null,null,null,null,null,null,null,null,null,null,null,null,null,null,null,null,null,null,null,null,null,null,null,null,{"$f":"IF(COUNTBLANK(E10175)=0,B10167)","v":false}]
[null,null,null,null,null,null,null,null,null,null,null,null,null,null,null,null,null,null,null,null,null,null,null,null,null,null,null,null,null,null,false]
[null,null,null,null,null,null,null,null,null,null,null,null,null,null,null,null,null,null,null,null,null,null,null,null,null,null,null,null,null,null,false]
[null,null,null,null,null,null,null,null,null,null,null,null,null,null,null,null,null,null,null,null,null,null,null,null,null,null,null,null,null,null,false]
[null,null,null,null,null,null,null,null,null,null,null,null,null,null,null,null,null,null,null,null,null,null,null,null,null,null,null,null,null,null,false]
[null,null,null,null,null,null,null,null,null,null,null,null,null,null,null,null,null,null,null,null,null,null,null,null,null,null,null,null,null,null,false]
[null,null,null,null,null,null,null,null,null,null,null,null,null,null,null,null,null,null,null,null,null,null,null,null,null,null,null,null,null,null,false]
[null,null,null,null,null,null,null,null,null,null,null,null,null,null,null,null,null,null,null,null,null,null,null,null,null,null,null,null,null,null,false]
[null,null,null,null,null,null,null,null,null,null,null,null,null,null,null,null,null,null,null,null,null,null,null,null,null,null,null,null,null,null,false]
[null,null,null,null,null,null,null,null,null,null,null,null,null,null,null,null,null,null,null,null,null,null,null,null,null,null,null,null,null,null,false]
[null,null,null,null,null,null,null,null,null,null,null,null,null,null,null,null,null,null,null,null,null,null,null,null,null,null,null,null,null,null,false]
[null,null,null,null,null,null,null,null,null,null,null,null,null,null,null,null,null,null,null,null,null,null,null,null,null,null,null,null,null,null,false]
[null,null,null,null,null,null,null,null,null,null,null,null,null,null,null,null,null,null,null,null,null,null,null,null,null,null,null,null,null,null,false]
[null,null,null,null,null,null,null,null,null,null,null,null,null,null,null,null,null,null,null,null,null,null,null,null,null,null,null,null,null,null,false]
[null,null,null,null,null,null,null,null,null,null,null,null,null,null,null,null,null,null,null,null,null,null,null,null,null,null,null,null,null,null,false]
[null,null,null,null,null,null,null,null,null,null,null,null,null,null,null,null,null,null,null,null,null,null,null,null,null,null,null,null,null,null,false]
[null,null,null,null,null,null,null,null,null,null,null,null,null,null,null,null,null,null,null,null,null,null,null,null,null,null,null,null,null,null,false]
[null,null,null,null,null,null,null,null,null,null,null,null,null,null,null,null,null,null,null,null,null,null,null,null,null,null,null,null,null,null,false]
[null,null,null,null,null,null,null,null,null,null,null,null,null,null,null,null,null,null,null,null,null,null,null,null,null,null,null,null,null,null,false]
[null,null,null,null,null,null,null,null,null,null,null,null,null,null,null,null,null,null,null,null,null,null,null,null,null,null,null,null,null,null,false]
[null,null,null,null,null,null,null,null,null,null,null,null,null,null,null,null,null,null,null,null,null,null,null,null,null,null,null,null,null,null,false]
[null,null,null,null,null,null,null,null,null,null,null,null,null,null,null,null,null,null,null,null,null,null,null,null,null,null,null,null,null,null,false]
[null,null,null,null,null,null,null,null,null,null,null,null,null,null,null,null,null,null,null,null,null,null,null,null,null,null,null,null,null,null,false]
[null,null,null,null,null,null,null,null,null,null,null,null,null,null,null,null,null,null,null,null,null,null,null,null,null,null,null,null,null,null,false]
[null,null,null,null,null,null,null,null,null,null,null,null,null,null,null,null,null,null,null,null,null,null,null,null,null,null,null,null,null,null,false]
[null,null,null,null,null,null,null,null,null,null,null,null,null,null,null,null,null,null,null,null,null,null,null,null,null,null,null,null,null,null,false]
[null,null,null,null,null,null,null,null,null,null,null,null,null,null,null,null,null,null,null,null,null,null,null,null,null,null,null,null,null,null,false]
[null,null,null,null,null,null,null,null,null,null,null,null,null,null,null,null,null,null,null,null,null,null,null,null,null,null,null,null,null,null,false]
[null,null,null,null,null,null,null,null,null,null,null,null,null,null,null,null,null,null,null,null,null,null,null,null,null,null,null,null,null,null,false]
[null,null,null,null,null,null,null,null,null,null,null,null,null,null,null,null,null,null,null,null,null,null,null,null,null,null,null,null,null,null,false]
[null,null,null,null,null,null,null,null,null,null,null,null,null,null,null,null,null,null,null,null,null,null,null,null,null,null,null,null,null,null,false]
[null,null,null,null,null,null,null,null,null,null,null,null,null,null,null,null,null,null,null,null,null,null,null,null,null,null,null,null,null,null,false]
[null,null,null,null,null,null,null,null,null,null,null,null,null,null,null,null,null,null,null,null,null,null,null,null,null,null,null,null,null,null,false]
[null,null,null,null,null,null,null,null,null,null,null,null,null,null,null,null,null,null,null,null,null,null,null,null,null,null,null,null,null,null,false]
[null,null,null,null,null,null,null,null,null,null,null,null,null,null,null,null,null,null,null,null,null,null,null,null,null,null,null,null,null,null,false]
[null,null,null,null,null,null,null,null,null,null,null,null,null,null,null,null,null,null,null,null,null,null,null,null,null,null,null,null,null,null,false]
[null,null,null,null,null,null,null,null,null,null,null,null,null,null,null,null,null,null,null,null,null,null,null,null,null,null,null,null,null,null,false]
[null,null,null,null,null,null,null,null,null,null,null,null,null,null,null,null,null,null,null,null,null,null,null,null,null,null,null,null,null,null,false]
[null,null,null,null,null,null,null,null,null,null,null,null,null,null,null,null,null,null,null,null,null,null,null,null,null,null,null,null,null,null,false]
[null,null,null,null,null,null,null,null,null,null,null,null,null,null,null,null,null,null,null,null,null,null,null,null,null,null,null,null,null,null,false]
[null,null,null,null,null,null,null,null,null,null,null,null,null,null,null,null,null,null,null,null,null,null,null,null,null,null,null,null,null,null,false]
[null,null,null,null,null,null,null,null,null,null,null,null,null,null,null,null,null,null,null,null,null,null,null,null,null,null,null,null,null,null,false]
[null,null,null,null,null,null,null,null,null,null,null,null,null,null,null,null,null,null,null,null,null,null,null,null,null,null,null,null,null,null,false]
[null,null,null,null,null,null,null,null,null,null,null,null,null,null,null,null,null,null,null,null,null,null,null,null,null,null,null,null,null,null,false]
[null,null,null,null,null,null,null,null,null,null,null,null,null,null,null,null,null,null,null,null,null,null,null,null,null,null,null,null,null,null,false]
[null,null,null,null,null,null,null,null,null,null,null,null,null,null,null,null,null,null,null,null,null,null,null,null,null,null,null,null,null,null,false]
[null,null,null,null,null,null,null,null,null,null,null,null,null,null,null,null,null,null,null,null,null,null,null,null,null,null,null,null,null,null,false]
[null,null,null,null,null,null,null,null,null,null,null,null,null,null,null,null,null,null,null,null,null,null,null,null,null,null,null,null,null,null,false]
[null,null,null,null,null,null,null,null,null,null,null,null,null,null,null,null,null,null,null,null,null,null,null,null,null,null,null,null,null,null,false]
[null,null,null,null,null,null,null,null,null,null,null,null,null,null,null,null,null,null,null,null,null,null,null,null,null,null,null,null,null,null,false]
[null,null,null,null,null,null,null,null,null,null,null,null,null,null,null,null,null,null,null,null,null,null,null,null,null,null,null,null,null,null,false]
[null,null,null,null,null,null,null,null,null,null,null,null,null,null,null,null,null,null,null,null,null,null,null,null,null,null,null,null,null,null,false]
[null,null,null,null,null,null,null,null,null,null,null,null,null,null,null,null,null,null,null,null,null,null,null,null,null,null,null,null,null,null,false]
[null,null,null,null,null,null,null,null,null,null,null,null,null,null,null,null,null,null,null,null,null,null,null,null,null,null,null,null,null,null,false]
[null,null,null,null,null,null,null,null,null,null,null,null,null,null,null,null,null,null,null,null,null,null,null,null,null,null,null,null,null,null,false]
[null,null,null,null,null,null,null,null,null,null,null,null,null,null,null,null,null,null,null,null,null,null,null,null,null,null,null,null,null,null,false]
[null,null,null,null,null,null,null,null,null,null,null,null,null,null,null,null,null,null,null,null,null,null,null,null,null,null,null,null,null,null,false]
[null,null,null,null,null,null,null,null,null,null,null,null,null,null,null,null,null,null,null,null,null,null,null,null,null,null,null,null,null,null,false]
[null,null,null,null,null,null,null,null,null,null,null,null,null,null,null,null,null,null,null,null,null,null,null,null,null,null,null,null,null,null,false]
[null,null,null,null,null,null,null,null,null,null,null,null,null,null,null,null,null,null,null,null,null,null,null,null,null,null,null,null,null,null,false]
[null,null,null,null,null,null,null,null,null,null,null,null,null,null,null,null,null,null,null,null,null,null,null,null,null,null,null,null,null,null,false]
[null,null,null,null,null,null,null,null,null,null,null,null,null,null,null,null,null,null,null,null,null,null,null,null,null,null,null,null,null,null,false]
[null,null,null,null,null,null,null,null,null,null,null,null,null,null,null,null,null,null,null,null,null,null,null,null,null,null,null,null,null,null,false]
[null,null,null,null,null,null,null,null,null,null,null,null,null,null,null,null,null,null,null,null,null,null,null,null,null,null,null,null,null,null,false]
[null,null,null,null,null,null,null,null,null,null,null,null,null,null,null,null,null,null,null,null,null,null,null,null,null,null,null,null,null,null,false]
[null,null,null,null,null,null,null,null,null,null,null,null,null,null,null,null,null,null,null,null,null,null,null,null,null,null,null,null,null,null,false]
[null,null,null,null,null,null,null,null,null,null,null,null,null,null,null,null,null,null,null,null,null,null,null,null,null,null,null,null,null,null,false]
[null,null,null,null,null,null,null,null,null,null,null,null,null,null,null,null,null,null,null,null,null,null,null,null,null,null,null,null,null,null,false]
[null,null,null,null,null,null,null,null,null,null,null,null,null,null,null,null,null,null,null,null,null,null,null,null,null,null,null,null,null,null,{"$f":"IF(COUNTBLANK(E10879)=0,B10871)","v":false}]
[null,null,null,null,null,null,null,null,null,null,null,null,null,null,null,null,null,null,null,null,null,null,null,null,null,null,null,null,null,null,false]
[null,null,null,null,null,null,null,null,null,null,null,null,null,null,null,null,null,null,null,null,null,null,null,null,null,null,null,null,null,null,false]
[null,null,null,null,null,null,null,null,null,null,null,null,null,null,null,null,null,null,null,null,null,null,null,null,null,null,null,null,null,null,false]
[null,null,null,null,null,null,null,null,null,null,null,null,null,null,null,null,null,null,null,null,null,null,null,null,null,null,null,null,null,null,false]
[null,null,null,null,null,null,null,null,null,null,null,null,null,null,null,null,null,null,null,null,null,null,null,null,null,null,null,null,null,null,false]
[null,null,null,null,null,null,null,null,null,null,null,null,null,null,null,null,null,null,null,null,null,null,null,null,null,null,null,null,null,null,false]
[null,null,null,null,null,null,null,null,null,null,null,null,null,null,null,null,null,null,null,null,null,null,null,null,null,null,null,null,null,null,false]
[null,null,null,null,null,null,null,null,null,null,null,null,null,null,null,null,null,null,null,null,null,null,null,null,null,null,null,null,null,null,false]
[null,null,null,null,null,null,null,null,null,null,null,null,null,null,null,null,null,null,null,null,null,null,null,null,null,null,null,null,null,null,false]
[null,null,null,null,null,null,null,null,null,null,null,null,null,null,null,null,null,null,null,null,null,null,null,null,null,null,null,null,null,null,false]
[null,null,null,null,null,null,null,null,null,null,null,null,null,null,null,null,null,null,null,null,null,null,null,null,null,null,null,null,null,null,false]
[null,null,null,null,null,null,null,null,null,null,null,null,null,null,null,null,null,null,null,null,null,null,null,null,null,null,null,null,null,null,false]
[null,null,null,null,null,null,null,null,null,null,null,null,null,null,null,null,null,null,null,null,null,null,null,null,null,null,null,null,null,null,false]
[null,null,null,null,null,null,null,null,null,null,null,null,null,null,null,null,null,null,null,null,null,null,null,null,null,null,null,null,null,null,false]
[null,null,null,null,null,null,null,null,null,null,null,null,null,null,null,null,null,null,null,null,null,null,null,null,null,null,null,null,null,null,false]
[null,null,null,null,null,null,null,null,null,null,null,null,null,null,null,null,null,null,null,null,null,null,null,null,null,null,null,null,null,null,false]
[null,null,null,null,null,null,null,null,null,null,null,null,null,null,null,null,null,null,null,null,null,null,null,null,null,null,null,null,null,null,false]
[null,null,null,null,null,null,null,null,null,null,null,null,null,null,null,null,null,null,null,null,null,null,null,null,null,null,null,null,null,null,false]
[null,null,null,null,null,null,null,null,null,null,null,null,null,null,null,null,null,null,null,null,null,null,null,null,null,null,null,null,null,null,{"$f":"IF(COUNTBLANK(E11071)=0,B11063)","v":false}]
[null,null,null,null,null,null,null,null,null,null,null,null,null,null,null,null,null,null,null,null,null,null,null,null,null,null,null,null,null,null,false]
[null,null,null,null,null,null,null,null,null,null,null,null,null,null,null,null,null,null,null,null,null,null,null,null,null,null,null,null,null,null,false]
[null,null,null,null,null,null,null,null,null,null,null,null,null,null,null,null,null,null,null,null,null,null,null,null,null,null,null,null,null,null,false]
[null,null,null,null,null,null,null,null,null,null,null,null,null,null,null,null,null,null,null,null,null,null,null,null,null,null,null,null,null,null,false]
[null,null,null,null,null,null,null,null,null,null,null,null,null,null,null,null,null,null,null,null,null,null,null,null,null,null,null,null,null,null,false]
[null,null,null,null,null,null,null,null,null,null,null,null,null,null,null,null,null,null,null,null,null,null,null,null,null,null,null,null,null,null,{"$f":"IF(COUNTBLANK(E11135)=0,B11127)","v":false}]
[null,null,null,null,null,null,null,null,null,null,null,null,null,null,null,null,null,null,null,null,null,null,null,null,null,null,null,null,null,null,false]
[null,null,null,null,null,null,null,null,null,null,null,null,null,null,null,null,null,null,null,null,null,null,null,null,null,null,null,null,null,null,false]
[null,null,null,null,null,null,null,null,null,null,null,null,null,null,null,null,null,null,null,null,null,null,null,null,null,null,null,null,null,null,false]
[null,null,null,null,null,null,null,null,null,null,null,null,null,null,null,null,null,null,null,null,null,null,null,null,null,null,null,null,null,null,false]
[null,null,null,null,null,null,null,null,null,null,null,null,null,null,null,null,null,null,null,null,null,null,null,null,null,null,null,null,null,null,false]
[null,null,null,null,null,null,null,null,null,null,null,null,null,null,null,null,null,null,null,null,null,null,null,null,null,null,null,null,null,null,false]
[null,null,null,null,null,null,null,null,null,null,null,null,null,null,null,null,null,null,null,null,null,null,null,null,null,null,null,null,null,null,false]
[null,null,null,null,null,null,null,null,null,null,null,null,null,null,null,null,null,null,null,null,null,null,null,null,null,null,null,null,null,null,false]
[null,null,null,null,null,null,null,null,null,null,null,null,null,null,null,null,null,null,null,null,null,null,null,null,null,null,null,null,null,null,false]
[null,null,null,null,null,null,null,null,null,null,null,null,null,null,null,null,null,null,null,null,null,null,null,null,null,null,null,null,null,null,false]
[null,null,null,null,null,null,null,null,null,null,null,null,null,null,null,null,null,null,null,null,null,null,null,null,null,null,null,null,null,null,false]
[null,null,null,null,null,null,null,null,null,null,null,null,null,null,null,null,null,null,null,null,null,null,null,null,null,null,null,null,null,null,false]
[null,null,null,null,null,null,null,null,null,null,null,null,null,null,null,null,null,null,null,null,null,null,null,null,null,null,null,null,null,null,false]
[null,null,null,null,null,null,null,null,null,null,null,null,null,null,null,null,null,null,null,null,null,null,null,null,null,null,null,null,null,null,false]
[null,null,null,null,null,null,null,null,null,null,null,null,null,null,null,null,null,null,null,null,null,null,null,null,null,null,null,null,null,null,false]
[null,null,null,null,null,null,null,null,null,null,null,null,null,null,null,null,null,null,null,null,null,null,null,null,null,null,null,null,null,null,false]
[null,null,null,null,null,null,null,null,null,null,null,null,null,null,null,null,null,null,null,null,null,null,null,null,null,null,null,null,null,null,false]
[null,null,null,null,null,null,null,null,null,null,null,null,null,null,null,null,null,null,null,null,null,null,null,null,null,null,null,null,null,null,false]
[null,null,null,null,null,null,null,null,null,null,null,null,null,null,null,null,null,null,null,null,null,null,null,null,null,null,null,null,null,null,false]
[null,null,null,null,null,null,null,null,null,null,null,null,null,null,null,null,null,null,null,null,null,null,null,null,null,null,null,null,null,null,false]
[null,null,null,null,null,null,null,null,null,null,null,null,null,null,null,null,null,null,null,null,null,null,null,null,null,null,null,null,null,null,false]
[null,null,null,null,null,null,null,null,null,null,null,null,null,null,null,null,null,null,null,null,null,null,null,null,null,null,null,null,null,null,false]
[null,null,null,null,null,null,null,null,null,null,null,null,null,null,null,null,null,null,null,null,null,null,null,null,null,null,null,null,null,null,false]
[null,null,null,null,null,null,null,null,null,null,null,null,null,null,null,null,null,null,null,null,null,null,null,null,null,null,null,null,null,null,false]
[null,null,null,null,null,null,null,null,null,null,null,null,null,null,null,null,null,null,null,null,null,null,null,null,null,null,null,null,null,null,false]
[null,null,null,null,null,null,null,null,null,null,null,null,null,null,null,null,null,null,null,null,null,null,null,null,null,null,null,null,null,null,false]
[null,null,null,null,null,null,null,null,null,null,null,null,null,null,null,null,null,null,null,null,null,null,null,null,null,null,null,null,null,null,false]
[null,null,null,null,null,null,null,null,null,null,null,null,null,null,null,null,null,null,null,null,null,null,null,null,null,null,null,null,null,null,false]
[null,null,null,null,null,null,null,null,null,null,null,null,null,null,null,null,null,null,null,null,null,null,null,null,null,null,null,null,null,null,false]
[null,null,null,null,null,null,null,null,null,null,null,null,null,null,null,null,null,null,null,null,null,null,null,null,null,null,null,null,null,null,false]
[null,null,null,null,null,null,null,null,null,null,null,null,null,null,null,null,null,null,null,null,null,null,null,null,null,null,null,null,null,null,false]
[null,null,null,null,null,null,null,null,null,null,null,null,null,null,null,null,null,null,null,null,null,null,null,null,null,null,null,null,null,null,false]
[null,null,null,null,null,null,null,null,null,null,null,null,null,null,null,null,null,null,null,null,null,null,null,null,null,null,null,null,null,null,false]
[null,null,null,null,null,null,null,null,null,null,null,null,null,null,null,null,null,null,null,null,null,null,null,null,null,null,null,null,null,null,false]
[null,null,null,null,null,null,null,null,null,null,null,null,null,null,null,null,null,null,null,null,null,null,null,null,null,null,null,null,null,null,false]
[null,null,null,null,null,null,null,null,null,null,null,null,null,null,null,null,null,null,null,null,null,null,null,null,null,null,null,null,null,null,false]
[null,null,null,null,null,null,null,null,null,null,null,null,null,null,null,null,null,null,null,null,null,null,null,null,null,null,null,null,null,null,false]
[null,null,null,null,null,null,null,null,null,null,null,null,null,null,null,null,null,null,null,null,null,null,null,null,null,null,null,null,null,null,false]
[null,null,null,null,null,null,null,null,null,null,null,null,null,null,null,null,null,null,null,null,null,null,null,null,null,null,null,null,null,null,false]
[null,null,null,null,null,null,null,null,null,null,null,null,null,null,null,null,null,null,null,null,null,null,null,null,null,null,null,null,null,null,false]
[null,null,null,null,null,null,null,null,null,null,null,null,null,null,null,null,null,null,null,null,null,null,null,null,null,null,null,null,null,null,false]
[null,null,null,null,null,null,null,null,null,null,null,null,null,null,null,null,null,null,null,null,null,null,null,null,null,null,null,null,null,null,false]
[null,null,null,null,null,null,null,null,null,null,null,null,null,null,null,null,null,null,null,null,null,null,null,null,null,null,null,null,null,null,false]
[null,null,null,null,null,null,null,null,null,null,null,null,null,null,null,null,null,null,null,null,null,null,null,null,null,null,null,null,null,null,false]
[null,null,null,null,null,null,null,null,null,null,null,null,null,null,null,null,null,null,null,null,null,null,null,null,null,null,null,null,null,null,false]
[null,null,null,null,null,null,null,null,null,null,null,null,null,null,null,null,null,null,null,null,null,null,null,null,null,null,null,null,null,null,false]
[null,null,null,null,null,null,null,null,null,null,null,null,null,null,null,null,null,null,null,null,null,null,null,null,null,null,null,null,null,null,false]
[null,null,null,null,null,null,null,null,null,null,null,null,null,null,null,null,null,null,null,null,null,null,null,null,null,null,null,null,null,null,false]
[null,null,null,null,null,null,null,null,null,null,null,null,null,null,null,null,null,null,null,null,null,null,null,null,null,null,null,null,null,null,false]
[null,null,null,null,null,null,null,null,null,null,null,null,null,null,null,null,null,null,null,null,null,null,null,null,null,null,null,null,null,null,false]
[null,null,null,null,null,null,null,null,null,null,null,null,null,null,null,null,null,null,null,null,null,null,null,null,null,null,null,null,null,null,false]
[null,null,null,null,null,null,null,null,null,null,null,null,null,null,null,null,null,null,null,null,null,null,null,null,null,null,null,null,null,null,false]
[null,null,null,null,null,null,null,null,null,null,null,null,null,null,null,null,null,null,null,null,null,null,null,null,null,null,null,null,null,null,false]
[null,null,null,null,null,null,null,null,null,null,null,null,null,null,null,null,null,null,null,null,null,null,null,null,null,null,null,null,null,null,false]
[null,null,null,null,null,null,null,null,null,null,null,null,null,null,null,null,null,null,null,null,null,null,null,null,null,null,null,null,null,null,false]
[null,null,null,null,null,null,null,null,null,null,null,null,null,null,null,null,null,null,null,null,null,null,null,null,null,null,null,null,null,null,false]
[null,null,null,null,null,null,null,null,null,null,null,null,null,null,null,null,null,null,null,null,null,null,null,null,null,null,null,null,null,null,false]
[null,null,null,null,null,null,null,null,null,null,null,null,null,null,null,null,null,null,null,null,null,null,null,null,null,null,null,null,null,null,false]
[null,null,null,null,null,null,null,null,null,null,null,null,null,null,null,null,null,null,null,null,null,null,null,null,null,null,null,null,null,null,false]
[null,null,null,null,null,null,null,null,null,null,null,null,null,null,null,null,null,null,null,null,null,null,null,null,null,null,null,null,null,null,false]
[null,null,null,null,null,null,null,null,null,null,null,null,null,null,null,null,null,null,null,null,null,null,null,null,null,null,null,null,null,null,false]
[null,null,null,null,null,null,null,null,null,null,null,null,null,null,null,null,null,null,null,null,null,null,null,null,null,null,null,null,null,null,false]
[null,null,null,null,null,null,null,null,null,null,null,null,null,null,null,null,null,null,null,null,null,null,null,null,null,null,null,null,null,null,false]
[null,null,null,null,null,null,null,null,null,null,null,null,null,null,null,null,null,null,null,null,null,null,null,null,null,null,null,null,null,null,false]
[null,null,null,null,null,null,null,null,null,null,null,null,null,null,null,null,null,null,null,null,null,null,null,null,null,null,null,null,null,null,false]
[null,null,null,null,null,null,null,null,null,null,null,null,null,null,null,null,null,null,null,null,null,null,null,null,null,null,null,null,null,null,false]
[null,null,null,null,null,null,null,null,null,null,null,null,null,null,null,null,null,null,null,null,null,null,null,null,null,null,null,null,null,null,false]
[null,null,null,null,null,null,null,null,null,null,null,null,null,null,null,null,null,null,null,null,null,null,null,null,null,null,null,null,null,null,false]
[null,null,null,null,null,null,null,null,null,null,null,null,null,null,null,null,null,null,null,null,null,null,null,null,null,null,null,null,null,null,{"$f":"IF(COUNTBLANK(E11327)=0,B11319)","v":false}]
[null,null,null,null,null,null,null,null,null,null,null,null,null,null,null,null,null,null,null,null,null,null,null,null,null,null,null,null,null,null,false]
[null,null,null,null,null,null,null,null,null,null,null,null,null,null,null,null,null,null,null,null,null,null,null,null,null,null,null,null,null,null,false]
[null,null,null,null,null,null,null,null,null,null,null,null,null,null,null,null,null,null,null,null,null,null,null,null,null,null,null,null,null,null,false]
[null,null,null,null,null,null,null,null,null,null,null,null,null,null,null,null,null,null,null,null,null,null,null,null,null,null,null,null,null,null,false]
[null,null,null,null,null,null,null,null,null,null,null,null,null,null,null,null,null,null,null,null,null,null,null,null,null,null,null,null,null,null,false]
[null,null,null,null,null,null,null,null,null,null,null,null,null,null,null,null,null,null,null,null,null,null,null,null,null,null,null,null,null,null,false]
[null,null,null,null,null,null,null,null,null,null,null,null,null,null,null,null,null,null,null,null,null,null,null,null,null,null,null,null,null,null,false]
[null,null,null,null,null,null,null,null,null,null,null,null,null,null,null,null,null,null,null,null,null,null,null,null,null,null,null,null,null,null,false]
[null,null,null,null,null,null,null,null,null,null,null,null,null,null,null,null,null,null,null,null,null,null,null,null,null,null,null,null,null,null,false]
[null,null,null,null,null,null,null,null,null,null,null,null,null,null,null,null,null,null,null,null,null,null,null,null,null,null,null,null,null,null,false]
[null,null,null,null,null,null,null,null,null,null,null,null,null,null,null,null,null,null,null,null,null,null,null,null,null,null,null,null,null,null,false]
[null,null,null,null,null,null,null,null,null,null,null,null,null,null,null,null,null,null,null,null,null,null,null,null,null,null,null,null,null,null,false]
[null,null,null,null,null,null,null,null,null,null,null,null,null,null,null,null,null,null,null,null,null,null,null,null,null,null,null,null,null,null,false]
[null,null,null,null,null,null,null,null,null,null,null,null,null,null,null,null,null,null,null,null,null,null,null,null,null,null,null,null,null,null,false]
[null,null,null,null,null,null,null,null,null,null,null,null,null,null,null,null,null,null,null,null,null,null,null,null,null,null,null,null,null,null,false]
[null,null,null,null,null,null,null,null,null,null,null,null,null,null,null,null,null,null,null,null,null,null,null,null,null,null,null,null,null,null,false]
[null,null,null,null,null,null,null,null,null,null,null,null,null,null,null,null,null,null,null,null,null,null,null,null,null,null,null,null,null,null,false]
[null,null,null,null,null,null,null,null,null,null,null,null,null,null,null,null,null,null,null,null,null,null,null,null,null,null,null,null,null,null,false]
[null,null,null,null,null,null,null,null,null,null,null,null,null,null,null,null,null,null,null,null,null,null,null,null,null,null,null,null,null,null,false]
[null,null,null,null,null,null,null,null,null,null,null,null,null,null,null,null,null,null,null,null,null,null,null,null,null,null,null,null,null,null,false]
[null,null,null,null,null,null,null,null,null,null,null,null,null,null,null,null,null,null,null,null,null,null,null,null,null,null,null,null,null,null,false]
[null,null,null,null,null,null,null,null,null,null,null,null,null,null,null,null,null,null,null,null,null,null,null,null,null,null,null,null,null,null,false]
[null,null,null,null,null,null,null,null,null,null,null,null,null,null,null,null,null,null,null,null,null,null,null,null,null,null,null,null,null,null,false]
[null,null,null,null,null,null,null,null,null,null,null,null,null,null,null,null,null,null,null,null,null,null,null,null,null,null,null,null,null,null,false]
[null,null,null,null,null,null,null,null,null,null,null,null,null,null,null,null,null,null,null,null,null,null,null,null,null,null,null,null,null,null,false]
[null,null,null,null,null,null,null,null,null,null,null,null,null,null,null,null,null,null,null,null,null,null,null,null,null,null,null,null,null,null,false]
[null,null,null,null,null,null,null,null,null,null,null,null,null,null,null,null,null,null,null,null,null,null,null,null,null,null,null,null,null,null,false]
[null,null,null,null,null,null,null,null,null,null,null,null,null,null,null,null,null,null,null,null,null,null,null,null,null,null,null,null,null,null,false]
[null,null,null,null,null,null,null,null,null,null,null,null,null,null,null,null,null,null,null,null,null,null,null,null,null,null,null,null,null,null,false]
[null,null,null,null,null,null,null,null,null,null,null,null,null,null,null,null,null,null,null,null,null,null,null,null,null,null,null,null,null,null,false]
[null,null,null,null,null,null,null,null,null,null,null,null,null,null,null,null,null,null,null,null,null,null,null,null,null,null,null,null,null,null,false]
[null,null,null,null,null,null,null,null,null,null,null,null,null,null,null,null,null,null,null,null,null,null,null,null,null,null,null,null,null,null,false]
[null,null,null,null,null,null,null,null,null,null,null,null,null,null,null,null,null,null,null,null,null,null,null,null,null,null,null,null,null,null,false]
[null,null,null,null,null,null,null,null,null,null,null,null,null,null,null,null,null,null,null,null,null,null,null,null,null,null,null,null,null,null,false]
[null,null,null,null,null,null,null,null,null,null,null,null,null,null,null,null,null,null,null,null,null,null,null,null,null,null,null,null,null,null,false]
[null,null,null,null,null,null,null,null,null,null,null,null,null,null,null,null,null,null,null,null,null,null,null,null,null,null,null,null,null,null,false]
[null,null,null,null,null,null,null,null,null,null,null,null,null,null,null,null,null,null,null,null,null,null,null,null,null,null,null,null,null,null,false]
[null,null,null,null,null,null,null,null,null,null,null,null,null,null,null,null,null,null,null,null,null,null,null,null,null,null,null,null,null,null,false]
[null,null,null,null,null,null,null,null,null,null,null,null,null,null,null,null,null,null,null,null,null,null,null,null,null,null,null,null,null,null,false]
[null,null,null,null,null,null,null,null,null,null,null,null,null,null,null,null,null,null,null,null,null,null,null,null,null,null,null,null,null,null,false]
[null,null,null,null,null,null,null,null,null,null,null,null,null,null,null,null,null,null,null,null,null,null,null,null,null,null,null,null,null,null,false]
[null,null,null,null,null,null,null,null,null,null,null,null,null,null,null,null,null,null,null,null,null,null,null,null,null,null,null,null,null,null,false]
[null,null,null,null,null,null,null,null,null,null,null,null,null,null,null,null,null,null,null,null,null,null,null,null,null,null,null,null,null,null,false]
[null,null,null,null,null,null,null,null,null,null,null,null,null,null,null,null,null,null,null,null,null,null,null,null,null,null,null,null,null,null,false]
[null,null,null,null,null,null,null,null,null,null,null,null,null,null,null,null,null,null,null,null,null,null,null,null,null,null,null,null,null,null,false]
[null,null,null,null,null,null,null,null,null,null,null,null,null,null,null,null,null,null,null,null,null,null,null,null,null,null,null,null,null,null,false]
[null,null,null,null,null,null,null,null,null,null,null,null,null,null,null,null,null,null,null,null,null,null,null,null,null,null,null,null,null,null,false]
[null,null,null,null,null,null,null,null,null,null,null,null,null,null,null,null,null,null,null,null,null,null,null,null,null,null,null,null,null,null,false]
[null,null,null,null,null,null,null,null,null,null,null,null,null,null,null,null,null,null,null,null,null,null,null,null,null,null,null,null,null,null,false]
[null,null,null,null,null,null,null,null,null,null,null,null,null,null,null,null,null,null,null,null,null,null,null,null,null,null,null,null,null,null,false]
[null,null,null,null,null,null,null,null,null,null,null,null,null,null,null,null,null,null,null,null,null,null,null,null,null,null,null,null,null,null,false]
[null,null,null,null,null,null,null,null,null,null,null,null,null,null,null,null,null,null,null,null,null,null,null,null,null,null,null,null,null,null,false]
[null,null,null,null,null,null,null,null,null,null,null,null,null,null,null,null,null,null,null,null,null,null,null,null,null,null,null,null,null,null,false]
[null,null,null,null,null,null,null,null,null,null,null,null,null,null,null,null,null,null,null,null,null,null,null,null,null,null,null,null,null,null,false]
[null,null,null,null,null,null,null,null,null,null,null,null,null,null,null,null,null,null,null,null,null,null,null,null,null,null,null,null,null,null,false]
[null,null,null,null,null,null,null,null,null,null,null,null,null,null,null,null,null,null,null,null,null,null,null,null,null,null,null,null,null,null,false]
[null,null,null,null,null,null,null,null,null,null,null,null,null,null,null,null,null,null,null,null,null,null,null,null,null,null,null,null,null,null,false]
[null,null,null,null,null,null,null,null,null,null,null,null,null,null,null,null,null,null,null,null,null,null,null,null,null,null,null,null,null,null,false]
[null,null,null,null,null,null,null,null,null,null,null,null,null,null,null,null,null,null,null,null,null,null,null,null,null,null,null,null,null,null,false]
[null,null,null,null,null,null,null,null,null,null,null,null,null,null,null,null,null,null,null,null,null,null,null,null,null,null,null,null,null,null,false]
[null,null,null,null,null,null,null,null,null,null,null,null,null,null,null,null,null,null,null,null,null,null,null,null,null,null,null,null,null,null,false]
[null,null,null,null,null,null,null,null,null,null,null,null,null,null,null,null,null,null,null,null,null,null,null,null,null,null,null,null,null,null,false]
[null,null,null,null,null,null,null,null,null,null,null,null,null,null,null,null,null,null,null,null,null,null,null,null,null,null,null,null,null,null,false]
[null,null,null,null,null,null,null,null,null,null,null,null,null,null,null,null,null,null,null,null,null,null,null,null,null,null,null,null,null,null,{"$f":"IF(COUNTBLANK(E11391)=0,B11383)","v":false}]
[null,null,null,null,null,null,null,null,null,null,null,null,null,null,null,null,null,null,null,null,null,null,null,null,null,null,null,null,null,null,false]
[null,null,null,null,null,null,null,null,null,null,null,null,null,null,null,null,null,null,null,null,null,null,null,null,null,null,null,null,null,null,false]
[null,null,null,null,null,null,null,null,null,null,null,null,null,null,null,null,null,null,null,null,null,null,null,null,null,null,null,null,null,null,false]
[null,null,null,null,null,null,null,null,null,null,null,null,null,null,null,null,null,null,null,null,null,null,null,null,null,null,null,null,null,null,false]
[null,null,null,null,null,null,null,null,null,null,null,null,null,null,null,null,null,null,null,null,null,null,null,null,null,null,null,null,null,null,false]
[null,null,null,null,null,null,null,null,null,null,null,null,null,null,null,null,null,null,null,null,null,null,null,null,null,null,null,null,null,null,false]
[null,null,null,null,null,null,null,null,null,null,null,null,null,null,null,null,null,null,null,null,null,null,null,null,null,null,null,null,null,null,false]
[null,null,null,null,null,null,null,null,null,null,null,null,null,null,null,null,null,null,null,null,null,null,null,null,null,null,null,null,null,null,false]
[null,null,null,null,null,null,null,null,null,null,null,null,null,null,null,null,null,null,null,null,null,null,null,null,null,null,null,null,null,null,false]
[null,null,null,null,null,null,null,null,null,null,null,null,null,null,null,null,null,null,null,null,null,null,null,null,null,null,null,null,null,null,false]
[null,null,null,null,null,null,null,null,null,null,null,null,null,null,null,null,null,null,null,null,null,null,null,null,null,null,null,null,null,null,false]
[null,null,null,null,null,null,null,null,null,null,null,null,null,null,null,null,null,null,null,null,null,null,null,null,null,null,null,null,null,null,false]
[null,null,null,null,null,null,null,null,null,null,null,null,null,null,null,null,null,null,null,null,null,null,null,null,null,null,null,null,null,null,false]
[null,null,null,null,null,null,null,null,null,null,null,null,null,null,null,null,null,null,null,null,null,null,null,null,null,null,null,null,null,null,false]
[null,null,null,null,null,null,null,null,null,null,null,null,null,null,null,null,null,null,null,null,null,null,null,null,null,null,null,null,null,null,false]
[null,null,null,null,null,null,null,null,null,null,null,null,null,null,null,null,null,null,null,null,null,null,null,null,null,null,null,null,null,null,false]
[null,null,null,null,null,null,null,null,null,null,null,null,null,null,null,null,null,null,null,null,null,null,null,null,null,null,null,null,null,null,false]
[null,null,null,null,null,null,null,null,null,null,null,null,null,null,null,null,null,null,null,null,null,null,null,null,null,null,null,null,null,null,false]
[null,null,null,null,null,null,null,null,null,null,null,null,null,null,null,null,null,null,null,null,null,null,null,null,null,null,null,null,null,null,false]
[null,null,null,null,null,null,null,null,null,null,null,null,null,null,null,null,null,null,null,null,null,null,null,null,null,null,null,null,null,null,false]
[null,null,null,null,null,null,null,null,null,null,null,null,null,null,null,null,null,null,null,null,null,null,null,null,null,null,null,null,null,null,false]
[null,null,null,null,null,null,null,null,null,null,null,null,null,null,null,null,null,null,null,null,null,null,null,null,null,null,null,null,null,null,false]
[null,null,null,null,null,null,null,null,null,null,null,null,null,null,null,null,null,null,null,null,null,null,null,null,null,null,null,null,null,null,false]
[null,null,null,null,null,null,null,null,null,null,null,null,null,null,null,null,null,null,null,null,null,null,null,null,null,null,null,null,null,null,false]
[null,null,null,null,null,null,null,null,null,null,null,null,null,null,null,null,null,null,null,null,null,null,null,null,null,null,null,null,null,null,false]
[null,null,null,null,null,null,null,null,null,null,null,null,null,null,null,null,null,null,null,null,null,null,null,null,null,null,null,null,null,null,false]
[null,null,null,null,null,null,null,null,null,null,null,null,null,null,null,null,null,null,null,null,null,null,null,null,null,null,null,null,null,null,false]
[null,null,null,null,null,null,null,null,null,null,null,null,null,null,null,null,null,null,null,null,null,null,null,null,null,null,null,null,null,null,false]
[null,null,null,null,null,null,null,null,null,null,null,null,null,null,null,null,null,null,null,null,null,null,null,null,null,null,null,null,null,null,false]
[null,null,null,null,null,null,null,null,null,null,null,null,null,null,null,null,null,null,null,null,null,null,null,null,null,null,null,null,null,null,false]
[null,null,null,null,null,null,null,null,null,null,null,null,null,null,null,null,null,null,null,null,null,null,null,null,null,null,null,null,null,null,false]
[null,null,null,null,null,null,null,null,null,null,null,null,null,null,null,null,null,null,null,null,null,null,null,null,null,null,null,null,null,null,false]
[null,null,null,null,null,null,null,null,null,null,null,null,null,null,null,null,null,null,null,null,null,null,null,null,null,null,null,null,null,null,false]
[null,null,null,null,null,null,null,null,null,null,null,null,null,null,null,null,null,null,null,null,null,null,null,null,null,null,null,null,null,null,false]
[null,null,null,null,null,null,null,null,null,null,null,null,null,null,null,null,null,null,null,null,null,null,null,null,null,null,null,null,null,null,false]
[null,null,null,null,null,null,null,null,null,null,null,null,null,null,null,null,null,null,null,null,null,null,null,null,null,null,null,null,null,null,false]
[null,null,null,null,null,null,null,null,null,null,null,null,null,null,null,null,null,null,null,null,null,null,null,null,null,null,null,null,null,null,false]
[null,null,null,null,null,null,null,null,null,null,null,null,null,null,null,null,null,null,null,null,null,null,null,null,null,null,null,null,null,null,false]
[null,null,null,null,null,null,null,null,null,null,null,null,null,null,null,null,null,null,null,null,null,null,null,null,null,null,null,null,null,null,false]
[null,null,null,null,null,null,null,null,null,null,null,null,null,null,null,null,null,null,null,null,null,null,null,null,null,null,null,null,null,null,false]
[null,null,null,null,null,null,null,null,null,null,null,null,null,null,null,null,null,null,null,null,null,null,null,null,null,null,null,null,null,null,false]
[null,null,null,null,null,null,null,null,null,null,null,null,null,null,null,null,null,null,null,null,null,null,null,null,null,null,null,null,null,null,false]
[null,null,null,null,null,null,null,null,null,null,null,null,null,null,null,null,null,null,null,null,null,null,null,null,null,null,null,null,null,null,false]
[null,null,null,null,null,null,null,null,null,null,null,null,null,null,null,null,null,null,null,null,null,null,null,null,null,null,null,null,null,null,false]
[null,null,null,null,null,null,null,null,null,null,null,null,null,null,null,null,null,null,null,null,null,null,null,null,null,null,null,null,null,null,false]
[null,null,null,null,null,null,null,null,null,null,null,null,null,null,null,null,null,null,null,null,null,null,null,null,null,null,null,null,null,null,false]
[null,null,null,null,null,null,null,null,null,null,null,null,null,null,null,null,null,null,null,null,null,null,null,null,null,null,null,null,null,null,false]
[null,null,null,null,null,null,null,null,null,null,null,null,null,null,null,null,null,null,null,null,null,null,null,null,null,null,null,null,null,null,false]
[null,null,null,null,null,null,null,null,null,null,null,null,null,null,null,null,null,null,null,null,null,null,null,null,null,null,null,null,null,null,false]
[null,null,null,null,null,null,null,null,null,null,null,null,null,null,null,null,null,null,null,null,null,null,null,null,null,null,null,null,null,null,false]
[null,null,null,null,null,null,null,null,null,null,null,null,null,null,null,null,null,null,null,null,null,null,null,null,null,null,null,null,null,null,false]
[null,null,null,null,null,null,null,null,null,null,null,null,null,null,null,null,null,null,null,null,null,null,null,null,null,null,null,null,null,null,false]
[null,null,null,null,null,null,null,null,null,null,null,null,null,null,null,null,null,null,null,null,null,null,null,null,null,null,null,null,null,null,false]
[null,null,null,null,null,null,null,null,null,null,null,null,null,null,null,null,null,null,null,null,null,null,null,null,null,null,null,null,null,null,false]
[null,null,null,null,null,null,null,null,null,null,null,null,null,null,null,null,null,null,null,null,null,null,null,null,null,null,null,null,null,null,false]
[null,null,null,null,null,null,null,null,null,null,null,null,null,null,null,null,null,null,null,null,null,null,null,null,null,null,null,null,null,null,false]
[null,null,null,null,null,null,null,null,null,null,null,null,null,null,null,null,null,null,null,null,null,null,null,null,null,null,null,null,null,null,false]
[null,null,null,null,null,null,null,null,null,null,null,null,null,null,null,null,null,null,null,null,null,null,null,null,null,null,null,null,null,null,false]
[null,null,null,null,null,null,null,null,null,null,null,null,null,null,null,null,null,null,null,null,null,null,null,null,null,null,null,null,null,null,false]
[null,null,null,null,null,null,null,null,null,null,null,null,null,null,null,null,null,null,null,null,null,null,null,null,null,null,null,null,null,null,false]
[null,null,null,null,null,null,null,null,null,null,null,null,null,null,null,null,null,null,null,null,null,null,null,null,null,null,null,null,null,null,false]
[null,null,null,null,null,null,null,null,null,null,null,null,null,null,null,null,null,null,null,null,null,null,null,null,null,null,null,null,null,null,false]
[null,null,null,null,null,null,null,null,null,null,null,null,null,null,null,null,null,null,null,null,null,null,null,null,null,null,null,null,null,null,false]
[null,null,null,null,null,null,null,null,null,null,null,null,null,null,null,null,null,null,null,null,null,null,null,null,null,null,null,null,null,null,{"$f":"IF(COUNTBLANK(E11455)=0,B11447)","v":false}]
[null,null,null,null,null,null,null,null,null,null,null,null,null,null,null,null,null,null,null,null,null,null,null,null,null,null,null,null,null,null,false]
[null,null,null,null,null,null,null,null,null,null,null,null,null,null,null,null,null,null,null,null,null,null,null,null,null,null,null,null,null,null,false]
[null,null,null,null,null,null,null,null,null,null,null,null,null,null,null,null,null,null,null,null,null,null,null,null,null,null,null,null,null,null,false]
[null,null,null,null,null,null,null,null,null,null,null,null,null,null,null,null,null,null,null,null,null,null,null,null,null,null,null,null,null,null,false]
[null,null,null,null,null,null,null,null,null,null,null,null,null,null,null,null,null,null,null,null,null,null,null,null,null,null,null,null,null,null,false]
[null,null,null,null,null,null,null,null,null,null,null,null,null,null,null,null,null,null,null,null,null,null,null,null,null,null,null,null,null,null,false]
[null,null,null,null,null,null,null,null,null,null,null,null,null,null,null,null,null,null,null,null,null,null,null,null,null,null,null,null,null,null,false]
[null,null,null,null,null,null,null,null,null,null,null,null,null,null,null,null,null,null,null,null,null,null,null,null,null,null,null,null,null,null,false]
[null,null,null,null,null,null,null,null,null,null,null,null,null,null,null,null,null,null,null,null,null,null,null,null,null,null,null,null,null,null,false]
[null,null,null,null,null,null,null,null,null,null,null,null,null,null,null,null,null,null,null,null,null,null,null,null,null,null,null,null,null,null,false]
[null,null,null,null,null,null,null,null,null,null,null,null,null,null,null,null,null,null,null,null,null,null,null,null,null,null,null,null,null,null,false]
[null,null,null,null,null,null,null,null,null,null,null,null,null,null,null,null,null,null,null,null,null,null,null,null,null,null,null,null,null,null,false]
[null,null,null,null,null,null,null,null,null,null,null,null,null,null,null,null,null,null,null,null,null,null,null,null,null,null,null,null,null,null,false]
[null,null,null,null,null,null,null,null,null,null,null,null,null,null,null,null,null,null,null,null,null,null,null,null,null,null,null,null,null,null,false]
[null,null,null,null,null,null,null,null,null,null,null,null,null,null,null,null,null,null,null,null,null,null,null,null,null,null,null,null,null,null,false]
[null,null,null,null,null,null,null,null,null,null,null,null,null,null,null,null,null,null,null,null,null,null,null,null,null,null,null,null,null,null,false]
[null,null,null,null,null,null,null,null,null,null,null,null,null,null,null,null,null,null,null,null,null,null,null,null,null,null,null,null,null,null,false]
[null,null,null,null,null,null,null,null,null,null,null,null,null,null,null,null,null,null,null,null,null,null,null,null,null,null,null,null,null,null,false]
[null,null,null,null,null,null,null,null,null,null,null,null,null,null,null,null,null,null,null,null,null,null,null,null,null,null,null,null,null,null,false]
[null,null,null,null,null,null,null,null,null,null,null,null,null,null,null,null,null,null,null,null,null,null,null,null,null,null,null,null,null,null,false]
[null,null,null,null,null,null,null,null,null,null,null,null,null,null,null,null,null,null,null,null,null,null,null,null,null,null,null,null,null,null,false]
[null,null,null,null,null,null,null,null,null,null,null,null,null,null,null,null,null,null,null,null,null,null,null,null,null,null,null,null,null,null,false]
[null,null,null,null,null,null,null,null,null,null,null,null,null,null,null,null,null,null,null,null,null,null,null,null,null,null,null,null,null,null,false]
[null,null,null,null,null,null,null,null,null,null,null,null,null,null,null,null,null,null,null,null,null,null,null,null,null,null,null,null,null,null,false]
[null,null,null,null,null,null,null,null,null,null,null,null,null,null,null,null,null,null,null,null,null,null,null,null,null,null,null,null,null,null,false]
[null,null,null,null,null,null,null,null,null,null,null,null,null,null,null,null,null,null,null,null,null,null,null,null,null,null,null,null,null,null,false]
[null,null,null,null,null,null,null,null,null,null,null,null,null,null,null,null,null,null,null,null,null,null,null,null,null,null,null,null,null,null,false]
[null,null,null,null,null,null,null,null,null,null,null,null,null,null,null,null,null,null,null,null,null,null,null,null,null,null,null,null,null,null,false]
[null,null,null,null,null,null,null,null,null,null,null,null,null,null,null,null,null,null,null,null,null,null,null,null,null,null,null,null,null,null,false]
[null,null,null,null,null,null,null,null,null,null,null,null,null,null,null,null,null,null,null,null,null,null,null,null,null,null,null,null,null,null,false]
[null,null,null,null,null,null,null,null,null,null,null,null,null,null,null,null,null,null,null,null,null,null,null,null,null,null,null,null,null,null,false]
[null,null,null,null,null,null,null,null,null,null,null,null,null,null,null,null,null,null,null,null,null,null,null,null,null,null,null,null,null,null,false]
[null,null,null,null,null,null,null,null,null,null,null,null,null,null,null,null,null,null,null,null,null,null,null,null,null,null,null,null,null,null,false]
[null,null,null,null,null,null,null,null,null,null,null,null,null,null,null,null,null,null,null,null,null,null,null,null,null,null,null,null,null,null,false]
[null,null,null,null,null,null,null,null,null,null,null,null,null,null,null,null,null,null,null,null,null,null,null,null,null,null,null,null,null,null,false]
[null,null,null,null,null,null,null,null,null,null,null,null,null,null,null,null,null,null,null,null,null,null,null,null,null,null,null,null,null,null,false]
[null,null,null,null,null,null,null,null,null,null,null,null,null,null,null,null,null,null,null,null,null,null,null,null,null,null,null,null,null,null,false]
[null,null,null,null,null,null,null,null,null,null,null,null,null,null,null,null,null,null,null,null,null,null,null,null,null,null,null,null,null,null,false]
[null,null,null,null,null,null,null,null,null,null,null,null,null,null,null,null,null,null,null,null,null,null,null,null,null,null,null,null,null,null,false]
[null,null,null,null,null,null,null,null,null,null,null,null,null,null,null,null,null,null,null,null,null,null,null,null,null,null,null,null,null,null,false]
[null,null,null,null,null,null,null,null,null,null,null,null,null,null,null,null,null,null,null,null,null,null,null,null,null,null,null,null,null,null,false]
[null,null,null,null,null,null,null,null,null,null,null,null,null,null,null,null,null,null,null,null,null,null,null,null,null,null,null,null,null,null,false]
[null,null,null,null,null,null,null,null,null,null,null,null,null,null,null,null,null,null,null,null,null,null,null,null,null,null,null,null,null,null,false]
[null,null,null,null,null,null,null,null,null,null,null,null,null,null,null,null,null,null,null,null,null,null,null,null,null,null,null,null,null,null,false]
[null,null,null,null,null,null,null,null,null,null,null,null,null,null,null,null,null,null,null,null,null,null,null,null,null,null,null,null,null,null,false]
[null,null,null,null,null,null,null,null,null,null,null,null,null,null,null,null,null,null,null,null,null,null,null,null,null,null,null,null,null,null,false]
[null,null,null,null,null,null,null,null,null,null,null,null,null,null,null,null,null,null,null,null,null,null,null,null,null,null,null,null,null,null,false]
[null,null,null,null,null,null,null,null,null,null,null,null,null,null,null,null,null,null,null,null,null,null,null,null,null,null,null,null,null,null,false]
[null,null,null,null,null,null,null,null,null,null,null,null,null,null,null,null,null,null,null,null,null,null,null,null,null,null,null,null,null,null,false]
[null,null,null,null,null,null,null,null,null,null,null,null,null,null,null,null,null,null,null,null,null,null,null,null,null,null,null,null,null,null,false]
[null,null,null,null,null,null,null,null,null,null,null,null,null,null,null,null,null,null,null,null,null,null,null,null,null,null,null,null,null,null,false]
[null,null,null,null,null,null,null,null,null,null,null,null,null,null,null,null,null,null,null,null,null,null,null,null,null,null,null,null,null,null,false]
[null,null,null,null,null,null,null,null,null,null,null,null,null,null,null,null,null,null,null,null,null,null,null,null,null,null,null,null,null,null,false]
[null,null,null,null,null,null,null,null,null,null,null,null,null,null,null,null,null,null,null,null,null,null,null,null,null,null,null,null,null,null,false]
[null,null,null,null,null,null,null,null,null,null,null,null,null,null,null,null,null,null,null,null,null,null,null,null,null,null,null,null,null,null,false]
[null,null,null,null,null,null,null,null,null,null,null,null,null,null,null,null,null,null,null,null,null,null,null,null,null,null,null,null,null,null,false]
[null,null,null,null,null,null,null,null,null,null,null,null,null,null,null,null,null,null,null,null,null,null,null,null,null,null,null,null,null,null,false]
[null,null,null,null,null,null,null,null,null,null,null,null,null,null,null,null,null,null,null,null,null,null,null,null,null,null,null,null,null,null,false]
[null,null,null,null,null,null,null,null,null,null,null,null,null,null,null,null,null,null,null,null,null,null,null,null,null,null,null,null,null,null,false]
[null,null,null,null,null,null,null,null,null,null,null,null,null,null,null,null,null,null,null,null,null,null,null,null,null,null,null,null,null,null,false]
[null,null,null,null,null,null,null,null,null,null,null,null,null,null,null,null,null,null,null,null,null,null,null,null,null,null,null,null,null,null,false]
[null,null,null,null,null,null,null,null,null,null,null,null,null,null,null,null,null,null,null,null,null,null,null,null,null,null,null,null,null,null,false]
[null,null,null,null,null,null,null,null,null,null,null,null,null,null,null,null,null,null,null,null,null,null,null,null,null,null,null,null,null,null,false]
[null,null,null,null,null,null,null,null,null,null,null,null,null,null,null,null,null,null,null,null,null,null,null,null,null,null,null,null,null,null,{"$f":"IF(COUNTBLANK(E11519)=0,B11511)","v":false}]
[null,null,null,null,null,null,null,null,null,null,null,null,null,null,null,null,null,null,null,null,null,null,null,null,null,null,null,null,null,null,false]
[null,null,null,null,null,null,null,null,null,null,null,null,null,null,null,null,null,null,null,null,null,null,null,null,null,null,null,null,null,null,false]

{"sheet":"Samples 384","index":4,"n_rows":11521,"n_cols":31,"rows_kept":2250,"cut":true,"hidden":true,"merged":[],"bounds":{"rows_first":1000,"rows_last":250,"rows_between":1000,"halvings":1}}
["Plate","PlatePos","Individual","Sample","Conc ng/μl","Vol μl","Comment",null,null,null,null,null,null,null,null,null,null,null,null,null,null,null,null,null,null,null,null,null,{"$f":"MATCH(AE1,AD:AD,0)","v":{"$error":"#N/A"}},{"$f":"MAX(AD2:AD5761)","v":0},1]
[1,"A1",null,null,null,null,null,null,null,null,null,null,null,null,null,null,null,null,null,null,null,null,null,null,null,null,null,null,{"$f":"MATCH(AE2,AD:AD,0)","v":{"$error":"#N/A"}},{"$f":"IF(COUNTBLANK(D2)=0,A2)","v":false},2]
[1,"B1",null,null,null,null,null,null,null,null,null,null,null,null,null,null,null,null,null,null,null,null,null,null,null,null,null,null,{"$f":"MATCH(AE3,AD:AD,0)","v":{"$error":"#N/A"}},{"$f":"IF(COUNTBLANK(D3)=0,A3)","v":false},3]
[1,"C1",null,null,null,null,null,null,null,null,null,null,null,null,null,null,null,null,null,null,null,null,null,null,null,null,null,null,{"$error":"#N/A"},{"$f":"IF(COUNTBLANK(D4)=0,A4)","v":false},4]
[1,"D1",null,null,null,null,null,null,null,null,null,null,null,null,null,null,null,null,null,null,null,null,null,null,null,null,null,null,{"$error":"#N/A"},false,5]
[1,"E1",null,null,null,null,null,null,null,null,null,null,null,null,null,null,null,null,null,null,null,null,null,null,null,null,null,null,{"$error":"#N/A"},false,6]
[1,"F1",null,null,null,null,null,null,null,null,null,null,null,null,null,null,null,null,null,null,null,null,null,null,null,null,null,null,{"$error":"#N/A"},false,7]
[1,"G1",null,null,null,null,null,null,null,null,null,null,null,null,null,null,null,null,null,null,null,null,null,null,null,null,null,null,{"$error":"#N/A"},false,8]
[1,"H1",null,null,null,null,null,null,null,null,null,null,null,null,null,null,null,null,null,null,null,null,null,null,null,null,null,null,{"$error":"#N/A"},false,9]
[1,"I1",null,null,null,null,null,null,null,null,null,null,null,null,null,null,null,null,null,null,null,null,null,null,null,null,null,null,{"$error":"#N/A"},false,10]
[1,"J1",null,null,null,null,null,null,null,null,null,null,null,null,null,null,null,null,null,null,null,null,null,null,null,null,null,null,{"$error":"#N/A"},false,11]
[1,"K1",null,null,null,null,null,null,null,null,null,null,null,null,null,null,null,null,null,null,null,null,null,null,null,null,null,null,{"$error":"#N/A"},false,12]
[1,"L1",null,null,null,null,null,null,null,null,null,null,null,null,null,null,null,null,null,null,null,null,null,null,null,null,null,null,{"$error":"#N/A"},false,13]
[1,"M1",null,null,null,null,null,null,null,null,null,null,null,null,null,null,null,null,null,null,null,null,null,null,null,null,null,null,{"$error":"#N/A"},false,14]
[1,"N1",null,null,null,null,null,null,null,null,null,null,null,null,null,null,null,null,null,null,null,null,null,null,null,null,null,null,{"$error":"#N/A"},false,15]
[1,"O1",null,null,null,null,null,null,null,null,null,null,null,null,null,null,null,null,null,null,null,null,null,null,null,null,null,null,{"$error":"#N/A"},false,16]
[1,"P1",null,null,null,null,null,null,null,null,null,null,null,null,null,null,null,null,null,null,null,null,null,null,null,null,null,null,{"$error":"#N/A"},false,17]
[1,"A2",null,null,null,null,null,null,null,null,null,null,null,null,null,null,null,null,null,null,null,null,null,null,null,null,null,null,{"$error":"#N/A"},false,18]
[1,"B2",null,null,null,null,null,null,null,null,null,null,null,null,null,null,null,null,null,null,null,null,null,null,null,null,null,null,{"$error":"#N/A"},false,19]
[1,"C2",null,null,null,null,null,null,null,null,null,null,null,null,null,null,null,null,null,null,null,null,null,null,null,null,null,null,{"$error":"#N/A"},false,20]
[1,"D2",null,null,null,null,null,null,null,null,null,null,null,null,null,null,null,null,null,null,null,null,null,null,null,null,null,null,{"$error":"#N/A"},false,21]
[1,"E2",null,null,null,null,null,null,null,null,null,null,null,null,null,null,null,null,null,null,null,null,null,null,null,null,null,null,{"$error":"#N/A"},false,22]
[1,"F2",null,null,null,null,null,null,null,null,null,null,null,null,null,null,null,null,null,null,null,null,null,null,null,null,null,null,{"$error":"#N/A"},false,23]
[1,"G2",null,null,null,null,null,null,null,null,null,null,null,null,null,null,null,null,null,null,null,null,null,null,null,null,null,null,{"$error":"#N/A"},false,24]
[1,"H2",null,null,null,null,null,null,null,null,null,null,null,null,null,null,null,null,null,null,null,null,null,null,null,null,null,null,{"$error":"#N/A"},false,25]
[1,"I2",null,null,null,null,null,null,null,null,null,null,null,null,null,null,null,null,null,null,null,null,null,null,null,null,null,null,{"$error":"#N/A"},false,26]
[1,"J2",null,null,null,null,null,null,null,null,null,null,null,null,null,null,null,null,null,null,null,null,null,null,null,null,null,null,{"$error":"#N/A"},false,27]
[1,"K2",null,null,null,null,null,null,null,null,null,null,null,null,null,null,null,null,null,null,null,null,null,null,null,null,null,null,{"$error":"#N/A"},false,28]
[1,"L2",null,null,null,null,null,null,null,null,null,null,null,null,null,null,null,null,null,null,null,null,null,null,null,null,null,null,{"$error":"#N/A"},false,29]
[1,"M2",null,null,null,null,null,null,null,null,null,null,null,null,null,null,null,null,null,null,null,null,null,null,null,null,null,null,{"$error":"#N/A"},false,30]
[1,"N2",null,null,null,null,null,null,null,null,null,null,null,null,null,null,null,null,null,null,null,null,null,null,null,null,null,null,{"$f":"30-COUNTIF(AC1:AC30,\"#N/A\")","v":0},false]
[1,"O2",null,null,null,null,null,null,null,null,null,null,null,null,null,null,null,null,null,null,null,null,null,null,null,null,null,null,null,false]
[1,"P2",null,null,null,null,null,null,null,null,null,null,null,null,null,null,null,null,null,null,null,null,null,null,null,null,null,null,null,false]
[1,"A3",null,null,null,null,null,null,null,null,null,null,null,null,null,null,null,null,null,null,null,null,null,null,null,null,null,null,null,false]
[1,"B3",null,null,null,null,null,null,null,null,null,null,null,null,null,null,null,null,null,null,null,null,null,null,null,null,null,null,null,false]
[1,"C3",null,null,null,null,null,null,null,null,null,null,null,null,null,null,null,null,null,null,null,null,null,null,null,null,null,null,null,{"$f":"IF(COUNTBLANK(D36)=0,A36)","v":false}]
[1,"D3",null,null,null,null,null,null,null,null,null,null,null,null,null,null,null,null,null,null,null,null,null,null,null,null,null,null,null,false]
[1,"E3",null,null,null,null,null,null,null,null,null,null,null,null,null,null,null,null,null,null,null,null,null,null,null,null,null,null,null,false]
[1,"F3",null,null,null,null,null,null,null,null,null,null,null,null,null,null,null,null,null,null,null,null,null,null,null,null,null,null,null,false]
[1,"G3",null,null,null,null,null,null,null,null,null,null,null,null,null,null,null,null,null,null,null,null,null,null,null,null,null,null,null,false]
[1,"H3",null,null,null,null,null,null,null,null,null,null,null,null,null,null,null,null,null,null,null,null,null,null,null,null,null,null,null,false]
[1,"I3",null,null,null,null,null,null,null,null,null,null,null,null,null,null,null,null,null,null,null,null,null,null,null,null,null,null,null,false]
[1,"J3",null,null,null,null,null,null,null,null,null,null,null,null,null,null,null,null,null,null,null,null,null,null,null,null,null,null,null,false]
[1,"K3",null,null,null,null,null,null,null,null,null,null,null,null,null,null,null,null,null,null,null,null,null,null,null,null,null,null,null,false]
[1,"L3",null,null,null,null,null,null,null,null,null,null,null,null,null,null,null,null,null,null,null,null,null,null,null,null,null,null,null,false]
[1,"M3",null,null,null,null,null,null,null,null,null,null,null,null,null,null,null,null,null,null,null,null,null,null,null,null,null,null,null,false]
[1,"N3",null,null,null,null,null,null,null,null,null,null,null,null,null,null,null,null,null,null,null,null,null,null,null,null,null,null,null,false]
[1,"O3",null,null,null,null,null,null,null,null,null,null,null,null,null,null,null,null,null,null,null,null,null,null,null,null,null,null,null,false]
[1,"P3",null,null,null,null,null,null,null,null,null,null,null,null,null,null,null,null,null,null,null,null,null,null,null,null,null,null,null,false]
[1,"A4",null,null,null,null,null,null,null,null,null,null,null,null,null,null,null,null,null,null,null,null,null,null,null,null,null,null,null,false]
[1,"B4",null,null,null,null,null,null,null,null,null,null,null,null,null,null,null,null,null,null,null,null,null,null,null,null,null,null,null,false]
[1,"C4",null,null,null,null,null,null,null,null,null,null,null,null,null,null,null,null,null,null,null,null,null,null,null,null,null,null,null,false]
[1,"D4",null,null,null,null,null,null,null,null,null,null,null,null,null,null,null,null,null,null,null,null,null,null,null,null,null,null,null,false]
[1,"E4",null,null,null,null,null,null,null,null,null,null,null,null,null,null,null,null,null,null,null,null,null,null,null,null,null,null,null,false]
[1,"F4",null,null,null,null,null,null,null,null,null,null,null,null,null,null,null,null,null,null,null,null,null,null,null,null,null,null,null,false]
[1,"G4",null,null,null,null,null,null,null,null,null,null,null,null,null,null,null,null,null,null,null,null,null,null,null,null,null,null,null,false]
[1,"H4",null,null,null,null,null,null,null,null,null,null,null,null,null,null,null,null,null,null,null,null,null,null,null,null,null,null,null,false]
[1,"I4",null,null,null,null,null,null,null,null,null,null,null,null,null,null,null,null,null,null,null,null,null,null,null,null,null,null,null,false]
[1,"J4",null,null,null,null,null,null,null,null,null,null,null,null,null,null,null,null,null,null,null,null,null,null,null,null,null,null,null,false]
[1,"K4",null,null,null,null,null,null,null,null,null,null,null,null,null,null,null,null,null,null,null,null,null,null,null,null,null,null,null,false]
[1,"L4",null,null,null,null,null,null,null,null,null,null,null,null,null,null,null,null,null,null,null,null,null,null,null,null,null,null,null,false]
[1,"M4",null,null,null,null,null,null,null,null,null,null,null,null,null,null,null,null,null,null,null,null,null,null,null,null,null,null,null,false]
[1,"N4",null,null,null,null,null,null,null,null,null,null,null,null,null,null,null,null,null,null,null,null,null,null,null,null,null,null,null,false]
[1,"O4",null,null,null,null,null,null,null,null,null,null,null,null,null,null,null,null,null,null,null,null,null,null,null,null,null,null,null,false]
[1,"P4",null,null,null,null,null,null,null,null,null,null,null,null,null,null,null,null,null,null,null,null,null,null,null,null,null,null,null,false]
[1,"A5",null,null,null,null,null,null,null,null,null,null,null,null,null,null,null,null,null,null,null,null,null,null,null,null,null,null,null,false]
[1,"B5",null,null,null,null,null,null,null,null,null,null,null,null,null,null,null,null,null,null,null,null,null,null,null,null,null,null,null,{"$f":"IF(COUNTBLANK(D67)=0,A67)","v":false}]
[1,"C5",null,null,null,null,null,null,null,null,null,null,null,null,null,null,null,null,null,null,null,null,null,null,null,null,null,null,null,{"$f":"IF(COUNTBLANK(D68)=0,A68)","v":false}]
[1,"D5",null,null,null,null,null,null,null,null,null,null,null,null,null,null,null,null,null,null,null,null,null,null,null,null,null,null,null,false]
[1,"E5",null,null,null,null,null,null,null,null,null,null,null,null,null,null,null,null,null,null,null,null,null,null,null,null,null,null,null,false]
[1,"F5",null,null,null,null,null,null,null,null,null,null,null,null,null,null,null,null,null,null,null,null,null,null,null,null,null,null,null,false]
[1,"G5",null,null,null,null,null,null,null,null,null,null,null,null,null,null,null,null,null,null,null,null,null,null,null,null,null,null,null,false]
[1,"H5",null,null,null,null,null,null,null,null,null,null,null,null,null,null,null,null,null,null,null,null,null,null,null,null,null,null,null,false]
[1,"I5",null,null,null,null,null,null,null,null,null,null,null,null,null,null,null,null,null,null,null,null,null,null,null,null,null,null,null,false]
[1,"J5",null,null,null,null,null,null,null,null,null,null,null,null,null,null,null,null,null,null,null,null,null,null,null,null,null,null,null,false]
[1,"K5",null,null,null,null,null,null,null,null,null,null,null,null,null,null,null,null,null,null,null,null,null,null,null,null,null,null,null,false]
[1,"L5",null,null,null,null,null,null,null,null,null,null,null,null,null,null,null,null,null,null,null,null,null,null,null,null,null,null,null,false]
[1,"M5",null,null,null,null,null,null,null,null,null,null,null,null,null,null,null,null,null,null,null,null,null,null,null,null,null,null,null,false]
[1,"N5",null,null,null,null,null,null,null,null,null,null,null,null,null,null,null,null,null,null,null,null,null,null,null,null,null,null,null,false]
[1,"O5",null,null,null,null,null,null,null,null,null,null,null,null,null,null,null,null,null,null,null,null,null,null,null,null,null,null,null,false]
[1,"P5",null,null,null,null,null,null,null,null,null,null,null,null,null,null,null,null,null,null,null,null,null,null,null,null,null,null,null,false]
[1,"A6",null,null,null,null,null,null,null,null,null,null,null,null,null,null,null,null,null,null,null,null,null,null,null,null,null,null,null,false]
[1,"B6",null,null,null,null,null,null,null,null,null,null,null,null,null,null,null,null,null,null,null,null,null,null,null,null,null,null,null,false]
[1,"C6",null,null,null,null,null,null,null,null,null,null,null,null,null,null,null,null,null,null,null,null,null,null,null,null,null,null,null,false]
[1,"D6",null,null,null,null,null,null,null,null,null,null,null,null,null,null,null,null,null,null,null,null,null,null,null,null,null,null,null,false]
[1,"E6",null,null,null,null,null,null,null,null,null,null,null,null,null,null,null,null,null,null,null,null,null,null,null,null,null,null,null,false]
[1,"F6",null,null,null,null,null,null,null,null,null,null,null,null,null,null,null,null,null,null,null,null,null,null,null,null,null,null,null,false]
[1,"G6",null,null,null,null,null,null,null,null,null,null,null,null,null,null,null,null,null,null,null,null,null,null,null,null,null,null,null,false]
[1,"H6",null,null,null,null,null,null,null,null,null,null,null,null,null,null,null,null,null,null,null,null,null,null,null,null,null,null,null,false]
[1,"I6",null,null,null,null,null,null,null,null,null,null,null,null,null,null,null,null,null,null,null,null,null,null,null,null,null,null,null,false]
[1,"J6",null,null,null,null,null,null,null,null,null,null,null,null,null,null,null,null,null,null,null,null,null,null,null,null,null,null,null,false]
[1,"K6",null,null,null,null,null,null,null,null,null,null,null,null,null,null,null,null,null,null,null,null,null,null,null,null,null,null,null,false]
[1,"L6",null,null,null,null,null,null,null,null,null,null,null,null,null,null,null,null,null,null,null,null,null,null,null,null,null,null,null,false]
[1,"M6",null,null,null,null,null,null,null,null,null,null,null,null,null,null,null,null,null,null,null,null,null,null,null,null,null,null,null,false]
[1,"N6",null,null,null,null,null,null,null,null,null,null,null,null,null,null,null,null,null,null,null,null,null,null,null,null,null,null,null,false]
[1,"O6",null,null,null,null,null,null,null,null,null,null,null,null,null,null,null,null,null,null,null,null,null,null,null,null,null,null,null,false]
[1,"P6",null,null,null,null,null,null,null,null,null,null,null,null,null,null,null,null,null,null,null,null,null,null,null,null,null,null,null,false]
[1,"A7",null,null,null,null,null,null,null,null,null,null,null,null,null,null,null,null,null,null,null,null,null,null,null,null,null,null,null,false]
[1,"B7",null,null,null,null,null,null,null,null,null,null,null,null,null,null,null,null,null,null,null,null,null,null,null,null,null,null,null,false]
[1,"C7",null,null,null,null,null,null,null,null,null,null,null,null,null,null,null,null,null,null,null,null,null,null,null,null,null,null,null,{"$f":"IF(COUNTBLANK(D100)=0,A100)","v":false}]
[1,"D7",null,null,null,null,null,null,null,null,null,null,null,null,null,null,null,null,null,null,null,null,null,null,null,null,null,null,null,false]
[1,"E7",null,null,null,null,null,null,null,null,null,null,null,null,null,null,null,null,null,null,null,null,null,null,null,null,null,null,null,false]
[1,"F7",null,null,null,null,null,null,null,null,null,null,null,null,null,null,null,null,null,null,null,null,null,null,null,null,null,null,null,false]
[1,"G7",null,null,null,null,null,null,null,null,null,null,null,null,null,null,null,null,null,null,null,null,null,null,null,null,null,null,null,false]
[1,"H7",null,null,null,null,null,null,null,null,null,null,null,null,null,null,null,null,null,null,null,null,null,null,null,null,null,null,null,false]
[1,"I7",null,null,null,null,null,null,null,null,null,null,null,null,null,null,null,null,null,null,null,null,null,null,null,null,null,null,null,false]
[1,"J7",null,null,null,null,null,null,null,null,null,null,null,null,null,null,null,null,null,null,null,null,null,null,null,null,null,null,null,false]
[1,"K7",null,null,null,null,null,null,null,null,null,null,null,null,null,null,null,null,null,null,null,null,null,null,null,null,null,null,null,false]
[1,"L7",null,null,null,null,null,null,null,null,null,null,null,null,null,null,null,null,null,null,null,null,null,null,null,null,null,null,null,false]
[1,"M7",null,null,null,null,null,null,null,null,null,null,null,null,null,null,null,null,null,null,null,null,null,null,null,null,null,null,null,false]
[1,"N7",null,null,null,null,null,null,null,null,null,null,null,null,null,null,null,null,null,null,null,null,null,null,null,null,null,null,null,false]
[1,"O7",null,null,null,null,null,null,null,null,null,null,null,null,null,null,null,null,null,null,null,null,null,null,null,null,null,null,null,false]
[1,"P7",null,null,null,null,null,null,null,null,null,null,null,null,null,null,null,null,null,null,null,null,null,null,null,null,null,null,null,false]
[1,"A8",null,null,null,null,null,null,null,null,null,null,null,null,null,null,null,null,null,null,null,null,null,null,null,null,null,null,null,false]
[1,"B8",null,null,null,null,null,null,null,null,null,null,null,null,null,null,null,null,null,null,null,null,null,null,null,null,null,null,null,false]
[1,"C8",null,null,null,null,null,null,null,null,null,null,null,null,null,null,null,null,null,null,null,null,null,null,null,null,null,null,null,false]
[1,"D8",null,null,null,null,null,null,null,null,null,null,null,null,null,null,null,null,null,null,null,null,null,null,null,null,null,null,null,false]
[1,"E8",null,null,null,null,null,null,null,null,null,null,null,null,null,null,null,null,null,null,null,null,null,null,null,null,null,null,null,false]
[1,"F8",null,null,null,null,null,null,null,null,null,null,null,null,null,null,null,null,null,null,null,null,null,null,null,null,null,null,null,false]
[1,"G8",null,null,null,null,null,null,null,null,null,null,null,null,null,null,null,null,null,null,null,null,null,null,null,null,null,null,null,false]
[1,"H8",null,null,null,null,null,null,null,null,null,null,null,null,null,null,null,null,null,null,null,null,null,null,null,null,null,null,null,false]
[1,"I8",null,null,null,null,null,null,null,null,null,null,null,null,null,null,null,null,null,null,null,null,null,null,null,null,null,null,null,false]
[1,"J8",null,null,null,null,null,null,null,null,null,null,null,null,null,null,null,null,null,null,null,null,null,null,null,null,null,null,null,false]
[1,"K8",null,null,null,null,null,null,null,null,null,null,null,null,null,null,null,null,null,null,null,null,null,null,null,null,null,null,null,false]
[1,"L8",null,null,null,null,null,null,null,null,null,null,null,null,null,null,null,null,null,null,null,null,null,null,null,null,null,null,null,false]
[1,"M8",null,null,null,null,null,null,null,null,null,null,null,null,null,null,null,null,null,null,null,null,null,null,null,null,null,null,null,false]
[1,"N8",null,null,null,null,null,null,null,null,null,null,null,null,null,null,null,null,null,null,null,null,null,null,null,null,null,null,null,false]
[1,"O8",null,null,null,null,null,null,null,null,null,null,null,null,null,null,null,null,null,null,null,null,null,null,null,null,null,null,null,false]
[1,"P8",null,null,null,null,null,null,null,null,null,null,null,null,null,null,null,null,null,null,null,null,null,null,null,null,null,null,null,false]
[1,"A9",null,null,null,null,null,null,null,null,null,null,null,null,null,null,null,null,null,null,null,null,null,null,null,null,null,null,null,false]
[1,"B9",null,null,null,null,null,null,null,null,null,null,null,null,null,null,null,null,null,null,null,null,null,null,null,null,null,null,null,{"$f":"IF(COUNTBLANK(D131)=0,A131)","v":false}]
[1,"C9",null,null,null,null,null,null,null,null,null,null,null,null,null,null,null,null,null,null,null,null,null,null,null,null,null,null,null,{"$f":"IF(COUNTBLANK(D132)=0,A132)","v":false}]
[1,"D9",null,null,null,null,null,null,null,null,null,null,null,null,null,null,null,null,null,null,null,null,null,null,null,null,null,null,null,false]
[1,"E9",null,null,null,null,null,null,null,null,null,null,null,null,null,null,null,null,null,null,null,null,null,null,null,null,null,null,null,false]
[1,"F9",null,null,null,null,null,null,null,null,null,null,null,null,null,null,null,null,null,null,null,null,null,null,null,null,null,null,null,false]
[1,"G9",null,null,null,null,null,null,null,null,null,null,null,null,null,null,null,null,null,null,null,null,null,null,null,null,null,null,null,false]
[1,"H9",null,null,null,null,null,null,null,null,null,null,null,null,null,null,null,null,null,null,null,null,null,null,null,null,null,null,null,false]
[1,"I9",null,null,null,null,null,null,null,null,null,null,null,null,null,null,null,null,null,null,null,null,null,null,null,null,null,null,null,false]
[1,"J9",null,null,null,null,null,null,null,null,null,null,null,null,null,null,null,null,null,null,null,null,null,null,null,null,null,null,null,false]
[1,"K9",null,null,null,null,null,null,null,null,null,null,null,null,null,null,null,null,null,null,null,null,null,null,null,null,null,null,null,false]
[1,"L9",null,null,null,null,null,null,null,null,null,null,null,null,null,null,null,null,null,null,null,null,null,null,null,null,null,null,null,false]
[1,"M9",null,null,null,null,null,null,null,null,null,null,null,null,null,null,null,null,null,null,null,null,null,null,null,null,null,null,null,false]
[1,"N9",null,null,null,null,null,null,null,null,null,null,null,null,null,null,null,null,null,null,null,null,null,null,null,null,null,null,null,false]
[1,"O9",null,null,null,null,null,null,null,null,null,null,null,null,null,null,null,null,null,null,null,null,null,null,null,null,null,null,null,false]
[1,"P9",null,null,null,null,null,null,null,null,null,null,null,null,null,null,null,null,null,null,null,null,null,null,null,null,null,null,null,false]
[1,"A10",null,null,null,null,null,null,null,null,null,null,null,null,null,null,null,null,null,null,null,null,null,null,null,null,null,null,null,false]
[1,"B10",null,null,null,null,null,null,null,null,null,null,null,null,null,null,null,null,null,null,null,null,null,null,null,null,null,null,null,false]
[1,"C10",null,null,null,null,null,null,null,null,null,null,null,null,null,null,null,null,null,null,null,null,null,null,null,null,null,null,null,false]
[1,"D10",null,null,null,null,null,null,null,null,null,null,null,null,null,null,null,null,null,null,null,null,null,null,null,null,null,null,null,false]
[1,"E10",null,null,null,null,null,null,null,null,null,null,null,null,null,null,null,null,null,null,null,null,null,null,null,null,null,null,null,false]
[1,"F10",null,null,null,null,null,null,null,null,null,null,null,null,null,null,null,null,null,null,null,null,null,null,null,null,null,null,null,false]
[1,"G10",null,null,null,null,null,null,null,null,null,null,null,null,null,null,null,null,null,null,null,null,null,null,null,null,null,null,null,false]
[1,"H10",null,null,null,null,null,null,null,null,null,null,null,null,null,null,null,null,null,null,null,null,null,null,null,null,null,null,null,false]
[1,"I10",null,null,null,null,null,null,null,null,null,null,null,null,null,null,null,null,null,null,null,null,null,null,null,null,null,null,null,false]
[1,"J10",null,null,null,null,null,null,null,null,null,null,null,null,null,null,null,null,null,null,null,null,null,null,null,null,null,null,null,false]
[1,"K10",null,null,null,null,null,null,null,null,null,null,null,null,null,null,null,null,null,null,null,null,null,null,null,null,null,null,null,false]
[1,"L10",null,null,null,null,null,null,null,null,null,null,null,null,null,null,null,null,null,null,null,null,null,null,null,null,null,null,null,false]
[1,"M10",null,null,null,null,null,null,null,null,null,null,null,null,null,null,null,null,null,null,null,null,null,null,null,null,null,null,null,false]
[1,"N10",null,null,null,null,null,null,null,null,null,null,null,null,null,null,null,null,null,null,null,null,null,null,null,null,null,null,null,false]
[1,"O10",null,null,null,null,null,null,null,null,null,null,null,null,null,null,null,null,null,null,null,null,null,null,null,null,null,null,null,false]
[1,"P10",null,null,null,null,null,null,null,null,null,null,null,null,null,null,null,null,null,null,null,null,null,null,null,null,null,null,null,false]
[1,"A11",null,null,null,null,null,null,null,null,null,null,null,null,null,null,null,null,null,null,null,null,null,null,null,null,null,null,null,false]
[1,"B11",null,null,null,null,null,null,null,null,null,null,null,null,null,null,null,null,null,null,null,null,null,null,null,null,null,null,null,false]
[1,"C11",null,null,null,null,null,null,null,null,null,null,null,null,null,null,null,null,null,null,null,null,null,null,null,null,null,null,null,{"$f":"IF(COUNTBLANK(D164)=0,A164)","v":false}]
[1,"D11",null,null,null,null,null,null,null,null,null,null,null,null,null,null,null,null,null,null,null,null,null,null,null,null,null,null,null,false]
[1,"E11",null,null,null,null,null,null,null,null,null,null,null,null,null,null,null,null,null,null,null,null,null,null,null,null,null,null,null,false]
[1,"F11",null,null,null,null,null,null,null,null,null,null,null,null,null,null,null,null,null,null,null,null,null,null,null,null,null,null,null,false]
[1,"G11",null,null,null,null,null,null,null,null,null,null,null,null,null,null,null,null,null,null,null,null,null,null,null,null,null,null,null,false]
[1,"H11",null,null,null,null,null,null,null,null,null,null,null,null,null,null,null,null,null,null,null,null,null,null,null,null,null,null,null,false]
[1,"I11",null,null,null,null,null,null,null,null,null,null,null,null,null,null,null,null,null,null,null,null,null,null,null,null,null,null,null,false]
[1,"J11",null,null,null,null,null,null,null,null,null,null,null,null,null,null,null,null,null,null,null,null,null,null,null,null,null,null,null,false]
[1,"K11",null,null,null,null,null,null,null,null,null,null,null,null,null,null,null,null,null,null,null,null,null,null,null,null,null,null,null,false]
[1,"L11",null,null,null,null,null,null,null,null,null,null,null,null,null,null,null,null,null,null,null,null,null,null,null,null,null,null,null,false]
[1,"M11",null,null,null,null,null,null,null,null,null,null,null,null,null,null,null,null,null,null,null,null,null,null,null,null,null,null,null,false]
[1,"N11",null,null,null,null,null,null,null,null,null,null,null,null,null,null,null,null,null,null,null,null,null,null,null,null,null,null,null,false]
[1,"O11",null,null,null,null,null,null,null,null,null,null,null,null,null,null,null,null,null,null,null,null,null,null,null,null,null,null,null,false]
[1,"P11",null,null,null,null,null,null,null,null,null,null,null,null,null,null,null,null,null,null,null,null,null,null,null,null,null,null,null,false]
[1,"A12",null,null,null,null,null,null,null,null,null,null,null,null,null,null,null,null,null,null,null,null,null,null,null,null,null,null,null,false]
[1,"B12",null,null,null,null,null,null,null,null,null,null,null,null,null,null,null,null,null,null,null,null,null,null,null,null,null,null,null,false]
[1,"C12",null,null,null,null,null,null,null,null,null,null,null,null,null,null,null,null,null,null,null,null,null,null,null,null,null,null,null,false]
[1,"D12",null,null,null,null,null,null,null,null,null,null,null,null,null,null,null,null,null,null,null,null,null,null,null,null,null,null,null,false]
[1,"E12",null,null,null,null,null,null,null,null,null,null,null,null,null,null,null,null,null,null,null,null,null,null,null,null,null,null,null,false]
[1,"F12",null,null,null,null,null,null,null,null,null,null,null,null,null,null,null,null,null,null,null,null,null,null,null,null,null,null,null,false]
[1,"G12",null,null,null,null,null,null,null,null,null,null,null,null,null,null,null,null,null,null,null,null,null,null,null,null,null,null,null,false]
[1,"H12",null,null,null,null,null,null,null,null,null,null,null,null,null,null,null,null,null,null,null,null,null,null,null,null,null,null,null,false]
[1,"I12",null,null,null,null,null,null,null,null,null,null,null,null,null,null,null,null,null,null,null,null,null,null,null,null,null,null,null,false]
[1,"J12",null,null,null,null,null,null,null,null,null,null,null,null,null,null,null,null,null,null,null,null,null,null,null,null,null,null,null,false]
[1,"K12",null,null,null,null,null,null,null,null,null,null,null,null,null,null,null,null,null,null,null,null,null,null,null,null,null,null,null,false]
[1,"L12",null,null,null,null,null,null,null,null,null,null,null,null,null,null,null,null,null,null,null,null,null,null,null,null,null,null,null,false]
[1,"M12",null,null,null,null,null,null,null,null,null,null,null,null,null,null,null,null,null,null,null,null,null,null,null,null,null,null,null,false]
[1,"N12",null,null,null,null,null,null,null,null,null,null,null,null,null,null,null,null,null,null,null,null,null,null,null,null,null,null,null,false]
[1,"O12",null,null,null,null,null,null,null,null,null,null,null,null,null,null,null,null,null,null,null,null,null,null,null,null,null,null,null,false]
[1,"P12",null,null,null,null,null,null,null,null,null,null,null,null,null,null,null,null,null,null,null,null,null,null,null,null,null,null,null,false]
[1,"A13",null,null,null,null,null,null,null,null,null,null,null,null,null,null,null,null,null,null,null,null,null,null,null,null,null,null,null,false]
[1,"B13",null,null,null,null,null,null,null,null,null,null,null,null,null,null,null,null,null,null,null,null,null,null,null,null,null,null,null,{"$f":"IF(COUNTBLANK(D195)=0,A195)","v":false}]
[1,"C13",null,null,null,null,null,null,null,null,null,null,null,null,null,null,null,null,null,null,null,null,null,null,null,null,null,null,null,{"$f":"IF(COUNTBLANK(D196)=0,A196)","v":false}]
[1,"D13",null,null,null,null,null,null,null,null,null,null,null,null,null,null,null,null,null,null,null,null,null,null,null,null,null,null,null,false]
[1,"E13",null,null,null,null,null,null,null,null,null,null,null,null,null,null,null,null,null,null,null,null,null,null,null,null,null,null,null,false]
[1,"F13",null,null,null,null,null,null,null,null,null,null,null,null,null,null,null,null,null,null,null,null,null,null,null,null,null,null,null,false]
[1,"G13",null,null,null,null,null,null,null,null,null,null,null,null,null,null,null,null,null,null,null,null,null,null,null,null,null,null,null,false]
[1,"H13",null,null,null,null,null,null,null,null,null,null,null,null,null,null,null,null,null,null,null,null,null,null,null,null,null,null,null,false]
[1,"I13",null,null,null,null,null,null,null,null,null,null,null,null,null,null,null,null,null,null,null,null,null,null,null,null,null,null,null,false]
[1,"J13",null,null,null,null,null,null,null,null,null,null,null,null,null,null,null,null,null,null,null,null,null,null,null,null,null,null,null,false]
[1,"K13",null,null,null,null,null,null,null,null,null,null,null,null,null,null,null,null,null,null,null,null,null,null,null,null,null,null,null,false]
[1,"L13",null,null,null,null,null,null,null,null,null,null,null,null,null,null,null,null,null,null,null,null,null,null,null,null,null,null,null,false]
[1,"M13",null,null,null,null,null,null,null,null,null,null,null,null,null,null,null,null,null,null,null,null,null,null,null,null,null,null,null,false]
[1,"N13",null,null,null,null,null,null,null,null,null,null,null,null,null,null,null,null,null,null,null,null,null,null,null,null,null,null,null,false]
[1,"O13",null,null,null,null,null,null,null,null,null,null,null,null,null,null,null,null,null,null,null,null,null,null,null,null,null,null,null,false]
[1,"P13",null,null,null,null,null,null,null,null,null,null,null,null,null,null,null,null,null,null,null,null,null,null,null,null,null,null,null,false]
[1,"A14",null,null,null,null,null,null,null,null,null,null,null,null,null,null,null,null,null,null,null,null,null,null,null,null,null,null,null,false]
[1,"B14",null,null,null,null,null,null,null,null,null,null,null,null,null,null,null,null,null,null,null,null,null,null,null,null,null,null,null,false]
[1,"C14",null,null,null,null,null,null,null,null,null,null,null,null,null,null,null,null,null,null,null,null,null,null,null,null,null,null,null,false]
[1,"D14",null,null,null,null,null,null,null,null,null,null,null,null,null,null,null,null,null,null,null,null,null,null,null,null,null,null,null,false]
[1,"E14",null,null,null,null,null,null,null,null,null,null,null,null,null,null,null,null,null,null,null,null,null,null,null,null,null,null,null,false]
[1,"F14",null,null,null,null,null,null,null,null,null,null,null,null,null,null,null,null,null,null,null,null,null,null,null,null,null,null,null,false]
[1,"G14",null,null,null,null,null,null,null,null,null,null,null,null,null,null,null,null,null,null,null,null,null,null,null,null,null,null,null,false]
[1,"H14",null,null,null,null,null,null,null,null,null,null,null,null,null,null,null,null,null,null,null,null,null,null,null,null,null,null,null,false]
[1,"I14",null,null,null,null,null,null,null,null,null,null,null,null,null,null,null,null,null,null,null,null,null,null,null,null,null,null,null,false]
[1,"J14",null,null,null,null,null,null,null,null,null,null,null,null,null,null,null,null,null,null,null,null,null,null,null,null,null,null,null,false]
[1,"K14",null,null,null,null,null,null,null,null,null,null,null,null,null,null,null,null,null,null,null,null,null,null,null,null,null,null,null,false]
[1,"L14",null,null,null,null,null,null,null,null,null,null,null,null,null,null,null,null,null,null,null,null,null,null,null,null,null,null,null,false]
[1,"M14",null,null,null,null,null,null,null,null,null,null,null,null,null,null,null,null,null,null,null,null,null,null,null,null,null,null,null,false]
[1,"N14",null,null,null,null,null,null,null,null,null,null,null,null,null,null,null,null,null,null,null,null,null,null,null,null,null,null,null,false]
[1,"O14",null,null,null,null,null,null,null,null,null,null,null,null,null,null,null,null,null,null,null,null,null,null,null,null,null,null,null,false]
[1,"P14",null,null,null,null,null,null,null,null,null,null,null,null,null,null,null,null,null,null,null,null,null,null,null,null,null,null,null,false]
[1,"A15",null,null,null,null,null,null,null,null,null,null,null,null,null,null,null,null,null,null,null,null,null,null,null,null,null,null,null,false]
[1,"B15",null,null,null,null,null,null,null,null,null,null,null,null,null,null,null,null,null,null,null,null,null,null,null,null,null,null,null,false]
[1,"C15",null,null,null,null,null,null,null,null,null,null,null,null,null,null,null,null,null,null,null,null,null,null,null,null,null,null,null,{"$f":"IF(COUNTBLANK(D228)=0,A228)","v":false}]
[1,"D15",null,null,null,null,null,null,null,null,null,null,null,null,null,null,null,null,null,null,null,null,null,null,null,null,null,null,null,false]
[1,"E15",null,null,null,null,null,null,null,null,null,null,null,null,null,null,null,null,null,null,null,null,null,null,null,null,null,null,null,false]
[1,"F15",null,null,null,null,null,null,null,null,null,null,null,null,null,null,null,null,null,null,null,null,null,null,null,null,null,null,null,false]
[1,"G15",null,null,null,null,null,null,null,null,null,null,null,null,null,null,null,null,null,null,null,null,null,null,null,null,null,null,null,false]
[1,"H15",null,null,null,null,null,null,null,null,null,null,null,null,null,null,null,null,null,null,null,null,null,null,null,null,null,null,null,false]
[1,"I15",null,null,null,null,null,null,null,null,null,null,null,null,null,null,null,null,null,null,null,null,null,null,null,null,null,null,null,false]
[1,"J15",null,null,null,null,null,null,null,null,null,null,null,null,null,null,null,null,null,null,null,null,null,null,null,null,null,null,null,false]
[1,"K15",null,null,null,null,null,null,null,null,null,null,null,null,null,null,null,null,null,null,null,null,null,null,null,null,null,null,null,false]
[1,"L15",null,null,null,null,null,null,null,null,null,null,null,null,null,null,null,null,null,null,null,null,null,null,null,null,null,null,null,false]
[1,"M15",null,null,null,null,null,null,null,null,null,null,null,null,null,null,null,null,null,null,null,null,null,null,null,null,null,null,null,false]
[1,"N15",null,null,null,null,null,null,null,null,null,null,null,null,null,null,null,null,null,null,null,null,null,null,null,null,null,null,null,false]
[1,"O15",null,null,null,null,null,null,null,null,null,null,null,null,null,null,null,null,null,null,null,null,null,null,null,null,null,null,null,false]
[1,"P15",null,null,null,null,null,null,null,null,null,null,null,null,null,null,null,null,null,null,null,null,null,null,null,null,null,null,null,false]
[1,"A16",null,null,null,null,null,null,null,null,null,null,null,null,null,null,null,null,null,null,null,null,null,null,null,null,null,null,null,false]
[1,"B16",null,null,null,null,null,null,null,null,null,null,null,null,null,null,null,null,null,null,null,null,null,null,null,null,null,null,null,false]
[1,"C16",null,null,null,null,null,null,null,null,null,null,null,null,null,null,null,null,null,null,null,null,null,null,null,null,null,null,null,false]
[1,"D16",null,null,null,null,null,null,null,null,null,null,null,null,null,null,null,null,null,null,null,null,null,null,null,null,null,null,null,false]
[1,"E16",null,null,null,null,null,null,null,null,null,null,null,null,null,null,null,null,null,null,null,null,null,null,null,null,null,null,null,false]
[1,"F16",null,null,null,null,null,null,null,null,null,null,null,null,null,null,null,null,null,null,null,null,null,null,null,null,null,null,null,false]
[1,"G16",null,null,null,null,null,null,null,null,null,null,null,null,null,null,null,null,null,null,null,null,null,null,null,null,null,null,null,false]
[1,"H16",null,null,null,null,null,null,null,null,null,null,null,null,null,null,null,null,null,null,null,null,null,null,null,null,null,null,null,false]
[1,"I16",null,null,null,null,null,null,null,null,null,null,null,null,null,null,null,null,null,null,null,null,null,null,null,null,null,null,null,false]
[1,"J16",null,null,null,null,null,null,null,null,null,null,null,null,null,null,null,null,null,null,null,null,null,null,null,null,null,null,null,false]
[1,"K16",null,null,null,null,null,null,null,null,null,null,null,null,null,null,null,null,null,null,null,null,null,null,null,null,null,null,null,false]
[1,"L16",null,null,null,null,null,null,null,null,null,null,null,null,null,null,null,null,null,null,null,null,null,null,null,null,null,null,null,false]
[1,"M16",null,null,null,null,null,null,null,null,null,null,null,null,null,null,null,null,null,null,null,null,null,null,null,null,null,null,null,false]
[1,"N16",null,null,null,null,null,null,null,null,null,null,null,null,null,null,null,null,null,null,null,null,null,null,null,null,null,null,null,false]
[1,"O16",null,null,null,null,null,null,null,null,null,null,null,null,null,null,null,null,null,null,null,null,null,null,null,null,null,null,null,false]
[1,"P16",null,null,null,null,null,null,null,null,null,null,null,null,null,null,null,null,null,null,null,null,null,null,null,null,null,null,null,false]
[1,"A17",null,null,null,null,null,null,null,null,null,null,null,null,null,null,null,null,null,null,null,null,null,null,null,null,null,null,null,false]
[1,"B17",null,null,null,null,null,null,null,null,null,null,null,null,null,null,null,null,null,null,null,null,null,null,null,null,null,null,null,{"$f":"IF(COUNTBLANK(D259)=0,A259)","v":false}]
[1,"C17",null,null,null,null,null,null,null,null,null,null,null,null,null,null,null,null,null,null,null,null,null,null,null,null,null,null,null,{"$f":"IF(COUNTBLANK(D260)=0,A260)","v":false}]
[1,"D17",null,null,null,null,null,null,null,null,null,null,null,null,null,null,null,null,null,null,null,null,null,null,null,null,null,null,null,false]
[1,"E17",null,null,null,null,null,null,null,null,null,null,null,null,null,null,null,null,null,null,null,null,null,null,null,null,null,null,null,false]
[1,"F17",null,null,null,null,null,null,null,null,null,null,null,null,null,null,null,null,null,null,null,null,null,null,null,null,null,null,null,false]
[1,"G17",null,null,null,null,null,null,null,null,null,null,null,null,null,null,null,null,null,null,null,null,null,null,null,null,null,null,null,false]
[1,"H17",null,null,null,null,null,null,null,null,null,null,null,null,null,null,null,null,null,null,null,null,null,null,null,null,null,null,null,false]
[1,"I17",null,null,null,null,null,null,null,null,null,null,null,null,null,null,null,null,null,null,null,null,null,null,null,null,null,null,null,false]
[1,"J17",null,null,null,null,null,null,null,null,null,null,null,null,null,null,null,null,null,null,null,null,null,null,null,null,null,null,null,false]
[1,"K17",null,null,null,null,null,null,null,null,null,null,null,null,null,null,null,null,null,null,null,null,null,null,null,null,null,null,null,false]
[1,"L17",null,null,null,null,null,null,null,null,null,null,null,null,null,null,null,null,null,null,null,null,null,null,null,null,null,null,null,false]
[1,"M17",null,null,null,null,null,null,null,null,null,null,null,null,null,null,null,null,null,null,null,null,null,null,null,null,null,null,null,false]
[1,"N17",null,null,null,null,null,null,null,null,null,null,null,null,null,null,null,null,null,null,null,null,null,null,null,null,null,null,null,false]
[1,"O17",null,null,null,null,null,null,null,null,null,null,null,null,null,null,null,null,null,null,null,null,null,null,null,null,null,null,null,false]
[1,"P17",null,null,null,null,null,null,null,null,null,null,null,null,null,null,null,null,null,null,null,null,null,null,null,null,null,null,null,false]
[1,"A18",null,null,null,null,null,null,null,null,null,null,null,null,null,null,null,null,null,null,null,null,null,null,null,null,null,null,null,false]
[1,"B18",null,null,null,null,null,null,null,null,null,null,null,null,null,null,null,null,null,null,null,null,null,null,null,null,null,null,null,false]
[1,"C18",null,null,null,null,null,null,null,null,null,null,null,null,null,null,null,null,null,null,null,null,null,null,null,null,null,null,null,false]
[1,"D18",null,null,null,null,null,null,null,null,null,null,null,null,null,null,null,null,null,null,null,null,null,null,null,null,null,null,null,false]
[1,"E18",null,null,null,null,null,null,null,null,null,null,null,null,null,null,null,null,null,null,null,null,null,null,null,null,null,null,null,false]
[1,"F18",null,null,null,null,null,null,null,null,null,null,null,null,null,null,null,null,null,null,null,null,null,null,null,null,null,null,null,false]
[1,"G18",null,null,null,null,null,null,null,null,null,null,null,null,null,null,null,null,null,null,null,null,null,null,null,null,null,null,null,false]
[1,"H18",null,null,null,null,null,null,null,null,null,null,null,null,null,null,null,null,null,null,null,null,null,null,null,null,null,null,null,false]
[1,"I18",null,null,null,null,null,null,null,null,null,null,null,null,null,null,null,null,null,null,null,null,null,null,null,null,null,null,null,false]
[1,"J18",null,null,null,null,null,null,null,null,null,null,null,null,null,null,null,null,null,null,null,null,null,null,null,null,null,null,null,false]
[1,"K18",null,null,null,null,null,null,null,null,null,null,null,null,null,null,null,null,null,null,null,null,null,null,null,null,null,null,null,false]
[1,"L18",null,null,null,null,null,null,null,null,null,null,null,null,null,null,null,null,null,null,null,null,null,null,null,null,null,null,null,false]
[1,"M18",null,null,null,null,null,null,null,null,null,null,null,null,null,null,null,null,null,null,null,null,null,null,null,null,null,null,null,false]
[1,"N18",null,null,null,null,null,null,null,null,null,null,null,null,null,null,null,null,null,null,null,null,null,null,null,null,null,null,null,false]
[1,"O18",null,null,null,null,null,null,null,null,null,null,null,null,null,null,null,null,null,null,null,null,null,null,null,null,null,null,null,false]
[1,"P18",null,null,null,null,null,null,null,null,null,null,null,null,null,null,null,null,null,null,null,null,null,null,null,null,null,null,null,false]
[1,"A19",null,null,null,null,null,null,null,null,null,null,null,null,null,null,null,null,null,null,null,null,null,null,null,null,null,null,null,false]
[1,"B19",null,null,null,null,null,null,null,null,null,null,null,null,null,null,null,null,null,null,null,null,null,null,null,null,null,null,null,false]
[1,"C19",null,null,null,null,null,null,null,null,null,null,null,null,null,null,null,null,null,null,null,null,null,null,null,null,null,null,null,{"$f":"IF(COUNTBLANK(D292)=0,A292)","v":false}]
[1,"D19",null,null,null,null,null,null,null,null,null,null,null,null,null,null,null,null,null,null,null,null,null,null,null,null,null,null,null,false]
[1,"E19",null,null,null,null,null,null,null,null,null,null,null,null,null,null,null,null,null,null,null,null,null,null,null,null,null,null,null,false]
[1,"F19",null,null,null,null,null,null,null,null,null,null,null,null,null,null,null,null,null,null,null,null,null,null,null,null,null,null,null,false]
[1,"G19",null,null,null,null,null,null,null,null,null,null,null,null,null,null,null,null,null,null,null,null,null,null,null,null,null,null,null,false]
[1,"H19",null,null,null,null,null,null,null,null,null,null,null,null,null,null,null,null,null,null,null,null,null,null,null,null,null,null,null,false]
[1,"I19",null,null,null,null,null,null,null,null,null,null,null,null,null,null,null,null,null,null,null,null,null,null,null,null,null,null,null,false]
[1,"J19",null,null,null,null,null,null,null,null,null,null,null,null,null,null,null,null,null,null,null,null,null,null,null,null,null,null,null,false]
[1,"K19",null,null,null,null,null,null,null,null,null,null,null,null,null,null,null,null,null,null,null,null,null,null,null,null,null,null,null,false]
[1,"L19",null,null,null,null,null,null,null,null,null,null,null,null,null,null,null,null,null,null,null,null,null,null,null,null,null,null,null,false]
[1,"M19",null,null,null,null,null,null,null,null,null,null,null,null,null,null,null,null,null,null,null,null,null,null,null,null,null,null,null,false]
[1,"N19",null,null,null,null,null,null,null,null,null,null,null,null,null,null,null,null,null,null,null,null,null,null,null,null,null,null,null,false]
[1,"O19",null,null,null,null,null,null,null,null,null,null,null,null,null,null,null,null,null,null,null,null,null,null,null,null,null,null,null,false]
[1,"P19",null,null,null,null,null,null,null,null,null,null,null,null,null,null,null,null,null,null,null,null,null,null,null,null,null,null,null,false]
[1,"A20",null,null,null,null,null,null,null,null,null,null,null,null,null,null,null,null,null,null,null,null,null,null,null,null,null,null,null,false]
[1,"B20",null,null,null,null,null,null,null,null,null,null,null,null,null,null,null,null,null,null,null,null,null,null,null,null,null,null,null,false]
[1,"C20",null,null,null,null,null,null,null,null,null,null,null,null,null,null,null,null,null,null,null,null,null,null,null,null,null,null,null,false]
[1,"D20",null,null,null,null,null,null,null,null,null,null,null,null,null,null,null,null,null,null,null,null,null,null,null,null,null,null,null,false]
[1,"E20",null,null,null,null,null,null,null,null,null,null,null,null,null,null,null,null,null,null,null,null,null,null,null,null,null,null,null,false]
[1,"F20",null,null,null,null,null,null,null,null,null,null,null,null,null,null,null,null,null,null,null,null,null,null,null,null,null,null,null,false]
[1,"G20",null,null,null,null,null,null,null,null,null,null,null,null,null,null,null,null,null,null,null,null,null,null,null,null,null,null,null,false]
[1,"H20",null,null,null,null,null,null,null,null,null,null,null,null,null,null,null,null,null,null,null,null,null,null,null,null,null,null,null,false]
[1,"I20",null,null,null,null,null,null,null,null,null,null,null,null,null,null,null,null,null,null,null,null,null,null,null,null,null,null,null,false]
[1,"J20",null,null,null,null,null,null,null,null,null,null,null,null,null,null,null,null,null,null,null,null,null,null,null,null,null,null,null,false]
[1,"K20",null,null,null,null,null,null,null,null,null,null,null,null,null,null,null,null,null,null,null,null,null,null,null,null,null,null,null,false]
[1,"L20",null,null,null,null,null,null,null,null,null,null,null,null,null,null,null,null,null,null,null,null,null,null,null,null,null,null,null,false]
[1,"M20",null,null,null,null,null,null,null,null,null,null,null,null,null,null,null,null,null,null,null,null,null,null,null,null,null,null,null,false]
[1,"N20",null,null,null,null,null,null,null,null,null,null,null,null,null,null,null,null,null,null,null,null,null,null,null,null,null,null,null,false]
[1,"O20",null,null,null,null,null,null,null,null,null,null,null,null,null,null,null,null,null,null,null,null,null,null,null,null,null,null,null,false]
[1,"P20",null,null,null,null,null,null,null,null,null,null,null,null,null,null,null,null,null,null,null,null,null,null,null,null,null,null,null,false]
[1,"A21",null,null,null,null,null,null,null,null,null,null,null,null,null,null,null,null,null,null,null,null,null,null,null,null,null,null,null,false]
[1,"B21",null,null,null,null,null,null,null,null,null,null,null,null,null,null,null,null,null,null,null,null,null,null,null,null,null,null,null,{"$f":"IF(COUNTBLANK(D323)=0,A323)","v":false}]
[1,"C21",null,null,null,null,null,null,null,null,null,null,null,null,null,null,null,null,null,null,null,null,null,null,null,null,null,null,null,{"$f":"IF(COUNTBLANK(D324)=0,A324)","v":false}]
[1,"D21",null,null,null,null,null,null,null,null,null,null,null,null,null,null,null,null,null,null,null,null,null,null,null,null,null,null,null,false]
[1,"E21",null,null,null,null,null,null,null,null,null,null,null,null,null,null,null,null,null,null,null,null,null,null,null,null,null,null,null,false]
[1,"F21",null,null,null,null,null,null,null,null,null,null,null,null,null,null,null,null,null,null,null,null,null,null,null,null,null,null,null,false]
[1,"G21",null,null,null,null,null,null,null,null,null,null,null,null,null,null,null,null,null,null,null,null,null,null,null,null,null,null,null,false]
[1,"H21",null,null,null,null,null,null,null,null,null,null,null,null,null,null,null,null,null,null,null,null,null,null,null,null,null,null,null,false]
[1,"I21",null,null,null,null,null,null,null,null,null,null,null,null,null,null,null,null,null,null,null,null,null,null,null,null,null,null,null,false]
[1,"J21",null,null,null,null,null,null,null,null,null,null,null,null,null,null,null,null,null,null,null,null,null,null,null,null,null,null,null,false]
[1,"K21",null,null,null,null,null,null,null,null,null,null,null,null,null,null,null,null,null,null,null,null,null,null,null,null,null,null,null,false]
[1,"L21",null,null,null,null,null,null,null,null,null,null,null,null,null,null,null,null,null,null,null,null,null,null,null,null,null,null,null,false]
[1,"M21",null,null,null,null,null,null,null,null,null,null,null,null,null,null,null,null,null,null,null,null,null,null,null,null,null,null,null,false]
[1,"N21",null,null,null,null,null,null,null,null,null,null,null,null,null,null,null,null,null,null,null,null,null,null,null,null,null,null,null,false]
[1,"O21",null,null,null,null,null,null,null,null,null,null,null,null,null,null,null,null,null,null,null,null,null,null,null,null,null,null,null,false]
[1,"P21",null,null,null,null,null,null,null,null,null,null,null,null,null,null,null,null,null,null,null,null,null,null,null,null,null,null,null,false]
[1,"A22",null,null,null,null,null,null,null,null,null,null,null,null,null,null,null,null,null,null,null,null,null,null,null,null,null,null,null,false]
[1,"B22",null,null,null,null,null,null,null,null,null,null,null,null,null,null,null,null,null,null,null,null,null,null,null,null,null,null,null,false]
[1,"C22",null,null,null,null,null,null,null,null,null,null,null,null,null,null,null,null,null,null,null,null,null,null,null,null,null,null,null,false]
[1,"D22",null,null,null,null,null,null,null,null,null,null,null,null,null,null,null,null,null,null,null,null,null,null,null,null,null,null,null,false]
[1,"E22",null,null,null,null,null,null,null,null,null,null,null,null,null,null,null,null,null,null,null,null,null,null,null,null,null,null,null,false]
[1,"F22",null,null,null,null,null,null,null,null,null,null,null,null,null,null,null,null,null,null,null,null,null,null,null,null,null,null,null,false]
[1,"G22",null,null,null,null,null,null,null,null,null,null,null,null,null,null,null,null,null,null,null,null,null,null,null,null,null,null,null,false]
[1,"H22",null,null,null,null,null,null,null,null,null,null,null,null,null,null,null,null,null,null,null,null,null,null,null,null,null,null,null,false]
[1,"I22",null,null,null,null,null,null,null,null,null,null,null,null,null,null,null,null,null,null,null,null,null,null,null,null,null,null,null,false]
[1,"J22",null,null,null,null,null,null,null,null,null,null,null,null,null,null,null,null,null,null,null,null,null,null,null,null,null,null,null,false]
[1,"K22",null,null,null,null,null,null,null,null,null,null,null,null,null,null,null,null,null,null,null,null,null,null,null,null,null,null,null,false]
[1,"L22",null,null,null,null,null,null,null,null,null,null,null,null,null,null,null,null,null,null,null,null,null,null,null,null,null,null,null,false]
[1,"M22",null,null,null,null,null,null,null,null,null,null,null,null,null,null,null,null,null,null,null,null,null,null,null,null,null,null,null,false]
[1,"N22",null,null,null,null,null,null,null,null,null,null,null,null,null,null,null,null,null,null,null,null,null,null,null,null,null,null,null,false]
[1,"O22",null,null,null,null,null,null,null,null,null,null,null,null,null,null,null,null,null,null,null,null,null,null,null,null,null,null,null,false]
[1,"P22",null,null,null,null,null,null,null,null,null,null,null,null,null,null,null,null,null,null,null,null,null,null,null,null,null,null,null,false]
[1,"A23",null,null,null,null,null,null,null,null,null,null,null,null,null,null,null,null,null,null,null,null,null,null,null,null,null,null,null,false]
[1,"B23",null,null,null,null,null,null,null,null,null,null,null,null,null,null,null,null,null,null,null,null,null,null,null,null,null,null,null,false]
[1,"C23",null,null,null,null,null,null,null,null,null,null,null,null,null,null,null,null,null,null,null,null,null,null,null,null,null,null,null,{"$f":"IF(COUNTBLANK(D356)=0,A356)","v":false}]
[1,"D23",null,null,null,null,null,null,null,null,null,null,null,null,null,null,null,null,null,null,null,null,null,null,null,null,null,null,null,false]
[1,"E23",null,null,null,null,null,null,null,null,null,null,null,null,null,null,null,null,null,null,null,null,null,null,null,null,null,null,null,false]
[1,"F23",null,null,null,null,null,null,null,null,null,null,null,null,null,null,null,null,null,null,null,null,null,null,null,null,null,null,null,false]
[1,"G23",null,null,null,null,null,null,null,null,null,null,null,null,null,null,null,null,null,null,null,null,null,null,null,null,null,null,null,false]
[1,"H23",null,null,null,null,null,null,null,null,null,null,null,null,null,null,null,null,null,null,null,null,null,null,null,null,null,null,null,false]
[1,"I23",null,null,null,null,null,null,null,null,null,null,null,null,null,null,null,null,null,null,null,null,null,null,null,null,null,null,null,false]
[1,"J23",null,null,null,null,null,null,null,null,null,null,null,null,null,null,null,null,null,null,null,null,null,null,null,null,null,null,null,false]
[1,"K23",null,null,null,null,null,null,null,null,null,null,null,null,null,null,null,null,null,null,null,null,null,null,null,null,null,null,null,false]
[1,"L23",null,null,null,null,null,null,null,null,null,null,null,null,null,null,null,null,null,null,null,null,null,null,null,null,null,null,null,false]
[1,"M23",null,null,null,null,null,null,null,null,null,null,null,null,null,null,null,null,null,null,null,null,null,null,null,null,null,null,null,false]
[1,"N23",null,null,null,null,null,null,null,null,null,null,null,null,null,null,null,null,null,null,null,null,null,null,null,null,null,null,null,false]
[1,"O23",null,null,null,null,null,null,null,null,null,null,null,null,null,null,null,null,null,null,null,null,null,null,null,null,null,null,null,false]
[1,"P23",null,null,null,null,null,null,null,null,null,null,null,null,null,null,null,null,null,null,null,null,null,null,null,null,null,null,null,false]
[1,"A24",null,null,null,null,null,null,null,null,null,null,null,null,null,null,null,null,null,null,null,null,null,null,null,null,null,null,null,false]
[1,"B24",null,null,null,null,null,null,null,null,null,null,null,null,null,null,null,null,null,null,null,null,null,null,null,null,null,null,null,false]
[1,"C24",null,null,null,null,null,null,null,null,null,null,null,null,null,null,null,null,null,null,null,null,null,null,null,null,null,null,null,false]
[1,"D24",null,null,null,null,null,null,null,null,null,null,null,null,null,null,null,null,null,null,null,null,null,null,null,null,null,null,null,false]
[1,"E24",null,null,null,null,null,null,null,null,null,null,null,null,null,null,null,null,null,null,null,null,null,null,null,null,null,null,null,false]
[1,"F24",null,null,null,null,null,null,null,null,null,null,null,null,null,null,null,null,null,null,null,null,null,null,null,null,null,null,null,false]
[1,"G24",null,null,null,null,null,null,null,null,null,null,null,null,null,null,null,null,null,null,null,null,null,null,null,null,null,null,null,false]
[1,"H24",null,null,null,null,null,null,null,null,null,null,null,null,null,null,null,null,null,null,null,null,null,null,null,null,null,null,null,false]
[1,"I24",null,null,null,null,null,null,null,null,null,null,null,null,null,null,null,null,null,null,null,null,null,null,null,null,null,null,null,false]
[1,"J24",null,null,null,null,null,null,null,null,null,null,null,null,null,null,null,null,null,null,null,null,null,null,null,null,null,null,null,false]
[1,"K24",null,null,null,null,null,null,null,null,null,null,null,null,null,null,null,null,null,null,null,null,null,null,null,null,null,null,null,false]
[1,"L24",null,null,null,null,null,null,null,null,null,null,null,null,null,null,null,null,null,null,null,null,null,null,null,null,null,null,null,false]
[1,"M24",null,null,null,null,null,null,null,null,null,null,null,null,null,null,null,null,null,null,null,null,null,null,null,null,null,null,null,false]
[1,"N24",null,null,null,null,null,null,null,null,null,null,null,null,null,null,null,null,null,null,null,null,null,null,null,null,null,null,null,false]
[1,"O24",null,null,null,null,null,null,null,null,null,null,null,null,null,null,null,null,null,null,null,null,null,null,null,null,null,null,null,false]
[1,"P24",null,null,null,null,null,null,null,null,null,null,null,null,null,null,null,null,null,null,null,null,null,null,null,null,null,null,null,false]
[2,"A1",null,null,null,null,null,null,null,null,null,null,null,null,null,null,null,null,null,null,null,null,null,null,null,null,null,null,null,false]
[2,"B1",null,null,null,null,null,null,null,null,null,null,null,null,null,null,null,null,null,null,null,null,null,null,null,null,null,null,null,{"$f":"IF(COUNTBLANK(D387)=0,A387)","v":false}]
[2,"C1",null,null,null,null,null,null,null,null,null,null,null,null,null,null,null,null,null,null,null,null,null,null,null,null,null,null,null,{"$f":"IF(COUNTBLANK(D388)=0,A388)","v":false}]
[2,"D1",null,null,null,null,null,null,null,null,null,null,null,null,null,null,null,null,null,null,null,null,null,null,null,null,null,null,null,false]
[2,"E1",null,null,null,null,null,null,null,null,null,null,null,null,null,null,null,null,null,null,null,null,null,null,null,null,null,null,null,false]
[2,"F1",null,null,null,null,null,null,null,null,null,null,null,null,null,null,null,null,null,null,null,null,null,null,null,null,null,null,null,false]
[2,"G1",null,null,null,null,null,null,null,null,null,null,null,null,null,null,null,null,null,null,null,null,null,null,null,null,null,null,null,false]
[2,"H1",null,null,null,null,null,null,null,null,null,null,null,null,null,null,null,null,null,null,null,null,null,null,null,null,null,null,null,false]
[2,"I1",null,null,null,null,null,null,null,null,null,null,null,null,null,null,null,null,null,null,null,null,null,null,null,null,null,null,null,false]
[2,"J1",null,null,null,null,null,null,null,null,null,null,null,null,null,null,null,null,null,null,null,null,null,null,null,null,null,null,null,false]
[2,"K1",null,null,null,null,null,null,null,null,null,null,null,null,null,null,null,null,null,null,null,null,null,null,null,null,null,null,null,false]
[2,"L1",null,null,null,null,null,null,null,null,null,null,null,null,null,null,null,null,null,null,null,null,null,null,null,null,null,null,null,false]
[2,"M1",null,null,null,null,null,null,null,null,null,null,null,null,null,null,null,null,null,null,null,null,null,null,null,null,null,null,null,false]
[2,"N1",null,null,null,null,null,null,null,null,null,null,null,null,null,null,null,null,null,null,null,null,null,null,null,null,null,null,null,false]
[2,"O1",null,null,null,null,null,null,null,null,null,null,null,null,null,null,null,null,null,null,null,null,null,null,null,null,null,null,null,false]
[2,"P1",null,null,null,null,null,null,null,null,null,null,null,null,null,null,null,null,null,null,null,null,null,null,null,null,null,null,null,false]
[2,"A2",null,null,null,null,null,null,null,null,null,null,null,null,null,null,null,null,null,null,null,null,null,null,null,null,null,null,null,false]
[2,"B2",null,null,null,null,null,null,null,null,null,null,null,null,null,null,null,null,null,null,null,null,null,null,null,null,null,null,null,false]
[2,"C2",null,null,null,null,null,null,null,null,null,null,null,null,null,null,null,null,null,null,null,null,null,null,null,null,null,null,null,false]
[2,"D2",null,null,null,null,null,null,null,null,null,null,null,null,null,null,null,null,null,null,null,null,null,null,null,null,null,null,null,false]
[2,"E2",null,null,null,null,null,null,null,null,null,null,null,null,null,null,null,null,null,null,null,null,null,null,null,null,null,null,null,false]
[2,"F2",null,null,null,null,null,null,null,null,null,null,null,null,null,null,null,null,null,null,null,null,null,null,null,null,null,null,null,false]
[2,"G2",null,null,null,null,null,null,null,null,null,null,null,null,null,null,null,null,null,null,null,null,null,null,null,null,null,null,null,false]
[2,"H2",null,null,null,null,null,null,null,null,null,null,null,null,null,null,null,null,null,null,null,null,null,null,null,null,null,null,null,false]
[2,"I2",null,null,null,null,null,null,null,null,null,null,null,null,null,null,null,null,null,null,null,null,null,null,null,null,null,null,null,false]
[2,"J2",null,null,null,null,null,null,null,null,null,null,null,null,null,null,null,null,null,null,null,null,null,null,null,null,null,null,null,false]
[2,"K2",null,null,null,null,null,null,null,null,null,null,null,null,null,null,null,null,null,null,null,null,null,null,null,null,null,null,null,false]
[2,"L2",null,null,null,null,null,null,null,null,null,null,null,null,null,null,null,null,null,null,null,null,null,null,null,null,null,null,null,false]
[2,"M2",null,null,null,null,null,null,null,null,null,null,null,null,null,null,null,null,null,null,null,null,null,null,null,null,null,null,null,false]
[2,"N2",null,null,null,null,null,null,null,null,null,null,null,null,null,null,null,null,null,null,null,null,null,null,null,null,null,null,null,false]
[2,"O2",null,null,null,null,null,null,null,null,null,null,null,null,null,null,null,null,null,null,null,null,null,null,null,null,null,null,null,false]
[2,"P2",null,null,null,null,null,null,null,null,null,null,null,null,null,null,null,null,null,null,null,null,null,null,null,null,null,null,null,false]
[2,"A3",null,null,null,null,null,null,null,null,null,null,null,null,null,null,null,null,null,null,null,null,null,null,null,null,null,null,null,false]
[2,"B3",null,null,null,null,null,null,null,null,null,null,null,null,null,null,null,null,null,null,null,null,null,null,null,null,null,null,null,false]
[2,"C3",null,null,null,null,null,null,null,null,null,null,null,null,null,null,null,null,null,null,null,null,null,null,null,null,null,null,null,{"$f":"IF(COUNTBLANK(D420)=0,A420)","v":false}]
[2,"D3",null,null,null,null,null,null,null,null,null,null,null,null,null,null,null,null,null,null,null,null,null,null,null,null,null,null,null,false]
[2,"E3",null,null,null,null,null,null,null,null,null,null,null,null,null,null,null,null,null,null,null,null,null,null,null,null,null,null,null,false]
[2,"F3",null,null,null,null,null,null,null,null,null,null,null,null,null,null,null,null,null,null,null,null,null,null,null,null,null,null,null,false]
[2,"G3",null,null,null,null,null,null,null,null,null,null,null,null,null,null,null,null,null,null,null,null,null,null,null,null,null,null,null,false]
[2,"H3",null,null,null,null,null,null,null,null,null,null,null,null,null,null,null,null,null,null,null,null,null,null,null,null,null,null,null,false]
[2,"I3",null,null,null,null,null,null,null,null,null,null,null,null,null,null,null,null,null,null,null,null,null,null,null,null,null,null,null,false]
[2,"J3",null,null,null,null,null,null,null,null,null,null,null,null,null,null,null,null,null,null,null,null,null,null,null,null,null,null,null,false]
[2,"K3",null,null,null,null,null,null,null,null,null,null,null,null,null,null,null,null,null,null,null,null,null,null,null,null,null,null,null,false]
[2,"L3",null,null,null,null,null,null,null,null,null,null,null,null,null,null,null,null,null,null,null,null,null,null,null,null,null,null,null,false]
[2,"M3",null,null,null,null,null,null,null,null,null,null,null,null,null,null,null,null,null,null,null,null,null,null,null,null,null,null,null,false]
[2,"N3",null,null,null,null,null,null,null,null,null,null,null,null,null,null,null,null,null,null,null,null,null,null,null,null,null,null,null,false]
[2,"O3",null,null,null,null,null,null,null,null,null,null,null,null,null,null,null,null,null,null,null,null,null,null,null,null,null,null,null,false]
[2,"P3",null,null,null,null,null,null,null,null,null,null,null,null,null,null,null,null,null,null,null,null,null,null,null,null,null,null,null,false]
[2,"A4",null,null,null,null,null,null,null,null,null,null,null,null,null,null,null,null,null,null,null,null,null,null,null,null,null,null,null,false]
[2,"B4",null,null,null,null,null,null,null,null,null,null,null,null,null,null,null,null,null,null,null,null,null,null,null,null,null,null,null,false]
[2,"C4",null,null,null,null,null,null,null,null,null,null,null,null,null,null,null,null,null,null,null,null,null,null,null,null,null,null,null,false]
[2,"D4",null,null,null,null,null,null,null,null,null,null,null,null,null,null,null,null,null,null,null,null,null,null,null,null,null,null,null,false]
[2,"E4",null,null,null,null,null,null,null,null,null,null,null,null,null,null,null,null,null,null,null,null,null,null,null,null,null,null,null,false]
[2,"F4",null,null,null,null,null,null,null,null,null,null,null,null,null,null,null,null,null,null,null,null,null,null,null,null,null,null,null,false]
[2,"G4",null,null,null,null,null,null,null,null,null,null,null,null,null,null,null,null,null,null,null,null,null,null,null,null,null,null,null,false]
[2,"H4",null,null,null,null,null,null,null,null,null,null,null,null,null,null,null,null,null,null,null,null,null,null,null,null,null,null,null,false]
[2,"I4",null,null,null,null,null,null,null,null,null,null,null,null,null,null,null,null,null,null,null,null,null,null,null,null,null,null,null,false]
[2,"J4",null,null,null,null,null,null,null,null,null,null,null,null,null,null,null,null,null,null,null,null,null,null,null,null,null,null,null,false]
[2,"K4",null,null,null,null,null,null,null,null,null,null,null,null,null,null,null,null,null,null,null,null,null,null,null,null,null,null,null,false]
[2,"L4",null,null,null,null,null,null,null,null,null,null,null,null,null,null,null,null,null,null,null,null,null,null,null,null,null,null,null,false]
[2,"M4",null,null,null,null,null,null,null,null,null,null,null,null,null,null,null,null,null,null,null,null,null,null,null,null,null,null,null,false]
[2,"N4",null,null,null,null,null,null,null,null,null,null,null,null,null,null,null,null,null,null,null,null,null,null,null,null,null,null,null,false]
[2,"O4",null,null,null,null,null,null,null,null,null,null,null,null,null,null,null,null,null,null,null,null,null,null,null,null,null,null,null,false]
[2,"P4",null,null,null,null,null,null,null,null,null,null,null,null,null,null,null,null,null,null,null,null,null,null,null,null,null,null,null,false]
[2,"A5",null,null,null,null,null,null,null,null,null,null,null,null,null,null,null,null,null,null,null,null,null,null,null,null,null,null,null,false]
[2,"B5",null,null,null,null,null,null,null,null,null,null,null,null,null,null,null,null,null,null,null,null,null,null,null,null,null,null,null,{"$f":"IF(COUNTBLANK(D451)=0,A451)","v":false}]
[2,"C5",null,null,null,null,null,null,null,null,null,null,null,null,null,null,null,null,null,null,null,null,null,null,null,null,null,null,null,{"$f":"IF(COUNTBLANK(D452)=0,A452)","v":false}]
[2,"D5",null,null,null,null,null,null,null,null,null,null,null,null,null,null,null,null,null,null,null,null,null,null,null,null,null,null,null,false]
[2,"E5",null,null,null,null,null,null,null,null,null,null,null,null,null,null,null,null,null,null,null,null,null,null,null,null,null,null,null,false]
[2,"F5",null,null,null,null,null,null,null,null,null,null,null,null,null,null,null,null,null,null,null,null,null,null,null,null,null,null,null,false]
[2,"G5",null,null,null,null,null,null,null,null,null,null,null,null,null,null,null,null,null,null,null,null,null,null,null,null,null,null,null,false]
[2,"H5",null,null,null,null,null,null,null,null,null,null,null,null,null,null,null,null,null,null,null,null,null,null,null,null,null,null,null,false]
[2,"I5",null,null,null,null,null,null,null,null,null,null,null,null,null,null,null,null,null,null,null,null,null,null,null,null,null,null,null,false]
[2,"J5",null,null,null,null,null,null,null,null,null,null,null,null,null,null,null,null,null,null,null,null,null,null,null,null,null,null,null,false]
[2,"K5",null,null,null,null,null,null,null,null,null,null,null,null,null,null,null,null,null,null,null,null,null,null,null,null,null,null,null,false]
[2,"L5",null,null,null,null,null,null,null,null,null,null,null,null,null,null,null,null,null,null,null,null,null,null,null,null,null,null,null,false]
[2,"M5",null,null,null,null,null,null,null,null,null,null,null,null,null,null,null,null,null,null,null,null,null,null,null,null,null,null,null,false]
[2,"N5",null,null,null,null,null,null,null,null,null,null,null,null,null,null,null,null,null,null,null,null,null,null,null,null,null,null,null,false]
[2,"O5",null,null,null,null,null,null,null,null,null,null,null,null,null,null,null,null,null,null,null,null,null,null,null,null,null,null,null,false]
[2,"P5",null,null,null,null,null,null,null,null,null,null,null,null,null,null,null,null,null,null,null,null,null,null,null,null,null,null,null,false]
[2,"A6",null,null,null,null,null,null,null,null,null,null,null,null,null,null,null,null,null,null,null,null,null,null,null,null,null,null,null,false]
[2,"B6",null,null,null,null,null,null,null,null,null,null,null,null,null,null,null,null,null,null,null,null,null,null,null,null,null,null,null,false]
[2,"C6",null,null,null,null,null,null,null,null,null,null,null,null,null,null,null,null,null,null,null,null,null,null,null,null,null,null,null,false]
[2,"D6",null,null,null,null,null,null,null,null,null,null,null,null,null,null,null,null,null,null,null,null,null,null,null,null,null,null,null,false]
[2,"E6",null,null,null,null,null,null,null,null,null,null,null,null,null,null,null,null,null,null,null,null,null,null,null,null,null,null,null,false]
[2,"F6",null,null,null,null,null,null,null,null,null,null,null,null,null,null,null,null,null,null,null,null,null,null,null,null,null,null,null,false]
[2,"G6",null,null,null,null,null,null,null,null,null,null,null,null,null,null,null,null,null,null,null,null,null,null,null,null,null,null,null,false]
[2,"H6",null,null,null,null,null,null,null,null,null,null,null,null,null,null,null,null,null,null,null,null,null,null,null,null,null,null,null,false]
[2,"I6",null,null,null,null,null,null,null,null,null,null,null,null,null,null,null,null,null,null,null,null,null,null,null,null,null,null,null,false]
[2,"J6",null,null,null,null,null,null,null,null,null,null,null,null,null,null,null,null,null,null,null,null,null,null,null,null,null,null,null,false]
[2,"K6",null,null,null,null,null,null,null,null,null,null,null,null,null,null,null,null,null,null,null,null,null,null,null,null,null,null,null,false]
[2,"L6",null,null,null,null,null,null,null,null,null,null,null,null,null,null,null,null,null,null,null,null,null,null,null,null,null,null,null,false]
[2,"M6",null,null,null,null,null,null,null,null,null,null,null,null,null,null,null,null,null,null,null,null,null,null,null,null,null,null,null,false]
[2,"N6",null,null,null,null,null,null,null,null,null,null,null,null,null,null,null,null,null,null,null,null,null,null,null,null,null,null,null,false]
[2,"O6",null,null,null,null,null,null,null,null,null,null,null,null,null,null,null,null,null,null,null,null,null,null,null,null,null,null,null,false]
[2,"P6",null,null,null,null,null,null,null,null,null,null,null,null,null,null,null,null,null,null,null,null,null,null,null,null,null,null,null,false]
[2,"A7",null,null,null,null,null,null,null,null,null,null,null,null,null,null,null,null,null,null,null,null,null,null,null,null,null,null,null,false]
[2,"B7",null,null,null,null,null,null,null,null,null,null,null,null,null,null,null,null,null,null,null,null,null,null,null,null,null,null,null,false]
[2,"C7",null,null,null,null,null,null,null,null,null,null,null,null,null,null,null,null,null,null,null,null,null,null,null,null,null,null,null,{"$f":"IF(COUNTBLANK(D484)=0,A484)","v":false}]
[2,"D7",null,null,null,null,null,null,null,null,null,null,null,null,null,null,null,null,null,null,null,null,null,null,null,null,null,null,null,false]
[2,"E7",null,null,null,null,null,null,null,null,null,null,null,null,null,null,null,null,null,null,null,null,null,null,null,null,null,null,null,false]
[2,"F7",null,null,null,null,null,null,null,null,null,null,null,null,null,null,null,null,null,null,null,null,null,null,null,null,null,null,null,false]
[2,"G7",null,null,null,null,null,null,null,null,null,null,null,null,null,null,null,null,null,null,null,null,null,null,null,null,null,null,null,false]
[2,"H7",null,null,null,null,null,null,null,null,null,null,null,null,null,null,null,null,null,null,null,null,null,null,null,null,null,null,null,false]
[2,"I7",null,null,null,null,null,null,null,null,null,null,null,null,null,null,null,null,null,null,null,null,null,null,null,null,null,null,null,false]
[2,"J7",null,null,null,null,null,null,null,null,null,null,null,null,null,null,null,null,null,null,null,null,null,null,null,null,null,null,null,false]
[2,"K7",null,null,null,null,null,null,null,null,null,null,null,null,null,null,null,null,null,null,null,null,null,null,null,null,null,null,null,false]
[2,"L7",null,null,null,null,null,null,null,null,null,null,null,null,null,null,null,null,null,null,null,null,null,null,null,null,null,null,null,false]
[2,"M7",null,null,null,null,null,null,null,null,null,null,null,null,null,null,null,null,null,null,null,null,null,null,null,null,null,null,null,false]
[2,"N7",null,null,null,null,null,null,null,null,null,null,null,null,null,null,null,null,null,null,null,null,null,null,null,null,null,null,null,false]
[2,"O7",null,null,null,null,null,null,null,null,null,null,null,null,null,null,null,null,null,null,null,null,null,null,null,null,null,null,null,false]
[2,"P7",null,null,null,null,null,null,null,null,null,null,null,null,null,null,null,null,null,null,null,null,null,null,null,null,null,null,null,false]
[2,"A8",null,null,null,null,null,null,null,null,null,null,null,null,null,null,null,null,null,null,null,null,null,null,null,null,null,null,null,false]
[2,"B8",null,null,null,null,null,null,null,null,null,null,null,null,null,null,null,null,null,null,null,null,null,null,null,null,null,null,null,false]
[2,"C8",null,null,null,null,null,null,null,null,null,null,null,null,null,null,null,null,null,null,null,null,null,null,null,null,null,null,null,false]
[2,"D8",null,null,null,null,null,null,null,null,null,null,null,null,null,null,null,null,null,null,null,null,null,null,null,null,null,null,null,false]
[2,"E8",null,null,null,null,null,null,null,null,null,null,null,null,null,null,null,null,null,null,null,null,null,null,null,null,null,null,null,false]
[2,"F8",null,null,null,null,null,null,null,null,null,null,null,null,null,null,null,null,null,null,null,null,null,null,null,null,null,null,null,false]
[2,"G8",null,null,null,null,null,null,null,null,null,null,null,null,null,null,null,null,null,null,null,null,null,null,null,null,null,null,null,false]
[2,"H8",null,null,null,null,null,null,null,null,null,null,null,null,null,null,null,null,null,null,null,null,null,null,null,null,null,null,null,false]
[2,"I8",null,null,null,null,null,null,null,null,null,null,null,null,null,null,null,null,null,null,null,null,null,null,null,null,null,null,null,false]
[2,"J8",null,null,null,null,null,null,null,null,null,null,null,null,null,null,null,null,null,null,null,null,null,null,null,null,null,null,null,false]
[2,"K8",null,null,null,null,null,null,null,null,null,null,null,null,null,null,null,null,null,null,null,null,null,null,null,null,null,null,null,false]
[2,"L8",null,null,null,null,null,null,null,null,null,null,null,null,null,null,null,null,null,null,null,null,null,null,null,null,null,null,null,false]
[2,"M8",null,null,null,null,null,null,null,null,null,null,null,null,null,null,null,null,null,null,null,null,null,null,null,null,null,null,null,false]
[2,"N8",null,null,null,null,null,null,null,null,null,null,null,null,null,null,null,null,null,null,null,null,null,null,null,null,null,null,null,false]
[2,"O8",null,null,null,null,null,null,null,null,null,null,null,null,null,null,null,null,null,null,null,null,null,null,null,null,null,null,null,false]
[2,"P8",null,null,null,null,null,null,null,null,null,null,null,null,null,null,null,null,null,null,null,null,null,null,null,null,null,null,null,false]
[2,"A9",null,null,null,null,null,null,null,null,null,null,null,null,null,null,null,null,null,null,null,null,null,null,null,null,null,null,null,false]
[2,"B9",null,null,null,null,null,null,null,null,null,null,null,null,null,null,null,null,null,null,null,null,null,null,null,null,null,null,null,{"$f":"IF(COUNTBLANK(D515)=0,A515)","v":false}]
[2,"C9",null,null,null,null,null,null,null,null,null,null,null,null,null,null,null,null,null,null,null,null,null,null,null,null,null,null,null,{"$f":"IF(COUNTBLANK(D516)=0,A516)","v":false}]
[2,"D9",null,null,null,null,null,null,null,null,null,null,null,null,null,null,null,null,null,null,null,null,null,null,null,null,null,null,null,false]
[2,"E9",null,null,null,null,null,null,null,null,null,null,null,null,null,null,null,null,null,null,null,null,null,null,null,null,null,null,null,false]
[2,"F9",null,null,null,null,null,null,null,null,null,null,null,null,null,null,null,null,null,null,null,null,null,null,null,null,null,null,null,false]
[2,"G9",null,null,null,null,null,null,null,null,null,null,null,null,null,null,null,null,null,null,null,null,null,null,null,null,null,null,null,false]
[2,"H9",null,null,null,null,null,null,null,null,null,null,null,null,null,null,null,null,null,null,null,null,null,null,null,null,null,null,null,false]
[2,"I9",null,null,null,null,null,null,null,null,null,null,null,null,null,null,null,null,null,null,null,null,null,null,null,null,null,null,null,false]
[2,"J9",null,null,null,null,null,null,null,null,null,null,null,null,null,null,null,null,null,null,null,null,null,null,null,null,null,null,null,false]
[2,"K9",null,null,null,null,null,null,null,null,null,null,null,null,null,null,null,null,null,null,null,null,null,null,null,null,null,null,null,false]
[2,"L9",null,null,null,null,null,null,null,null,null,null,null,null,null,null,null,null,null,null,null,null,null,null,null,null,null,null,null,false]
[2,"M9",null,null,null,null,null,null,null,null,null,null,null,null,null,null,null,null,null,null,null,null,null,null,null,null,null,null,null,false]
[2,"N9",null,null,null,null,null,null,null,null,null,null,null,null,null,null,null,null,null,null,null,null,null,null,null,null,null,null,null,false]
[2,"O9",null,null,null,null,null,null,null,null,null,null,null,null,null,null,null,null,null,null,null,null,null,null,null,null,null,null,null,false]
[2,"P9",null,null,null,null,null,null,null,null,null,null,null,null,null,null,null,null,null,null,null,null,null,null,null,null,null,null,null,false]
[2,"A10",null,null,null,null,null,null,null,null,null,null,null,null,null,null,null,null,null,null,null,null,null,null,null,null,null,null,null,false]
[2,"B10",null,null,null,null,null,null,null,null,null,null,null,null,null,null,null,null,null,null,null,null,null,null,null,null,null,null,null,false]
[2,"C10",null,null,null,null,null,null,null,null,null,null,null,null,null,null,null,null,null,null,null,null,null,null,null,null,null,null,null,false]
[2,"D10",null,null,null,null,null,null,null,null,null,null,null,null,null,null,null,null,null,null,null,null,null,null,null,null,null,null,null,false]
[2,"E10",null,null,null,null,null,null,null,null,null,null,null,null,null,null,null,null,null,null,null,null,null,null,null,null,null,null,null,false]
[2,"F10",null,null,null,null,null,null,null,null,null,null,null,null,null,null,null,null,null,null,null,null,null,null,null,null,null,null,null,false]
[2,"G10",null,null,null,null,null,null,null,null,null,null,null,null,null,null,null,null,null,null,null,null,null,null,null,null,null,null,null,false]
[2,"H10",null,null,null,null,null,null,null,null,null,null,null,null,null,null,null,null,null,null,null,null,null,null,null,null,null,null,null,false]
[2,"I10",null,null,null,null,null,null,null,null,null,null,null,null,null,null,null,null,null,null,null,null,null,null,null,null,null,null,null,false]
[2,"J10",null,null,null,null,null,null,null,null,null,null,null,null,null,null,null,null,null,null,null,null,null,null,null,null,null,null,null,false]
[2,"K10",null,null,null,null,null,null,null,null,null,null,null,null,null,null,null,null,null,null,null,null,null,null,null,null,null,null,null,false]
[2,"L10",null,null,null,null,null,null,null,null,null,null,null,null,null,null,null,null,null,null,null,null,null,null,null,null,null,null,null,false]
[2,"M10",null,null,null,null,null,null,null,null,null,null,null,null,null,null,null,null,null,null,null,null,null,null,null,null,null,null,null,false]
[2,"N10",null,null,null,null,null,null,null,null,null,null,null,null,null,null,null,null,null,null,null,null,null,null,null,null,null,null,null,false]
[2,"O10",null,null,null,null,null,null,null,null,null,null,null,null,null,null,null,null,null,null,null,null,null,null,null,null,null,null,null,false]
[2,"P10",null,null,null,null,null,null,null,null,null,null,null,null,null,null,null,null,null,null,null,null,null,null,null,null,null,null,null,false]
[2,"A11",null,null,null,null,null,null,null,null,null,null,null,null,null,null,null,null,null,null,null,null,null,null,null,null,null,null,null,false]
[2,"B11",null,null,null,null,null,null,null,null,null,null,null,null,null,null,null,null,null,null,null,null,null,null,null,null,null,null,null,false]
[2,"C11",null,null,null,null,null,null,null,null,null,null,null,null,null,null,null,null,null,null,null,null,null,null,null,null,null,null,null,{"$f":"IF(COUNTBLANK(D548)=0,A548)","v":false}]
[2,"D11",null,null,null,null,null,null,null,null,null,null,null,null,null,null,null,null,null,null,null,null,null,null,null,null,null,null,null,false]
[2,"E11",null,null,null,null,null,null,null,null,null,null,null,null,null,null,null,null,null,null,null,null,null,null,null,null,null,null,null,false]
[2,"F11",null,null,null,null,null,null,null,null,null,null,null,null,null,null,null,null,null,null,null,null,null,null,null,null,null,null,null,false]
[2,"G11",null,null,null,null,null,null,null,null,null,null,null,null,null,null,null,null,null,null,null,null,null,null,null,null,null,null,null,false]
[2,"H11",null,null,null,null,null,null,null,null,null,null,null,null,null,null,null,null,null,null,null,null,null,null,null,null,null,null,null,false]
[2,"I11",null,null,null,null,null,null,null,null,null,null,null,null,null,null,null,null,null,null,null,null,null,null,null,null,null,null,null,false]
[2,"J11",null,null,null,null,null,null,null,null,null,null,null,null,null,null,null,null,null,null,null,null,null,null,null,null,null,null,null,false]
[2,"K11",null,null,null,null,null,null,null,null,null,null,null,null,null,null,null,null,null,null,null,null,null,null,null,null,null,null,null,false]
[2,"L11",null,null,null,null,null,null,null,null,null,null,null,null,null,null,null,null,null,null,null,null,null,null,null,null,null,null,null,false]
[2,"M11",null,null,null,null,null,null,null,null,null,null,null,null,null,null,null,null,null,null,null,null,null,null,null,null,null,null,null,false]
[2,"N11",null,null,null,null,null,null,null,null,null,null,null,null,null,null,null,null,null,null,null,null,null,null,null,null,null,null,null,false]
[2,"O11",null,null,null,null,null,null,null,null,null,null,null,null,null,null,null,null,null,null,null,null,null,null,null,null,null,null,null,false]
[2,"P11",null,null,null,null,null,null,null,null,null,null,null,null,null,null,null,null,null,null,null,null,null,null,null,null,null,null,null,false]
[2,"A12",null,null,null,null,null,null,null,null,null,null,null,null,null,null,null,null,null,null,null,null,null,null,null,null,null,null,null,false]
[2,"B12",null,null,null,null,null,null,null,null,null,null,null,null,null,null,null,null,null,null,null,null,null,null,null,null,null,null,null,false]
[2,"C12",null,null,null,null,null,null,null,null,null,null,null,null,null,null,null,null,null,null,null,null,null,null,null,null,null,null,null,false]
[2,"D12",null,null,null,null,null,null,null,null,null,null,null,null,null,null,null,null,null,null,null,null,null,null,null,null,null,null,null,false]
[2,"E12",null,null,null,null,null,null,null,null,null,null,null,null,null,null,null,null,null,null,null,null,null,null,null,null,null,null,null,false]
[2,"F12",null,null,null,null,null,null,null,null,null,null,null,null,null,null,null,null,null,null,null,null,null,null,null,null,null,null,null,false]
[2,"G12",null,null,null,null,null,null,null,null,null,null,null,null,null,null,null,null,null,null,null,null,null,null,null,null,null,null,null,false]
[2,"H12",null,null,null,null,null,null,null,null,null,null,null,null,null,null,null,null,null,null,null,null,null,null,null,null,null,null,null,false]
[2,"I12",null,null,null,null,null,null,null,null,null,null,null,null,null,null,null,null,null,null,null,null,null,null,null,null,null,null,null,false]
[2,"J12",null,null,null,null,null,null,null,null,null,null,null,null,null,null,null,null,null,null,null,null,null,null,null,null,null,null,null,false]
[2,"K12",null,null,null,null,null,null,null,null,null,null,null,null,null,null,null,null,null,null,null,null,null,null,null,null,null,null,null,false]
[2,"L12",null,null,null,null,null,null,null,null,null,null,null,null,null,null,null,null,null,null,null,null,null,null,null,null,null,null,null,false]
[2,"M12",null,null,null,null,null,null,null,null,null,null,null,null,null,null,null,null,null,null,null,null,null,null,null,null,null,null,null,false]
[2,"N12",null,null,null,null,null,null,null,null,null,null,null,null,null,null,null,null,null,null,null,null,null,null,null,null,null,null,null,false]
[2,"O12",null,null,null,null,null,null,null,null,null,null,null,null,null,null,null,null,null,null,null,null,null,null,null,null,null,null,null,false]
[2,"P12",null,null,null,null,null,null,null,null,null,null,null,null,null,null,null,null,null,null,null,null,null,null,null,null,null,null,null,false]
[2,"A13",null,null,null,null,null,null,null,null,null,null,null,null,null,null,null,null,null,null,null,null,null,null,null,null,null,null,null,false]
[2,"B13",null,null,null,null,null,null,null,null,null,null,null,null,null,null,null,null,null,null,null,null,null,null,null,null,null,null,null,{"$f":"IF(COUNTBLANK(D579)=0,A579)","v":false}]
[2,"C13",null,null,null,null,null,null,null,null,null,null,null,null,null,null,null,null,null,null,null,null,null,null,null,null,null,null,null,{"$f":"IF(COUNTBLANK(D580)=0,A580)","v":false}]
[2,"D13",null,null,null,null,null,null,null,null,null,null,null,null,null,null,null,null,null,null,null,null,null,null,null,null,null,null,null,false]
[2,"E13",null,null,null,null,null,null,null,null,null,null,null,null,null,null,null,null,null,null,null,null,null,null,null,null,null,null,null,false]
[2,"F13",null,null,null,null,null,null,null,null,null,null,null,null,null,null,null,null,null,null,null,null,null,null,null,null,null,null,null,false]
[2,"G13",null,null,null,null,null,null,null,null,null,null,null,null,null,null,null,null,null,null,null,null,null,null,null,null,null,null,null,false]
[2,"H13",null,null,null,null,null,null,null,null,null,null,null,null,null,null,null,null,null,null,null,null,null,null,null,null,null,null,null,false]
[2,"I13",null,null,null,null,null,null,null,null,null,null,null,null,null,null,null,null,null,null,null,null,null,null,null,null,null,null,null,false]
[2,"J13",null,null,null,null,null,null,null,null,null,null,null,null,null,null,null,null,null,null,null,null,null,null,null,null,null,null,null,false]
[2,"K13",null,null,null,null,null,null,null,null,null,null,null,null,null,null,null,null,null,null,null,null,null,null,null,null,null,null,null,false]
[2,"L13",null,null,null,null,null,null,null,null,null,null,null,null,null,null,null,null,null,null,null,null,null,null,null,null,null,null,null,false]
[2,"M13",null,null,null,null,null,null,null,null,null,null,null,null,null,null,null,null,null,null,null,null,null,null,null,null,null,null,null,false]
[2,"N13",null,null,null,null,null,null,null,null,null,null,null,null,null,null,null,null,null,null,null,null,null,null,null,null,null,null,null,false]
[2,"O13",null,null,null,null,null,null,null,null,null,null,null,null,null,null,null,null,null,null,null,null,null,null,null,null,null,null,null,false]
[2,"P13",null,null,null,null,null,null,null,null,null,null,null,null,null,null,null,null,null,null,null,null,null,null,null,null,null,null,null,false]
[2,"A14",null,null,null,null,null,null,null,null,null,null,null,null,null,null,null,null,null,null,null,null,null,null,null,null,null,null,null,false]
[2,"B14",null,null,null,null,null,null,null,null,null,null,null,null,null,null,null,null,null,null,null,null,null,null,null,null,null,null,null,false]
[2,"C14",null,null,null,null,null,null,null,null,null,null,null,null,null,null,null,null,null,null,null,null,null,null,null,null,null,null,null,false]
[2,"D14",null,null,null,null,null,null,null,null,null,null,null,null,null,null,null,null,null,null,null,null,null,null,null,null,null,null,null,false]
[2,"E14",null,null,null,null,null,null,null,null,null,null,null,null,null,null,null,null,null,null,null,null,null,null,null,null,null,null,null,false]
[2,"F14",null,null,null,null,null,null,null,null,null,null,null,null,null,null,null,null,null,null,null,null,null,null,null,null,null,null,null,false]
[2,"G14",null,null,null,null,null,null,null,null,null,null,null,null,null,null,null,null,null,null,null,null,null,null,null,null,null,null,null,false]
[2,"H14",null,null,null,null,null,null,null,null,null,null,null,null,null,null,null,null,null,null,null,null,null,null,null,null,null,null,null,false]
[2,"I14",null,null,null,null,null,null,null,null,null,null,null,null,null,null,null,null,null,null,null,null,null,null,null,null,null,null,null,false]
[2,"J14",null,null,null,null,null,null,null,null,null,null,null,null,null,null,null,null,null,null,null,null,null,null,null,null,null,null,null,false]
[2,"K14",null,null,null,null,null,null,null,null,null,null,null,null,null,null,null,null,null,null,null,null,null,null,null,null,null,null,null,false]
[2,"L14",null,null,null,null,null,null,null,null,null,null,null,null,null,null,null,null,null,null,null,null,null,null,null,null,null,null,null,false]
[2,"M14",null,null,null,null,null,null,null,null,null,null,null,null,null,null,null,null,null,null,null,null,null,null,null,null,null,null,null,false]
[2,"N14",null,null,null,null,null,null,null,null,null,null,null,null,null,null,null,null,null,null,null,null,null,null,null,null,null,null,null,false]
[2,"O14",null,null,null,null,null,null,null,null,null,null,null,null,null,null,null,null,null,null,null,null,null,null,null,null,null,null,null,false]
[2,"P14",null,null,null,null,null,null,null,null,null,null,null,null,null,null,null,null,null,null,null,null,null,null,null,null,null,null,null,false]
[2,"A15",null,null,null,null,null,null,null,null,null,null,null,null,null,null,null,null,null,null,null,null,null,null,null,null,null,null,null,false]
[2,"B15",null,null,null,null,null,null,null,null,null,null,null,null,null,null,null,null,null,null,null,null,null,null,null,null,null,null,null,false]
[2,"C15",null,null,null,null,null,null,null,null,null,null,null,null,null,null,null,null,null,null,null,null,null,null,null,null,null,null,null,{"$f":"IF(COUNTBLANK(D612)=0,A612)","v":false}]
[2,"D15",null,null,null,null,null,null,null,null,null,null,null,null,null,null,null,null,null,null,null,null,null,null,null,null,null,null,null,false]
[2,"E15",null,null,null,null,null,null,null,null,null,null,null,null,null,null,null,null,null,null,null,null,null,null,null,null,null,null,null,false]
[2,"F15",null,null,null,null,null,null,null,null,null,null,null,null,null,null,null,null,null,null,null,null,null,null,null,null,null,null,null,false]
[2,"G15",null,null,null,null,null,null,null,null,null,null,null,null,null,null,null,null,null,null,null,null,null,null,null,null,null,null,null,false]
[2,"H15",null,null,null,null,null,null,null,null,null,null,null,null,null,null,null,null,null,null,null,null,null,null,null,null,null,null,null,false]
[2,"I15",null,null,null,null,null,null,null,null,null,null,null,null,null,null,null,null,null,null,null,null,null,null,null,null,null,null,null,false]
[2,"J15",null,null,null,null,null,null,null,null,null,null,null,null,null,null,null,null,null,null,null,null,null,null,null,null,null,null,null,false]
[2,"K15",null,null,null,null,null,null,null,null,null,null,null,null,null,null,null,null,null,null,null,null,null,null,null,null,null,null,null,false]
[2,"L15",null,null,null,null,null,null,null,null,null,null,null,null,null,null,null,null,null,null,null,null,null,null,null,null,null,null,null,false]
[2,"M15",null,null,null,null,null,null,null,null,null,null,null,null,null,null,null,null,null,null,null,null,null,null,null,null,null,null,null,false]
[2,"N15",null,null,null,null,null,null,null,null,null,null,null,null,null,null,null,null,null,null,null,null,null,null,null,null,null,null,null,false]
[2,"O15",null,null,null,null,null,null,null,null,null,null,null,null,null,null,null,null,null,null,null,null,null,null,null,null,null,null,null,false]
[2,"P15",null,null,null,null,null,null,null,null,null,null,null,null,null,null,null,null,null,null,null,null,null,null,null,null,null,null,null,false]
[2,"A16",null,null,null,null,null,null,null,null,null,null,null,null,null,null,null,null,null,null,null,null,null,null,null,null,null,null,null,false]
[2,"B16",null,null,null,null,null,null,null,null,null,null,null,null,null,null,null,null,null,null,null,null,null,null,null,null,null,null,null,false]
[2,"C16",null,null,null,null,null,null,null,null,null,null,null,null,null,null,null,null,null,null,null,null,null,null,null,null,null,null,null,false]
[2,"D16",null,null,null,null,null,null,null,null,null,null,null,null,null,null,null,null,null,null,null,null,null,null,null,null,null,null,null,false]
[2,"E16",null,null,null,null,null,null,null,null,null,null,null,null,null,null,null,null,null,null,null,null,null,null,null,null,null,null,null,false]
[2,"F16",null,null,null,null,null,null,null,null,null,null,null,null,null,null,null,null,null,null,null,null,null,null,null,null,null,null,null,false]
[2,"G16",null,null,null,null,null,null,null,null,null,null,null,null,null,null,null,null,null,null,null,null,null,null,null,null,null,null,null,false]
[2,"H16",null,null,null,null,null,null,null,null,null,null,null,null,null,null,null,null,null,null,null,null,null,null,null,null,null,null,null,false]
[2,"I16",null,null,null,null,null,null,null,null,null,null,null,null,null,null,null,null,null,null,null,null,null,null,null,null,null,null,null,false]
[2,"J16",null,null,null,null,null,null,null,null,null,null,null,null,null,null,null,null,null,null,null,null,null,null,null,null,null,null,null,false]
[2,"K16",null,null,null,null,null,null,null,null,null,null,null,null,null,null,null,null,null,null,null,null,null,null,null,null,null,null,null,false]
[2,"L16",null,null,null,null,null,null,null,null,null,null,null,null,null,null,null,null,null,null,null,null,null,null,null,null,null,null,null,false]
[2,"M16",null,null,null,null,null,null,null,null,null,null,null,null,null,null,null,null,null,null,null,null,null,null,null,null,null,null,null,false]
[2,"N16",null,null,null,null,null,null,null,null,null,null,null,null,null,null,null,null,null,null,null,null,null,null,null,null,null,null,null,false]
[2,"O16",null,null,null,null,null,null,null,null,null,null,null,null,null,null,null,null,null,null,null,null,null,null,null,null,null,null,null,false]
[2,"P16",null,null,null,null,null,null,null,null,null,null,null,null,null,null,null,null,null,null,null,null,null,null,null,null,null,null,null,false]
[2,"A17",null,null,null,null,null,null,null,null,null,null,null,null,null,null,null,null,null,null,null,null,null,null,null,null,null,null,null,false]
[2,"B17",null,null,null,null,null,null,null,null,null,null,null,null,null,null,null,null,null,null,null,null,null,null,null,null,null,null,null,{"$f":"IF(COUNTBLANK(D643)=0,A643)","v":false}]
[2,"C17",null,null,null,null,null,null,null,null,null,null,null,null,null,null,null,null,null,null,null,null,null,null,null,null,null,null,null,{"$f":"IF(COUNTBLANK(D644)=0,A644)","v":false}]
[2,"D17",null,null,null,null,null,null,null,null,null,null,null,null,null,null,null,null,null,null,null,null,null,null,null,null,null,null,null,false]
[2,"E17",null,null,null,null,null,null,null,null,null,null,null,null,null,null,null,null,null,null,null,null,null,null,null,null,null,null,null,false]
[2,"F17",null,null,null,null,null,null,null,null,null,null,null,null,null,null,null,null,null,null,null,null,null,null,null,null,null,null,null,false]
[2,"G17",null,null,null,null,null,null,null,null,null,null,null,null,null,null,null,null,null,null,null,null,null,null,null,null,null,null,null,false]
[2,"H17",null,null,null,null,null,null,null,null,null,null,null,null,null,null,null,null,null,null,null,null,null,null,null,null,null,null,null,false]
[2,"I17",null,null,null,null,null,null,null,null,null,null,null,null,null,null,null,null,null,null,null,null,null,null,null,null,null,null,null,false]
[2,"J17",null,null,null,null,null,null,null,null,null,null,null,null,null,null,null,null,null,null,null,null,null,null,null,null,null,null,null,false]
[2,"K17",null,null,null,null,null,null,null,null,null,null,null,null,null,null,null,null,null,null,null,null,null,null,null,null,null,null,null,false]
[2,"L17",null,null,null,null,null,null,null,null,null,null,null,null,null,null,null,null,null,null,null,null,null,null,null,null,null,null,null,false]
[2,"M17",null,null,null,null,null,null,null,null,null,null,null,null,null,null,null,null,null,null,null,null,null,null,null,null,null,null,null,false]
[2,"N17",null,null,null,null,null,null,null,null,null,null,null,null,null,null,null,null,null,null,null,null,null,null,null,null,null,null,null,false]
[2,"O17",null,null,null,null,null,null,null,null,null,null,null,null,null,null,null,null,null,null,null,null,null,null,null,null,null,null,null,false]
[2,"P17",null,null,null,null,null,null,null,null,null,null,null,null,null,null,null,null,null,null,null,null,null,null,null,null,null,null,null,false]
[2,"A18",null,null,null,null,null,null,null,null,null,null,null,null,null,null,null,null,null,null,null,null,null,null,null,null,null,null,null,false]
[2,"B18",null,null,null,null,null,null,null,null,null,null,null,null,null,null,null,null,null,null,null,null,null,null,null,null,null,null,null,false]
[2,"C18",null,null,null,null,null,null,null,null,null,null,null,null,null,null,null,null,null,null,null,null,null,null,null,null,null,null,null,false]
[2,"D18",null,null,null,null,null,null,null,null,null,null,null,null,null,null,null,null,null,null,null,null,null,null,null,null,null,null,null,false]
[2,"E18",null,null,null,null,null,null,null,null,null,null,null,null,null,null,null,null,null,null,null,null,null,null,null,null,null,null,null,false]
[2,"F18",null,null,null,null,null,null,null,null,null,null,null,null,null,null,null,null,null,null,null,null,null,null,null,null,null,null,null,false]
[2,"G18",null,null,null,null,null,null,null,null,null,null,null,null,null,null,null,null,null,null,null,null,null,null,null,null,null,null,null,false]
[2,"H18",null,null,null,null,null,null,null,null,null,null,null,null,null,null,null,null,null,null,null,null,null,null,null,null,null,null,null,false]
[2,"I18",null,null,null,null,null,null,null,null,null,null,null,null,null,null,null,null,null,null,null,null,null,null,null,null,null,null,null,false]
[2,"J18",null,null,null,null,null,null,null,null,null,null,null,null,null,null,null,null,null,null,null,null,null,null,null,null,null,null,null,false]
[2,"K18",null,null,null,null,null,null,null,null,null,null,null,null,null,null,null,null,null,null,null,null,null,null,null,null,null,null,null,false]
[2,"L18",null,null,null,null,null,null,null,null,null,null,null,null,null,null,null,null,null,null,null,null,null,null,null,null,null,null,null,false]
[2,"M18",null,null,null,null,null,null,null,null,null,null,null,null,null,null,null,null,null,null,null,null,null,null,null,null,null,null,null,false]
[2,"N18",null,null,null,null,null,null,null,null,null,null,null,null,null,null,null,null,null,null,null,null,null,null,null,null,null,null,null,false]
[2,"O18",null,null,null,null,null,null,null,null,null,null,null,null,null,null,null,null,null,null,null,null,null,null,null,null,null,null,null,false]
[2,"P18",null,null,null,null,null,null,null,null,null,null,null,null,null,null,null,null,null,null,null,null,null,null,null,null,null,null,null,false]
[2,"A19",null,null,null,null,null,null,null,null,null,null,null,null,null,null,null,null,null,null,null,null,null,null,null,null,null,null,null,false]
[2,"B19",null,null,null,null,null,null,null,null,null,null,null,null,null,null,null,null,null,null,null,null,null,null,null,null,null,null,null,false]
[2,"C19",null,null,null,null,null,null,null,null,null,null,null,null,null,null,null,null,null,null,null,null,null,null,null,null,null,null,null,{"$f":"IF(COUNTBLANK(D676)=0,A676)","v":false}]
[2,"D19",null,null,null,null,null,null,null,null,null,null,null,null,null,null,null,null,null,null,null,null,null,null,null,null,null,null,null,false]
[2,"E19",null,null,null,null,null,null,null,null,null,null,null,null,null,null,null,null,null,null,null,null,null,null,null,null,null,null,null,false]
[2,"F19",null,null,null,null,null,null,null,null,null,null,null,null,null,null,null,null,null,null,null,null,null,null,null,null,null,null,null,false]
[2,"G19",null,null,null,null,null,null,null,null,null,null,null,null,null,null,null,null,null,null,null,null,null,null,null,null,null,null,null,false]
[2,"H19",null,null,null,null,null,null,null,null,null,null,null,null,null,null,null,null,null,null,null,null,null,null,null,null,null,null,null,false]
[2,"I19",null,null,null,null,null,null,null,null,null,null,null,null,null,null,null,null,null,null,null,null,null,null,null,null,null,null,null,false]
[2,"J19",null,null,null,null,null,null,null,null,null,null,null,null,null,null,null,null,null,null,null,null,null,null,null,null,null,null,null,false]
[2,"K19",null,null,null,null,null,null,null,null,null,null,null,null,null,null,null,null,null,null,null,null,null,null,null,null,null,null,null,false]
[2,"L19",null,null,null,null,null,null,null,null,null,null,null,null,null,null,null,null,null,null,null,null,null,null,null,null,null,null,null,false]
[2,"M19",null,null,null,null,null,null,null,null,null,null,null,null,null,null,null,null,null,null,null,null,null,null,null,null,null,null,null,false]
[2,"N19",null,null,null,null,null,null,null,null,null,null,null,null,null,null,null,null,null,null,null,null,null,null,null,null,null,null,null,false]
[2,"O19",null,null,null,null,null,null,null,null,null,null,null,null,null,null,null,null,null,null,null,null,null,null,null,null,null,null,null,false]
[2,"P19",null,null,null,null,null,null,null,null,null,null,null,null,null,null,null,null,null,null,null,null,null,null,null,null,null,null,null,false]
[2,"A20",null,null,null,null,null,null,null,null,null,null,null,null,null,null,null,null,null,null,null,null,null,null,null,null,null,null,null,false]
[2,"B20",null,null,null,null,null,null,null,null,null,null,null,null,null,null,null,null,null,null,null,null,null,null,null,null,null,null,null,false]
[2,"C20",null,null,null,null,null,null,null,null,null,null,null,null,null,null,null,null,null,null,null,null,null,null,null,null,null,null,null,false]
[2,"D20",null,null,null,null,null,null,null,null,null,null,null,null,null,null,null,null,null,null,null,null,null,null,null,null,null,null,null,false]
[2,"E20",null,null,null,null,null,null,null,null,null,null,null,null,null,null,null,null,null,null,null,null,null,null,null,null,null,null,null,false]
[2,"F20",null,null,null,null,null,null,null,null,null,null,null,null,null,null,null,null,null,null,null,null,null,null,null,null,null,null,null,false]
[2,"G20",null,null,null,null,null,null,null,null,null,null,null,null,null,null,null,null,null,null,null,null,null,null,null,null,null,null,null,false]
[2,"H20",null,null,null,null,null,null,null,null,null,null,null,null,null,null,null,null,null,null,null,null,null,null,null,null,null,null,null,false]
[2,"I20",null,null,null,null,null,null,null,null,null,null,null,null,null,null,null,null,null,null,null,null,null,null,null,null,null,null,null,false]
[2,"J20",null,null,null,null,null,null,null,null,null,null,null,null,null,null,null,null,null,null,null,null,null,null,null,null,null,null,null,false]
[2,"K20",null,null,null,null,null,null,null,null,null,null,null,null,null,null,null,null,null,null,null,null,null,null,null,null,null,null,null,false]
[2,"L20",null,null,null,null,null,null,null,null,null,null,null,null,null,null,null,null,null,null,null,null,null,null,null,null,null,null,null,false]
[2,"M20",null,null,null,null,null,null,null,null,null,null,null,null,null,null,null,null,null,null,null,null,null,null,null,null,null,null,null,false]
[2,"N20",null,null,null,null,null,null,null,null,null,null,null,null,null,null,null,null,null,null,null,null,null,null,null,null,null,null,null,false]
[2,"O20",null,null,null,null,null,null,null,null,null,null,null,null,null,null,null,null,null,null,null,null,null,null,null,null,null,null,null,false]
[2,"P20",null,null,null,null,null,null,null,null,null,null,null,null,null,null,null,null,null,null,null,null,null,null,null,null,null,null,null,false]
[2,"A21",null,null,null,null,null,null,null,null,null,null,null,null,null,null,null,null,null,null,null,null,null,null,null,null,null,null,null,false]
[2,"B21",null,null,null,null,null,null,null,null,null,null,null,null,null,null,null,null,null,null,null,null,null,null,null,null,null,null,null,{"$f":"IF(COUNTBLANK(D707)=0,A707)","v":false}]
[2,"C21",null,null,null,null,null,null,null,null,null,null,null,null,null,null,null,null,null,null,null,null,null,null,null,null,null,null,null,{"$f":"IF(COUNTBLANK(D708)=0,A708)","v":false}]
[2,"D21",null,null,null,null,null,null,null,null,null,null,null,null,null,null,null,null,null,null,null,null,null,null,null,null,null,null,null,false]
[2,"E21",null,null,null,null,null,null,null,null,null,null,null,null,null,null,null,null,null,null,null,null,null,null,null,null,null,null,null,false]
[2,"F21",null,null,null,null,null,null,null,null,null,null,null,null,null,null,null,null,null,null,null,null,null,null,null,null,null,null,null,false]
[2,"G21",null,null,null,null,null,null,null,null,null,null,null,null,null,null,null,null,null,null,null,null,null,null,null,null,null,null,null,false]
[2,"H21",null,null,null,null,null,null,null,null,null,null,null,null,null,null,null,null,null,null,null,null,null,null,null,null,null,null,null,false]
[2,"I21",null,null,null,null,null,null,null,null,null,null,null,null,null,null,null,null,null,null,null,null,null,null,null,null,null,null,null,false]
[2,"J21",null,null,null,null,null,null,null,null,null,null,null,null,null,null,null,null,null,null,null,null,null,null,null,null,null,null,null,false]
[2,"K21",null,null,null,null,null,null,null,null,null,null,null,null,null,null,null,null,null,null,null,null,null,null,null,null,null,null,null,false]
[2,"L21",null,null,null,null,null,null,null,null,null,null,null,null,null,null,null,null,null,null,null,null,null,null,null,null,null,null,null,false]
[2,"M21",null,null,null,null,null,null,null,null,null,null,null,null,null,null,null,null,null,null,null,null,null,null,null,null,null,null,null,false]
[2,"N21",null,null,null,null,null,null,null,null,null,null,null,null,null,null,null,null,null,null,null,null,null,null,null,null,null,null,null,false]
[2,"O21",null,null,null,null,null,null,null,null,null,null,null,null,null,null,null,null,null,null,null,null,null,null,null,null,null,null,null,false]
[2,"P21",null,null,null,null,null,null,null,null,null,null,null,null,null,null,null,null,null,null,null,null,null,null,null,null,null,null,null,false]
[2,"A22",null,null,null,null,null,null,null,null,null,null,null,null,null,null,null,null,null,null,null,null,null,null,null,null,null,null,null,false]
[2,"B22",null,null,null,null,null,null,null,null,null,null,null,null,null,null,null,null,null,null,null,null,null,null,null,null,null,null,null,false]
[2,"C22",null,null,null,null,null,null,null,null,null,null,null,null,null,null,null,null,null,null,null,null,null,null,null,null,null,null,null,false]
[2,"D22",null,null,null,null,null,null,null,null,null,null,null,null,null,null,null,null,null,null,null,null,null,null,null,null,null,null,null,false]
[2,"E22",null,null,null,null,null,null,null,null,null,null,null,null,null,null,null,null,null,null,null,null,null,null,null,null,null,null,null,false]
[2,"F22",null,null,null,null,null,null,null,null,null,null,null,null,null,null,null,null,null,null,null,null,null,null,null,null,null,null,null,false]
[2,"G22",null,null,null,null,null,null,null,null,null,null,null,null,null,null,null,null,null,null,null,null,null,null,null,null,null,null,null,false]
[2,"H22",null,null,null,null,null,null,null,null,null,null,null,null,null,null,null,null,null,null,null,null,null,null,null,null,null,null,null,false]
[2,"I22",null,null,null,null,null,null,null,null,null,null,null,null,null,null,null,null,null,null,null,null,null,null,null,null,null,null,null,false]
[2,"J22",null,null,null,null,null,null,null,null,null,null,null,null,null,null,null,null,null,null,null,null,null,null,null,null,null,null,null,false]
[2,"K22",null,null,null,null,null,null,null,null,null,null,null,null,null,null,null,null,null,null,null,null,null,null,null,null,null,null,null,false]
[2,"L22",null,null,null,null,null,null,null,null,null,null,null,null,null,null,null,null,null,null,null,null,null,null,null,null,null,null,null,false]
[2,"M22",null,null,null,null,null,null,null,null,null,null,null,null,null,null,null,null,null,null,null,null,null,null,null,null,null,null,null,false]
[2,"N22",null,null,null,null,null,null,null,null,null,null,null,null,null,null,null,null,null,null,null,null,null,null,null,null,null,null,null,false]
[2,"O22",null,null,null,null,null,null,null,null,null,null,null,null,null,null,null,null,null,null,null,null,null,null,null,null,null,null,null,false]
[2,"P22",null,null,null,null,null,null,null,null,null,null,null,null,null,null,null,null,null,null,null,null,null,null,null,null,null,null,null,false]
[2,"A23",null,null,null,null,null,null,null,null,null,null,null,null,null,null,null,null,null,null,null,null,null,null,null,null,null,null,null,false]
[2,"B23",null,null,null,null,null,null,null,null,null,null,null,null,null,null,null,null,null,null,null,null,null,null,null,null,null,null,null,false]
[2,"C23",null,null,null,null,null,null,null,null,null,null,null,null,null,null,null,null,null,null,null,null,null,null,null,null,null,null,null,{"$f":"IF(COUNTBLANK(D740)=0,A740)","v":false}]
[2,"D23",null,null,null,null,null,null,null,null,null,null,null,null,null,null,null,null,null,null,null,null,null,null,null,null,null,null,null,false]
[2,"E23",null,null,null,null,null,null,null,null,null,null,null,null,null,null,null,null,null,null,null,null,null,null,null,null,null,null,null,false]
[2,"F23",null,null,null,null,null,null,null,null,null,null,null,null,null,null,null,null,null,null,null,null,null,null,null,null,null,null,null,false]
[2,"G23",null,null,null,null,null,null,null,null,null,null,null,null,null,null,null,null,null,null,null,null,null,null,null,null,null,null,null,false]
[2,"H23",null,null,null,null,null,null,null,null,null,null,null,null,null,null,null,null,null,null,null,null,null,null,null,null,null,null,null,false]
[2,"I23",null,null,null,null,null,null,null,null,null,null,null,null,null,null,null,null,null,null,null,null,null,null,null,null,null,null,null,false]
[2,"J23",null,null,null,null,null,null,null,null,null,null,null,null,null,null,null,null,null,null,null,null,null,null,null,null,null,null,null,false]
[2,"K23",null,null,null,null,null,null,null,null,null,null,null,null,null,null,null,null,null,null,null,null,null,null,null,null,null,null,null,false]
[2,"L23",null,null,null,null,null,null,null,null,null,null,null,null,null,null,null,null,null,null,null,null,null,null,null,null,null,null,null,false]
[2,"M23",null,null,null,null,null,null,null,null,null,null,null,null,null,null,null,null,null,null,null,null,null,null,null,null,null,null,null,false]
[2,"N23",null,null,null,null,null,null,null,null,null,null,null,null,null,null,null,null,null,null,null,null,null,null,null,null,null,null,null,false]
[2,"O23",null,null,null,null,null,null,null,null,null,null,null,null,null,null,null,null,null,null,null,null,null,null,null,null,null,null,null,false]
[2,"P23",null,null,null,null,null,null,null,null,null,null,null,null,null,null,null,null,null,null,null,null,null,null,null,null,null,null,null,false]
[2,"A24",null,null,null,null,null,null,null,null,null,null,null,null,null,null,null,null,null,null,null,null,null,null,null,null,null,null,null,false]
[2,"B24",null,null,null,null,null,null,null,null,null,null,null,null,null,null,null,null,null,null,null,null,null,null,null,null,null,null,null,false]
[2,"C24",null,null,null,null,null,null,null,null,null,null,null,null,null,null,null,null,null,null,null,null,null,null,null,null,null,null,null,false]
[2,"D24",null,null,null,null,null,null,null,null,null,null,null,null,null,null,null,null,null,null,null,null,null,null,null,null,null,null,null,false]
[2,"E24",null,null,null,null,null,null,null,null,null,null,null,null,null,null,null,null,null,null,null,null,null,null,null,null,null,null,null,false]
[2,"F24",null,null,null,null,null,null,null,null,null,null,null,null,null,null,null,null,null,null,null,null,null,null,null,null,null,null,null,false]
[2,"G24",null,null,null,null,null,null,null,null,null,null,null,null,null,null,null,null,null,null,null,null,null,null,null,null,null,null,null,false]
[2,"H24",null,null,null,null,null,null,null,null,null,null,null,null,null,null,null,null,null,null,null,null,null,null,null,null,null,null,null,false]
[2,"I24",null,null,null,null,null,null,null,null,null,null,null,null,null,null,null,null,null,null,null,null,null,null,null,null,null,null,null,false]
[2,"J24",null,null,null,null,null,null,null,null,null,null,null,null,null,null,null,null,null,null,null,null,null,null,null,null,null,null,null,false]
[2,"K24",null,null,null,null,null,null,null,null,null,null,null,null,null,null,null,null,null,null,null,null,null,null,null,null,null,null,null,false]
[2,"L24",null,null,null,null,null,null,null,null,null,null,null,null,null,null,null,null,null,null,null,null,null,null,null,null,null,null,null,false]
[2,"M24",null,null,null,null,null,null,null,null,null,null,null,null,null,null,null,null,null,null,null,null,null,null,null,null,null,null,null,false]
[2,"N24",null,null,null,null,null,null,null,null,null,null,null,null,null,null,null,null,null,null,null,null,null,null,null,null,null,null,null,false]
[2,"O24",null,null,null,null,null,null,null,null,null,null,null,null,null,null,null,null,null,null,null,null,null,null,null,null,null,null,null,false]
[2,"P24",null,null,null,null,null,null,null,null,null,null,null,null,null,null,null,null,null,null,null,null,null,null,null,null,null,null,null,false]
[3,"A1",null,null,null,null,null,null,null,null,null,null,null,null,null,null,null,null,null,null,null,null,null,null,null,null,null,null,null,false]
[3,"B1",null,null,null,null,null,null,null,null,null,null,null,null,null,null,null,null,null,null,null,null,null,null,null,null,null,null,null,{"$f":"IF(COUNTBLANK(D771)=0,A771)","v":false}]
[3,"C1",null,null,null,null,null,null,null,null,null,null,null,null,null,null,null,null,null,null,null,null,null,null,null,null,null,null,null,{"$f":"IF(COUNTBLANK(D772)=0,A772)","v":false}]
[3,"D1",null,null,null,null,null,null,null,null,null,null,null,null,null,null,null,null,null,null,null,null,null,null,null,null,null,null,null,false]
[3,"E1",null,null,null,null,null,null,null,null,null,null,null,null,null,null,null,null,null,null,null,null,null,null,null,null,null,null,null,false]
[3,"F1",null,null,null,null,null,null,null,null,null,null,null,null,null,null,null,null,null,null,null,null,null,null,null,null,null,null,null,false]
[3,"G1",null,null,null,null,null,null,null,null,null,null,null,null,null,null,null,null,null,null,null,null,null,null,null,null,null,null,null,false]
[3,"H1",null,null,null,null,null,null,null,null,null,null,null,null,null,null,null,null,null,null,null,null,null,null,null,null,null,null,null,false]
[3,"I1",null,null,null,null,null,null,null,null,null,null,null,null,null,null,null,null,null,null,null,null,null,null,null,null,null,null,null,false]
[3,"J1",null,null,null,null,null,null,null,null,null,null,null,null,null,null,null,null,null,null,null,null,null,null,null,null,null,null,null,false]
[3,"K1",null,null,null,null,null,null,null,null,null,null,null,null,null,null,null,null,null,null,null,null,null,null,null,null,null,null,null,false]
[3,"L1",null,null,null,null,null,null,null,null,null,null,null,null,null,null,null,null,null,null,null,null,null,null,null,null,null,null,null,false]
[3,"M1",null,null,null,null,null,null,null,null,null,null,null,null,null,null,null,null,null,null,null,null,null,null,null,null,null,null,null,false]
[3,"N1",null,null,null,null,null,null,null,null,null,null,null,null,null,null,null,null,null,null,null,null,null,null,null,null,null,null,null,false]
[3,"O1",null,null,null,null,null,null,null,null,null,null,null,null,null,null,null,null,null,null,null,null,null,null,null,null,null,null,null,false]
[3,"P1",null,null,null,null,null,null,null,null,null,null,null,null,null,null,null,null,null,null,null,null,null,null,null,null,null,null,null,false]
[3,"A2",null,null,null,null,null,null,null,null,null,null,null,null,null,null,null,null,null,null,null,null,null,null,null,null,null,null,null,false]
[3,"B2",null,null,null,null,null,null,null,null,null,null,null,null,null,null,null,null,null,null,null,null,null,null,null,null,null,null,null,false]
[3,"C2",null,null,null,null,null,null,null,null,null,null,null,null,null,null,null,null,null,null,null,null,null,null,null,null,null,null,null,false]
[3,"D2",null,null,null,null,null,null,null,null,null,null,null,null,null,null,null,null,null,null,null,null,null,null,null,null,null,null,null,false]
[3,"E2",null,null,null,null,null,null,null,null,null,null,null,null,null,null,null,null,null,null,null,null,null,null,null,null,null,null,null,false]
[3,"F2",null,null,null,null,null,null,null,null,null,null,null,null,null,null,null,null,null,null,null,null,null,null,null,null,null,null,null,false]
[3,"G2",null,null,null,null,null,null,null,null,null,null,null,null,null,null,null,null,null,null,null,null,null,null,null,null,null,null,null,false]
[3,"H2",null,null,null,null,null,null,null,null,null,null,null,null,null,null,null,null,null,null,null,null,null,null,null,null,null,null,null,false]
[3,"I2",null,null,null,null,null,null,null,null,null,null,null,null,null,null,null,null,null,null,null,null,null,null,null,null,null,null,null,false]
[3,"J2",null,null,null,null,null,null,null,null,null,null,null,null,null,null,null,null,null,null,null,null,null,null,null,null,null,null,null,false]
[3,"K2",null,null,null,null,null,null,null,null,null,null,null,null,null,null,null,null,null,null,null,null,null,null,null,null,null,null,null,false]
[3,"L2",null,null,null,null,null,null,null,null,null,null,null,null,null,null,null,null,null,null,null,null,null,null,null,null,null,null,null,false]
[3,"M2",null,null,null,null,null,null,null,null,null,null,null,null,null,null,null,null,null,null,null,null,null,null,null,null,null,null,null,false]
[3,"N2",null,null,null,null,null,null,null,null,null,null,null,null,null,null,null,null,null,null,null,null,null,null,null,null,null,null,null,false]
[3,"O2",null,null,null,null,null,null,null,null,null,null,null,null,null,null,null,null,null,null,null,null,null,null,null,null,null,null,null,false]
[3,"P2",null,null,null,null,null,null,null,null,null,null,null,null,null,null,null,null,null,null,null,null,null,null,null,null,null,null,null,false]
[3,"A3",null,null,null,null,null,null,null,null,null,null,null,null,null,null,null,null,null,null,null,null,null,null,null,null,null,null,null,false]
[3,"B3",null,null,null,null,null,null,null,null,null,null,null,null,null,null,null,null,null,null,null,null,null,null,null,null,null,null,null,false]
[3,"C3",null,null,null,null,null,null,null,null,null,null,null,null,null,null,null,null,null,null,null,null,null,null,null,null,null,null,null,{"$f":"IF(COUNTBLANK(D804)=0,A804)","v":false}]
[3,"D3",null,null,null,null,null,null,null,null,null,null,null,null,null,null,null,null,null,null,null,null,null,null,null,null,null,null,null,false]
[3,"E3",null,null,null,null,null,null,null,null,null,null,null,null,null,null,null,null,null,null,null,null,null,null,null,null,null,null,null,false]
[3,"F3",null,null,null,null,null,null,null,null,null,null,null,null,null,null,null,null,null,null,null,null,null,null,null,null,null,null,null,false]
[3,"G3",null,null,null,null,null,null,null,null,null,null,null,null,null,null,null,null,null,null,null,null,null,null,null,null,null,null,null,false]
[3,"H3",null,null,null,null,null,null,null,null,null,null,null,null,null,null,null,null,null,null,null,null,null,null,null,null,null,null,null,false]
[3,"I3",null,null,null,null,null,null,null,null,null,null,null,null,null,null,null,null,null,null,null,null,null,null,null,null,null,null,null,false]
[3,"J3",null,null,null,null,null,null,null,null,null,null,null,null,null,null,null,null,null,null,null,null,null,null,null,null,null,null,null,false]
[3,"K3",null,null,null,null,null,null,null,null,null,null,null,null,null,null,null,null,null,null,null,null,null,null,null,null,null,null,null,false]
[3,"L3",null,null,null,null,null,null,null,null,null,null,null,null,null,null,null,null,null,null,null,null,null,null,null,null,null,null,null,false]
[3,"M3",null,null,null,null,null,null,null,null,null,null,null,null,null,null,null,null,null,null,null,null,null,null,null,null,null,null,null,false]
[3,"N3",null,null,null,null,null,null,null,null,null,null,null,null,null,null,null,null,null,null,null,null,null,null,null,null,null,null,null,false]
[3,"O3",null,null,null,null,null,null,null,null,null,null,null,null,null,null,null,null,null,null,null,null,null,null,null,null,null,null,null,false]
[3,"P3",null,null,null,null,null,null,null,null,null,null,null,null,null,null,null,null,null,null,null,null,null,null,null,null,null,null,null,false]
[3,"A4",null,null,null,null,null,null,null,null,null,null,null,null,null,null,null,null,null,null,null,null,null,null,null,null,null,null,null,false]
[3,"B4",null,null,null,null,null,null,null,null,null,null,null,null,null,null,null,null,null,null,null,null,null,null,null,null,null,null,null,false]
[3,"C4",null,null,null,null,null,null,null,null,null,null,null,null,null,null,null,null,null,null,null,null,null,null,null,null,null,null,null,false]
[3,"D4",null,null,null,null,null,null,null,null,null,null,null,null,null,null,null,null,null,null,null,null,null,null,null,null,null,null,null,false]
[3,"E4",null,null,null,null,null,null,null,null,null,null,null,null,null,null,null,null,null,null,null,null,null,null,null,null,null,null,null,false]
[3,"F4",null,null,null,null,null,null,null,null,null,null,null,null,null,null,null,null,null,null,null,null,null,null,null,null,null,null,null,false]
[3,"G4",null,null,null,null,null,null,null,null,null,null,null,null,null,null,null,null,null,null,null,null,null,null,null,null,null,null,null,false]
[3,"H4",null,null,null,null,null,null,null,null,null,null,null,null,null,null,null,null,null,null,null,null,null,null,null,null,null,null,null,false]
[3,"I4",null,null,null,null,null,null,null,null,null,null,null,null,null,null,null,null,null,null,null,null,null,null,null,null,null,null,null,false]
[3,"J4",null,null,null,null,null,null,null,null,null,null,null,null,null,null,null,null,null,null,null,null,null,null,null,null,null,null,null,false]
[3,"K4",null,null,null,null,null,null,null,null,null,null,null,null,null,null,null,null,null,null,null,null,null,null,null,null,null,null,null,false]
[3,"L4",null,null,null,null,null,null,null,null,null,null,null,null,null,null,null,null,null,null,null,null,null,null,null,null,null,null,null,false]
[3,"M4",null,null,null,null,null,null,null,null,null,null,null,null,null,null,null,null,null,null,null,null,null,null,null,null,null,null,null,false]
[3,"N4",null,null,null,null,null,null,null,null,null,null,null,null,null,null,null,null,null,null,null,null,null,null,null,null,null,null,null,false]
[3,"O4",null,null,null,null,null,null,null,null,null,null,null,null,null,null,null,null,null,null,null,null,null,null,null,null,null,null,null,false]
[3,"P4",null,null,null,null,null,null,null,null,null,null,null,null,null,null,null,null,null,null,null,null,null,null,null,null,null,null,null,false]
[3,"A5",null,null,null,null,null,null,null,null,null,null,null,null,null,null,null,null,null,null,null,null,null,null,null,null,null,null,null,false]
[3,"B5",null,null,null,null,null,null,null,null,null,null,null,null,null,null,null,null,null,null,null,null,null,null,null,null,null,null,null,{"$f":"IF(COUNTBLANK(D835)=0,A835)","v":false}]
[3,"C5",null,null,null,null,null,null,null,null,null,null,null,null,null,null,null,null,null,null,null,null,null,null,null,null,null,null,null,{"$f":"IF(COUNTBLANK(D836)=0,A836)","v":false}]
[3,"D5",null,null,null,null,null,null,null,null,null,null,null,null,null,null,null,null,null,null,null,null,null,null,null,null,null,null,null,false]
[3,"E5",null,null,null,null,null,null,null,null,null,null,null,null,null,null,null,null,null,null,null,null,null,null,null,null,null,null,null,false]
[3,"F5",null,null,null,null,null,null,null,null,null,null,null,null,null,null,null,null,null,null,null,null,null,null,null,null,null,null,null,false]
[3,"G5",null,null,null,null,null,null,null,null,null,null,null,null,null,null,null,null,null,null,null,null,null,null,null,null,null,null,null,false]
[3,"H5",null,null,null,null,null,null,null,null,null,null,null,null,null,null,null,null,null,null,null,null,null,null,null,null,null,null,null,false]
[3,"I5",null,null,null,null,null,null,null,null,null,null,null,null,null,null,null,null,null,null,null,null,null,null,null,null,null,null,null,false]
[3,"J5",null,null,null,null,null,null,null,null,null,null,null,null,null,null,null,null,null,null,null,null,null,null,null,null,null,null,null,false]
[3,"K5",null,null,null,null,null,null,null,null,null,null,null,null,null,null,null,null,null,null,null,null,null,null,null,null,null,null,null,false]
[3,"L5",null,null,null,null,null,null,null,null,null,null,null,null,null,null,null,null,null,null,null,null,null,null,null,null,null,null,null,false]
[3,"M5",null,null,null,null,null,null,null,null,null,null,null,null,null,null,null,null,null,null,null,null,null,null,null,null,null,null,null,false]
[3,"N5",null,null,null,null,null,null,null,null,null,null,null,null,null,null,null,null,null,null,null,null,null,null,null,null,null,null,null,false]
[3,"O5",null,null,null,null,null,null,null,null,null,null,null,null,null,null,null,null,null,null,null,null,null,null,null,null,null,null,null,false]
[3,"P5",null,null,null,null,null,null,null,null,null,null,null,null,null,null,null,null,null,null,null,null,null,null,null,null,null,null,null,false]
[3,"A6",null,null,null,null,null,null,null,null,null,null,null,null,null,null,null,null,null,null,null,null,null,null,null,null,null,null,null,false]
[3,"B6",null,null,null,null,null,null,null,null,null,null,null,null,null,null,null,null,null,null,null,null,null,null,null,null,null,null,null,false]
[3,"C6",null,null,null,null,null,null,null,null,null,null,null,null,null,null,null,null,null,null,null,null,null,null,null,null,null,null,null,false]
[3,"D6",null,null,null,null,null,null,null,null,null,null,null,null,null,null,null,null,null,null,null,null,null,null,null,null,null,null,null,false]
[3,"E6",null,null,null,null,null,null,null,null,null,null,null,null,null,null,null,null,null,null,null,null,null,null,null,null,null,null,null,false]
[3,"F6",null,null,null,null,null,null,null,null,null,null,null,null,null,null,null,null,null,null,null,null,null,null,null,null,null,null,null,false]
[3,"G6",null,null,null,null,null,null,null,null,null,null,null,null,null,null,null,null,null,null,null,null,null,null,null,null,null,null,null,false]
[3,"H6",null,null,null,null,null,null,null,null,null,null,null,null,null,null,null,null,null,null,null,null,null,null,null,null,null,null,null,false]
[3,"I6",null,null,null,null,null,null,null,null,null,null,null,null,null,null,null,null,null,null,null,null,null,null,null,null,null,null,null,false]
[3,"J6",null,null,null,null,null,null,null,null,null,null,null,null,null,null,null,null,null,null,null,null,null,null,null,null,null,null,null,false]
[3,"K6",null,null,null,null,null,null,null,null,null,null,null,null,null,null,null,null,null,null,null,null,null,null,null,null,null,null,null,false]
[3,"L6",null,null,null,null,null,null,null,null,null,null,null,null,null,null,null,null,null,null,null,null,null,null,null,null,null,null,null,false]
[3,"M6",null,null,null,null,null,null,null,null,null,null,null,null,null,null,null,null,null,null,null,null,null,null,null,null,null,null,null,false]
[3,"N6",null,null,null,null,null,null,null,null,null,null,null,null,null,null,null,null,null,null,null,null,null,null,null,null,null,null,null,false]
[3,"O6",null,null,null,null,null,null,null,null,null,null,null,null,null,null,null,null,null,null,null,null,null,null,null,null,null,null,null,false]
[3,"P6",null,null,null,null,null,null,null,null,null,null,null,null,null,null,null,null,null,null,null,null,null,null,null,null,null,null,null,false]
[3,"A7",null,null,null,null,null,null,null,null,null,null,null,null,null,null,null,null,null,null,null,null,null,null,null,null,null,null,null,false]
[3,"B7",null,null,null,null,null,null,null,null,null,null,null,null,null,null,null,null,null,null,null,null,null,null,null,null,null,null,null,false]
[3,"C7",null,null,null,null,null,null,null,null,null,null,null,null,null,null,null,null,null,null,null,null,null,null,null,null,null,null,null,{"$f":"IF(COUNTBLANK(D868)=0,A868)","v":false}]
[3,"D7",null,null,null,null,null,null,null,null,null,null,null,null,null,null,null,null,null,null,null,null,null,null,null,null,null,null,null,false]
[3,"E7",null,null,null,null,null,null,null,null,null,null,null,null,null,null,null,null,null,null,null,null,null,null,null,null,null,null,null,false]
[3,"F7",null,null,null,null,null,null,null,null,null,null,null,null,null,null,null,null,null,null,null,null,null,null,null,null,null,null,null,false]
[3,"G7",null,null,null,null,null,null,null,null,null,null,null,null,null,null,null,null,null,null,null,null,null,null,null,null,null,null,null,false]
[3,"H7",null,null,null,null,null,null,null,null,null,null,null,null,null,null,null,null,null,null,null,null,null,null,null,null,null,null,null,false]
[3,"I7",null,null,null,null,null,null,null,null,null,null,null,null,null,null,null,null,null,null,null,null,null,null,null,null,null,null,null,false]
[3,"J7",null,null,null,null,null,null,null,null,null,null,null,null,null,null,null,null,null,null,null,null,null,null,null,null,null,null,null,false]
[3,"K7",null,null,null,null,null,null,null,null,null,null,null,null,null,null,null,null,null,null,null,null,null,null,null,null,null,null,null,false]
[3,"L7",null,null,null,null,null,null,null,null,null,null,null,null,null,null,null,null,null,null,null,null,null,null,null,null,null,null,null,false]
[3,"M7",null,null,null,null,null,null,null,null,null,null,null,null,null,null,null,null,null,null,null,null,null,null,null,null,null,null,null,false]
[3,"N7",null,null,null,null,null,null,null,null,null,null,null,null,null,null,null,null,null,null,null,null,null,null,null,null,null,null,null,false]
[3,"O7",null,null,null,null,null,null,null,null,null,null,null,null,null,null,null,null,null,null,null,null,null,null,null,null,null,null,null,false]
[3,"P7",null,null,null,null,null,null,null,null,null,null,null,null,null,null,null,null,null,null,null,null,null,null,null,null,null,null,null,false]
[3,"A8",null,null,null,null,null,null,null,null,null,null,null,null,null,null,null,null,null,null,null,null,null,null,null,null,null,null,null,false]
[3,"B8",null,null,null,null,null,null,null,null,null,null,null,null,null,null,null,null,null,null,null,null,null,null,null,null,null,null,null,false]
[3,"C8",null,null,null,null,null,null,null,null,null,null,null,null,null,null,null,null,null,null,null,null,null,null,null,null,null,null,null,false]
[3,"D8",null,null,null,null,null,null,null,null,null,null,null,null,null,null,null,null,null,null,null,null,null,null,null,null,null,null,null,false]
[3,"E8",null,null,null,null,null,null,null,null,null,null,null,null,null,null,null,null,null,null,null,null,null,null,null,null,null,null,null,false]
[3,"F8",null,null,null,null,null,null,null,null,null,null,null,null,null,null,null,null,null,null,null,null,null,null,null,null,null,null,null,false]
[3,"G8",null,null,null,null,null,null,null,null,null,null,null,null,null,null,null,null,null,null,null,null,null,null,null,null,null,null,null,false]
[3,"H8",null,null,null,null,null,null,null,null,null,null,null,null,null,null,null,null,null,null,null,null,null,null,null,null,null,null,null,false]
[3,"I8",null,null,null,null,null,null,null,null,null,null,null,null,null,null,null,null,null,null,null,null,null,null,null,null,null,null,null,false]
[3,"J8",null,null,null,null,null,null,null,null,null,null,null,null,null,null,null,null,null,null,null,null,null,null,null,null,null,null,null,false]
[3,"K8",null,null,null,null,null,null,null,null,null,null,null,null,null,null,null,null,null,null,null,null,null,null,null,null,null,null,null,false]
[3,"L8",null,null,null,null,null,null,null,null,null,null,null,null,null,null,null,null,null,null,null,null,null,null,null,null,null,null,null,false]
[3,"M8",null,null,null,null,null,null,null,null,null,null,null,null,null,null,null,null,null,null,null,null,null,null,null,null,null,null,null,false]
[3,"N8",null,null,null,null,null,null,null,null,null,null,null,null,null,null,null,null,null,null,null,null,null,null,null,null,null,null,null,false]
[3,"O8",null,null,null,null,null,null,null,null,null,null,null,null,null,null,null,null,null,null,null,null,null,null,null,null,null,null,null,false]
[3,"P8",null,null,null,null,null,null,null,null,null,null,null,null,null,null,null,null,null,null,null,null,null,null,null,null,null,null,null,false]
[3,"A9",null,null,null,null,null,null,null,null,null,null,null,null,null,null,null,null,null,null,null,null,null,null,null,null,null,null,null,false]
[3,"B9",null,null,null,null,null,null,null,null,null,null,null,null,null,null,null,null,null,null,null,null,null,null,null,null,null,null,null,{"$f":"IF(COUNTBLANK(D899)=0,A899)","v":false}]
[3,"C9",null,null,null,null,null,null,null,null,null,null,null,null,null,null,null,null,null,null,null,null,null,null,null,null,null,null,null,{"$f":"IF(COUNTBLANK(D900)=0,A900)","v":false}]
[3,"D9",null,null,null,null,null,null,null,null,null,null,null,null,null,null,null,null,null,null,null,null,null,null,null,null,null,null,null,false]
[3,"E9",null,null,null,null,null,null,null,null,null,null,null,null,null,null,null,null,null,null,null,null,null,null,null,null,null,null,null,false]
[3,"F9",null,null,null,null,null,null,null,null,null,null,null,null,null,null,null,null,null,null,null,null,null,null,null,null,null,null,null,false]
[3,"G9",null,null,null,null,null,null,null,null,null,null,null,null,null,null,null,null,null,null,null,null,null,null,null,null,null,null,null,false]
[3,"H9",null,null,null,null,null,null,null,null,null,null,null,null,null,null,null,null,null,null,null,null,null,null,null,null,null,null,null,false]
[3,"I9",null,null,null,null,null,null,null,null,null,null,null,null,null,null,null,null,null,null,null,null,null,null,null,null,null,null,null,false]
[3,"J9",null,null,null,null,null,null,null,null,null,null,null,null,null,null,null,null,null,null,null,null,null,null,null,null,null,null,null,false]
[3,"K9",null,null,null,null,null,null,null,null,null,null,null,null,null,null,null,null,null,null,null,null,null,null,null,null,null,null,null,false]
[3,"L9",null,null,null,null,null,null,null,null,null,null,null,null,null,null,null,null,null,null,null,null,null,null,null,null,null,null,null,false]
[3,"M9",null,null,null,null,null,null,null,null,null,null,null,null,null,null,null,null,null,null,null,null,null,null,null,null,null,null,null,false]
[3,"N9",null,null,null,null,null,null,null,null,null,null,null,null,null,null,null,null,null,null,null,null,null,null,null,null,null,null,null,false]
[3,"O9",null,null,null,null,null,null,null,null,null,null,null,null,null,null,null,null,null,null,null,null,null,null,null,null,null,null,null,false]
[3,"P9",null,null,null,null,null,null,null,null,null,null,null,null,null,null,null,null,null,null,null,null,null,null,null,null,null,null,null,false]
[3,"A10",null,null,null,null,null,null,null,null,null,null,null,null,null,null,null,null,null,null,null,null,null,null,null,null,null,null,null,false]
[3,"B10",null,null,null,null,null,null,null,null,null,null,null,null,null,null,null,null,null,null,null,null,null,null,null,null,null,null,null,false]
[3,"C10",null,null,null,null,null,null,null,null,null,null,null,null,null,null,null,null,null,null,null,null,null,null,null,null,null,null,null,false]
[3,"D10",null,null,null,null,null,null,null,null,null,null,null,null,null,null,null,null,null,null,null,null,null,null,null,null,null,null,null,false]
[3,"E10",null,null,null,null,null,null,null,null,null,null,null,null,null,null,null,null,null,null,null,null,null,null,null,null,null,null,null,false]
[3,"F10",null,null,null,null,null,null,null,null,null,null,null,null,null,null,null,null,null,null,null,null,null,null,null,null,null,null,null,false]
[3,"G10",null,null,null,null,null,null,null,null,null,null,null,null,null,null,null,null,null,null,null,null,null,null,null,null,null,null,null,false]
[3,"H10",null,null,null,null,null,null,null,null,null,null,null,null,null,null,null,null,null,null,null,null,null,null,null,null,null,null,null,false]
[3,"I10",null,null,null,null,null,null,null,null,null,null,null,null,null,null,null,null,null,null,null,null,null,null,null,null,null,null,null,false]
[3,"J10",null,null,null,null,null,null,null,null,null,null,null,null,null,null,null,null,null,null,null,null,null,null,null,null,null,null,null,false]
[3,"K10",null,null,null,null,null,null,null,null,null,null,null,null,null,null,null,null,null,null,null,null,null,null,null,null,null,null,null,false]
[3,"L10",null,null,null,null,null,null,null,null,null,null,null,null,null,null,null,null,null,null,null,null,null,null,null,null,null,null,null,false]
[3,"M10",null,null,null,null,null,null,null,null,null,null,null,null,null,null,null,null,null,null,null,null,null,null,null,null,null,null,null,false]
[3,"N10",null,null,null,null,null,null,null,null,null,null,null,null,null,null,null,null,null,null,null,null,null,null,null,null,null,null,null,false]
[3,"O10",null,null,null,null,null,null,null,null,null,null,null,null,null,null,null,null,null,null,null,null,null,null,null,null,null,null,null,false]
[3,"P10",null,null,null,null,null,null,null,null,null,null,null,null,null,null,null,null,null,null,null,null,null,null,null,null,null,null,null,false]
[3,"A11",null,null,null,null,null,null,null,null,null,null,null,null,null,null,null,null,null,null,null,null,null,null,null,null,null,null,null,false]
[3,"B11",null,null,null,null,null,null,null,null,null,null,null,null,null,null,null,null,null,null,null,null,null,null,null,null,null,null,null,false]
[3,"C11",null,null,null,null,null,null,null,null,null,null,null,null,null,null,null,null,null,null,null,null,null,null,null,null,null,null,null,{"$f":"IF(COUNTBLANK(D932)=0,A932)","v":false}]
[3,"D11",null,null,null,null,null,null,null,null,null,null,null,null,null,null,null,null,null,null,null,null,null,null,null,null,null,null,null,false]
[3,"E11",null,null,null,null,null,null,null,null,null,null,null,null,null,null,null,null,null,null,null,null,null,null,null,null,null,null,null,false]
[3,"F11",null,null,null,null,null,null,null,null,null,null,null,null,null,null,null,null,null,null,null,null,null,null,null,null,null,null,null,false]
[3,"G11",null,null,null,null,null,null,null,null,null,null,null,null,null,null,null,null,null,null,null,null,null,null,null,null,null,null,null,false]
[3,"H11",null,null,null,null,null,null,null,null,null,null,null,null,null,null,null,null,null,null,null,null,null,null,null,null,null,null,null,false]
[3,"I11",null,null,null,null,null,null,null,null,null,null,null,null,null,null,null,null,null,null,null,null,null,null,null,null,null,null,null,false]
[3,"J11",null,null,null,null,null,null,null,null,null,null,null,null,null,null,null,null,null,null,null,null,null,null,null,null,null,null,null,false]
[3,"K11",null,null,null,null,null,null,null,null,null,null,null,null,null,null,null,null,null,null,null,null,null,null,null,null,null,null,null,false]
[3,"L11",null,null,null,null,null,null,null,null,null,null,null,null,null,null,null,null,null,null,null,null,null,null,null,null,null,null,null,false]
[3,"M11",null,null,null,null,null,null,null,null,null,null,null,null,null,null,null,null,null,null,null,null,null,null,null,null,null,null,null,false]
[3,"N11",null,null,null,null,null,null,null,null,null,null,null,null,null,null,null,null,null,null,null,null,null,null,null,null,null,null,null,false]
[3,"O11",null,null,null,null,null,null,null,null,null,null,null,null,null,null,null,null,null,null,null,null,null,null,null,null,null,null,null,false]
[3,"P11",null,null,null,null,null,null,null,null,null,null,null,null,null,null,null,null,null,null,null,null,null,null,null,null,null,null,null,false]
[3,"A12",null,null,null,null,null,null,null,null,null,null,null,null,null,null,null,null,null,null,null,null,null,null,null,null,null,null,null,false]
[3,"B12",null,null,null,null,null,null,null,null,null,null,null,null,null,null,null,null,null,null,null,null,null,null,null,null,null,null,null,false]
[3,"C12",null,null,null,null,null,null,null,null,null,null,null,null,null,null,null,null,null,null,null,null,null,null,null,null,null,null,null,false]
[3,"D12",null,null,null,null,null,null,null,null,null,null,null,null,null,null,null,null,null,null,null,null,null,null,null,null,null,null,null,false]
[3,"E12",null,null,null,null,null,null,null,null,null,null,null,null,null,null,null,null,null,null,null,null,null,null,null,null,null,null,null,false]
[3,"F12",null,null,null,null,null,null,null,null,null,null,null,null,null,null,null,null,null,null,null,null,null,null,null,null,null,null,null,false]
[3,"G12",null,null,null,null,null,null,null,null,null,null,null,null,null,null,null,null,null,null,null,null,null,null,null,null,null,null,null,false]
[3,"H12",null,null,null,null,null,null,null,null,null,null,null,null,null,null,null,null,null,null,null,null,null,null,null,null,null,null,null,false]
[3,"I12",null,null,null,null,null,null,null,null,null,null,null,null,null,null,null,null,null,null,null,null,null,null,null,null,null,null,null,false]
[3,"J12",null,null,null,null,null,null,null,null,null,null,null,null,null,null,null,null,null,null,null,null,null,null,null,null,null,null,null,false]
[3,"K12",null,null,null,null,null,null,null,null,null,null,null,null,null,null,null,null,null,null,null,null,null,null,null,null,null,null,null,false]
[3,"L12",null,null,null,null,null,null,null,null,null,null,null,null,null,null,null,null,null,null,null,null,null,null,null,null,null,null,null,false]
[3,"M12",null,null,null,null,null,null,null,null,null,null,null,null,null,null,null,null,null,null,null,null,null,null,null,null,null,null,null,false]
[3,"N12",null,null,null,null,null,null,null,null,null,null,null,null,null,null,null,null,null,null,null,null,null,null,null,null,null,null,null,false]
[3,"O12",null,null,null,null,null,null,null,null,null,null,null,null,null,null,null,null,null,null,null,null,null,null,null,null,null,null,null,false]
[3,"P12",null,null,null,null,null,null,null,null,null,null,null,null,null,null,null,null,null,null,null,null,null,null,null,null,null,null,null,false]
[3,"A13",null,null,null,null,null,null,null,null,null,null,null,null,null,null,null,null,null,null,null,null,null,null,null,null,null,null,null,false]
[3,"B13",null,null,null,null,null,null,null,null,null,null,null,null,null,null,null,null,null,null,null,null,null,null,null,null,null,null,null,{"$f":"IF(COUNTBLANK(D963)=0,A963)","v":false}]
[3,"C13",null,null,null,null,null,null,null,null,null,null,null,null,null,null,null,null,null,null,null,null,null,null,null,null,null,null,null,{"$f":"IF(COUNTBLANK(D964)=0,A964)","v":false}]
[3,"D13",null,null,null,null,null,null,null,null,null,null,null,null,null,null,null,null,null,null,null,null,null,null,null,null,null,null,null,false]
[3,"E13",null,null,null,null,null,null,null,null,null,null,null,null,null,null,null,null,null,null,null,null,null,null,null,null,null,null,null,false]
[3,"F13",null,null,null,null,null,null,null,null,null,null,null,null,null,null,null,null,null,null,null,null,null,null,null,null,null,null,null,false]
[3,"G13",null,null,null,null,null,null,null,null,null,null,null,null,null,null,null,null,null,null,null,null,null,null,null,null,null,null,null,false]
[3,"H13",null,null,null,null,null,null,null,null,null,null,null,null,null,null,null,null,null,null,null,null,null,null,null,null,null,null,null,false]
[3,"I13",null,null,null,null,null,null,null,null,null,null,null,null,null,null,null,null,null,null,null,null,null,null,null,null,null,null,null,false]
[3,"J13",null,null,null,null,null,null,null,null,null,null,null,null,null,null,null,null,null,null,null,null,null,null,null,null,null,null,null,false]
[3,"K13",null,null,null,null,null,null,null,null,null,null,null,null,null,null,null,null,null,null,null,null,null,null,null,null,null,null,null,false]
[3,"L13",null,null,null,null,null,null,null,null,null,null,null,null,null,null,null,null,null,null,null,null,null,null,null,null,null,null,null,false]
[3,"M13",null,null,null,null,null,null,null,null,null,null,null,null,null,null,null,null,null,null,null,null,null,null,null,null,null,null,null,false]
[3,"N13",null,null,null,null,null,null,null,null,null,null,null,null,null,null,null,null,null,null,null,null,null,null,null,null,null,null,null,false]
[3,"O13",null,null,null,null,null,null,null,null,null,null,null,null,null,null,null,null,null,null,null,null,null,null,null,null,null,null,null,false]
[3,"P13",null,null,null,null,null,null,null,null,null,null,null,null,null,null,null,null,null,null,null,null,null,null,null,null,null,null,null,false]
[3,"A14",null,null,null,null,null,null,null,null,null,null,null,null,null,null,null,null,null,null,null,null,null,null,null,null,null,null,null,false]
[3,"B14",null,null,null,null,null,null,null,null,null,null,null,null,null,null,null,null,null,null,null,null,null,null,null,null,null,null,null,false]
[3,"C14",null,null,null,null,null,null,null,null,null,null,null,null,null,null,null,null,null,null,null,null,null,null,null,null,null,null,null,false]
[3,"D14",null,null,null,null,null,null,null,null,null,null,null,null,null,null,null,null,null,null,null,null,null,null,null,null,null,null,null,false]
[3,"E14",null,null,null,null,null,null,null,null,null,null,null,null,null,null,null,null,null,null,null,null,null,null,null,null,null,null,null,false]
[3,"F14",null,null,null,null,null,null,null,null,null,null,null,null,null,null,null,null,null,null,null,null,null,null,null,null,null,null,null,false]
[3,"G14",null,null,null,null,null,null,null,null,null,null,null,null,null,null,null,null,null,null,null,null,null,null,null,null,null,null,null,false]
[3,"H14",null,null,null,null,null,null,null,null,null,null,null,null,null,null,null,null,null,null,null,null,null,null,null,null,null,null,null,false]
[3,"I14",null,null,null,null,null,null,null,null,null,null,null,null,null,null,null,null,null,null,null,null,null,null,null,null,null,null,null,false]
[3,"J14",null,null,null,null,null,null,null,null,null,null,null,null,null,null,null,null,null,null,null,null,null,null,null,null,null,null,null,false]
[3,"K14",null,null,null,null,null,null,null,null,null,null,null,null,null,null,null,null,null,null,null,null,null,null,null,null,null,null,null,false]
[3,"L14",null,null,null,null,null,null,null,null,null,null,null,null,null,null,null,null,null,null,null,null,null,null,null,null,null,null,null,false]
[3,"M14",null,null,null,null,null,null,null,null,null,null,null,null,null,null,null,null,null,null,null,null,null,null,null,null,null,null,null,false]
[3,"N14",null,null,null,null,null,null,null,null,null,null,null,null,null,null,null,null,null,null,null,null,null,null,null,null,null,null,null,false]
[3,"O14",null,null,null,null,null,null,null,null,null,null,null,null,null,null,null,null,null,null,null,null,null,null,null,null,null,null,null,false]
[3,"P14",null,null,null,null,null,null,null,null,null,null,null,null,null,null,null,null,null,null,null,null,null,null,null,null,null,null,null,false]
[3,"A15",null,null,null,null,null,null,null,null,null,null,null,null,null,null,null,null,null,null,null,null,null,null,null,null,null,null,null,false]
[3,"B15",null,null,null,null,null,null,null,null,null,null,null,null,null,null,null,null,null,null,null,null,null,null,null,null,null,null,null,false]
[3,"C15",null,null,null,null,null,null,null,null,null,null,null,null,null,null,null,null,null,null,null,null,null,null,null,null,null,null,null,{"$f":"IF(COUNTBLANK(D996)=0,A996)","v":false}]
[3,"D15",null,null,null,null,null,null,null,null,null,null,null,null,null,null,null,null,null,null,null,null,null,null,null,null,null,null,null,false]
[3,"E15",null,null,null,null,null,null,null,null,null,null,null,null,null,null,null,null,null,null,null,null,null,null,null,null,null,null,null,false]
[3,"F15",null,null,null,null,null,null,null,null,null,null,null,null,null,null,null,null,null,null,null,null,null,null,null,null,null,null,null,false]
[3,"G15",null,null,null,null,null,null,null,null,null,null,null,null,null,null,null,null,null,null,null,null,null,null,null,null,null,null,null,false]
[3,"M15",null,null,null,null,null,null,null,null,null,null,null,null,null,null,null,null,null,null,null,null,null,null,null,null,null,null,null,false]
[3,"H16",null,null,null,null,null,null,null,null,null,null,null,null,null,null,null,null,null,null,null,null,null,null,null,null,null,null,null,false]
[3,"M16",null,null,null,null,null,null,null,null,null,null,null,null,null,null,null,null,null,null,null,null,null,null,null,null,null,null,null,false]
[3,"M17",null,null,null,null,null,null,null,null,null,null,null,null,null,null,null,null,null,null,null,null,null,null,null,null,null,null,null,false]
[3,"H18",null,null,null,null,null,null,null,null,null,null,null,null,null,null,null,null,null,null,null,null,null,null,null,null,null,null,null,false]
[3,"M18",null,null,null,null,null,null,null,null,null,null,null,null,null,null,null,null,null,null,null,null,null,null,null,null,null,null,null,false]
[3,"H19",null,null,null,null,null,null,null,null,null,null,null,null,null,null,null,null,null,null,null,null,null,null,null,null,null,null,null,false]
[3,"A20",null,null,null,null,null,null,null,null,null,null,null,null,null,null,null,null,null,null,null,null,null,null,null,null,null,null,null,false]
[3,"C21",null,null,null,null,null,null,null,null,null,null,null,null,null,null,null,null,null,null,null,null,null,null,null,null,null,null,null,{"$f":"IF(COUNTBLANK(D1092)=0,A1092)","v":false}]
[3,"H21",null,null,null,null,null,null,null,null,null,null,null,null,null,null,null,null,null,null,null,null,null,null,null,null,null,null,null,false]
[3,"G22",null,null,null,null,null,null,null,null,null,null,null,null,null,null,null,null,null,null,null,null,null,null,null,null,null,null,null,false]
[3,"I22",null,null,null,null,null,null,null,null,null,null,null,null,null,null,null,null,null,null,null,null,null,null,null,null,null,null,null,false]
[3,"H23",null,null,null,null,null,null,null,null,null,null,null,null,null,null,null,null,null,null,null,null,null,null,null,null,null,null,null,false]
[3,"M23",null,null,null,null,null,null,null,null,null,null,null,null,null,null,null,null,null,null,null,null,null,null,null,null,null,null,null,false]
[3,"H24",null,null,null,null,null,null,null,null,null,null,null,null,null,null,null,null,null,null,null,null,null,null,null,null,null,null,null,false]
[4,"H1",null,null,null,null,null,null,null,null,null,null,null,null,null,null,null,null,null,null,null,null,null,null,null,null,null,null,null,false]
[4,"C2",null,null,null,null,null,null,null,null,null,null,null,null,null,null,null,null,null,null,null,null,null,null,null,null,null,null,null,false]
[4,"H2",null,null,null,null,null,null,null,null,null,null,null,null,null,null,null,null,null,null,null,null,null,null,null,null,null,null,null,false]
[4,"G3",null,null,null,null,null,null,null,null,null,null,null,null,null,null,null,null,null,null,null,null,null,null,null,null,null,null,null,false]
[4,"C4",null,null,null,null,null,null,null,null,null,null,null,null,null,null,null,null,null,null,null,null,null,null,null,null,null,null,null,false]
[4,"H4",null,null,null,null,null,null,null,null,null,null,null,null,null,null,null,null,null,null,null,null,null,null,null,null,null,null,null,false]
[4,"C5",null,null,null,null,null,null,null,null,null,null,null,null,null,null,null,null,null,null,null,null,null,null,null,null,null,null,null,{"$f":"IF(COUNTBLANK(D1220)=0,A1220)","v":false}]
[4,"O5",null,null,null,null,null,null,null,null,null,null,null,null,null,null,null,null,null,null,null,null,null,null,null,null,null,null,null,false]
[4,"H6",null,null,null,null,null,null,null,null,null,null,null,null,null,null,null,null,null,null,null,null,null,null,null,null,null,null,null,false]
[4,"C7",null,null,null,null,null,null,null,null,null,null,null,null,null,null,null,null,null,null,null,null,null,null,null,null,null,null,null,{"$f":"IF(COUNTBLANK(D1252)=0,A1252)","v":false}]
[4,"N7",null,null,null,null,null,null,null,null,null,null,null,null,null,null,null,null,null,null,null,null,null,null,null,null,null,null,null,false]
[4,"H8",null,null,null,null,null,null,null,null,null,null,null,null,null,null,null,null,null,null,null,null,null,null,null,null,null,null,null,false]
[4,"C9",null,null,null,null,null,null,null,null,null,null,null,null,null,null,null,null,null,null,null,null,null,null,null,null,null,null,null,{"$f":"IF(COUNTBLANK(D1284)=0,A1284)","v":false}]
[4,"H9",null,null,null,null,null,null,null,null,null,null,null,null,null,null,null,null,null,null,null,null,null,null,null,null,null,null,null,false]
[4,"F10",null,null,null,null,null,null,null,null,null,null,null,null,null,null,null,null,null,null,null,null,null,null,null,null,null,null,null,false]
[4,"C11",null,null,null,null,null,null,null,null,null,null,null,null,null,null,null,null,null,null,null,null,null,null,null,null,null,null,null,{"$f":"IF(COUNTBLANK(D1316)=0,A1316)","v":false}]
[4,"H11",null,null,null,null,null,null,null,null,null,null,null,null,null,null,null,null,null,null,null,null,null,null,null,null,null,null,null,false]
[4,"C12",null,null,null,null,null,null,null,null,null,null,null,null,null,null,null,null,null,null,null,null,null,null,null,null,null,null,null,false]
[4,"J12",null,null,null,null,null,null,null,null,null,null,null,null,null,null,null,null,null,null,null,null,null,null,null,null,null,null,null,false]
[4,"H13",null,null,null,null,null,null,null,null,null,null,null,null,null,null,null,null,null,null,null,null,null,null,null,null,null,null,null,false]
[4,"C14",null,null,null,null,null,null,null,null,null,null,null,null,null,null,null,null,null,null,null,null,null,null,null,null,null,null,null,false]
[4,"I14",null,null,null,null,null,null,null,null,null,null,null,null,null,null,null,null,null,null,null,null,null,null,null,null,null,null,null,false]
[4,"D15",null,null,null,null,null,null,null,null,null,null,null,null,null,null,null,null,null,null,null,null,null,null,null,null,null,null,null,false]
[4,"C16",null,null,null,null,null,null,null,null,null,null,null,null,null,null,null,null,null,null,null,null,null,null,null,null,null,null,null,false]
[4,"H16",null,null,null,null,null,null,null,null,null,null,null,null,null,null,null,null,null,null,null,null,null,null,null,null,null,null,null,false]
[4,"L17",null,null,null,null,null,null,null,null,null,null,null,null,null,null,null,null,null,null,null,null,null,null,null,null,null,null,null,false]
[4,"C18",null,null,null,null,null,null,null,null,null,null,null,null,null,null,null,null,null,null,null,null,null,null,null,null,null,null,null,false]
[4,"N18",null,null,null,null,null,null,null,null,null,null,null,null,null,null,null,null,null,null,null,null,null,null,null,null,null,null,null,false]
[4,"C19",null,null,null,null,null,null,null,null,null,null,null,null,null,null,null,null,null,null,null,null,null,null,null,null,null,null,null,{"$f":"IF(COUNTBLANK(D1444)=0,A1444)","v":false}]
[4,"P19",null,null,null,null,null,null,null,null,null,null,null,null,null,null,null,null,null,null,null,null,null,null,null,null,null,null,null,false]
[4,"N20",null,null,null,null,null,null,null,null,null,null,null,null,null,null,null,null,null,null,null,null,null,null,null,null,null,null,null,false]
[4,"C21",null,null,null,null,null,null,null,null,null,null,null,null,null,null,null,null,null,null,null,null,null,null,null,null,null,null,null,{"$f":"IF(COUNTBLANK(D1476)=0,A1476)","v":false}]
[4,"O21",null,null,null,null,null,null,null,null,null,null,null,null,null,null,null,null,null,null,null,null,null,null,null,null,null,null,null,false]
[4,"N22",null,null,null,null,null,null,null,null,null,null,null,null,null,null,null,null,null,null,null,null,null,null,null,null,null,null,null,false]
[4,"C23",null,null,null,null,null,null,null,null,null,null,null,null,null,null,null,null,null,null,null,null,null,null,null,null,null,null,null,{"$f":"IF(COUNTBLANK(D1508)=0,A1508)","v":false}]
[4,"N23",null,null,null,null,null,null,null,null,null,null,null,null,null,null,null,null,null,null,null,null,null,null,null,null,null,null,null,false]
[4,"G24",null,null,null,null,null,null,null,null,null,null,null,null,null,null,null,null,null,null,null,null,null,null,null,null,null,null,null,false]
[5,"C1",null,null,null,null,null,null,null,null,null,null,null,null,null,null,null,null,null,null,null,null,null,null,null,null,null,null,null,{"$f":"IF(COUNTBLANK(D1540)=0,A1540)","v":false}]
[5,"N1",null,null,null,null,null,null,null,null,null,null,null,null,null,null,null,null,null,null,null,null,null,null,null,null,null,null,null,false]
[5,"C2",null,null,null,null,null,null,null,null,null,null,null,null,null,null,null,null,null,null,null,null,null,null,null,null,null,null,null,false]
[5,"O2",null,null,null,null,null,null,null,null,null,null,null,null,null,null,null,null,null,null,null,null,null,null,null,null,null,null,null,false]
[5,"N3",null,null,null,null,null,null,null,null,null,null,null,null,null,null,null,null,null,null,null,null,null,null,null,null,null,null,null,false]
[5,"C4",null,null,null,null,null,null,null,null,null,null,null,null,null,null,null,null,null,null,null,null,null,null,null,null,null,null,null,false]
[5,"N4",null,null,null,null,null,null,null,null,null,null,null,null,null,null,null,null,null,null,null,null,null,null,null,null,null,null,null,false]
[5,"N5",null,null,null,null,null,null,null,null,null,null,null,null,null,null,null,null,null,null,null,null,null,null,null,null,null,null,null,false]
[5,"C6",null,null,null,null,null,null,null,null,null,null,null,null,null,null,null,null,null,null,null,null,null,null,null,null,null,null,null,false]
[5,"N6",null,null,null,null,null,null,null,null,null,null,null,null,null,null,null,null,null,null,null,null,null,null,null,null,null,null,null,false]
[5,"M7",null,null,null,null,null,null,null,null,null,null,null,null,null,null,null,null,null,null,null,null,null,null,null,null,null,null,null,false]
[5,"O7",null,null,null,null,null,null,null,null,null,null,null,null,null,null,null,null,null,null,null,null,null,null,null,null,null,null,null,false]
[5,"N8",null,null,null,null,null,null,null,null,null,null,null,null,null,null,null,null,null,null,null,null,null,null,null,null,null,null,null,false]
[5,"C9",null,null,null,null,null,null,null,null,null,null,null,null,null,null,null,null,null,null,null,null,null,null,null,null,null,null,null,{"$f":"IF(COUNTBLANK(D1668)=0,A1668)","v":false}]
[5,"E10",null,null,null,null,null,null,null,null,null,null,null,null,null,null,null,null,null,null,null,null,null,null,null,null,null,null,null,false]
[5,"N10",null,null,null,null,null,null,null,null,null,null,null,null,null,null,null,null,null,null,null,null,null,null,null,null,null,null,null,false]
[5,"C11",null,null,null,null,null,null,null,null,null,null,null,null,null,null,null,null,null,null,null,null,null,null,null,null,null,null,null,{"$f":"IF(COUNTBLANK(D1700)=0,A1700)","v":false}]
[5,"N11",null,null,null,null,null,null,null,null,null,null,null,null,null,null,null,null,null,null,null,null,null,null,null,null,null,null,null,false]
[5,"I12",null,null,null,null,null,null,null,null,null,null,null,null,null,null,null,null,null,null,null,null,null,null,null,null,null,null,null,false]
[5,"I13",null,null,null,null,null,null,null,null,null,null,null,null,null,null,null,null,null,null,null,null,null,null,null,null,null,null,null,false]
[5,"N13",null,null,null,null,null,null,null,null,null,null,null,null,null,null,null,null,null,null,null,null,null,null,null,null,null,null,null,false]
[5,"H14",null,null,null,null,null,null,null,null,null,null,null,null,null,null,null,null,null,null,null,null,null,null,null,null,null,null,null,false]
[5,"I15",null,null,null,null,null,null,null,null,null,null,null,null,null,null,null,null,null,null,null,null,null,null,null,null,null,null,null,false]
[5,"N15",null,null,null,null,null,null,null,null,null,null,null,null,null,null,null,null,null,null,null,null,null,null,null,null,null,null,null,false]
[5,"I16",null,null,null,null,null,null,null,null,null,null,null,null,null,null,null,null,null,null,null,null,null,null,null,null,null,null,null,false]
[5,"P16",null,null,null,null,null,null,null,null,null,null,null,null,null,null,null,null,null,null,null,null,null,null,null,null,null,null,null,false]
[5,"N17",null,null,null,null,null,null,null,null,null,null,null,null,null,null,null,null,null,null,null,null,null,null,null,null,null,null,null,false]
[5,"I18",null,null,null,null,null,null,null,null,null,null,null,null,null,null,null,null,null,null,null,null,null,null,null,null,null,null,null,false]
[5,"N18",null,null,null,null,null,null,null,null,null,null,null,null,null,null,null,null,null,null,null,null,null,null,null,null,null,null,null,false]
[5,"O19",null,null,null,null,null,null,null,null,null,null,null,null,null,null,null,null,null,null,null,null,null,null,null,null,null,null,null,false]
[5,"I20",null,null,null,null,null,null,null,null,null,null,null,null,null,null,null,null,null,null,null,null,null,null,null,null,null,null,null,false]
[5,"N20",null,null,null,null,null,null,null,null,null,null,null,null,null,null,null,null,null,null,null,null,null,null,null,null,null,null,null,false]
[5,"G21",null,null,null,null,null,null,null,null,null,null,null,null,null,null,null,null,null,null,null,null,null,null,null,null,null,null,null,false]
[5,"I22",null,null,null,null,null,null,null,null,null,null,null,null,null,null,null,null,null,null,null,null,null,null,null,null,null,null,null,false]
[5,"N22",null,null,null,null,null,null,null,null,null,null,null,null,null,null,null,null,null,null,null,null,null,null,null,null,null,null,null,false]
[5,"I23",null,null,null,null,null,null,null,null,null,null,null,null,null,null,null,null,null,null,null,null,null,null,null,null,null,null,null,false]
[5,"F24",null,null,null,null,null,null,null,null,null,null,null,null,null,null,null,null,null,null,null,null,null,null,null,null,null,null,null,false]
[5,"N24",null,null,null,null,null,null,null,null,null,null,null,null,null,null,null,null,null,null,null,null,null,null,null,null,null,null,null,false]
[6,"I1",null,null,null,null,null,null,null,null,null,null,null,null,null,null,null,null,null,null,null,null,null,null,null,null,null,null,null,false]
[6,"N1",null,null,null,null,null,null,null,null,null,null,null,null,null,null,null,null,null,null,null,null,null,null,null,null,null,null,null,false]
[6,"N2",null,null,null,null,null,null,null,null,null,null,null,null,null,null,null,null,null,null,null,null,null,null,null,null,null,null,null,false]
[6,"I3",null,null,null,null,null,null,null,null,null,null,null,null,null,null,null,null,null,null,null,null,null,null,null,null,null,null,null,false]
[6,"N3",null,null,null,null,null,null,null,null,null,null,null,null,null,null,null,null,null,null,null,null,null,null,null,null,null,null,null,false]
[6,"M4",null,null,null,null,null,null,null,null,null,null,null,null,null,null,null,null,null,null,null,null,null,null,null,null,null,null,null,false]
[6,"I5",null,null,null,null,null,null,null,null,null,null,null,null,null,null,null,null,null,null,null,null,null,null,null,null,null,null,null,false]
[6,"D6",null,null,null,null,null,null,null,null,null,null,null,null,null,null,null,null,null,null,null,null,null,null,null,null,null,null,null,false]
[6,"I6",null,null,null,null,null,null,null,null,null,null,null,null,null,null,null,null,null,null,null,null,null,null,null,null,null,null,null,false]
[6,"A7",null,null,null,null,null,null,null,null,null,null,null,null,null,null,null,null,null,null,null,null,null,null,null,null,null,null,null,false]
[6,"D8",null,null,null,null,null,null,null,null,null,null,null,null,null,null,null,null,null,null,null,null,null,null,null,null,null,null,null,false]
[6,"I8",null,null,null,null,null,null,null,null,null,null,null,null,null,null,null,null,null,null,null,null,null,null,null,null,null,null,null,false]
[6,"H9",null,null,null,null,null,null,null,null,null,null,null,null,null,null,null,null,null,null,null,null,null,null,null,null,null,null,null,false]
[6,"I9",null,null,null,null,null,null,null,null,null,null,null,null,null,null,null,null,null,null,null,null,null,null,null,null,null,null,null,false]
[6,"I10",null,null,null,null,null,null,null,null,null,null,null,null,null,null,null,null,null,null,null,null,null,null,null,null,null,null,null,false]
[6,"D11",null,null,null,null,null,null,null,null,null,null,null,null,null,null,null,null,null,null,null,null,null,null,null,null,null,null,null,false]
[6,"I11",null,null,null,null,null,null,null,null,null,null,null,null,null,null,null,null,null,null,null,null,null,null,null,null,null,null,null,false]
[6,"H12",null,null,null,null,null,null,null,null,null,null,null,null,null,null,null,null,null,null,null,null,null,null,null,null,null,null,null,false]
[6,"D13",null,null,null,null,null,null,null,null,null,null,null,null,null,null,null,null,null,null,null,null,null,null,null,null,null,null,null,false]
[6,"I13",null,null,null,null,null,null,null,null,null,null,null,null,null,null,null,null,null,null,null,null,null,null,null,null,null,null,null,false]
[6,"K14",null,null,null,null,null,null,null,null,null,null,null,null,null,null,null,null,null,null,null,null,null,null,null,null,null,null,null,false]
[6,"D15",null,null,null,null,null,null,null,null,null,null,null,null,null,null,null,null,null,null,null,null,null,null,null,null,null,null,null,false]
[6,"I15",null,null,null,null,null,null,null,null,null,null,null,null,null,null,null,null,null,null,null,null,null,null,null,null,null,null,null,false]
[6,"D16",null,null,null,null,null,null,null,null,null,null,null,null,null,null,null,null,null,null,null,null,null,null,null,null,null,null,null,false]
[6,"O16",null,null,null,null,null,null,null,null,null,null,null,null,null,null,null,null,null,null,null,null,null,null,null,null,null,null,null,false]
[6,"I17",null,null,null,null,null,null,null,null,null,null,null,null,null,null,null,null,null,null,null,null,null,null,null,null,null,null,null,false]
[6,"D18",null,null,null,null,null,null,null,null,null,null,null,null,null,null,null,null,null,null,null,null,null,null,null,null,null,null,null,false]
[6,"I18",null,null,null,null,null,null,null,null,null,null,null,null,null,null,null,null,null,null,null,null,null,null,null,null,null,null,null,false]
[6,"G19",null,null,null,null,null,null,null,null,null,null,null,null,null,null,null,null,null,null,null,null,null,null,null,null,null,null,null,false]
[6,"D20",null,null,null,null,null,null,null,null,null,null,null,null,null,null,null,null,null,null,null,null,null,null,null,null,null,null,null,false]
[6,"I20",null,null,null,null,null,null,null,null,null,null,null,null,null,null,null,null,null,null,null,null,null,null,null,null,null,null,null,false]
[6,"F21",null,null,null,null,null,null,null,null,null,null,null,null,null,null,null,null,null,null,null,null,null,null,null,null,null,null,null,false]
[6,"D22",null,null,null,null,null,null,null,null,null,null,null,null,null,null,null,null,null,null,null,null,null,null,null,null,null,null,null,false]
[6,"I22",null,null,null,null,null,null,null,null,null,null,null,null,null,null,null,null,null,null,null,null,null,null,null,null,null,null,null,false]
[6,"D23",null,null,null,null,null,null,null,null,null,null,null,null,null,null,null,null,null,null,null,null,null,null,null,null,null,null,null,false]
[6,"E24",null,null,null,null,null,null,null,null,null,null,null,null,null,null,null,null,null,null,null,null,null,null,null,null,null,null,null,false]
[6,"O24",null,null,null,null,null,null,null,null,null,null,null,null,null,null,null,null,null,null,null,null,null,null,null,null,null,null,null,false]
[7,"D1",null,null,null,null,null,null,null,null,null,null,null,null,null,null,null,null,null,null,null,null,null,null,null,null,null,null,null,false]
[7,"C2",null,null,null,null,null,null,null,null,null,null,null,null,null,null,null,null,null,null,null,null,null,null,null,null,null,null,null,false]
[7,"M2",null,null,null,null,null,null,null,null,null,null,null,null,null,null,null,null,null,null,null,null,null,null,null,null,null,null,null,false]
[7,"D3",null,null,null,null,null,null,null,null,null,null,null,null,null,null,null,null,null,null,null,null,null,null,null,null,null,null,null,false]
[7,"O3",null,null,null,null,null,null,null,null,null,null,null,null,null,null,null,null,null,null,null,null,null,null,null,null,null,null,null,false]
[7,"L4",null,null,null,null,null,null,null,null,null,null,null,null,null,null,null,null,null,null,null,null,null,null,null,null,null,null,null,false]
[7,"D5",null,null,null,null,null,null,null,null,null,null,null,null,null,null,null,null,null,null,null,null,null,null,null,null,null,null,null,false]
[7,"O5",null,null,null,null,null,null,null,null,null,null,null,null,null,null,null,null,null,null,null,null,null,null,null,null,null,null,null,false]
[7,"D6",null,null,null,null,null,null,null,null,null,null,null,null,null,null,null,null,null,null,null,null,null,null,null,null,null,null,null,false]
[7,"P6",null,null,null,null,null,null,null,null,null,null,null,null,null,null,null,null,null,null,null,null,null,null,null,null,null,null,null,false]
[7,"O7",null,null,null,null,null,null,null,null,null,null,null,null,null,null,null,null,null,null,null,null,null,null,null,null,null,null,null,false]
[7,"D8",null,null,null,null,null,null,null,null,null,null,null,null,null,null,null,null,null,null,null,null,null,null,null,null,null,null,null,false]
[7,"O8",null,null,null,null,null,null,null,null,null,null,null,null,null,null,null,null,null,null,null,null,null,null,null,null,null,null,null,false]
[7,"H9",null,null,null,null,null,null,null,null,null,null,null,null,null,null,null,null,null,null,null,null,null,null,null,null,null,null,null,false]
[7,"D10",null,null,null,null,null,null,null,null,null,null,null,null,null,null,null,null,null,null,null,null,null,null,null,null,null,null,null,false]
[7,"O10",null,null,null,null,null,null,null,null,null,null,null,null,null,null,null,null,null,null,null,null,null,null,null,null,null,null,null,false]
[7,"G11",null,null,null,null,null,null,null,null,null,null,null,null,null,null,null,null,null,null,null,null,null,null,null,null,null,null,null,false]
[7,"P11",null,null,null,null,null,null,null,null,null,null,null,null,null,null,null,null,null,null,null,null,null,null,null,null,null,null,null,false]
[7,"O12",null,null,null,null,null,null,null,null,null,null,null,null,null,null,null,null,null,null,null,null,null,null,null,null,null,null,null,false]
[7,"D13",null,null,null,null,null,null,null,null,null,null,null,null,null,null,null,null,null,null,null,null,null,null,null,null,null,null,null,false]
[7,"O13",null,null,null,null,null,null,null,null,null,null,null,null,null,null,null,null,null,null,null,null,null,null,null,null,null,null,null,false]
[7,"O14",null,null,null,null,null,null,null,null,null,null,null,null,null,null,null,null,null,null,null,null,null,null,null,null,null,null,null,false]
[7,"D15",null,null,null,null,null,null,null,null,null,null,null,null,null,null,null,null,null,null,null,null,null,null,null,null,null,null,null,false]
[7,"O15",null,null,null,null,null,null,null,null,null,null,null,null,null,null,null,null,null,null,null,null,null,null,null,null,null,null,null,false]
[7,"N16",null,null,null,null,null,null,null,null,null,null,null,null,null,null,null,null,null,null,null,null,null,null,null,null,null,null,null,false]
[7,"J17",null,null,null,null,null,null,null,null,null,null,null,null,null,null,null,null,null,null,null,null,null,null,null,null,null,null,null,false]
[7,"O17",null,null,null,null,null,null,null,null,null,null,null,null,null,null,null,null,null,null,null,null,null,null,null,null,null,null,null,false]
[7,"M18",null,null,null,null,null,null,null,null,null,null,null,null,null,null,null,null,null,null,null,null,null,null,null,null,null,null,null,false]
[7,"P18",null,null,null,null,null,null,null,null,null,null,null,null,null,null,null,null,null,null,null,null,null,null,null,null,null,null,null,false]
[7,"O19",null,null,null,null,null,null,null,null,null,null,null,null,null,null,null,null,null,null,null,null,null,null,null,null,null,null,null,false]
[7,"D20",null,null,null,null,null,null,null,null,null,null,null,null,null,null,null,null,null,null,null,null,null,null,null,null,null,null,null,false]
[7,"E21",null,null,null,null,null,null,null,null,null,null,null,null,null,null,null,null,null,null,null,null,null,null,null,null,null,null,null,false]
[7,"O21",null,null,null,null,null,null,null,null,null,null,null,null,null,null,null,null,null,null,null,null,null,null,null,null,null,null,null,false]
[7,"J22",null,null,null,null,null,null,null,null,null,null,null,null,null,null,null,null,null,null,null,null,null,null,null,null,null,null,null,false]
[7,"O22",null,null,null,null,null,null,null,null,null,null,null,null,null,null,null,null,null,null,null,null,null,null,null,null,null,null,null,false]
[7,"I23",null,null,null,null,null,null,null,null,null,null,null,null,null,null,null,null,null,null,null,null,null,null,null,null,null,null,null,false]
[7,"J24",null,null,null,null,null,null,null,null,null,null,null,null,null,null,null,null,null,null,null,null,null,null,null,null,null,null,null,false]
[7,"O24",null,null,null,null,null,null,null,null,null,null,null,null,null,null,null,null,null,null,null,null,null,null,null,null,null,null,null,false]
[8,"J1",null,null,null,null,null,null,null,null,null,null,null,null,null,null,null,null,null,null,null,null,null,null,null,null,null,null,null,false]
[8,"A2",null,null,null,null,null,null,null,null,null,null,null,null,null,null,null,null,null,null,null,null,null,null,null,null,null,null,null,false]
[8,"O2",null,null,null,null,null,null,null,null,null,null,null,null,null,null,null,null,null,null,null,null,null,null,null,null,null,null,null,false]
[8,"J3",null,null,null,null,null,null,null,null,null,null,null,null,null,null,null,null,null,null,null,null,null,null,null,null,null,null,null,false]
[8,"P3",null,null,null,null,null,null,null,null,null,null,null,null,null,null,null,null,null,null,null,null,null,null,null,null,null,null,null,false]
[8,"O4",null,null,null,null,null,null,null,null,null,null,null,null,null,null,null,null,null,null,null,null,null,null,null,null,null,null,null,false]
[8,"J5",null,null,null,null,null,null,null,null,null,null,null,null,null,null,null,null,null,null,null,null,null,null,null,null,null,null,null,false]
[8,"O5",null,null,null,null,null,null,null,null,null,null,null,null,null,null,null,null,null,null,null,null,null,null,null,null,null,null,null,false]
[8,"H6",null,null,null,null,null,null,null,null,null,null,null,null,null,null,null,null,null,null,null,null,null,null,null,null,null,null,null,false]
[8,"J7",null,null,null,null,null,null,null,null,null,null,null,null,null,null,null,null,null,null,null,null,null,null,null,null,null,null,null,false]
[8,"O7",null,null,null,null,null,null,null,null,null,null,null,null,null,null,null,null,null,null,null,null,null,null,null,null,null,null,null,false]
[8,"J8",null,null,null,null,null,null,null,null,null,null,null,null,null,null,null,null,null,null,null,null,null,null,null,null,null,null,null,false]
[8,"G9",null,null,null,null,null,null,null,null,null,null,null,null,null,null,null,null,null,null,null,null,null,null,null,null,null,null,null,false]
[8,"O9",null,null,null,null,null,null,null,null,null,null,null,null,null,null,null,null,null,null,null,null,null,null,null,null,null,null,null,false]
[8,"J10",null,null,null,null,null,null,null,null,null,null,null,null,null,null,null,null,null,null,null,null,null,null,null,null,null,null,null,false]
[8,"F11",null,null,null,null,null,null,null,null,null,null,null,null,null,null,null,null,null,null,null,null,null,null,null,null,null,null,null,false]
[8,"K11",null,null,null,null,null,null,null,null,null,null,null,null,null,null,null,null,null,null,null,null,null,null,null,null,null,null,null,false]
[8,"J12",null,null,null,null,null,null,null,null,null,null,null,null,null,null,null,null,null,null,null,null,null,null,null,null,null,null,null,false]
[8,"O12",null,null,null,null,null,null,null,null,null,null,null,null,null,null,null,null,null,null,null,null,null,null,null,null,null,null,null,false]
[8,"N13",null,null,null,null,null,null,null,null,null,null,null,null,null,null,null,null,null,null,null,null,null,null,null,null,null,null,null,false]
[8,"J14",null,null,null,null,null,null,null,null,null,null,null,null,null,null,null,null,null,null,null,null,null,null,null,null,null,null,null,false]
[8,"E15",null,null,null,null,null,null,null,null,null,null,null,null,null,null,null,null,null,null,null,null,null,null,null,null,null,null,null,false]
[8,"J15",null,null,null,null,null,null,null,null,null,null,null,null,null,null,null,null,null,null,null,null,null,null,null,null,null,null,null,false]
[8,"B16",null,null,null,null,null,null,null,null,null,null,null,null,null,null,null,null,null,null,null,null,null,null,null,null,null,null,null,false]
[8,"E17",null,null,null,null,null,null,null,null,null,null,null,null,null,null,null,null,null,null,null,null,null,null,null,null,null,null,null,false]
[8,"J17",null,null,null,null,null,null,null,null,null,null,null,null,null,null,null,null,null,null,null,null,null,null,null,null,null,null,null,false]
[8,"A18",null,null,null,null,null,null,null,null,null,null,null,null,null,null,null,null,null,null,null,null,null,null,null,null,null,null,null,false]
[8,"E19",null,null,null,null,null,null,null,null,null,null,null,null,null,null,null,null,null,null,null,null,null,null,null,null,null,null,null,false]
[8,"J19",null,null,null,null,null,null,null,null,null,null,null,null,null,null,null,null,null,null,null,null,null,null,null,null,null,null,null,false]
[8,"E20",null,null,null,null,null,null,null,null,null,null,null,null,null,null,null,null,null,null,null,null,null,null,null,null,null,null,null,false]
[8,"D21",null,null,null,null,null,null,null,null,null,null,null,null,null,null,null,null,null,null,null,null,null,null,null,null,null,null,null,false]
[8,"J21",null,null,null,null,null,null,null,null,null,null,null,null,null,null,null,null,null,null,null,null,null,null,null,null,null,null,null,false]
[8,"E22",null,null,null,null,null,null,null,null,null,null,null,null,null,null,null,null,null,null,null,null,null,null,null,null,null,null,null,false]
[8,"J22",null,null,null,null,null,null,null,null,null,null,null,null,null,null,null,null,null,null,null,null,null,null,null,null,null,null,null,false]
[8,"L23",null,null,null,null,null,null,null,null,null,null,null,null,null,null,null,null,null,null,null,null,null,null,null,null,null,null,null,false]
[8,"E24",null,null,null,null,null,null,null,null,null,null,null,null,null,null,null,null,null,null,null,null,null,null,null,null,null,null,null,false]
[8,"J24",null,null,null,null,null,null,null,null,null,null,null,null,null,null,null,null,null,null,null,null,null,null,null,null,null,null,null,false]
[9,"K1",null,null,null,null,null,null,null,null,null,null,null,null,null,null,null,null,null,null,null,null,null,null,null,null,null,null,null,false]
[9,"E2",null,null,null,null,null,null,null,null,null,null,null,null,null,null,null,null,null,null,null,null,null,null,null,null,null,null,null,false]
[9,"J2",null,null,null,null,null,null,null,null,null,null,null,null,null,null,null,null,null,null,null,null,null,null,null,null,null,null,null,false]
[9,"E3",null,null,null,null,null,null,null,null,null,null,null,null,null,null,null,null,null,null,null,null,null,null,null,null,null,null,null,false]
[9,"O3",null,null,null,null,null,null,null,null,null,null,null,null,null,null,null,null,null,null,null,null,null,null,null,null,null,null,null,false]
[9,"F4",null,null,null,null,null,null,null,null,null,null,null,null,null,null,null,null,null,null,null,null,null,null,null,null,null,null,null,false]
[9,"E5",null,null,null,null,null,null,null,null,null,null,null,null,null,null,null,null,null,null,null,null,null,null,null,null,null,null,null,false]
[9,"J5",null,null,null,null,null,null,null,null,null,null,null,null,null,null,null,null,null,null,null,null,null,null,null,null,null,null,null,false]
[9,"G6",null,null,null,null,null,null,null,null,null,null,null,null,null,null,null,null,null,null,null,null,null,null,null,null,null,null,null,false]
[9,"E7",null,null,null,null,null,null,null,null,null,null,null,null,null,null,null,null,null,null,null,null,null,null,null,null,null,null,null,false]
[9,"J7",null,null,null,null,null,null,null,null,null,null,null,null,null,null,null,null,null,null,null,null,null,null,null,null,null,null,null,false]
[9,"E8",null,null,null,null,null,null,null,null,null,null,null,null,null,null,null,null,null,null,null,null,null,null,null,null,null,null,null,false]
[9,"F9",null,null,null,null,null,null,null,null,null,null,null,null,null,null,null,null,null,null,null,null,null,null,null,null,null,null,null,false]
[9,"P9",null,null,null,null,null,null,null,null,null,null,null,null,null,null,null,null,null,null,null,null,null,null,null,null,null,null,null,false]
[9,"E10",null,null,null,null,null,null,null,null,null,null,null,null,null,null,null,null,null,null,null,null,null,null,null,null,null,null,null,false]
[9,"E11",null,null,null,null,null,null,null,null,null,null,null,null,null,null,null,null,null,null,null,null,null,null,null,null,null,null,null,false]
[9,"P11",null,null,null,null,null,null,null,null,null,null,null,null,null,null,null,null,null,null,null,null,null,null,null,null,null,null,null,false]
[9,"E12",null,null,null,null,null,null,null,null,null,null,null,null,null,null,null,null,null,null,null,null,null,null,null,null,null,null,null,false]
[9,"P12",null,null,null,null,null,null,null,null,null,null,null,null,null,null,null,null,null,null,null,null,null,null,null,null,null,null,null,false]
[9,"M13",null,null,null,null,null,null,null,null,null,null,null,null,null,null,null,null,null,null,null,null,null,null,null,null,null,null,null,false]
[9,"E14",null,null,null,null,null,null,null,null,null,null,null,null,null,null,null,null,null,null,null,null,null,null,null,null,null,null,null,false]
[9,"P14",null,null,null,null,null,null,null,null,null,null,null,null,null,null,null,null,null,null,null,null,null,null,null,null,null,null,null,false]
[9,"E15",null,null,null,null,null,null,null,null,null,null,null,null,null,null,null,null,null,null,null,null,null,null,null,null,null,null,null,false]
[9,"A16",null,null,null,null,null,null,null,null,null,null,null,null,null,null,null,null,null,null,null,null,null,null,null,null,null,null,null,false]
[9,"P16",null,null,null,null,null,null,null,null,null,null,null,null,null,null,null,null,null,null,null,null,null,null,null,null,null,null,null,false]
[9,"E17",null,null,null,null,null,null,null,null,null,null,null,null,null,null,null,null,null,null,null,null,null,null,null,null,null,null,null,false]
[9,"D18",null,null,null,null,null,null,null,null,null,null,null,null,null,null,null,null,null,null,null,null,null,null,null,null,null,null,null,false]
[9,"P18",null,null,null,null,null,null,null,null,null,null,null,null,null,null,null,null,null,null,null,null,null,null,null,null,null,null,null,false]
[9,"E19",null,null,null,null,null,null,null,null,null,null,null,null,null,null,null,null,null,null,null,null,null,null,null,null,null,null,null,false]
[9,"P19",null,null,null,null,null,null,null,null,null,null,null,null,null,null,null,null,null,null,null,null,null,null,null,null,null,null,null,false]
[9,"H20",null,null,null,null,null,null,null,null,null,null,null,null,null,null,null,null,null,null,null,null,null,null,null,null,null,null,null,false]
[9,"E21",null,null,null,null,null,null,null,null,null,null,null,null,null,null,null,null,null,null,null,null,null,null,null,null,null,null,null,false]
[9,"P21",null,null,null,null,null,null,null,null,null,null,null,null,null,null,null,null,null,null,null,null,null,null,null,null,null,null,null,false]
[9,"E22",null,null,null,null,null,null,null,null,null,null,null,null,null,null,null,null,null,null,null,null,null,null,null,null,null,null,null,false]
[9,"P22",null,null,null,null,null,null,null,null,null,null,null,null,null,null,null,null,null,null,null,null,null,null,null,null,null,null,null,false]
[9,"P23",null,null,null,null,null,null,null,null,null,null,null,null,null,null,null,null,null,null,null,null,null,null,null,null,null,null,null,false]
[9,"E24",null,null,null,null,null,null,null,null,null,null,null,null,null,null,null,null,null,null,null,null,null,null,null,null,null,null,null,false]
[9,"O24",null,null,null,null,null,null,null,null,null,null,null,null,null,null,null,null,null,null,null,null,null,null,null,null,null,null,null,false]
[10,"P1",null,null,null,null,null,null,null,null,null,null,null,null,null,null,null,null,null,null,null,null,null,null,null,null,null,null,null,false]
[10,"K2",null,null,null,null,null,null,null,null,null,null,null,null,null,null,null,null,null,null,null,null,null,null,null,null,null,null,null,false]
[10,"P2",null,null,null,null,null,null,null,null,null,null,null,null,null,null,null,null,null,null,null,null,null,null,null,null,null,null,null,false]
[10,"N3",null,null,null,null,null,null,null,null,null,null,null,null,null,null,null,null,null,null,null,null,null,null,null,null,null,null,null,false]
[10,"K4",null,null,null,null,null,null,null,null,null,null,null,null,null,null,null,null,null,null,null,null,null,null,null,null,null,null,null,false]
[10,"P4",null,null,null,null,null,null,null,null,null,null,null,null,null,null,null,null,null,null,null,null,null,null,null,null,null,null,null,false]
[10,"O5",null,null,null,null,null,null,null,null,null,null,null,null,null,null,null,null,null,null,null,null,null,null,null,null,null,null,null,false]
[10,"F6",null,null,null,null,null,null,null,null,null,null,null,null,null,null,null,null,null,null,null,null,null,null,null,null,null,null,null,false]
[10,"P6",null,null,null,null,null,null,null,null,null,null,null,null,null,null,null,null,null,null,null,null,null,null,null,null,null,null,null,false]
[10,"K7",null,null,null,null,null,null,null,null,null,null,null,null,null,null,null,null,null,null,null,null,null,null,null,null,null,null,null,false]
[10,"E8",null,null,null,null,null,null,null,null,null,null,null,null,null,null,null,null,null,null,null,null,null,null,null,null,null,null,null,false]
[10,"P8",null,null,null,null,null,null,null,null,null,null,null,null,null,null,null,null,null,null,null,null,null,null,null,null,null,null,null,false]
[10,"K9",null,null,null,null,null,null,null,null,null,null,null,null,null,null,null,null,null,null,null,null,null,null,null,null,null,null,null,false]
[10,"P9",null,null,null,null,null,null,null,null,null,null,null,null,null,null,null,null,null,null,null,null,null,null,null,null,null,null,null,false]
[10,"M10",null,null,null,null,null,null,null,null,null,null,null,null,null,null,null,null,null,null,null,null,null,null,null,null,null,null,null,false]
[10,"K11",null,null,null,null,null,null,null,null,null,null,null,null,null,null,null,null,null,null,null,null,null,null,null,null,null,null,null,false]
[10,"P11",null,null,null,null,null,null,null,null,null,null,null,null,null,null,null,null,null,null,null,null,null,null,null,null,null,null,null,false]
[10,"K12",null,null,null,null,null,null,null,null,null,null,null,null,null,null,null,null,null,null,null,null,null,null,null,null,null,null,null,false]
[10,"A13",null,null,null,null,null,null,null,null,null,null,null,null,null,null,null,null,null,null,null,null,null,null,null,null,null,null,null,false]
[10,"P13",null,null,null,null,null,null,null,null,null,null,null,null,null,null,null,null,null,null,null,null,null,null,null,null,null,null,null,false]
[10,"K14",null,null,null,null,null,null,null,null,null,null,null,null,null,null,null,null,null,null,null,null,null,null,null,null,null,null,null,false]
[10,"P14",null,null,null,null,null,null,null,null,null,null,null,null,null,null,null,null,null,null,null,null,null,null,null,null,null,null,null,false]
[10,"L15",null,null,null,null,null,null,null,null,null,null,null,null,null,null,null,null,null,null,null,null,null,null,null,null,null,null,null,false]
[10,"K16",null,null,null,null,null,null,null,null,null,null,null,null,null,null,null,null,null,null,null,null,null,null,null,null,null,null,null,false]
[10,"P16",null,null,null,null,null,null,null,null,null,null,null,null,null,null,null,null,null,null,null,null,null,null,null,null,null,null,null,false]
[10,"C18",null,null,null,null,null,null,null,null,null,null,null,null,null,null,null,null,null,null,null,null,null,null,null,null,null,null,null,false]
[10,"K18",null,null,null,null,null,null,null,null,null,null,null,null,null,null,null,null,null,null,null,null,null,null,null,null,null,null,null,false]
[10,"P18",null,null,null,null,null,null,null,null,null,null,null,null,null,null,null,null,null,null,null,null,null,null,null,null,null,null,null,false]
[10,"K19",null,null,null,null,null,null,null,null,null,null,null,null,null,null,null,null,null,null,null,null,null,null,null,null,null,null,null,false]
[10,"G20",null,null,null,null,null,null,null,null,null,null,null,null,null,null,null,null,null,null,null,null,null,null,null,null,null,null,null,false]
[10,"F21",null,null,null,null,null,null,null,null,null,null,null,null,null,null,null,null,null,null,null,null,null,null,null,null,null,null,null,false]
[10,"K21",null,null,null,null,null,null,null,null,null,null,null,null,null,null,null,null,null,null,null,null,null,null,null,null,null,null,null,false]
[10,"J22",null,null,null,null,null,null,null,null,null,null,null,null,null,null,null,null,null,null,null,null,null,null,null,null,null,null,null,false]
[10,"O22",null,null,null,null,null,null,null,null,null,null,null,null,null,null,null,null,null,null,null,null,null,null,null,null,null,null,null,false]
[10,"K23",null,null,null,null,null,null,null,null,null,null,null,null,null,null,null,null,null,null,null,null,null,null,null,null,null,null,null,false]
[10,"F24",null,null,null,null,null,null,null,null,null,null,null,null,null,null,null,null,null,null,null,null,null,null,null,null,null,null,null,false]
[10,"N24",null,null,null,null,null,null,null,null,null,null,null,null,null,null,null,null,null,null,null,null,null,null,null,null,null,null,null,false]
[11,"K1",null,null,null,null,null,null,null,null,null,null,null,null,null,null,null,null,null,null,null,null,null,null,null,null,null,null,null,false]
[11,"F2",null,null,null,null,null,null,null,null,null,null,null,null,null,null,null,null,null,null,null,null,null,null,null,null,null,null,null,false]
[11,"K2",null,null,null,null,null,null,null,null,null,null,null,null,null,null,null,null,null,null,null,null,null,null,null,null,null,null,null,false]
[11,"M3",null,null,null,null,null,null,null,null,null,null,null,null,null,null,null,null,null,null,null,null,null,null,null,null,null,null,null,false]
[11,"F4",null,null,null,null,null,null,null,null,null,null,null,null,null,null,null,null,null,null,null,null,null,null,null,null,null,null,null,false]
[11,"K4",null,null,null,null,null,null,null,null,null,null,null,null,null,null,null,null,null,null,null,null,null,null,null,null,null,null,null,false]
[11,"F5",null,null,null,null,null,null,null,null,null,null,null,null,null,null,null,null,null,null,null,null,null,null,null,null,null,null,null,false]
[11,"E6",null,null,null,null,null,null,null,null,null,null,null,null,null,null,null,null,null,null,null,null,null,null,null,null,null,null,null,false]
[11,"K6",null,null,null,null,null,null,null,null,null,null,null,null,null,null,null,null,null,null,null,null,null,null,null,null,null,null,null,false]
[11,"F7",null,null,null,null,null,null,null,null,null,null,null,null,null,null,null,null,null,null,null,null,null,null,null,null,null,null,null,false]
[11,"D8",null,null,null,null,null,null,null,null,null,null,null,null,null,null,null,null,null,null,null,null,null,null,null,null,null,null,null,false]
[11,"G8",null,null,null,null,null,null,null,null,null,null,null,null,null,null,null,null,null,null,null,null,null,null,null,null,null,null,null,false]
[11,"F9",null,null,null,null,null,null,null,null,null,null,null,null,null,null,null,null,null,null,null,null,null,null,null,null,null,null,null,false]
[11,"K9",null,null,null,null,null,null,null,null,null,null,null,null,null,null,null,null,null,null,null,null,null,null,null,null,null,null,null,false]
[11,"L10",null,null,null,null,null,null,null,null,null,null,null,null,null,null,null,null,null,null,null,null,null,null,null,null,null,null,null,false]
[11,"F11",null,null,null,null,null,null,null,null,null,null,null,null,null,null,null,null,null,null,null,null,null,null,null,null,null,null,null,false]
[11,"K11",null,null,null,null,null,null,null,null,null,null,null,null,null,null,null,null,null,null,null,null,null,null,null,null,null,null,null,false]
[11,"F12",null,null,null,null,null,null,null,null,null,null,null,null,null,null,null,null,null,null,null,null,null,null,null,null,null,null,null,false]
[11,"P12",null,null,null,null,null,null,null,null,null,null,null,null,null,null,null,null,null,null,null,null,null,null,null,null,null,null,null,false]
[11,"A14",null,null,null,null,null,null,null,null,null,null,null,null,null,null,null,null,null,null,null,null,null,null,null,null,null,null,null,false]
[11,"F14",null,null,null,null,null,null,null,null,null,null,null,null,null,null,null,null,null,null,null,null,null,null,null,null,null,null,null,false]
[11,"O14",null,null,null,null,null,null,null,null,null,null,null,null,null,null,null,null,null,null,null,null,null,null,null,null,null,null,null,false]
[11,"G15",null,null,null,null,null,null,null,null,null,null,null,null,null,null,null,null,null,null,null,null,null,null,null,null,null,null,null,false]
[11,"F16",null,null,null,null,null,null,null,null,null,null,null,null,null,null,null,null,null,null,null,null,null,null,null,null,null,null,null,false]
[11,"K16",null,null,null,null,null,null,null,null,null,null,null,null,null,null,null,null,null,null,null,null,null,null,null,null,null,null,null,false]
[11,"G17",null,null,null,null,null,null,null,null,null,null,null,null,null,null,null,null,null,null,null,null,null,null,null,null,null,null,null,false]
[11,"F18",null,null,null,null,null,null,null,null,null,null,null,null,null,null,null,null,null,null,null,null,null,null,null,null,null,null,null,false]
[11,"A19",null,null,null,null,null,null,null,null,null,null,null,null,null,null,null,null,null,null,null,null,null,null,null,null,null,null,null,false]
[11,"F19",null,null,null,null,null,null,null,null,null,null,null,null,null,null,null,null,null,null,null,null,null,null,null,null,null,null,null,false]
[11,"F20",null,null,null,null,null,null,null,null,null,null,null,null,null,null,null,null,null,null,null,null,null,null,null,null,null,null,null,false]
[11,"A21",null,null,null,null,null,null,null,null,null,null,null,null,null,null,null,null,null,null,null,null,null,null,null,null,null,null,null,false]
[11,"F21",null,null,null,null,null,null,null,null,null,null,null,null,null,null,null,null,null,null,null,null,null,null,null,null,null,null,null,false]
[11,"N21",null,null,null,null,null,null,null,null,null,null,null,null,null,null,null,null,null,null,null,null,null,null,null,null,null,null,null,false]
[11,"A23",null,null,null,null,null,null,null,null,null,null,null,null,null,null,null,null,null,null,null,null,null,null,null,null,null,null,null,false]
[11,"F23",null,null,null,null,null,null,null,null,null,null,null,null,null,null,null,null,null,null,null,null,null,null,null,null,null,null,null,false]
[11,"A24",null,null,null,null,null,null,null,null,null,null,null,null,null,null,null,null,null,null,null,null,null,null,null,null,null,null,null,false]
[11,"M24",null,null,null,null,null,null,null,null,null,null,null,null,null,null,null,null,null,null,null,null,null,null,null,null,null,null,null,false]
[12,"F1",null,null,null,null,null,null,null,null,null,null,null,null,null,null,null,null,null,null,null,null,null,null,null,null,null,null,null,false]
[12,"A2",null,null,null,null,null,null,null,null,null,null,null,null,null,null,null,null,null,null,null,null,null,null,null,null,null,null,null,false]
[12,"F2",null,null,null,null,null,null,null,null,null,null,null,null,null,null,null,null,null,null,null,null,null,null,null,null,null,null,null,false]
[12,"E3",null,null,null,null,null,null,null,null,null,null,null,null,null,null,null,null,null,null,null,null,null,null,null,null,null,null,null,false]
[12,"A4",null,null,null,null,null,null,null,null,null,null,null,null,null,null,null,null,null,null,null,null,null,null,null,null,null,null,null,false]
[12,"F4",null,null,null,null,null,null,null,null,null,null,null,null,null,null,null,null,null,null,null,null,null,null,null,null,null,null,null,false]
[12,"A5",null,null,null,null,null,null,null,null,null,null,null,null,null,null,null,null,null,null,null,null,null,null,null,null,null,null,null,false]
[12,"I5",null,null,null,null,null,null,null,null,null,null,null,null,null,null,null,null,null,null,null,null,null,null,null,null,null,null,null,false]
[12,"F6",null,null,null,null,null,null,null,null,null,null,null,null,null,null,null,null,null,null,null,null,null,null,null,null,null,null,null,false]
[12,"A7",null,null,null,null,null,null,null,null,null,null,null,null,null,null,null,null,null,null,null,null,null,null,null,null,null,null,null,false]
[12,"H7",null,null,null,null,null,null,null,null,null,null,null,null,null,null,null,null,null,null,null,null,null,null,null,null,null,null,null,false]
[12,"B8",null,null,null,null,null,null,null,null,null,null,null,null,null,null,null,null,null,null,null,null,null,null,null,null,null,null,null,false]
[12,"A9",null,null,null,null,null,null,null,null,null,null,null,null,null,null,null,null,null,null,null,null,null,null,null,null,null,null,null,false]
[12,"F9",null,null,null,null,null,null,null,null,null,null,null,null,null,null,null,null,null,null,null,null,null,null,null,null,null,null,null,false]
[12,"P9",null,null,null,null,null,null,null,null,null,null,null,null,null,null,null,null,null,null,null,null,null,null,null,null,null,null,null,false]
[12,"A11",null,null,null,null,null,null,null,null,null,null,null,null,null,null,null,null,null,null,null,null,null,null,null,null,null,null,null,false]
[12,"L11",null,null,null,null,null,null,null,null,null,null,null,null,null,null,null,null,null,null,null,null,null,null,null,null,null,null,null,false]
[12,"A12",null,null,null,null,null,null,null,null,null,null,null,null,null,null,null,null,null,null,null,null,null,null,null,null,null,null,null,false]
[12,"O12",null,null,null,null,null,null,null,null,null,null,null,null,null,null,null,null,null,null,null,null,null,null,null,null,null,null,null,false]
[12,"L13",null,null,null,null,null,null,null,null,null,null,null,null,null,null,null,null,null,null,null,null,null,null,null,null,null,null,null,false]
[12,"A14",null,null,null,null,null,null,null,null,null,null,null,null,null,null,null,null,null,null,null,null,null,null,null,null,null,null,null,false]
[12,"N14",null,null,null,null,null,null,null,null,null,null,null,null,null,null,null,null,null,null,null,null,null,null,null,null,null,null,null,false]
[12,"L15",null,null,null,null,null,null,null,null,null,null,null,null,null,null,null,null,null,null,null,null,null,null,null,null,null,null,null,false]
[12,"A16",null,null,null,null,null,null,null,null,null,null,null,null,null,null,null,null,null,null,null,null,null,null,null,null,null,null,null,false]
[12,"L16",null,null,null,null,null,null,null,null,null,null,null,null,null,null,null,null,null,null,null,null,null,null,null,null,null,null,null,false]
[12,"F17",null,null,null,null,null,null,null,null,null,null,null,null,null,null,null,null,null,null,null,null,null,null,null,null,null,null,null,false]
[12,"A18",null,null,null,null,null,null,null,null,null,null,null,null,null,null,null,null,null,null,null,null,null,null,null,null,null,null,null,false]
[12,"L18",null,null,null,null,null,null,null,null,null,null,null,null,null,null,null,null,null,null,null,null,null,null,null,null,null,null,null,false]
[12,"A19",null,null,null,null,null,null,null,null,null,null,null,null,null,null,null,null,null,null,null,null,null,null,null,null,null,null,null,false]
[12,"N19",null,null,null,null,null,null,null,null,null,null,null,null,null,null,null,null,null,null,null,null,null,null,null,null,null,null,null,false]
[12,"L20",null,null,null,null,null,null,null,null,null,null,null,null,null,null,null,null,null,null,null,null,null,null,null,null,null,null,null,false]
[12,"A21",null,null,null,null,null,null,null,null,null,null,null,null,null,null,null,null,null,null,null,null,null,null,null,null,null,null,null,false]
[12,"M21",null,null,null,null,null,null,null,null,null,null,null,null,null,null,null,null,null,null,null,null,null,null,null,null,null,null,null,false]
[12,"L22",null,null,null,null,null,null,null,null,null,null,null,null,null,null,null,null,null,null,null,null,null,null,null,null,null,null,null,false]
[12,"A23",null,null,null,null,null,null,null,null,null,null,null,null,null,null,null,null,null,null,null,null,null,null,null,null,null,null,null,false]
[12,"L23",null,null,null,null,null,null,null,null,null,null,null,null,null,null,null,null,null,null,null,null,null,null,null,null,null,null,null,false]
[12,"L24",null,null,null,null,null,null,null,null,null,null,null,null,null,null,null,null,null,null,null,null,null,null,null,null,null,null,null,false]
[12,"M24",null,null,null,null,null,null,null,null,null,null,null,null,null,null,null,null,null,null,null,null,null,null,null,null,null,null,null,false]
[13,"L1",null,null,null,null,null,null,null,null,null,null,null,null,null,null,null,null,null,null,null,null,null,null,null,null,null,null,null,false]
[13,"A2",null,null,null,null,null,null,null,null,null,null,null,null,null,null,null,null,null,null,null,null,null,null,null,null,null,null,null,false]
[13,"D3",null,null,null,null,null,null,null,null,null,null,null,null,null,null,null,null,null,null,null,null,null,null,null,null,null,null,null,false]
[13,"L3",null,null,null,null,null,null,null,null,null,null,null,null,null,null,null,null,null,null,null,null,null,null,null,null,null,null,null,false]
[13,"A4",null,null,null,null,null,null,null,null,null,null,null,null,null,null,null,null,null,null,null,null,null,null,null,null,null,null,null,false]
[13,"C5",null,null,null,null,null,null,null,null,null,null,null,null,null,null,null,null,null,null,null,null,null,null,null,null,null,null,null,{"$f":"IF(COUNTBLANK(D4676)=0,A4676)","v":false}]
[13,"L5",null,null,null,null,null,null,null,null,null,null,null,null,null,null,null,null,null,null,null,null,null,null,null,null,null,null,null,false]
[13,"G6",null,null,null,null,null,null,null,null,null,null,null,null,null,null,null,null,null,null,null,null,null,null,null,null,null,null,null,false]
[13,"L6",null,null,null,null,null,null,null,null,null,null,null,null,null,null,null,null,null,null,null,null,null,null,null,null,null,null,null,false]
[13,"G7",null,null,null,null,null,null,null,null,null,null,null,null,null,null,null,null,null,null,null,null,null,null,null,null,null,null,null,false]
[13,"G8",null,null,null,null,null,null,null,null,null,null,null,null,null,null,null,null,null,null,null,null,null,null,null,null,null,null,null,false]
[13,"L8",null,null,null,null,null,null,null,null,null,null,null,null,null,null,null,null,null,null,null,null,null,null,null,null,null,null,null,false]
[13,"G9",null,null,null,null,null,null,null,null,null,null,null,null,null,null,null,null,null,null,null,null,null,null,null,null,null,null,null,false]
[13,"O9",null,null,null,null,null,null,null,null,null,null,null,null,null,null,null,null,null,null,null,null,null,null,null,null,null,null,null,false]
[13,"L10",null,null,null,null,null,null,null,null,null,null,null,null,null,null,null,null,null,null,null,null,null,null,null,null,null,null,null,false]
[13,"G11",null,null,null,null,null,null,null,null,null,null,null,null,null,null,null,null,null,null,null,null,null,null,null,null,null,null,null,false]
[13,"L11",null,null,null,null,null,null,null,null,null,null,null,null,null,null,null,null,null,null,null,null,null,null,null,null,null,null,null,false]
[13,"N12",null,null,null,null,null,null,null,null,null,null,null,null,null,null,null,null,null,null,null,null,null,null,null,null,null,null,null,false]
[13,"G13",null,null,null,null,null,null,null,null,null,null,null,null,null,null,null,null,null,null,null,null,null,null,null,null,null,null,null,false]
[13,"L13",null,null,null,null,null,null,null,null,null,null,null,null,null,null,null,null,null,null,null,null,null,null,null,null,null,null,null,false]
[13,"F14",null,null,null,null,null,null,null,null,null,null,null,null,null,null,null,null,null,null,null,null,null,null,null,null,null,null,null,false]
[13,"G15",null,null,null,null,null,null,null,null,null,null,null,null,null,null,null,null,null,null,null,null,null,null,null,null,null,null,null,false]
[13,"L15",null,null,null,null,null,null,null,null,null,null,null,null,null,null,null,null,null,null,null,null,null,null,null,null,null,null,null,false]
[13,"G16",null,null,null,null,null,null,null,null,null,null,null,null,null,null,null,null,null,null,null,null,null,null,null,null,null,null,null,false]
[13,"E17",null,null,null,null,null,null,null,null,null,null,null,null,null,null,null,null,null,null,null,null,null,null,null,null,null,null,null,false]
[13,"H17",null,null,null,null,null,null,null,null,null,null,null,null,null,null,null,null,null,null,null,null,null,null,null,null,null,null,null,false]
[13,"G18",null,null,null,null,null,null,null,null,null,null,null,null,null,null,null,null,null,null,null,null,null,null,null,null,null,null,null,false]
[13,"L18",null,null,null,null,null,null,null,null,null,null,null,null,null,null,null,null,null,null,null,null,null,null,null,null,null,null,null,false]
[13,"M19",null,null,null,null,null,null,null,null,null,null,null,null,null,null,null,null,null,null,null,null,null,null,null,null,null,null,null,false]
[13,"G20",null,null,null,null,null,null,null,null,null,null,null,null,null,null,null,null,null,null,null,null,null,null,null,null,null,null,null,false]
[13,"L20",null,null,null,null,null,null,null,null,null,null,null,null,null,null,null,null,null,null,null,null,null,null,null,null,null,null,null,false]
[13,"L21",null,null,null,null,null,null,null,null,null,null,null,null,null,null,null,null,null,null,null,null,null,null,null,null,null,null,null,false]
[13,"G22",null,null,null,null,null,null,null,null,null,null,null,null,null,null,null,null,null,null,null,null,null,null,null,null,null,null,null,false]
[13,"B23",null,null,null,null,null,null,null,null,null,null,null,null,null,null,null,null,null,null,null,null,null,null,null,null,null,null,null,false]
[13,"G23",null,null,null,null,null,null,null,null,null,null,null,null,null,null,null,null,null,null,null,null,null,null,null,null,null,null,null,false]
[13,"P23",null,null,null,null,null,null,null,null,null,null,null,null,null,null,null,null,null,null,null,null,null,null,null,null,null,null,null,false]
[14,"B1",null,null,null,null,null,null,null,null,null,null,null,null,null,null,null,null,null,null,null,null,null,null,null,null,null,null,null,{"$f":"IF(COUNTBLANK(D4995)=0,A4995)","v":false}]
[14,"G1",null,null,null,null,null,null,null,null,null,null,null,null,null,null,null,null,null,null,null,null,null,null,null,null,null,null,null,false]
[14,"F2",null,null,null,null,null,null,null,null,null,null,null,null,null,null,null,null,null,null,null,null,null,null,null,null,null,null,null,false]
[14,"H2",null,null,null,null,null,null,null,null,null,null,null,null,null,null,null,null,null,null,null,null,null,null,null,null,null,null,null,false]
[14,"G3",null,null,null,null,null,null,null,null,null,null,null,null,null,null,null,null,null,null,null,null,null,null,null,null,null,null,null,false]
[14,"B4",null,null,null,null,null,null,null,null,null,null,null,null,null,null,null,null,null,null,null,null,null,null,null,null,null,null,null,false]
[14,"G4",null,null,null,null,null,null,null,null,null,null,null,null,null,null,null,null,null,null,null,null,null,null,null,null,null,null,null,false]
[14,"G5",null,null,null,null,null,null,null,null,null,null,null,null,null,null,null,null,null,null,null,null,null,null,null,null,null,null,null,false]
[14,"B6",null,null,null,null,null,null,null,null,null,null,null,null,null,null,null,null,null,null,null,null,null,null,null,null,null,null,null,false]
[14,"G6",null,null,null,null,null,null,null,null,null,null,null,null,null,null,null,null,null,null,null,null,null,null,null,null,null,null,null,false]
[14,"O6",null,null,null,null,null,null,null,null,null,null,null,null,null,null,null,null,null,null,null,null,null,null,null,null,null,null,null,false]
[14,"B8",null,null,null,null,null,null,null,null,null,null,null,null,null,null,null,null,null,null,null,null,null,null,null,null,null,null,null,false]
[14,"G8",null,null,null,null,null,null,null,null,null,null,null,null,null,null,null,null,null,null,null,null,null,null,null,null,null,null,null,false]
[14,"B9",null,null,null,null,null,null,null,null,null,null,null,null,null,null,null,null,null,null,null,null,null,null,null,null,null,null,null,{"$f":"IF(COUNTBLANK(D5123)=0,A5123)","v":false}]
[14,"N9",null,null,null,null,null,null,null,null,null,null,null,null,null,null,null,null,null,null,null,null,null,null,null,null,null,null,null,false]
[14,"G10",null,null,null,null,null,null,null,null,null,null,null,null,null,null,null,null,null,null,null,null,null,null,null,null,null,null,null,false]
[14,"B11",null,null,null,null,null,null,null,null,null,null,null,null,null,null,null,null,null,null,null,null,null,null,null,null,null,null,null,false]
[14,"M11",null,null,null,null,null,null,null,null,null,null,null,null,null,null,null,null,null,null,null,null,null,null,null,null,null,null,null,false]
[14,"C12",null,null,null,null,null,null,null,null,null,null,null,null,null,null,null,null,null,null,null,null,null,null,null,null,null,null,null,false]
[14,"B13",null,null,null,null,null,null,null,null,null,null,null,null,null,null,null,null,null,null,null,null,null,null,null,null,null,null,null,{"$f":"IF(COUNTBLANK(D5187)=0,A5187)","v":false}]
[14,"G13",null,null,null,null,null,null,null,null,null,null,null,null,null,null,null,null,null,null,null,null,null,null,null,null,null,null,null,false]
[14,"E14",null,null,null,null,null,null,null,null,null,null,null,null,null,null,null,null,null,null,null,null,null,null,null,null,null,null,null,false]
[14,"B15",null,null,null,null,null,null,null,null,null,null,null,null,null,null,null,null,null,null,null,null,null,null,null,null,null,null,null,false]
[14,"G15",null,null,null,null,null,null,null,null,null,null,null,null,null,null,null,null,null,null,null,null,null,null,null,null,null,null,null,false]
[14,"B16",null,null,null,null,null,null,null,null,null,null,null,null,null,null,null,null,null,null,null,null,null,null,null,null,null,null,null,false]
[14,"I16",null,null,null,null,null,null,null,null,null,null,null,null,null,null,null,null,null,null,null,null,null,null,null,null,null,null,null,false]
[14,"M17",null,null,null,null,null,null,null,null,null,null,null,null,null,null,null,null,null,null,null,null,null,null,null,null,null,null,null,false]
[14,"B18",null,null,null,null,null,null,null,null,null,null,null,null,null,null,null,null,null,null,null,null,null,null,null,null,null,null,null,false]
[14,"H18",null,null,null,null,null,null,null,null,null,null,null,null,null,null,null,null,null,null,null,null,null,null,null,null,null,null,null,false]
[14,"C19",null,null,null,null,null,null,null,null,null,null,null,null,null,null,null,null,null,null,null,null,null,null,null,null,null,null,null,{"$f":"IF(COUNTBLANK(D5284)=0,A5284)","v":false}]
[14,"B20",null,null,null,null,null,null,null,null,null,null,null,null,null,null,null,null,null,null,null,null,null,null,null,null,null,null,null,false]
[14,"M20",null,null,null,null,null,null,null,null,null,null,null,null,null,null,null,null,null,null,null,null,null,null,null,null,null,null,null,false]
[14,"K21",null,null,null,null,null,null,null,null,null,null,null,null,null,null,null,null,null,null,null,null,null,null,null,null,null,null,null,false]
[14,"B22",null,null,null,null,null,null,null,null,null,null,null,null,null,null,null,null,null,null,null,null,null,null,null,null,null,null,null,false]
[14,"M22",null,null,null,null,null,null,null,null,null,null,null,null,null,null,null,null,null,null,null,null,null,null,null,null,null,null,null,false]
[14,"B23",null,null,null,null,null,null,null,null,null,null,null,null,null,null,null,null,null,null,null,null,null,null,null,null,null,null,null,false]
[14,"O23",null,null,null,null,null,null,null,null,null,null,null,null,null,null,null,null,null,null,null,null,null,null,null,null,null,null,null,false]
[14,"M24",null,null,null,null,null,null,null,null,null,null,null,null,null,null,null,null,null,null,null,null,null,null,null,null,null,null,null,false]
[15,"B1",null,null,null,null,null,null,null,null,null,null,null,null,null,null,null,null,null,null,null,null,null,null,null,null,null,null,null,{"$f":"IF(COUNTBLANK(D5379)=0,A5379)","v":false}]
[15,"M1",null,null,null,null,null,null,null,null,null,null,null,null,null,null,null,null,null,null,null,null,null,null,null,null,null,null,null,false]
[15,"G2",null,null,null,null,null,null,null,null,null,null,null,null,null,null,null,null,null,null,null,null,null,null,null,null,null,null,null,false]
[15,"B3",null,null,null,null,null,null,null,null,null,null,null,null,null,null,null,null,null,null,null,null,null,null,null,null,null,null,null,false]
[15,"M3",null,null,null,null,null,null,null,null,null,null,null,null,null,null,null,null,null,null,null,null,null,null,null,null,null,null,null,false]
[15,"F4",null,null,null,null,null,null,null,null,null,null,null,null,null,null,null,null,null,null,null,null,null,null,null,null,null,null,null,false]
[15,"N4",null,null,null,null,null,null,null,null,null,null,null,null,null,null,null,null,null,null,null,null,null,null,null,null,null,null,null,false]
[15,"M5",null,null,null,null,null,null,null,null,null,null,null,null,null,null,null,null,null,null,null,null,null,null,null,null,null,null,null,false]
[15,"B6",null,null,null,null,null,null,null,null,null,null,null,null,null,null,null,null,null,null,null,null,null,null,null,null,null,null,null,false]
[15,"N6",null,null,null,null,null,null,null,null,null,null,null,null,null,null,null,null,null,null,null,null,null,null,null,null,null,null,null,false]
[15,"M7",null,null,null,null,null,null,null,null,null,null,null,null,null,null,null,null,null,null,null,null,null,null,null,null,null,null,null,false]
[15,"B8",null,null,null,null,null,null,null,null,null,null,null,null,null,null,null,null,null,null,null,null,null,null,null,null,null,null,null,false]
[15,"M8",null,null,null,null,null,null,null,null,null,null,null,null,null,null,null,null,null,null,null,null,null,null,null,null,null,null,null,false]
[15,"M9",null,null,null,null,null,null,null,null,null,null,null,null,null,null,null,null,null,null,null,null,null,null,null,null,null,null,null,false]
[15,"H10",null,null,null,null,null,null,null,null,null,null,null,null,null,null,null,null,null,null,null,null,null,null,null,null,null,null,null,false]
[15,"M10",null,null,null,null,null,null,null,null,null,null,null,null,null,null,null,null,null,null,null,null,null,null,null,null,null,null,null,false]
[15,"L11",null,null,null,null,null,null,null,null,null,null,null,null,null,null,null,null,null,null,null,null,null,null,null,null,null,null,null,false]
[15,"N11",null,null,null,null,null,null,null,null,null,null,null,null,null,null,null,null,null,null,null,null,null,null,null,null,null,null,null,false]
[15,"M12",null,null,null,null,null,null,null,null,null,null,null,null,null,null,null,null,null,null,null,null,null,null,null,null,null,null,null,false]
[15,"B13",null,null,null,null,null,null,null,null,null,null,null,null,null,null,null,null,null,null,null,null,null,null,null,null,null,null,null,{"$f":"IF(COUNTBLANK(D5571)=0,A5571)","v":false}]
[15,"D14",null,null,null,null,null,null,null,null,null,null,null,null,null,null,null,null,null,null,null,null,null,null,null,null,null,null,null,false]
[15,"M14",null,null,null,null,null,null,null,null,null,null,null,null,null,null,null,null,null,null,null,null,null,null,null,null,null,null,null,false]
[15,"H15",null,null,null,null,null,null,null,null,null,null,null,null,null,null,null,null,null,null,null,null,null,null,null,null,null,null,null,false]
[15,"M15",null,null,null,null,null,null,null,null,null,null,null,null,null,null,null,null,null,null,null,null,null,null,null,null,null,null,null,false]
[15,"H16",null,null,null,null,null,null,null,null,null,null,null,null,null,null,null,null,null,null,null,null,null,null,null,null,null,null,null,false]
[15,"H17",null,null,null,null,null,null,null,null,null,null,null,null,null,null,null,null,null,null,null,null,null,null,null,null,null,null,null,false]
[15,"M17",null,null,null,null,null,null,null,null,null,null,null,null,null,null,null,null,null,null,null,null,null,null,null,null,null,null,null,false]
[15,"K18",null,null,null,null,null,null,null,null,null,null,null,null,null,null,null,null,null,null,null,null,null,null,null,null,null,null,null,false]
[15,"H19",null,null,null,null,null,null,null,null,null,null,null,null,null,null,null,null,null,null,null,null,null,null,null,null,null,null,null,false]
[15,"M19",null,null,null,null,null,null,null,null,null,null,null,null,null,null,null,null,null,null,null,null,null,null,null,null,null,null,null,false]
[15,"H20",null,null,null,null,null,null,null,null,null,null,null,null,null,null,null,null,null,null,null,null,null,null,null,null,null,null,null,false]
[15,"O20",null,null,null,null,null,null,null,null,null,null,null,null,null,null,null,null,null,null,null,null,null,null,null,null,null,null,null,false]
[15,"M21",null,null,null,null,null,null,null,null,null,null,null,null,null,null,null,null,null,null,null,null,null,null,null,null,null,null,null,false]
[15,"H22",null,null,null,null,null,null,null,null,null,null,null,null,null,null,null,null,null,null,null,null,null,null,null,null,null,null,null,false]
[15,"M22",null,null,null,null,null,null,null,null,null,null,null,null,null,null,null,null,null,null,null,null,null,null,null,null,null,null,null,false]
[15,"G23",null,null,null,null,null,null,null,null,null,null,null,null,null,null,null,null,null,null,null,null,null,null,null,null,null,null,null,false]
[15,"H24",null,null,null,null,null,null,null,null,null,null,null,null,null,null,null,null,null,null,null,null,null,null,null,null,null,null,null,false]
[15,"M24",null,null,null,null,null,null,null,null,null,null,null,null,null,null,null,null,null,null,null,null,null,null,null,null,null,null,null,false]
[16,"F1",null,null,null,null,null,null,null,null,null,null,null,null,null,null,null,null,null,null,null,null,null,null,null,null,null,null,null,false]
[16,"H2",null,null,null,null,null,null,null,null,null,null,null,null,null,null,null,null,null,null,null,null,null,null,null,null,null,null,null,false]
[16,"M2",null,null,null,null,null,null,null,null,null,null,null,null,null,null,null,null,null,null,null,null,null,null,null,null,null,null,null,false]
[16,"H3",null,null,null,null,null,null,null,null,null,null,null,null,null,null,null,null,null,null,null,null,null,null,null,null,null,null,null,false]
[16,"E4",null,null,null,null,null,null,null,null,null,null,null,null,null,null,null,null,null,null,null,null,null,null,null,null,null,null,null,false]
[16,"I4",null,null,null,null,null,null,null,null,null,null,null,null,null,null,null,null,null,null,null,null,null,null,null,null,null,null,null,false]
[16,"H5",null,null,null,null,null,null,null,null,null,null,null,null,null,null,null,null,null,null,null,null,null,null,null,null,null,null,null,false]
[16,"M5",null,null,null,null,null,null,null,null,null,null,null,null,null,null,null,null,null,null,null,null,null,null,null,null,null,null,null,false]
[16,"M6",null,null,null,null,null,null,null,null,null,null,null,null,null,null,null,null,null,null,null,null,null,null,null,null,null,null,null,false]
[16,"H7",null,null,null,null,null,null,null,null,null,null,null,null,null,null,null,null,null,null,null,null,null,null,null,null,null,null,null,false]
[16,"C8",null,null,null,null,null,null,null,null,null,null,null,null,null,null,null,null,null,null,null,null,null,null,null,null,null,null,null,false]
[16,"H8",null,null,null,null,null,null,null,null,null,null,null,null,null,null,null,null,null,null,null,null,null,null,null,null,null,null,null,false]
[16,"A9",null,null,null,null,null,null,null,null,null,null,null,null,null,null,null,null,null,null,null,null,null,null,null,null,null,null,null,false]
[16,"C10",null,null,null,null,null,null,null,null,null,null,null,null,null,null,null,null,null,null,null,null,null,null,null,null,null,null,null,false]
[16,"H10",null,null,null,null,null,null,null,null,null,null,null,null,null,null,null,null,null,null,null,null,null,null,null,null,null,null,null,false]
[16,"P10",null,null,null,null,null,null,null,null,null,null,null,null,null,null,null,null,null,null,null,null,null,null,null,null,null,null,null,false]
[16,"C12",null,null,null,null,null,null,null,null,null,null,null,null,null,null,null,null,null,null,null,null,null,null,null,null,null,null,null,false]
[16,"H12",null,null,null,null,null,null,null,null,null,null,null,null,null,null,null,null,null,null,null,null,null,null,null,null,null,null,null,false]
[16,"C13",null,null,null,null,null,null,null,null,null,null,null,null,null,null,null,null,null,null,null,null,null,null,null,null,null,null,null,{"$f":"IF(COUNTBLANK(D5956)=0,A5956)","v":false}]
[16,"H13",null,null,null,null,null,null,null,null,null,null,null,null,null,null,null,null,null,null,null,null,null,null,null,null,null,null,null,false]
[16,"H14",null,null,null,null,null,null,null,null,null,null,null,null,null,null,null,null,null,null,null,null,null,null,null,null,null,null,null,false]
[16,"C15",null,null,null,null,null,null,null,null,null,null,null,null,null,null,null,null,null,null,null,null,null,null,null,null,null,null,null,{"$f":"IF(COUNTBLANK(D5988)=0,A5988)","v":false}]
[16,"H15",null,null,null,null,null,null,null,null,null,null,null,null,null,null,null,null,null,null,null,null,null,null,null,null,null,null,null,false]
[16,"K16",null,null,null,null,null,null,null,null,null,null,null,null,null,null,null,null,null,null,null,null,null,null,null,null,null,null,null,false]
[16,"C17",null,null,null,null,null,null,null,null,null,null,null,null,null,null,null,null,null,null,null,null,null,null,null,null,null,null,null,{"$f":"IF(COUNTBLANK(D6020)=0,A6020)","v":false}]
[16,"H17",null,null,null,null,null,null,null,null,null,null,null,null,null,null,null,null,null,null,null,null,null,null,null,null,null,null,null,false]
[16,"J18",null,null,null,null,null,null,null,null,null,null,null,null,null,null,null,null,null,null,null,null,null,null,null,null,null,null,null,false]
[16,"C19",null,null,null,null,null,null,null,null,null,null,null,null,null,null,null,null,null,null,null,null,null,null,null,null,null,null,null,{"$f":"IF(COUNTBLANK(D6052)=0,A6052)","v":false}]
[16,"H19",null,null,null,null,null,null,null,null,null,null,null,null,null,null,null,null,null,null,null,null,null,null,null,null,null,null,null,false]
[16,"C20",null,null,null,null,null,null,null,null,null,null,null,null,null,null,null,null,null,null,null,null,null,null,null,null,null,null,null,false]
[16,"N20",null,null,null,null,null,null,null,null,null,null,null,null,null,null,null,null,null,null,null,null,null,null,null,null,null,null,null,false]
[16,"D21",null,null,null,null,null,null,null,null,null,null,null,null,null,null,null,null,null,null,null,null,null,null,null,null,null,null,null,false]
[16,"C22",null,null,null,null,null,null,null,null,null,null,null,null,null,null,null,null,null,null,null,null,null,null,null,null,null,null,null,false]
[16,"H22",null,null,null,null,null,null,null,null,null,null,null,null,null,null,null,null,null,null,null,null,null,null,null,null,null,null,null,false]
[16,"F23",null,null,null,null,null,null,null,null,null,null,null,null,null,null,null,null,null,null,null,null,null,null,null,null,null,null,null,false]
[16,"C24",null,null,null,null,null,null,null,null,null,null,null,null,null,null,null,null,null,null,null,null,null,null,null,null,null,null,null,false]
[16,"H24",null,null,null,null,null,null,null,null,null,null,null,null,null,null,null,null,null,null,null,null,null,null,null,null,null,null,null,false]
[17,"E1",null,null,null,null,null,null,null,null,null,null,null,null,null,null,null,null,null,null,null,null,null,null,null,null,null,null,null,false]
[17,"C2",null,null,null,null,null,null,null,null,null,null,null,null,null,null,null,null,null,null,null,null,null,null,null,null,null,null,null,false]
[17,"N2",null,null,null,null,null,null,null,null,null,null,null,null,null,null,null,null,null,null,null,null,null,null,null,null,null,null,null,false]
[17,"C3",null,null,null,null,null,null,null,null,null,null,null,null,null,null,null,null,null,null,null,null,null,null,null,null,null,null,null,{"$f":"IF(COUNTBLANK(D6180)=0,A6180)","v":false}]
[17,"D4",null,null,null,null,null,null,null,null,null,null,null,null,null,null,null,null,null,null,null,null,null,null,null,null,null,null,null,false]
[17,"N4",null,null,null,null,null,null,null,null,null,null,null,null,null,null,null,null,null,null,null,null,null,null,null,null,null,null,null,false]
[17,"C5",null,null,null,null,null,null,null,null,null,null,null,null,null,null,null,null,null,null,null,null,null,null,null,null,null,null,null,{"$f":"IF(COUNTBLANK(D6212)=0,A6212)","v":false}]
[17,"N5",null,null,null,null,null,null,null,null,null,null,null,null,null,null,null,null,null,null,null,null,null,null,null,null,null,null,null,false]
[17,"L6",null,null,null,null,null,null,null,null,null,null,null,null,null,null,null,null,null,null,null,null,null,null,null,null,null,null,null,false]
[17,"C7",null,null,null,null,null,null,null,null,null,null,null,null,null,null,null,null,null,null,null,null,null,null,null,null,null,null,null,{"$f":"IF(COUNTBLANK(D6244)=0,A6244)","v":false}]
[17,"N7",null,null,null,null,null,null,null,null,null,null,null,null,null,null,null,null,null,null,null,null,null,null,null,null,null,null,null,false]
[17,"K8",null,null,null,null,null,null,null,null,null,null,null,null,null,null,null,null,null,null,null,null,null,null,null,null,null,null,null,false]
[17,"C9",null,null,null,null,null,null,null,null,null,null,null,null,null,null,null,null,null,null,null,null,null,null,null,null,null,null,null,{"$f":"IF(COUNTBLANK(D6276)=0,A6276)","v":false}]
[17,"N9",null,null,null,null,null,null,null,null,null,null,null,null,null,null,null,null,null,null,null,null,null,null,null,null,null,null,null,false]
[17,"C10",null,null,null,null,null,null,null,null,null,null,null,null,null,null,null,null,null,null,null,null,null,null,null,null,null,null,null,false]
[17,"C11",null,null,null,null,null,null,null,null,null,null,null,null,null,null,null,null,null,null,null,null,null,null,null,null,null,null,null,{"$f":"IF(COUNTBLANK(D6308)=0,A6308)","v":false}]
[17,"N11",null,null,null,null,null,null,null,null,null,null,null,null,null,null,null,null,null,null,null,null,null,null,null,null,null,null,null,false]
[17,"C12",null,null,null,null,null,null,null,null,null,null,null,null,null,null,null,null,null,null,null,null,null,null,null,null,null,null,null,false]
[17,"N12",null,null,null,null,null,null,null,null,null,null,null,null,null,null,null,null,null,null,null,null,null,null,null,null,null,null,null,false]
[17,"G13",null,null,null,null,null,null,null,null,null,null,null,null,null,null,null,null,null,null,null,null,null,null,null,null,null,null,null,false]
[17,"O13",null,null,null,null,null,null,null,null,null,null,null,null,null,null,null,null,null,null,null,null,null,null,null,null,null,null,null,false]
[17,"N14",null,null,null,null,null,null,null,null,null,null,null,null,null,null,null,null,null,null,null,null,null,null,null,null,null,null,null,false]
[17,"F15",null,null,null,null,null,null,null,null,null,null,null,null,null,null,null,null,null,null,null,null,null,null,null,null,null,null,null,false]
[17,"O15",null,null,null,null,null,null,null,null,null,null,null,null,null,null,null,null,null,null,null,null,null,null,null,null,null,null,null,false]
[17,"N16",null,null,null,null,null,null,null,null,null,null,null,null,null,null,null,null,null,null,null,null,null,null,null,null,null,null,null,false]
[17,"C17",null,null,null,null,null,null,null,null,null,null,null,null,null,null,null,null,null,null,null,null,null,null,null,null,null,null,null,{"$f":"IF(COUNTBLANK(D6404)=0,A6404)","v":false}]
[17,"N17",null,null,null,null,null,null,null,null,null,null,null,null,null,null,null,null,null,null,null,null,null,null,null,null,null,null,null,false]
[17,"N18",null,null,null,null,null,null,null,null,null,null,null,null,null,null,null,null,null,null,null,null,null,null,null,null,null,null,null,false]
[17,"I19",null,null,null,null,null,null,null,null,null,null,null,null,null,null,null,null,null,null,null,null,null,null,null,null,null,null,null,false]
[17,"N19",null,null,null,null,null,null,null,null,null,null,null,null,null,null,null,null,null,null,null,null,null,null,null,null,null,null,null,false]
[17,"M20",null,null,null,null,null,null,null,null,null,null,null,null,null,null,null,null,null,null,null,null,null,null,null,null,null,null,null,false]
[17,"I21",null,null,null,null,null,null,null,null,null,null,null,null,null,null,null,null,null,null,null,null,null,null,null,null,null,null,null,false]
[17,"N21",null,null,null,null,null,null,null,null,null,null,null,null,null,null,null,null,null,null,null,null,null,null,null,null,null,null,null,false]
[17,"M22",null,null,null,null,null,null,null,null,null,null,null,null,null,null,null,null,null,null,null,null,null,null,null,null,null,null,null,false]
[17,"E23",null,null,null,null,null,null,null,null,null,null,null,null,null,null,null,null,null,null,null,null,null,null,null,null,null,null,null,false]
[17,"N23",null,null,null,null,null,null,null,null,null,null,null,null,null,null,null,null,null,null,null,null,null,null,null,null,null,null,null,false]
[17,"I24",null,null,null,null,null,null,null,null,null,null,null,null,null,null,null,null,null,null,null,null,null,null,null,null,null,null,null,false]
[18,"D1",null,null,null,null,null,null,null,null,null,null,null,null,null,null,null,null,null,null,null,null,null,null,null,null,null,null,null,false]
[18,"N1",null,null,null,null,null,null,null,null,null,null,null,null,null,null,null,null,null,null,null,null,null,null,null,null,null,null,null,false]
[18,"I2",null,null,null,null,null,null,null,null,null,null,null,null,null,null,null,null,null,null,null,null,null,null,null,null,null,null,null,false]
[18,"N2",null,null,null,null,null,null,null,null,null,null,null,null,null,null,null,null,null,null,null,null,null,null,null,null,null,null,null,false]
[18,"L3",null,null,null,null,null,null,null,null,null,null,null,null,null,null,null,null,null,null,null,null,null,null,null,null,null,null,null,false]
[18,"I4",null,null,null,null,null,null,null,null,null,null,null,null,null,null,null,null,null,null,null,null,null,null,null,null,null,null,null,false]
[18,"N4",null,null,null,null,null,null,null,null,null,null,null,null,null,null,null,null,null,null,null,null,null,null,null,null,null,null,null,false]
[18,"I5",null,null,null,null,null,null,null,null,null,null,null,null,null,null,null,null,null,null,null,null,null,null,null,null,null,null,null,false]
[18,"P5",null,null,null,null,null,null,null,null,null,null,null,null,null,null,null,null,null,null,null,null,null,null,null,null,null,null,null,false]
[18,"N6",null,null,null,null,null,null,null,null,null,null,null,null,null,null,null,null,null,null,null,null,null,null,null,null,null,null,null,false]
[18,"I7",null,null,null,null,null,null,null,null,null,null,null,null,null,null,null,null,null,null,null,null,null,null,null,null,null,null,null,false]
[18,"O7",null,null,null,null,null,null,null,null,null,null,null,null,null,null,null,null,null,null,null,null,null,null,null,null,null,null,null,false]
[18,"J8",null,null,null,null,null,null,null,null,null,null,null,null,null,null,null,null,null,null,null,null,null,null,null,null,null,null,null,false]
[18,"I9",null,null,null,null,null,null,null,null,null,null,null,null,null,null,null,null,null,null,null,null,null,null,null,null,null,null,null,false]
[18,"N9",null,null,null,null,null,null,null,null,null,null,null,null,null,null,null,null,null,null,null,null,null,null,null,null,null,null,null,false]
[18,"G10",null,null,null,null,null,null,null,null,null,null,null,null,null,null,null,null,null,null,null,null,null,null,null,null,null,null,null,false]
[18,"I11",null,null,null,null,null,null,null,null,null,null,null,null,null,null,null,null,null,null,null,null,null,null,null,null,null,null,null,false]
[18,"N11",null,null,null,null,null,null,null,null,null,null,null,null,null,null,null,null,null,null,null,null,null,null,null,null,null,null,null,false]
[18,"I12",null,null,null,null,null,null,null,null,null,null,null,null,null,null,null,null,null,null,null,null,null,null,null,null,null,null,null,false]
[18,"F13",null,null,null,null,null,null,null,null,null,null,null,null,null,null,null,null,null,null,null,null,null,null,null,null,null,null,null,false]
[18,"D14",null,null,null,null,null,null,null,null,null,null,null,null,null,null,null,null,null,null,null,null,null,null,null,null,null,null,null,false]
[18,"I14",null,null,null,null,null,null,null,null,null,null,null,null,null,null,null,null,null,null,null,null,null,null,null,null,null,null,null,false]
[18,"E15",null,null,null,null,null,null,null,null,null,null,null,null,null,null,null,null,null,null,null,null,null,null,null,null,null,null,null,false]
[18,"J15",null,null,null,null,null,null,null,null,null,null,null,null,null,null,null,null,null,null,null,null,null,null,null,null,null,null,null,false]
[18,"I16",null,null,null,null,null,null,null,null,null,null,null,null,null,null,null,null,null,null,null,null,null,null,null,null,null,null,null,false]
[18,"D17",null,null,null,null,null,null,null,null,null,null,null,null,null,null,null,null,null,null,null,null,null,null,null,null,null,null,null,false]
[18,"M17",null,null,null,null,null,null,null,null,null,null,null,null,null,null,null,null,null,null,null,null,null,null,null,null,null,null,null,false]
[18,"I18",null,null,null,null,null,null,null,null,null,null,null,null,null,null,null,null,null,null,null,null,null,null,null,null,null,null,null,false]
[18,"D19",null,null,null,null,null,null,null,null,null,null,null,null,null,null,null,null,null,null,null,null,null,null,null,null,null,null,null,false]
[18,"I19",null,null,null,null,null,null,null,null,null,null,null,null,null,null,null,null,null,null,null,null,null,null,null,null,null,null,null,false]
[18,"A20",null,null,null,null,null,null,null,null,null,null,null,null,null,null,null,null,null,null,null,null,null,null,null,null,null,null,null,false]
[18,"D21",null,null,null,null,null,null,null,null,null,null,null,null,null,null,null,null,null,null,null,null,null,null,null,null,null,null,null,false]
[18,"I21",null,null,null,null,null,null,null,null,null,null,null,null,null,null,null,null,null,null,null,null,null,null,null,null,null,null,null,false]
[18,"D22",null,null,null,null,null,null,null,null,null,null,null,null,null,null,null,null,null,null,null,null,null,null,null,null,null,null,null,false]
[18,"D23",null,null,null,null,null,null,null,null,null,null,null,null,null,null,null,null,null,null,null,null,null,null,null,null,null,null,null,false]
[18,"I23",null,null,null,null,null,null,null,null,null,null,null,null,null,null,null,null,null,null,null,null,null,null,null,null,null,null,null,false]
[18,"D24",null,null,null,null,null,null,null,null,null,null,null,null,null,null,null,null,null,null,null,null,null,null,null,null,null,null,null,false]
[19,"C1",null,null,null,null,null,null,null,null,null,null,null,null,null,null,null,null,null,null,null,null,null,null,null,null,null,null,null,{"$f":"IF(COUNTBLANK(D6916)=0,A6916)","v":false}]
[19,"E1",null,null,null,null,null,null,null,null,null,null,null,null,null,null,null,null,null,null,null,null,null,null,null,null,null,null,null,false]
[19,"D2",null,null,null,null,null,null,null,null,null,null,null,null,null,null,null,null,null,null,null,null,null,null,null,null,null,null,null,false]
[19,"I2",null,null,null,null,null,null,null,null,null,null,null,null,null,null,null,null,null,null,null,null,null,null,null,null,null,null,null,false]
[19,"K3",null,null,null,null,null,null,null,null,null,null,null,null,null,null,null,null,null,null,null,null,null,null,null,null,null,null,null,false]
[19,"D4",null,null,null,null,null,null,null,null,null,null,null,null,null,null,null,null,null,null,null,null,null,null,null,null,null,null,null,false]
[19,"I4",null,null,null,null,null,null,null,null,null,null,null,null,null,null,null,null,null,null,null,null,null,null,null,null,null,null,null,false]
[19,"D5",null,null,null,null,null,null,null,null,null,null,null,null,null,null,null,null,null,null,null,null,null,null,null,null,null,null,null,false]
[19,"O5",null,null,null,null,null,null,null,null,null,null,null,null,null,null,null,null,null,null,null,null,null,null,null,null,null,null,null,false]
[19,"O6",null,null,null,null,null,null,null,null,null,null,null,null,null,null,null,null,null,null,null,null,null,null,null,null,null,null,null,false]
[19,"D7",null,null,null,null,null,null,null,null,null,null,null,null,null,null,null,null,null,null,null,null,null,null,null,null,null,null,null,false]
[19,"N7",null,null,null,null,null,null,null,null,null,null,null,null,null,null,null,null,null,null,null,null,null,null,null,null,null,null,null,false]
[19,"E8",null,null,null,null,null,null,null,null,null,null,null,null,null,null,null,null,null,null,null,null,null,null,null,null,null,null,null,false]
[19,"D9",null,null,null,null,null,null,null,null,null,null,null,null,null,null,null,null,null,null,null,null,null,null,null,null,null,null,null,false]
[19,"I9",null,null,null,null,null,null,null,null,null,null,null,null,null,null,null,null,null,null,null,null,null,null,null,null,null,null,null,false]
[19,"F10",null,null,null,null,null,null,null,null,null,null,null,null,null,null,null,null,null,null,null,null,null,null,null,null,null,null,null,false]
[19,"D11",null,null,null,null,null,null,null,null,null,null,null,null,null,null,null,null,null,null,null,null,null,null,null,null,null,null,null,false]
[19,"O11",null,null,null,null,null,null,null,null,null,null,null,null,null,null,null,null,null,null,null,null,null,null,null,null,null,null,null,false]
[19,"D12",null,null,null,null,null,null,null,null,null,null,null,null,null,null,null,null,null,null,null,null,null,null,null,null,null,null,null,false]
[19,"E13",null,null,null,null,null,null,null,null,null,null,null,null,null,null,null,null,null,null,null,null,null,null,null,null,null,null,null,false]
[19,"O13",null,null,null,null,null,null,null,null,null,null,null,null,null,null,null,null,null,null,null,null,null,null,null,null,null,null,null,false]
[19,"D14",null,null,null,null,null,null,null,null,null,null,null,null,null,null,null,null,null,null,null,null,null,null,null,null,null,null,null,false]
[19,"M14",null,null,null,null,null,null,null,null,null,null,null,null,null,null,null,null,null,null,null,null,null,null,null,null,null,null,null,false]
[19,"O15",null,null,null,null,null,null,null,null,null,null,null,null,null,null,null,null,null,null,null,null,null,null,null,null,null,null,null,false]
[19,"D16",null,null,null,null,null,null,null,null,null,null,null,null,null,null,null,null,null,null,null,null,null,null,null,null,null,null,null,false]
[19,"O16",null,null,null,null,null,null,null,null,null,null,null,null,null,null,null,null,null,null,null,null,null,null,null,null,null,null,null,false]
[19,"L17",null,null,null,null,null,null,null,null,null,null,null,null,null,null,null,null,null,null,null,null,null,null,null,null,null,null,null,false]
[19,"D18",null,null,null,null,null,null,null,null,null,null,null,null,null,null,null,null,null,null,null,null,null,null,null,null,null,null,null,false]
[19,"O18",null,null,null,null,null,null,null,null,null,null,null,null,null,null,null,null,null,null,null,null,null,null,null,null,null,null,null,false]
[19,"D19",null,null,null,null,null,null,null,null,null,null,null,null,null,null,null,null,null,null,null,null,null,null,null,null,null,null,null,false]
[19,"D20",null,null,null,null,null,null,null,null,null,null,null,null,null,null,null,null,null,null,null,null,null,null,null,null,null,null,null,false]
[19,"O20",null,null,null,null,null,null,null,null,null,null,null,null,null,null,null,null,null,null,null,null,null,null,null,null,null,null,null,false]
[19,"D21",null,null,null,null,null,null,null,null,null,null,null,null,null,null,null,null,null,null,null,null,null,null,null,null,null,null,null,false]
[19,"C22",null,null,null,null,null,null,null,null,null,null,null,null,null,null,null,null,null,null,null,null,null,null,null,null,null,null,null,false]
[19,"O22",null,null,null,null,null,null,null,null,null,null,null,null,null,null,null,null,null,null,null,null,null,null,null,null,null,null,null,false]
[19,"D23",null,null,null,null,null,null,null,null,null,null,null,null,null,null,null,null,null,null,null,null,null,null,null,null,null,null,null,false]
[19,"O23",null,null,null,null,null,null,null,null,null,null,null,null,null,null,null,null,null,null,null,null,null,null,null,null,null,null,null,false]
[19,"G24",null,null,null,null,null,null,null,null,null,null,null,null,null,null,null,null,null,null,null,null,null,null,null,null,null,null,null,false]
[19,"P24",null,null,null,null,null,null,null,null,null,null,null,null,null,null,null,null,null,null,null,null,null,null,null,null,null,null,null,false]
[20,"O1",null,null,null,null,null,null,null,null,null,null,null,null,null,null,null,null,null,null,null,null,null,null,null,null,null,null,null,false]
[20,"D2",null,null,null,null,null,null,null,null,null,null,null,null,null,null,null,null,null,null,null,null,null,null,null,null,null,null,null,false]
[20,"O2",null,null,null,null,null,null,null,null,null,null,null,null,null,null,null,null,null,null,null,null,null,null,null,null,null,null,null,false]
[20,"O3",null,null,null,null,null,null,null,null,null,null,null,null,null,null,null,null,null,null,null,null,null,null,null,null,null,null,null,false]
[20,"J4",null,null,null,null,null,null,null,null,null,null,null,null,null,null,null,null,null,null,null,null,null,null,null,null,null,null,null,false]
[20,"N4",null,null,null,null,null,null,null,null,null,null,null,null,null,null,null,null,null,null,null,null,null,null,null,null,null,null,null,false]
[20,"O5",null,null,null,null,null,null,null,null,null,null,null,null,null,null,null,null,null,null,null,null,null,null,null,null,null,null,null,false]
[20,"J6",null,null,null,null,null,null,null,null,null,null,null,null,null,null,null,null,null,null,null,null,null,null,null,null,null,null,null,false]
[20,"O6",null,null,null,null,null,null,null,null,null,null,null,null,null,null,null,null,null,null,null,null,null,null,null,null,null,null,null,false]
[20,"M7",null,null,null,null,null,null,null,null,null,null,null,null,null,null,null,null,null,null,null,null,null,null,null,null,null,null,null,false]
[20,"J8",null,null,null,null,null,null,null,null,null,null,null,null,null,null,null,null,null,null,null,null,null,null,null,null,null,null,null,false]
[20,"O8",null,null,null,null,null,null,null,null,null,null,null,null,null,null,null,null,null,null,null,null,null,null,null,null,null,null,null,false]
[20,"J9",null,null,null,null,null,null,null,null,null,null,null,null,null,null,null,null,null,null,null,null,null,null,null,null,null,null,null,false]
[20,"E10",null,null,null,null,null,null,null,null,null,null,null,null,null,null,null,null,null,null,null,null,null,null,null,null,null,null,null,false]
[20,"O10",null,null,null,null,null,null,null,null,null,null,null,null,null,null,null,null,null,null,null,null,null,null,null,null,null,null,null,false]
[20,"J11",null,null,null,null,null,null,null,null,null,null,null,null,null,null,null,null,null,null,null,null,null,null,null,null,null,null,null,false]
[20,"D12",null,null,null,null,null,null,null,null,null,null,null,null,null,null,null,null,null,null,null,null,null,null,null,null,null,null,null,false]
[20,"K12",null,null,null,null,null,null,null,null,null,null,null,null,null,null,null,null,null,null,null,null,null,null,null,null,null,null,null,false]
[20,"J13",null,null,null,null,null,null,null,null,null,null,null,null,null,null,null,null,null,null,null,null,null,null,null,null,null,null,null,false]
[20,"O13",null,null,null,null,null,null,null,null,null,null,null,null,null,null,null,null,null,null,null,null,null,null,null,null,null,null,null,false]
[20,"L14",null,null,null,null,null,null,null,null,null,null,null,null,null,null,null,null,null,null,null,null,null,null,null,null,null,null,null,false]
[20,"J15",null,null,null,null,null,null,null,null,null,null,null,null,null,null,null,null,null,null,null,null,null,null,null,null,null,null,null,false]
[20,"O15",null,null,null,null,null,null,null,null,null,null,null,null,null,null,null,null,null,null,null,null,null,null,null,null,null,null,null,false]
[20,"J16",null,null,null,null,null,null,null,null,null,null,null,null,null,null,null,null,null,null,null,null,null,null,null,null,null,null,null,false]
[20,"P16",null,null,null,null,null,null,null,null,null,null,null,null,null,null,null,null,null,null,null,null,null,null,null,null,null,null,null,false]
[20,"K17",null,null,null,null,null,null,null,null,null,null,null,null,null,null,null,null,null,null,null,null,null,null,null,null,null,null,null,false]
[20,"J18",null,null,null,null,null,null,null,null,null,null,null,null,null,null,null,null,null,null,null,null,null,null,null,null,null,null,null,false]
[20,"O18",null,null,null,null,null,null,null,null,null,null,null,null,null,null,null,null,null,null,null,null,null,null,null,null,null,null,null,false]
[20,"C20",null,null,null,null,null,null,null,null,null,null,null,null,null,null,null,null,null,null,null,null,null,null,null,null,null,null,null,false]
[20,"J20",null,null,null,null,null,null,null,null,null,null,null,null,null,null,null,null,null,null,null,null,null,null,null,null,null,null,null,false]
[20,"O20",null,null,null,null,null,null,null,null,null,null,null,null,null,null,null,null,null,null,null,null,null,null,null,null,null,null,null,false]
[20,"B22",null,null,null,null,null,null,null,null,null,null,null,null,null,null,null,null,null,null,null,null,null,null,null,null,null,null,null,false]
[20,"J22",null,null,null,null,null,null,null,null,null,null,null,null,null,null,null,null,null,null,null,null,null,null,null,null,null,null,null,false]
[20,"E23",null,null,null,null,null,null,null,null,null,null,null,null,null,null,null,null,null,null,null,null,null,null,null,null,null,null,null,false]
[20,"J23",null,null,null,null,null,null,null,null,null,null,null,null,null,null,null,null,null,null,null,null,null,null,null,null,null,null,null,false]
[20,"F24",null,null,null,null,null,null,null,null,null,null,null,null,null,null,null,null,null,null,null,null,null,null,null,null,null,null,null,false]
[21,"E1",null,null,null,null,null,null,null,null,null,null,null,null,null,null,null,null,null,null,null,null,null,null,null,null,null,null,null,false]
[21,"J1",null,null,null,null,null,null,null,null,null,null,null,null,null,null,null,null,null,null,null,null,null,null,null,null,null,null,null,false]
[21,"E2",null,null,null,null,null,null,null,null,null,null,null,null,null,null,null,null,null,null,null,null,null,null,null,null,null,null,null,false]
[21,"N2",null,null,null,null,null,null,null,null,null,null,null,null,null,null,null,null,null,null,null,null,null,null,null,null,null,null,null,false]
[21,"J3",null,null,null,null,null,null,null,null,null,null,null,null,null,null,null,null,null,null,null,null,null,null,null,null,null,null,null,false]
[21,"E4",null,null,null,null,null,null,null,null,null,null,null,null,null,null,null,null,null,null,null,null,null,null,null,null,null,null,null,false]
[21,"M4",null,null,null,null,null,null,null,null,null,null,null,null,null,null,null,null,null,null,null,null,null,null,null,null,null,null,null,false]
[21,"J5",null,null,null,null,null,null,null,null,null,null,null,null,null,null,null,null,null,null,null,null,null,null,null,null,null,null,null,false]
[21,"E6",null,null,null,null,null,null,null,null,null,null,null,null,null,null,null,null,null,null,null,null,null,null,null,null,null,null,null,false]
[21,"J6",null,null,null,null,null,null,null,null,null,null,null,null,null,null,null,null,null,null,null,null,null,null,null,null,null,null,null,false]
[21,"E7",null,null,null,null,null,null,null,null,null,null,null,null,null,null,null,null,null,null,null,null,null,null,null,null,null,null,null,false]
[21,"E8",null,null,null,null,null,null,null,null,null,null,null,null,null,null,null,null,null,null,null,null,null,null,null,null,null,null,null,false]
[21,"J8",null,null,null,null,null,null,null,null,null,null,null,null,null,null,null,null,null,null,null,null,null,null,null,null,null,null,null,false]
[21,"E9",null,null,null,null,null,null,null,null,null,null,null,null,null,null,null,null,null,null,null,null,null,null,null,null,null,null,null,false]
[21,"D10",null,null,null,null,null,null,null,null,null,null,null,null,null,null,null,null,null,null,null,null,null,null,null,null,null,null,null,false]
[21,"F10",null,null,null,null,null,null,null,null,null,null,null,null,null,null,null,null,null,null,null,null,null,null,null,null,null,null,null,false]
[21,"E11",null,null,null,null,null,null,null,null,null,null,null,null,null,null,null,null,null,null,null,null,null,null,null,null,null,null,null,false]
[21,"C12",null,null,null,null,null,null,null,null,null,null,null,null,null,null,null,null,null,null,null,null,null,null,null,null,null,null,null,false]
[21,"F12",null,null,null,null,null,null,null,null,null,null,null,null,null,null,null,null,null,null,null,null,null,null,null,null,null,null,null,false]
[21,"E13",null,null,null,null,null,null,null,null,null,null,null,null,null,null,null,null,null,null,null,null,null,null,null,null,null,null,null,false]
[21,"J13",null,null,null,null,null,null,null,null,null,null,null,null,null,null,null,null,null,null,null,null,null,null,null,null,null,null,null,false]
[21,"K14",null,null,null,null,null,null,null,null,null,null,null,null,null,null,null,null,null,null,null,null,null,null,null,null,null,null,null,false]
[21,"E15",null,null,null,null,null,null,null,null,null,null,null,null,null,null,null,null,null,null,null,null,null,null,null,null,null,null,null,false]
[21,"P15",null,null,null,null,null,null,null,null,null,null,null,null,null,null,null,null,null,null,null,null,null,null,null,null,null,null,null,false]
[21,"E16",null,null,null,null,null,null,null,null,null,null,null,null,null,null,null,null,null,null,null,null,null,null,null,null,null,null,null,false]
[21,"O16",null,null,null,null,null,null,null,null,null,null,null,null,null,null,null,null,null,null,null,null,null,null,null,null,null,null,null,false]
[21,"P17",null,null,null,null,null,null,null,null,null,null,null,null,null,null,null,null,null,null,null,null,null,null,null,null,null,null,null,false]
[21,"E18",null,null,null,null,null,null,null,null,null,null,null,null,null,null,null,null,null,null,null,null,null,null,null,null,null,null,null,false]
[21,"N18",null,null,null,null,null,null,null,null,null,null,null,null,null,null,null,null,null,null,null,null,null,null,null,null,null,null,null,false]
[21,"F19",null,null,null,null,null,null,null,null,null,null,null,null,null,null,null,null,null,null,null,null,null,null,null,null,null,null,null,false]
[21,"E20",null,null,null,null,null,null,null,null,null,null,null,null,null,null,null,null,null,null,null,null,null,null,null,null,null,null,null,false]
[21,"P20",null,null,null,null,null,null,null,null,null,null,null,null,null,null,null,null,null,null,null,null,null,null,null,null,null,null,null,false]
[21,"F21",null,null,null,null,null,null,null,null,null,null,null,null,null,null,null,null,null,null,null,null,null,null,null,null,null,null,null,false]
[21,"E22",null,null,null,null,null,null,null,null,null,null,null,null,null,null,null,null,null,null,null,null,null,null,null,null,null,null,null,false]
[21,"P22",null,null,null,null,null,null,null,null,null,null,null,null,null,null,null,null,null,null,null,null,null,null,null,null,null,null,null,false]
[21,"E23",null,null,null,null,null,null,null,null,null,null,null,null,null,null,null,null,null,null,null,null,null,null,null,null,null,null,null,false]
[21,"N23",null,null,null,null,null,null,null,null,null,null,null,null,null,null,null,null,null,null,null,null,null,null,null,null,null,null,null,false]
[21,"P24",null,null,null,null,null,null,null,null,null,null,null,null,null,null,null,null,null,null,null,null,null,null,null,null,null,null,null,false]
[22,"E1",null,null,null,null,null,null,null,null,null,null,null,null,null,null,null,null,null,null,null,null,null,null,null,null,null,null,null,false]
[22,"P1",null,null,null,null,null,null,null,null,null,null,null,null,null,null,null,null,null,null,null,null,null,null,null,null,null,null,null,false]
[22,"M2",null,null,null,null,null,null,null,null,null,null,null,null,null,null,null,null,null,null,null,null,null,null,null,null,null,null,null,false]
[22,"E3",null,null,null,null,null,null,null,null,null,null,null,null,null,null,null,null,null,null,null,null,null,null,null,null,null,null,null,false]
[22,"P3",null,null,null,null,null,null,null,null,null,null,null,null,null,null,null,null,null,null,null,null,null,null,null,null,null,null,null,false]
[22,"L4",null,null,null,null,null,null,null,null,null,null,null,null,null,null,null,null,null,null,null,null,null,null,null,null,null,null,null,false]
[22,"A5",null,null,null,null,null,null,null,null,null,null,null,null,null,null,null,null,null,null,null,null,null,null,null,null,null,null,null,false]
[22,"P5",null,null,null,null,null,null,null,null,null,null,null,null,null,null,null,null,null,null,null,null,null,null,null,null,null,null,null,false]
[22,"E6",null,null,null,null,null,null,null,null,null,null,null,null,null,null,null,null,null,null,null,null,null,null,null,null,null,null,null,false]
[22,"D7",null,null,null,null,null,null,null,null,null,null,null,null,null,null,null,null,null,null,null,null,null,null,null,null,null,null,null,false]
[22,"P7",null,null,null,null,null,null,null,null,null,null,null,null,null,null,null,null,null,null,null,null,null,null,null,null,null,null,null,false]
[22,"E8",null,null,null,null,null,null,null,null,null,null,null,null,null,null,null,null,null,null,null,null,null,null,null,null,null,null,null,false]
[22,"P8",null,null,null,null,null,null,null,null,null,null,null,null,null,null,null,null,null,null,null,null,null,null,null,null,null,null,null,false]
[22,"H9",null,null,null,null,null,null,null,null,null,null,null,null,null,null,null,null,null,null,null,null,null,null,null,null,null,null,null,false]
[22,"K10",null,null,null,null,null,null,null,null,null,null,null,null,null,null,null,null,null,null,null,null,null,null,null,null,null,null,null,false]
[22,"P10",null,null,null,null,null,null,null,null,null,null,null,null,null,null,null,null,null,null,null,null,null,null,null,null,null,null,null,false]
[22,"G11",null,null,null,null,null,null,null,null,null,null,null,null,null,null,null,null,null,null,null,null,null,null,null,null,null,null,null,false]
[22,"A12",null,null,null,null,null,null,null,null,null,null,null,null,null,null,null,null,null,null,null,null,null,null,null,null,null,null,null,false]
[22,"P12",null,null,null,null,null,null,null,null,null,null,null,null,null,null,null,null,null,null,null,null,null,null,null,null,null,null,null,false]
[22,"K13",null,null,null,null,null,null,null,null,null,null,null,null,null,null,null,null,null,null,null,null,null,null,null,null,null,null,null,false]
[22,"O13",null,null,null,null,null,null,null,null,null,null,null,null,null,null,null,null,null,null,null,null,null,null,null,null,null,null,null,false]
[22,"P14",null,null,null,null,null,null,null,null,null,null,null,null,null,null,null,null,null,null,null,null,null,null,null,null,null,null,null,false]
[22,"K15",null,null,null,null,null,null,null,null,null,null,null,null,null,null,null,null,null,null,null,null,null,null,null,null,null,null,null,false]
[22,"P15",null,null,null,null,null,null,null,null,null,null,null,null,null,null,null,null,null,null,null,null,null,null,null,null,null,null,null,false]
[22,"N16",null,null,null,null,null,null,null,null,null,null,null,null,null,null,null,null,null,null,null,null,null,null,null,null,null,null,null,false]
[22,"K17",null,null,null,null,null,null,null,null,null,null,null,null,null,null,null,null,null,null,null,null,null,null,null,null,null,null,null,false]
[22,"P17",null,null,null,null,null,null,null,null,null,null,null,null,null,null,null,null,null,null,null,null,null,null,null,null,null,null,null,false]
[22,"A19",null,null,null,null,null,null,null,null,null,null,null,null,null,null,null,null,null,null,null,null,null,null,null,null,null,null,null,false]
[22,"K19",null,null,null,null,null,null,null,null,null,null,null,null,null,null,null,null,null,null,null,null,null,null,null,null,null,null,null,false]
[22,"P19",null,null,null,null,null,null,null,null,null,null,null,null,null,null,null,null,null,null,null,null,null,null,null,null,null,null,null,false]
[22,"K20",null,null,null,null,null,null,null,null,null,null,null,null,null,null,null,null,null,null,null,null,null,null,null,null,null,null,null,false]
[22,"E21",null,null,null,null,null,null,null,null,null,null,null,null,null,null,null,null,null,null,null,null,null,null,null,null,null,null,null,false]
[22,"L21",null,null,null,null,null,null,null,null,null,null,null,null,null,null,null,null,null,null,null,null,null,null,null,null,null,null,null,false]
[22,"K22",null,null,null,null,null,null,null,null,null,null,null,null,null,null,null,null,null,null,null,null,null,null,null,null,null,null,null,false]
[22,"P22",null,null,null,null,null,null,null,null,null,null,null,null,null,null,null,null,null,null,null,null,null,null,null,null,null,null,null,false]
[22,"M23",null,null,null,null,null,null,null,null,null,null,null,null,null,null,null,null,null,null,null,null,null,null,null,null,null,null,null,false]
[22,"K24",null,null,null,null,null,null,null,null,null,null,null,null,null,null,null,null,null,null,null,null,null,null,null,null,null,null,null,false]
[22,"P24",null,null,null,null,null,null,null,null,null,null,null,null,null,null,null,null,null,null,null,null,null,null,null,null,null,null,null,false]
[23,"L1",null,null,null,null,null,null,null,null,null,null,null,null,null,null,null,null,null,null,null,null,null,null,null,null,null,null,null,false]
[23,"K2",null,null,null,null,null,null,null,null,null,null,null,null,null,null,null,null,null,null,null,null,null,null,null,null,null,null,null,false]
[23,"F3",null,null,null,null,null,null,null,null,null,null,null,null,null,null,null,null,null,null,null,null,null,null,null,null,null,null,null,false]
[23,"K3",null,null,null,null,null,null,null,null,null,null,null,null,null,null,null,null,null,null,null,null,null,null,null,null,null,null,null,false]
[23,"K4",null,null,null,null,null,null,null,null,null,null,null,null,null,null,null,null,null,null,null,null,null,null,null,null,null,null,null,false]
[23,"L4",null,null,null,null,null,null,null,null,null,null,null,null,null,null,null,null,null,null,null,null,null,null,null,null,null,null,null,false]
[23,"K5",null,null,null,null,null,null,null,null,null,null,null,null,null,null,null,null,null,null,null,null,null,null,null,null,null,null,null,false]
[23,"P5",null,null,null,null,null,null,null,null,null,null,null,null,null,null,null,null,null,null,null,null,null,null,null,null,null,null,null,false]
[23,"C7",null,null,null,null,null,null,null,null,null,null,null,null,null,null,null,null,null,null,null,null,null,null,null,null,null,null,null,{"$f":"IF(COUNTBLANK(D8548)=0,A8548)","v":false}]
[23,"K7",null,null,null,null,null,null,null,null,null,null,null,null,null,null,null,null,null,null,null,null,null,null,null,null,null,null,null,false]
[23,"F8",null,null,null,null,null,null,null,null,null,null,null,null,null,null,null,null,null,null,null,null,null,null,null,null,null,null,null,false]
[23,"K8",null,null,null,null,null,null,null,null,null,null,null,null,null,null,null,null,null,null,null,null,null,null,null,null,null,null,null,false]
[23,"G9",null,null,null,null,null,null,null,null,null,null,null,null,null,null,null,null,null,null,null,null,null,null,null,null,null,null,null,false]
[23,"F10",null,null,null,null,null,null,null,null,null,null,null,null,null,null,null,null,null,null,null,null,null,null,null,null,null,null,null,false]
[23,"K10",null,null,null,null,null,null,null,null,null,null,null,null,null,null,null,null,null,null,null,null,null,null,null,null,null,null,null,false]
[23,"J11",null,null,null,null,null,null,null,null,null,null,null,null,null,null,null,null,null,null,null,null,null,null,null,null,null,null,null,false]
[23,"F12",null,null,null,null,null,null,null,null,null,null,null,null,null,null,null,null,null,null,null,null,null,null,null,null,null,null,null,false]
[23,"K12",null,null,null,null,null,null,null,null,null,null,null,null,null,null,null,null,null,null,null,null,null,null,null,null,null,null,null,false]
[23,"F13",null,null,null,null,null,null,null,null,null,null,null,null,null,null,null,null,null,null,null,null,null,null,null,null,null,null,null,false]
[23,"N13",null,null,null,null,null,null,null,null,null,null,null,null,null,null,null,null,null,null,null,null,null,null,null,null,null,null,null,false]
[23,"K14",null,null,null,null,null,null,null,null,null,null,null,null,null,null,null,null,null,null,null,null,null,null,null,null,null,null,null,false]
[23,"F15",null,null,null,null,null,null,null,null,null,null,null,null,null,null,null,null,null,null,null,null,null,null,null,null,null,null,null,false]
[23,"K15",null,null,null,null,null,null,null,null,null,null,null,null,null,null,null,null,null,null,null,null,null,null,null,null,null,null,null,false]
[23,"F16",null,null,null,null,null,null,null,null,null,null,null,null,null,null,null,null,null,null,null,null,null,null,null,null,null,null,null,false]
[23,"F17",null,null,null,null,null,null,null,null,null,null,null,null,null,null,null,null,null,null,null,null,null,null,null,null,null,null,null,false]
[23,"K17",null,null,null,null,null,null,null,null,null,null,null,null,null,null,null,null,null,null,null,null,null,null,null,null,null,null,null,false]
[23,"E18",null,null,null,null,null,null,null,null,null,null,null,null,null,null,null,null,null,null,null,null,null,null,null,null,null,null,null,false]
[23,"F19",null,null,null,null,null,null,null,null,null,null,null,null,null,null,null,null,null,null,null,null,null,null,null,null,null,null,null,false]
[23,"A20",null,null,null,null,null,null,null,null,null,null,null,null,null,null,null,null,null,null,null,null,null,null,null,null,null,null,null,false]
[23,"F20",null,null,null,null,null,null,null,null,null,null,null,null,null,null,null,null,null,null,null,null,null,null,null,null,null,null,null,false]
[23,"D21",null,null,null,null,null,null,null,null,null,null,null,null,null,null,null,null,null,null,null,null,null,null,null,null,null,null,null,false]
[23,"G21",null,null,null,null,null,null,null,null,null,null,null,null,null,null,null,null,null,null,null,null,null,null,null,null,null,null,null,false]
[23,"F22",null,null,null,null,null,null,null,null,null,null,null,null,null,null,null,null,null,null,null,null,null,null,null,null,null,null,null,false]
[23,"K22",null,null,null,null,null,null,null,null,null,null,null,null,null,null,null,null,null,null,null,null,null,null,null,null,null,null,null,false]
[23,"L23",null,null,null,null,null,null,null,null,null,null,null,null,null,null,null,null,null,null,null,null,null,null,null,null,null,null,null,false]
[23,"F24",null,null,null,null,null,null,null,null,null,null,null,null,null,null,null,null,null,null,null,null,null,null,null,null,null,null,null,false]
[24,"A1",null,null,null,null,null,null,null,null,null,null,null,null,null,null,null,null,null,null,null,null,null,null,null,null,null,null,null,false]
[24,"K1",null,null,null,null,null,null,null,null,null,null,null,null,null,null,null,null,null,null,null,null,null,null,null,null,null,null,null,false]
[24,"F2",null,null,null,null,null,null,null,null,null,null,null,null,null,null,null,null,null,null,null,null,null,null,null,null,null,null,null,false]
[24,"A3",null,null,null,null,null,null,null,null,null,null,null,null,null,null,null,null,null,null,null,null,null,null,null,null,null,null,null,false]
[24,"F3",null,null,null,null,null,null,null,null,null,null,null,null,null,null,null,null,null,null,null,null,null,null,null,null,null,null,null,false]
[24,"O3",null,null,null,null,null,null,null,null,null,null,null,null,null,null,null,null,null,null,null,null,null,null,null,null,null,null,null,false]
[24,"A5",null,null,null,null,null,null,null,null,null,null,null,null,null,null,null,null,null,null,null,null,null,null,null,null,null,null,null,false]
[24,"F5",null,null,null,null,null,null,null,null,null,null,null,null,null,null,null,null,null,null,null,null,null,null,null,null,null,null,null,false]
[24,"A6",null,null,null,null,null,null,null,null,null,null,null,null,null,null,null,null,null,null,null,null,null,null,null,null,null,null,null,false]
[24,"G6",null,null,null,null,null,null,null,null,null,null,null,null,null,null,null,null,null,null,null,null,null,null,null,null,null,null,null,false]
[24,"F7",null,null,null,null,null,null,null,null,null,null,null,null,null,null,null,null,null,null,null,null,null,null,null,null,null,null,null,false]
[24,"A8",null,null,null,null,null,null,null,null,null,null,null,null,null,null,null,null,null,null,null,null,null,null,null,null,null,null,null,false]
[24,"F8",null,null,null,null,null,null,null,null,null,null,null,null,null,null,null,null,null,null,null,null,null,null,null,null,null,null,null,false]
[24,"B9",null,null,null,null,null,null,null,null,null,null,null,null,null,null,null,null,null,null,null,null,null,null,null,null,null,null,null,{"$f":"IF(COUNTBLANK(D8963)=0,A8963)","v":false}]
[24,"A10",null,null,null,null,null,null,null,null,null,null,null,null,null,null,null,null,null,null,null,null,null,null,null,null,null,null,null,false]
[24,"F10",null,null,null,null,null,null,null,null,null,null,null,null,null,null,null,null,null,null,null,null,null,null,null,null,null,null,null,false]
[24,"N10",null,null,null,null,null,null,null,null,null,null,null,null,null,null,null,null,null,null,null,null,null,null,null,null,null,null,null,false]
[24,"A12",null,null,null,null,null,null,null,null,null,null,null,null,null,null,null,null,null,null,null,null,null,null,null,null,null,null,null,false]
[24,"F12",null,null,null,null,null,null,null,null,null,null,null,null,null,null,null,null,null,null,null,null,null,null,null,null,null,null,null,false]
[24,"A13",null,null,null,null,null,null,null,null,null,null,null,null,null,null,null,null,null,null,null,null,null,null,null,null,null,null,null,false]
[24,"M13",null,null,null,null,null,null,null,null,null,null,null,null,null,null,null,null,null,null,null,null,null,null,null,null,null,null,null,false]
[24,"B14",null,null,null,null,null,null,null,null,null,null,null,null,null,null,null,null,null,null,null,null,null,null,null,null,null,null,null,false]
[24,"A15",null,null,null,null,null,null,null,null,null,null,null,null,null,null,null,null,null,null,null,null,null,null,null,null,null,null,null,false]
[24,"L15",null,null,null,null,null,null,null,null,null,null,null,null,null,null,null,null,null,null,null,null,null,null,null,null,null,null,null,false]
[24,"B16",null,null,null,null,null,null,null,null,null,null,null,null,null,null,null,null,null,null,null,null,null,null,null,null,null,null,null,false]
[24,"A17",null,null,null,null,null,null,null,null,null,null,null,null,null,null,null,null,null,null,null,null,null,null,null,null,null,null,null,false]
[24,"F17",null,null,null,null,null,null,null,null,null,null,null,null,null,null,null,null,null,null,null,null,null,null,null,null,null,null,null,false]
[24,"D18",null,null,null,null,null,null,null,null,null,null,null,null,null,null,null,null,null,null,null,null,null,null,null,null,null,null,null,false]
[24,"A19",null,null,null,null,null,null,null,null,null,null,null,null,null,null,null,null,null,null,null,null,null,null,null,null,null,null,null,false]
[24,"L19",null,null,null,null,null,null,null,null,null,null,null,null,null,null,null,null,null,null,null,null,null,null,null,null,null,null,null,false]
[24,"A20",null,null,null,null,null,null,null,null,null,null,null,null,null,null,null,null,null,null,null,null,null,null,null,null,null,null,null,false]
[24,"H20",null,null,null,null,null,null,null,null,null,null,null,null,null,null,null,null,null,null,null,null,null,null,null,null,null,null,null,false]
[24,"L21",null,null,null,null,null,null,null,null,null,null,null,null,null,null,null,null,null,null,null,null,null,null,null,null,null,null,null,false]
[24,"A22",null,null,null,null,null,null,null,null,null,null,null,null,null,null,null,null,null,null,null,null,null,null,null,null,null,null,null,false]
[24,"L22",null,null,null,null,null,null,null,null,null,null,null,null,null,null,null,null,null,null,null,null,null,null,null,null,null,null,null,false]
[24,"K23",null,null,null,null,null,null,null,null,null,null,null,null,null,null,null,null,null,null,null,null,null,null,null,null,null,null,null,false]
[24,"A24",null,null,null,null,null,null,null,null,null,null,null,null,null,null,null,null,null,null,null,null,null,null,null,null,null,null,null,false]
[24,"L24",null,null,null,null,null,null,null,null,null,null,null,null,null,null,null,null,null,null,null,null,null,null,null,null,null,null,null,false]
[25,"J1",null,null,null,null,null,null,null,null,null,null,null,null,null,null,null,null,null,null,null,null,null,null,null,null,null,null,null,false]
[25,"A2",null,null,null,null,null,null,null,null,null,null,null,null,null,null,null,null,null,null,null,null,null,null,null,null,null,null,null,false]
[25,"L2",null,null,null,null,null,null,null,null,null,null,null,null,null,null,null,null,null,null,null,null,null,null,null,null,null,null,null,false]
[25,"A3",null,null,null,null,null,null,null,null,null,null,null,null,null,null,null,null,null,null,null,null,null,null,null,null,null,null,null,false]
[25,"B4",null,null,null,null,null,null,null,null,null,null,null,null,null,null,null,null,null,null,null,null,null,null,null,null,null,null,null,false]
[25,"L4",null,null,null,null,null,null,null,null,null,null,null,null,null,null,null,null,null,null,null,null,null,null,null,null,null,null,null,false]
[25,"A5",null,null,null,null,null,null,null,null,null,null,null,null,null,null,null,null,null,null,null,null,null,null,null,null,null,null,null,false]
[25,"L5",null,null,null,null,null,null,null,null,null,null,null,null,null,null,null,null,null,null,null,null,null,null,null,null,null,null,null,false]
[25,"F6",null,null,null,null,null,null,null,null,null,null,null,null,null,null,null,null,null,null,null,null,null,null,null,null,null,null,null,false]
[25,"M6",null,null,null,null,null,null,null,null,null,null,null,null,null,null,null,null,null,null,null,null,null,null,null,null,null,null,null,false]
[25,"L7",null,null,null,null,null,null,null,null,null,null,null,null,null,null,null,null,null,null,null,null,null,null,null,null,null,null,null,false]
[25,"E8",null,null,null,null,null,null,null,null,null,null,null,null,null,null,null,null,null,null,null,null,null,null,null,null,null,null,null,false]
[25,"M8",null,null,null,null,null,null,null,null,null,null,null,null,null,null,null,null,null,null,null,null,null,null,null,null,null,null,null,false]
[25,"L9",null,null,null,null,null,null,null,null,null,null,null,null,null,null,null,null,null,null,null,null,null,null,null,null,null,null,null,false]
[25,"A10",null,null,null,null,null,null,null,null,null,null,null,null,null,null,null,null,null,null,null,null,null,null,null,null,null,null,null,false]
[25,"M10",null,null,null,null,null,null,null,null,null,null,null,null,null,null,null,null,null,null,null,null,null,null,null,null,null,null,null,false]
[25,"L11",null,null,null,null,null,null,null,null,null,null,null,null,null,null,null,null,null,null,null,null,null,null,null,null,null,null,null,false]
[25,"G12",null,null,null,null,null,null,null,null,null,null,null,null,null,null,null,null,null,null,null,null,null,null,null,null,null,null,null,false]
[25,"L12",null,null,null,null,null,null,null,null,null,null,null,null,null,null,null,null,null,null,null,null,null,null,null,null,null,null,null,false]
[25,"L13",null,null,null,null,null,null,null,null,null,null,null,null,null,null,null,null,null,null,null,null,null,null,null,null,null,null,null,false]
[25,"G14",null,null,null,null,null,null,null,null,null,null,null,null,null,null,null,null,null,null,null,null,null,null,null,null,null,null,null,false]
[25,"L14",null,null,null,null,null,null,null,null,null,null,null,null,null,null,null,null,null,null,null,null,null,null,null,null,null,null,null,false]
[25,"K15",null,null,null,null,null,null,null,null,null,null,null,null,null,null,null,null,null,null,null,null,null,null,null,null,null,null,null,false]
[25,"M15",null,null,null,null,null,null,null,null,null,null,null,null,null,null,null,null,null,null,null,null,null,null,null,null,null,null,null,false]
[25,"L16",null,null,null,null,null,null,null,null,null,null,null,null,null,null,null,null,null,null,null,null,null,null,null,null,null,null,null,false]
[25,"G17",null,null,null,null,null,null,null,null,null,null,null,null,null,null,null,null,null,null,null,null,null,null,null,null,null,null,null,false]
[25,"C18",null,null,null,null,null,null,null,null,null,null,null,null,null,null,null,null,null,null,null,null,null,null,null,null,null,null,null,false]
[25,"L18",null,null,null,null,null,null,null,null,null,null,null,null,null,null,null,null,null,null,null,null,null,null,null,null,null,null,null,false]
[25,"G19",null,null,null,null,null,null,null,null,null,null,null,null,null,null,null,null,null,null,null,null,null,null,null,null,null,null,null,false]
[25,"L19",null,null,null,null,null,null,null,null,null,null,null,null,null,null,null,null,null,null,null,null,null,null,null,null,null,null,null,false]
[25,"K20",null,null,null,null,null,null,null,null,null,null,null,null,null,null,null,null,null,null,null,null,null,null,null,null,null,null,null,false]
[25,"G21",null,null,null,null,null,null,null,null,null,null,null,null,null,null,null,null,null,null,null,null,null,null,null,null,null,null,null,false]
[25,"L21",null,null,null,null,null,null,null,null,null,null,null,null,null,null,null,null,null,null,null,null,null,null,null,null,null,null,null,false]
[25,"J22",null,null,null,null,null,null,null,null,null,null,null,null,null,null,null,null,null,null,null,null,null,null,null,null,null,null,null,false]
[25,"G23",null,null,null,null,null,null,null,null,null,null,null,null,null,null,null,null,null,null,null,null,null,null,null,null,null,null,null,false]
[25,"L23",null,null,null,null,null,null,null,null,null,null,null,null,null,null,null,null,null,null,null,null,null,null,null,null,null,null,null,false]
[25,"G24",null,null,null,null,null,null,null,null,null,null,null,null,null,null,null,null,null,null,null,null,null,null,null,null,null,null,null,false]
[25,"N24",null,null,null,null,null,null,null,null,null,null,null,null,null,null,null,null,null,null,null,null,null,null,null,null,null,null,null,false]
[26,"H1",null,null,null,null,null,null,null,null,null,null,null,null,null,null,null,null,null,null,null,null,null,null,null,null,null,null,null,false]
[26,"G2",null,null,null,null,null,null,null,null,null,null,null,null,null,null,null,null,null,null,null,null,null,null,null,null,null,null,null,false]
[26,"L2",null,null,null,null,null,null,null,null,null,null,null,null,null,null,null,null,null,null,null,null,null,null,null,null,null,null,null,false]
[26,"F3",null,null,null,null,null,null,null,null,null,null,null,null,null,null,null,null,null,null,null,null,null,null,null,null,null,null,null,false]
[26,"G4",null,null,null,null,null,null,null,null,null,null,null,null,null,null,null,null,null,null,null,null,null,null,null,null,null,null,null,false]
[26,"L4",null,null,null,null,null,null,null,null,null,null,null,null,null,null,null,null,null,null,null,null,null,null,null,null,null,null,null,false]
[26,"G5",null,null,null,null,null,null,null,null,null,null,null,null,null,null,null,null,null,null,null,null,null,null,null,null,null,null,null,false]
[26,"E6",null,null,null,null,null,null,null,null,null,null,null,null,null,null,null,null,null,null,null,null,null,null,null,null,null,null,null,false]
[26,"B7",null,null,null,null,null,null,null,null,null,null,null,null,null,null,null,null,null,null,null,null,null,null,null,null,null,null,null,false]
[26,"G7",null,null,null,null,null,null,null,null,null,null,null,null,null,null,null,null,null,null,null,null,null,null,null,null,null,null,null,false]
[26,"D8",null,null,null,null,null,null,null,null,null,null,null,null,null,null,null,null,null,null,null,null,null,null,null,null,null,null,null,false]
[26,"H8",null,null,null,null,null,null,null,null,null,null,null,null,null,null,null,null,null,null,null,null,null,null,null,null,null,null,null,false]
[26,"G9",null,null,null,null,null,null,null,null,null,null,null,null,null,null,null,null,null,null,null,null,null,null,null,null,null,null,null,false]
[26,"B10",null,null,null,null,null,null,null,null,null,null,null,null,null,null,null,null,null,null,null,null,null,null,null,null,null,null,null,false]
[26,"L10",null,null,null,null,null,null,null,null,null,null,null,null,null,null,null,null,null,null,null,null,null,null,null,null,null,null,null,false]
[26,"G11",null,null,null,null,null,null,null,null,null,null,null,null,null,null,null,null,null,null,null,null,null,null,null,null,null,null,null,false]
[26,"B12",null,null,null,null,null,null,null,null,null,null,null,null,null,null,null,null,null,null,null,null,null,null,null,null,null,null,null,false]
[26,"G12",null,null,null,null,null,null,null,null,null,null,null,null,null,null,null,null,null,null,null,null,null,null,null,null,null,null,null,false]
[26,"P12",null,null,null,null,null,null,null,null,null,null,null,null,null,null,null,null,null,null,null,null,null,null,null,null,null,null,null,false]
[26,"B14",null,null,null,null,null,null,null,null,null,null,null,null,null,null,null,null,null,null,null,null,null,null,null,null,null,null,null,false]
[26,"G14",null,null,null,null,null,null,null,null,null,null,null,null,null,null,null,null,null,null,null,null,null,null,null,null,null,null,null,false]
[26,"C15",null,null,null,null,null,null,null,null,null,null,null,null,null,null,null,null,null,null,null,null,null,null,null,null,null,null,null,{"$f":"IF(COUNTBLANK(D9828)=0,A9828)","v":false}]
[26,"B16",null,null,null,null,null,null,null,null,null,null,null,null,null,null,null,null,null,null,null,null,null,null,null,null,null,null,null,false]
[26,"G16",null,null,null,null,null,null,null,null,null,null,null,null,null,null,null,null,null,null,null,null,null,null,null,null,null,null,null,false]
[26,"B17",null,null,null,null,null,null,null,null,null,null,null,null,null,null,null,null,null,null,null,null,null,null,null,null,null,null,null,{"$f":"IF(COUNTBLANK(D9859)=0,A9859)","v":false}]
[26,"G17",null,null,null,null,null,null,null,null,null,null,null,null,null,null,null,null,null,null,null,null,null,null,null,null,null,null,null,false]
[26,"C18",null,null,null,null,null,null,null,null,null,null,null,null,null,null,null,null,null,null,null,null,null,null,null,null,null,null,null,false]
[26,"B19",null,null,null,null,null,null,null,null,null,null,null,null,null,null,null,null,null,null,null,null,null,null,null,null,null,null,null,false]
[26,"G19",null,null,null,null,null,null,null,null,null,null,null,null,null,null,null,null,null,null,null,null,null,null,null,null,null,null,null,false]
[26,"J20",null,null,null,null,null,null,null,null,null,null,null,null,null,null,null,null,null,null,null,null,null,null,null,null,null,null,null,false]
[26,"B21",null,null,null,null,null,null,null,null,null,null,null,null,null,null,null,null,null,null,null,null,null,null,null,null,null,null,null,{"$f":"IF(COUNTBLANK(D9923)=0,A9923)","v":false}]
[26,"G21",null,null,null,null,null,null,null,null,null,null,null,null,null,null,null,null,null,null,null,null,null,null,null,null,null,null,null,false]
[26,"I22",null,null,null,null,null,null,null,null,null,null,null,null,null,null,null,null,null,null,null,null,null,null,null,null,null,null,null,false]
[26,"B23",null,null,null,null,null,null,null,null,null,null,null,null,null,null,null,null,null,null,null,null,null,null,null,null,null,null,null,false]
[26,"M23",null,null,null,null,null,null,null,null,null,null,null,null,null,null,null,null,null,null,null,null,null,null,null,null,null,null,null,false]
[26,"B24",null,null,null,null,null,null,null,null,null,null,null,null,null,null,null,null,null,null,null,null,null,null,null,null,null,null,null,false]
[26,"M24",null,null,null,null,null,null,null,null,null,null,null,null,null,null,null,null,null,null,null,null,null,null,null,null,null,null,null,false]
[27,"C1",null,null,null,null,null,null,null,null,null,null,null,null,null,null,null,null,null,null,null,null,null,null,null,null,null,null,null,{"$f":"IF(COUNTBLANK(D9988)=0,A9988)","v":false}]
[27,"B2",null,null,null,null,null,null,null,null,null,null,null,null,null,null,null,null,null,null,null,null,null,null,null,null,null,null,null,false]
[27,"G2",null,null,null,null,null,null,null,null,null,null,null,null,null,null,null,null,null,null,null,null,null,null,null,null,null,null,null,false]
[27,"E3",null,null,null,null,null,null,null,null,null,null,null,null,null,null,null,null,null,null,null,null,null,null,null,null,null,null,null,false]
[27,"B4",null,null,null,null,null,null,null,null,null,null,null,null,null,null,null,null,null,null,null,null,null,null,null,null,null,null,null,false]
[27,"M4",null,null,null,null,null,null,null,null,null,null,null,null,null,null,null,null,null,null,null,null,null,null,null,null,null,null,null,false]
[27,"D5",null,null,null,null,null,null,null,null,null,null,null,null,null,null,null,null,null,null,null,null,null,null,null,null,null,null,null,false]
[27,"B6",null,null,null,null,null,null,null,null,null,null,null,null,null,null,null,null,null,null,null,null,null,null,null,null,null,null,null,false]
[27,"M6",null,null,null,null,null,null,null,null,null,null,null,null,null,null,null,null,null,null,null,null,null,null,null,null,null,null,null,false]
[27,"B7",null,null,null,null,null,null,null,null,null,null,null,null,null,null,null,null,null,null,null,null,null,null,null,null,null,null,null,false]
[27,"L7",null,null,null,null,null,null,null,null,null,null,null,null,null,null,null,null,null,null,null,null,null,null,null,null,null,null,null,false]
[27,"M8",null,null,null,null,null,null,null,null,null,null,null,null,null,null,null,null,null,null,null,null,null,null,null,null,null,null,null,false]
[27,"B9",null,null,null,null,null,null,null,null,null,null,null,null,null,null,null,null,null,null,null,null,null,null,null,null,null,null,null,{"$f":"IF(COUNTBLANK(D10115)=0,A10115)","v":false}]
[27,"M9",null,null,null,null,null,null,null,null,null,null,null,null,null,null,null,null,null,null,null,null,null,null,null,null,null,null,null,false]
[27,"K10",null,null,null,null,null,null,null,null,null,null,null,null,null,null,null,null,null,null,null,null,null,null,null,null,null,null,null,false]
[27,"B11",null,null,null,null,null,null,null,null,null,null,null,null,null,null,null,null,null,null,null,null,null,null,null,null,null,null,null,false]
[27,"M11",null,null,null,null,null,null,null,null,null,null,null,null,null,null,null,null,null,null,null,null,null,null,null,null,null,null,null,false]
[27,"J12",null,null,null,null,null,null,null,null,null,null,null,null,null,null,null,null,null,null,null,null,null,null,null,null,null,null,null,false]
[27,"N12",null,null,null,null,null,null,null,null,null,null,null,null,null,null,null,null,null,null,null,null,null,null,null,null,null,null,null,false]
[27,"M13",null,null,null,null,null,null,null,null,null,null,null,null,null,null,null,null,null,null,null,null,null,null,null,null,null,null,null,false]
[27,"B14",null,null,null,null,null,null,null,null,null,null,null,null,null,null,null,null,null,null,null,null,null,null,null,null,null,null,null,false]
[27,"B15",null,null,null,null,null,null,null,null,null,null,null,null,null,null,null,null,null,null,null,null,null,null,null,null,null,null,null,false]
[27,"M15",null,null,null,null,null,null,null,null,null,null,null,null,null,null,null,null,null,null,null,null,null,null,null,null,null,null,null,false]
[27,"H16",null,null,null,null,null,null,null,null,null,null,null,null,null,null,null,null,null,null,null,null,null,null,null,null,null,null,null,false]
[27,"M16",null,null,null,null,null,null,null,null,null,null,null,null,null,null,null,null,null,null,null,null,null,null,null,null,null,null,null,false]
[27,"F17",null,null,null,null,null,null,null,null,null,null,null,null,null,null,null,null,null,null,null,null,null,null,null,null,null,null,null,false]
[27,"N17",null,null,null,null,null,null,null,null,null,null,null,null,null,null,null,null,null,null,null,null,null,null,null,null,null,null,null,false]
[27,"M18",null,null,null,null,null,null,null,null,null,null,null,null,null,null,null,null,null,null,null,null,null,null,null,null,null,null,null,false]
[27,"B19",null,null,null,null,null,null,null,null,null,null,null,null,null,null,null,null,null,null,null,null,null,null,null,null,null,null,null,false]
[27,"N19",null,null,null,null,null,null,null,null,null,null,null,null,null,null,null,null,null,null,null,null,null,null,null,null,null,null,null,false]
[27,"M20",null,null,null,null,null,null,null,null,null,null,null,null,null,null,null,null,null,null,null,null,null,null,null,null,null,null,null,false]
[27,"H21",null,null,null,null,null,null,null,null,null,null,null,null,null,null,null,null,null,null,null,null,null,null,null,null,null,null,null,false]
[27,"M21",null,null,null,null,null,null,null,null,null,null,null,null,null,null,null,null,null,null,null,null,null,null,null,null,null,null,null,false]
[27,"M22",null,null,null,null,null,null,null,null,null,null,null,null,null,null,null,null,null,null,null,null,null,null,null,null,null,null,null,false]
[27,"H23",null,null,null,null,null,null,null,null,null,null,null,null,null,null,null,null,null,null,null,null,null,null,null,null,null,null,null,false]
[27,"M23",null,null,null,null,null,null,null,null,null,null,null,null,null,null,null,null,null,null,null,null,null,null,null,null,null,null,null,false]
[27,"L24",null,null,null,null,null,null,null,null,null,null,null,null,null,null,null,null,null,null,null,null,null,null,null,null,null,null,null,false]
[28,"H1",null,null,null,null,null,null,null,null,null,null,null,null,null,null,null,null,null,null,null,null,null,null,null,null,null,null,null,false]
[28,"M1",null,null,null,null,null,null,null,null,null,null,null,null,null,null,null,null,null,null,null,null,null,null,null,null,null,null,null,false]
[28,"H2",null,null,null,null,null,null,null,null,null,null,null,null,null,null,null,null,null,null,null,null,null,null,null,null,null,null,null,false]
[28,"D3",null,null,null,null,null,null,null,null,null,null,null,null,null,null,null,null,null,null,null,null,null,null,null,null,null,null,null,false]
[28,"M3",null,null,null,null,null,null,null,null,null,null,null,null,null,null,null,null,null,null,null,null,null,null,null,null,null,null,null,false]
[28,"H4",null,null,null,null,null,null,null,null,null,null,null,null,null,null,null,null,null,null,null,null,null,null,null,null,null,null,null,false]
[28,"C5",null,null,null,null,null,null,null,null,null,null,null,null,null,null,null,null,null,null,null,null,null,null,null,null,null,null,null,{"$f":"IF(COUNTBLANK(D10436)=0,A10436)","v":false}]
[28,"I5",null,null,null,null,null,null,null,null,null,null,null,null,null,null,null,null,null,null,null,null,null,null,null,null,null,null,null,false]
[28,"H6",null,null,null,null,null,null,null,null,null,null,null,null,null,null,null,null,null,null,null,null,null,null,null,null,null,null,null,false]
[28,"M6",null,null,null,null,null,null,null,null,null,null,null,null,null,null,null,null,null,null,null,null,null,null,null,null,null,null,null,false]
[28,"K7",null,null,null,null,null,null,null,null,null,null,null,null,null,null,null,null,null,null,null,null,null,null,null,null,null,null,null,false]
[28,"H8",null,null,null,null,null,null,null,null,null,null,null,null,null,null,null,null,null,null,null,null,null,null,null,null,null,null,null,false]
[28,"M8",null,null,null,null,null,null,null,null,null,null,null,null,null,null,null,null,null,null,null,null,null,null,null,null,null,null,null,false]
[28,"H9",null,null,null,null,null,null,null,null,null,null,null,null,null,null,null,null,null,null,null,null,null,null,null,null,null,null,null,false]
[28,"O9",null,null,null,null,null,null,null,null,null,null,null,null,null,null,null,null,null,null,null,null,null,null,null,null,null,null,null,false]
[28,"I10",null,null,null,null,null,null,null,null,null,null,null,null,null,null,null,null,null,null,null,null,null,null,null,null,null,null,null,false]
[28,"H11",null,null,null,null,null,null,null,null,null,null,null,null,null,null,null,null,null,null,null,null,null,null,null,null,null,null,null,false]
[28,"N11",null,null,null,null,null,null,null,null,null,null,null,null,null,null,null,null,null,null,null,null,null,null,null,null,null,null,null,false]
[28,"I12",null,null,null,null,null,null,null,null,null,null,null,null,null,null,null,null,null,null,null,null,null,null,null,null,null,null,null,false]
[28,"H13",null,null,null,null,null,null,null,null,null,null,null,null,null,null,null,null,null,null,null,null,null,null,null,null,null,null,null,false]
[28,"M13",null,null,null,null,null,null,null,null,null,null,null,null,null,null,null,null,null,null,null,null,null,null,null,null,null,null,null,false]
[28,"F14",null,null,null,null,null,null,null,null,null,null,null,null,null,null,null,null,null,null,null,null,null,null,null,null,null,null,null,false]
[28,"H15",null,null,null,null,null,null,null,null,null,null,null,null,null,null,null,null,null,null,null,null,null,null,null,null,null,null,null,false]
[28,"C16",null,null,null,null,null,null,null,null,null,null,null,null,null,null,null,null,null,null,null,null,null,null,null,null,null,null,null,false]
[28,"H16",null,null,null,null,null,null,null,null,null,null,null,null,null,null,null,null,null,null,null,null,null,null,null,null,null,null,null,false]
[28,"E17",null,null,null,null,null,null,null,null,null,null,null,null,null,null,null,null,null,null,null,null,null,null,null,null,null,null,null,false]
[28,"C18",null,null,null,null,null,null,null,null,null,null,null,null,null,null,null,null,null,null,null,null,null,null,null,null,null,null,null,false]
[28,"H18",null,null,null,null,null,null,null,null,null,null,null,null,null,null,null,null,null,null,null,null,null,null,null,null,null,null,null,false]
[28,"H19",null,null,null,null,null,null,null,null,null,null,null,null,null,null,null,null,null,null,null,null,null,null,null,null,null,null,null,false]
[28,"I19",null,null,null,null,null,null,null,null,null,null,null,null,null,null,null,null,null,null,null,null,null,null,null,null,null,null,null,false]
[28,"H20",null,null,null,null,null,null,null,null,null,null,null,null,null,null,null,null,null,null,null,null,null,null,null,null,null,null,null,false]
[28,"C21",null,null,null,null,null,null,null,null,null,null,null,null,null,null,null,null,null,null,null,null,null,null,null,null,null,null,null,{"$f":"IF(COUNTBLANK(D10692)=0,A10692)","v":false}]
[28,"L21",null,null,null,null,null,null,null,null,null,null,null,null,null,null,null,null,null,null,null,null,null,null,null,null,null,null,null,false]
[28,"H22",null,null,null,null,null,null,null,null,null,null,null,null,null,null,null,null,null,null,null,null,null,null,null,null,null,null,null,false]
[28,"C23",null,null,null,null,null,null,null,null,null,null,null,null,null,null,null,null,null,null,null,null,null,null,null,null,null,null,null,{"$f":"IF(COUNTBLANK(D10724)=0,A10724)","v":false}]
[28,"H23",null,null,null,null,null,null,null,null,null,null,null,null,null,null,null,null,null,null,null,null,null,null,null,null,null,null,null,false]
[28,"D24",null,null,null,null,null,null,null,null,null,null,null,null,null,null,null,null,null,null,null,null,null,null,null,null,null,null,null,false]
[29,"C1",null,null,null,null,null,null,null,null,null,null,null,null,null,null,null,null,null,null,null,null,null,null,null,null,null,null,null,{"$f":"IF(COUNTBLANK(D10756)=0,A10756)","v":false}]
[29,"H1",null,null,null,null,null,null,null,null,null,null,null,null,null,null,null,null,null,null,null,null,null,null,null,null,null,null,null,false]
[29,"C2",null,null,null,null,null,null,null,null,null,null,null,null,null,null,null,null,null,null,null,null,null,null,null,null,null,null,null,false]
[29,"C3",null,null,null,null,null,null,null,null,null,null,null,null,null,null,null,null,null,null,null,null,null,null,null,null,null,null,null,{"$f":"IF(COUNTBLANK(D10788)=0,A10788)","v":false}]
[29,"D3",null,null,null,null,null,null,null,null,null,null,null,null,null,null,null,null,null,null,null,null,null,null,null,null,null,null,null,false]
[29,"C4",null,null,null,null,null,null,null,null,null,null,null,null,null,null,null,null,null,null,null,null,null,null,null,null,null,null,null,false]
[29,"B5",null,null,null,null,null,null,null,null,null,null,null,null,null,null,null,null,null,null,null,null,null,null,null,null,null,null,null,{"$f":"IF(COUNTBLANK(D10819)=0,A10819)","v":false}]
[29,"D5",null,null,null,null,null,null,null,null,null,null,null,null,null,null,null,null,null,null,null,null,null,null,null,null,null,null,null,false]
[29,"C6",null,null,null,null,null,null,null,null,null,null,null,null,null,null,null,null,null,null,null,null,null,null,null,null,null,null,null,false]
[29,"H6",null,null,null,null,null,null,null,null,null,null,null,null,null,null,null,null,null,null,null,null,null,null,null,null,null,null,null,false]
[29,"J7",null,null,null,null,null,null,null,null,null,null,null,null,null,null,null,null,null,null,null,null,null,null,null,null,null,null,null,false]
[29,"C8",null,null,null,null,null,null,null,null,null,null,null,null,null,null,null,null,null,null,null,null,null,null,null,null,null,null,null,false]
[29,"N8",null,null,null,null,null,null,null,null,null,null,null,null,null,null,null,null,null,null,null,null,null,null,null,null,null,null,null,false]
[29,"C9",null,null,null,null,null,null,null,null,null,null,null,null,null,null,null,null,null,null,null,null,null,null,null,null,null,null,null,{"$f":"IF(COUNTBLANK(D10884)=0,A10884)","v":false}]
[29,"N9",null,null,null,null,null,null,null,null,null,null,null,null,null,null,null,null,null,null,null,null,null,null,null,null,null,null,null,false]
[29,"N10",null,null,null,null,null,null,null,null,null,null,null,null,null,null,null,null,null,null,null,null,null,null,null,null,null,null,null,false]
[29,"C11",null,null,null,null,null,null,null,null,null,null,null,null,null,null,null,null,null,null,null,null,null,null,null,null,null,null,null,{"$f":"IF(COUNTBLANK(D10916)=0,A10916)","v":false}]
[29,"M11",null,null,null,null,null,null,null,null,null,null,null,null,null,null,null,null,null,null,null,null,null,null,null,null,null,null,null,false]
[29,"D12",null,null,null,null,null,null,null,null,null,null,null,null,null,null,null,null,null,null,null,null,null,null,null,null,null,null,null,false]
[29,"C13",null,null,null,null,null,null,null,null,null,null,null,null,null,null,null,null,null,null,null,null,null,null,null,null,null,null,null,{"$f":"IF(COUNTBLANK(D10948)=0,A10948)","v":false}]
[29,"N13",null,null,null,null,null,null,null,null,null,null,null,null,null,null,null,null,null,null,null,null,null,null,null,null,null,null,null,false]
[29,"E14",null,null,null,null,null,null,null,null,null,null,null,null,null,null,null,null,null,null,null,null,null,null,null,null,null,null,null,false]
[29,"C15",null,null,null,null,null,null,null,null,null,null,null,null,null,null,null,null,null,null,null,null,null,null,null,null,null,null,null,{"$f":"IF(COUNTBLANK(D10980)=0,A10980)","v":false}]
[29,"N15",null,null,null,null,null,null,null,null,null,null,null,null,null,null,null,null,null,null,null,null,null,null,null,null,null,null,null,false]
[29,"C16",null,null,null,null,null,null,null,null,null,null,null,null,null,null,null,null,null,null,null,null,null,null,null,null,null,null,null,false]
[29,"M16",null,null,null,null,null,null,null,null,null,null,null,null,null,null,null,null,null,null,null,null,null,null,null,null,null,null,null,false]
[29,"N17",null,null,null,null,null,null,null,null,null,null,null,null,null,null,null,null,null,null,null,null,null,null,null,null,null,null,null,false]
[29,"C18",null,null,null,null,null,null,null,null,null,null,null,null,null,null,null,null,null,null,null,null,null,null,null,null,null,null,null,false]
[29,"L18",null,null,null,null,null,null,null,null,null,null,null,null,null,null,null,null,null,null,null,null,null,null,null,null,null,null,null,false]
[29,"N19",null,null,null,null,null,null,null,null,null,null,null,null,null,null,null,null,null,null,null,null,null,null,null,null,null,null,null,false]
[29,"C20",null,null,null,null,null,null,null,null,null,null,null,null,null,null,null,null,null,null,null,null,null,null,null,null,null,null,null,false]
[29,"N20",null,null,null,null,null,null,null,null,null,null,null,null,null,null,null,null,null,null,null,null,null,null,null,null,null,null,null,false]
[29,"K21",null,null,null,null,null,null,null,null,null,null,null,null,null,null,null,null,null,null,null,null,null,null,null,null,null,null,null,false]
[29,"O21",null,null,null,null,null,null,null,null,null,null,null,null,null,null,null,null,null,null,null,null,null,null,null,null,null,null,null,false]
[29,"N22",null,null,null,null,null,null,null,null,null,null,null,null,null,null,null,null,null,null,null,null,null,null,null,null,null,null,null,false]
[29,"C23",null,null,null,null,null,null,null,null,null,null,null,null,null,null,null,null,null,null,null,null,null,null,null,null,null,null,null,{"$f":"IF(COUNTBLANK(D11108)=0,A11108)","v":false}]
[29,"C24",null,null,null,null,null,null,null,null,null,null,null,null,null,null,null,null,null,null,null,null,null,null,null,null,null,null,null,false]
[29,"N24",null,null,null,null,null,null,null,null,null,null,null,null,null,null,null,null,null,null,null,null,null,null,null,null,null,null,null,false]
[30,"I1",null,null,null,null,null,null,null,null,null,null,null,null,null,null,null,null,null,null,null,null,null,null,null,null,null,null,null,false]
[30,"B2",null,null,null,null,null,null,null,null,null,null,null,null,null,null,null,null,null,null,null,null,null,null,null,null,null,null,null,false]
[30,"N2",null,null,null,null,null,null,null,null,null,null,null,null,null,null,null,null,null,null,null,null,null,null,null,null,null,null,null,false]
[30,"I3",null,null,null,null,null,null,null,null,null,null,null,null,null,null,null,null,null,null,null,null,null,null,null,null,null,null,null,false]
[30,"N3",null,null,null,null,null,null,null,null,null,null,null,null,null,null,null,null,null,null,null,null,null,null,null,null,null,null,null,false]
[30,"F4",null,null,null,null,null,null,null,null,null,null,null,null,null,null,null,null,null,null,null,null,null,null,null,null,null,null,null,false]
[30,"O4",null,null,null,null,null,null,null,null,null,null,null,null,null,null,null,null,null,null,null,null,null,null,null,null,null,null,null,false]
[30,"N5",null,null,null,null,null,null,null,null,null,null,null,null,null,null,null,null,null,null,null,null,null,null,null,null,null,null,null,false]
[30,"I6",null,null,null,null,null,null,null,null,null,null,null,null,null,null,null,null,null,null,null,null,null,null,null,null,null,null,null,false]
[30,"N6",null,null,null,null,null,null,null,null,null,null,null,null,null,null,null,null,null,null,null,null,null,null,null,null,null,null,null,false]
[30,"N7",null,null,null,null,null,null,null,null,null,null,null,null,null,null,null,null,null,null,null,null,null,null,null,null,null,null,null,false]
[30,"I8",null,null,null,null,null,null,null,null,null,null,null,null,null,null,null,null,null,null,null,null,null,null,null,null,null,null,null,false]
[30,"M8",null,null,null,null,null,null,null,null,null,null,null,null,null,null,null,null,null,null,null,null,null,null,null,null,null,null,null,false]
[30,"G9",null,null,null,null,null,null,null,null,null,null,null,null,null,null,null,null,null,null,null,null,null,null,null,null,null,null,null,false]
[30,"H9",null,null,null,null,null,null,null,null,null,null,null,null,null,null,null,null,null,null,null,null,null,null,null,null,null,null,null,false]
[30,"I9",null,null,null,null,null,null,null,null,null,null,null,null,null,null,null,null,null,null,null,null,null,null,null,null,null,null,null,false]
[30,"J9",null,null,null,null,null,null,null,null,null,null,null,null,null,null,null,null,null,null,null,null,null,null,null,null,null,null,null,false]
[30,"K9",null,null,null,null,null,null,null,null,null,null,null,null,null,null,null,null,null,null,null,null,null,null,null,null,null,null,null,false]
[30,"L9",null,null,null,null,null,null,null,null,null,null,null,null,null,null,null,null,null,null,null,null,null,null,null,null,null,null,null,false]
[30,"M9",null,null,null,null,null,null,null,null,null,null,null,null,null,null,null,null,null,null,null,null,null,null,null,null,null,null,null,false]
[30,"N9",null,null,null,null,null,null,null,null,null,null,null,null,null,null,null,null,null,null,null,null,null,null,null,null,null,null,null,false]
[30,"O9",null,null,null,null,null,null,null,null,null,null,null,null,null,null,null,null,null,null,null,null,null,null,null,null,null,null,null,false]
[30,"P9",null,null,null,null,null,null,null,null,null,null,null,null,null,null,null,null,null,null,null,null,null,null,null,null,null,null,null,false]
[30,"A10",null,null,null,null,null,null,null,null,null,null,null,null,null,null,null,null,null,null,null,null,null,null,null,null,null,null,null,false]
[30,"B10",null,null,null,null,null,null,null,null,null,null,null,null,null,null,null,null,null,null,null,null,null,null,null,null,null,null,null,false]
[30,"C10",null,null,null,null,null,null,null,null,null,null,null,null,null,null,null,null,null,null,null,null,null,null,null,null,null,null,null,false]
[30,"D10",null,null,null,null,null,null,null,null,null,null,null,null,null,null,null,null,null,null,null,null,null,null,null,null,null,null,null,false]
[30,"E10",null,null,null,null,null,null,null,null,null,null,null,null,null,null,null,null,null,null,null,null,null,null,null,null,null,null,null,false]
[30,"F10",null,null,null,null,null,null,null,null,null,null,null,null,null,null,null,null,null,null,null,null,null,null,null,null,null,null,null,false]
[30,"G10",null,null,null,null,null,null,null,null,null,null,null,null,null,null,null,null,null,null,null,null,null,null,null,null,null,null,null,false]
[30,"H10",null,null,null,null,null,null,null,null,null,null,null,null,null,null,null,null,null,null,null,null,null,null,null,null,null,null,null,false]
[30,"I10",null,null,null,null,null,null,null,null,null,null,null,null,null,null,null,null,null,null,null,null,null,null,null,null,null,null,null,false]
[30,"J10",null,null,null,null,null,null,null,null,null,null,null,null,null,null,null,null,null,null,null,null,null,null,null,null,null,null,null,false]
[30,"K10",null,null,null,null,null,null,null,null,null,null,null,null,null,null,null,null,null,null,null,null,null,null,null,null,null,null,null,false]
[30,"L10",null,null,null,null,null,null,null,null,null,null,null,null,null,null,null,null,null,null,null,null,null,null,null,null,null,null,null,false]
[30,"M10",null,null,null,null,null,null,null,null,null,null,null,null,null,null,null,null,null,null,null,null,null,null,null,null,null,null,null,false]
[30,"N10",null,null,null,null,null,null,null,null,null,null,null,null,null,null,null,null,null,null,null,null,null,null,null,null,null,null,null,false]
[30,"O10",null,null,null,null,null,null,null,null,null,null,null,null,null,null,null,null,null,null,null,null,null,null,null,null,null,null,null,false]
[30,"P10",null,null,null,null,null,null,null,null,null,null,null,null,null,null,null,null,null,null,null,null,null,null,null,null,null,null,null,false]
[30,"A11",null,null,null,null,null,null,null,null,null,null,null,null,null,null,null,null,null,null,null,null,null,null,null,null,null,null,null,false]
[30,"B11",null,null,null,null,null,null,null,null,null,null,null,null,null,null,null,null,null,null,null,null,null,null,null,null,null,null,null,false]
[30,"C11",null,null,null,null,null,null,null,null,null,null,null,null,null,null,null,null,null,null,null,null,null,null,null,null,null,null,null,{"$f":"IF(COUNTBLANK(D11300)=0,A11300)","v":false}]
[30,"D11",null,null,null,null,null,null,null,null,null,null,null,null,null,null,null,null,null,null,null,null,null,null,null,null,null,null,null,false]
[30,"E11",null,null,null,null,null,null,null,null,null,null,null,null,null,null,null,null,null,null,null,null,null,null,null,null,null,null,null,false]
[30,"F11",null,null,null,null,null,null,null,null,null,null,null,null,null,null,null,null,null,null,null,null,null,null,null,null,null,null,null,false]
[30,"G11",null,null,null,null,null,null,null,null,null,null,null,null,null,null,null,null,null,null,null,null,null,null,null,null,null,null,null,false]
[30,"H11",null,null,null,null,null,null,null,null,null,null,null,null,null,null,null,null,null,null,null,null,null,null,null,null,null,null,null,false]
[30,"I11",null,null,null,null,null,null,null,null,null,null,null,null,null,null,null,null,null,null,null,null,null,null,null,null,null,null,null,false]
[30,"J11",null,null,null,null,null,null,null,null,null,null,null,null,null,null,null,null,null,null,null,null,null,null,null,null,null,null,null,false]
[30,"K11",null,null,null,null,null,null,null,null,null,null,null,null,null,null,null,null,null,null,null,null,null,null,null,null,null,null,null,false]
[30,"L11",null,null,null,null,null,null,null,null,null,null,null,null,null,null,null,null,null,null,null,null,null,null,null,null,null,null,null,false]
[30,"M11",null,null,null,null,null,null,null,null,null,null,null,null,null,null,null,null,null,null,null,null,null,null,null,null,null,null,null,false]
[30,"N11",null,null,null,null,null,null,null,null,null,null,null,null,null,null,null,null,null,null,null,null,null,null,null,null,null,null,null,false]
[30,"O11",null,null,null,null,null,null,null,null,null,null,null,null,null,null,null,null,null,null,null,null,null,null,null,null,null,null,null,false]
[30,"P11",null,null,null,null,null,null,null,null,null,null,null,null,null,null,null,null,null,null,null,null,null,null,null,null,null,null,null,false]
[30,"A12",null,null,null,null,null,null,null,null,null,null,null,null,null,null,null,null,null,null,null,null,null,null,null,null,null,null,null,false]
[30,"B12",null,null,null,null,null,null,null,null,null,null,null,null,null,null,null,null,null,null,null,null,null,null,null,null,null,null,null,false]
[30,"C12",null,null,null,null,null,null,null,null,null,null,null,null,null,null,null,null,null,null,null,null,null,null,null,null,null,null,null,false]
[30,"D12",null,null,null,null,null,null,null,null,null,null,null,null,null,null,null,null,null,null,null,null,null,null,null,null,null,null,null,false]
[30,"E12",null,null,null,null,null,null,null,null,null,null,null,null,null,null,null,null,null,null,null,null,null,null,null,null,null,null,null,false]
[30,"F12",null,null,null,null,null,null,null,null,null,null,null,null,null,null,null,null,null,null,null,null,null,null,null,null,null,null,null,false]
[30,"G12",null,null,null,null,null,null,null,null,null,null,null,null,null,null,null,null,null,null,null,null,null,null,null,null,null,null,null,false]
[30,"H12",null,null,null,null,null,null,null,null,null,null,null,null,null,null,null,null,null,null,null,null,null,null,null,null,null,null,null,false]
[30,"I12",null,null,null,null,null,null,null,null,null,null,null,null,null,null,null,null,null,null,null,null,null,null,null,null,null,null,null,false]
[30,"J12",null,null,null,null,null,null,null,null,null,null,null,null,null,null,null,null,null,null,null,null,null,null,null,null,null,null,null,false]
[30,"K12",null,null,null,null,null,null,null,null,null,null,null,null,null,null,null,null,null,null,null,null,null,null,null,null,null,null,null,false]
[30,"L12",null,null,null,null,null,null,null,null,null,null,null,null,null,null,null,null,null,null,null,null,null,null,null,null,null,null,null,false]
[30,"M12",null,null,null,null,null,null,null,null,null,null,null,null,null,null,null,null,null,null,null,null,null,null,null,null,null,null,null,false]
[30,"N12",null,null,null,null,null,null,null,null,null,null,null,null,null,null,null,null,null,null,null,null,null,null,null,null,null,null,null,false]
[30,"O12",null,null,null,null,null,null,null,null,null,null,null,null,null,null,null,null,null,null,null,null,null,null,null,null,null,null,null,false]
[30,"P12",null,null,null,null,null,null,null,null,null,null,null,null,null,null,null,null,null,null,null,null,null,null,null,null,null,null,null,false]
[30,"A13",null,null,null,null,null,null,null,null,null,null,null,null,null,null,null,null,null,null,null,null,null,null,null,null,null,null,null,false]
[30,"B13",null,null,null,null,null,null,null,null,null,null,null,null,null,null,null,null,null,null,null,null,null,null,null,null,null,null,null,{"$f":"IF(COUNTBLANK(D11331)=0,A11331)","v":false}]
[30,"C13",null,null,null,null,null,null,null,null,null,null,null,null,null,null,null,null,null,null,null,null,null,null,null,null,null,null,null,{"$f":"IF(COUNTBLANK(D11332)=0,A11332)","v":false}]
[30,"D13",null,null,null,null,null,null,null,null,null,null,null,null,null,null,null,null,null,null,null,null,null,null,null,null,null,null,null,false]
[30,"E13",null,null,null,null,null,null,null,null,null,null,null,null,null,null,null,null,null,null,null,null,null,null,null,null,null,null,null,false]
[30,"F13",null,null,null,null,null,null,null,null,null,null,null,null,null,null,null,null,null,null,null,null,null,null,null,null,null,null,null,false]
[30,"G13",null,null,null,null,null,null,null,null,null,null,null,null,null,null,null,null,null,null,null,null,null,null,null,null,null,null,null,false]
[30,"H13",null,null,null,null,null,null,null,null,null,null,null,null,null,null,null,null,null,null,null,null,null,null,null,null,null,null,null,false]
[30,"I13",null,null,null,null,null,null,null,null,null,null,null,null,null,null,null,null,null,null,null,null,null,null,null,null,null,null,null,false]
[30,"J13",null,null,null,null,null,null,null,null,null,null,null,null,null,null,null,null,null,null,null,null,null,null,null,null,null,null,null,false]
[30,"K13",null,null,null,null,null,null,null,null,null,null,null,null,null,null,null,null,null,null,null,null,null,null,null,null,null,null,null,false]
[30,"L13",null,null,null,null,null,null,null,null,null,null,null,null,null,null,null,null,null,null,null,null,null,null,null,null,null,null,null,false]
[30,"M13",null,null,null,null,null,null,null,null,null,null,null,null,null,null,null,null,null,null,null,null,null,null,null,null,null,null,null,false]
[30,"N13",null,null,null,null,null,null,null,null,null,null,null,null,null,null,null,null,null,null,null,null,null,null,null,null,null,null,null,false]
[30,"O13",null,null,null,null,null,null,null,null,null,null,null,null,null,null,null,null,null,null,null,null,null,null,null,null,null,null,null,false]
[30,"P13",null,null,null,null,null,null,null,null,null,null,null,null,null,null,null,null,null,null,null,null,null,null,null,null,null,null,null,false]
[30,"A14",null,null,null,null,null,null,null,null,null,null,null,null,null,null,null,null,null,null,null,null,null,null,null,null,null,null,null,false]
[30,"B14",null,null,null,null,null,null,null,null,null,null,null,null,null,null,null,null,null,null,null,null,null,null,null,null,null,null,null,false]
[30,"C14",null,null,null,null,null,null,null,null,null,null,null,null,null,null,null,null,null,null,null,null,null,null,null,null,null,null,null,false]
[30,"D14",null,null,null,null,null,null,null,null,null,null,null,null,null,null,null,null,null,null,null,null,null,null,null,null,null,null,null,false]
[30,"E14",null,null,null,null,null,null,null,null,null,null,null,null,null,null,null,null,null,null,null,null,null,null,null,null,null,null,null,false]
[30,"F14",null,null,null,null,null,null,null,null,null,null,null,null,null,null,null,null,null,null,null,null,null,null,null,null,null,null,null,false]
[30,"G14",null,null,null,null,null,null,null,null,null,null,null,null,null,null,null,null,null,null,null,null,null,null,null,null,null,null,null,false]
[30,"H14",null,null,null,null,null,null,null,null,null,null,null,null,null,null,null,null,null,null,null,null,null,null,null,null,null,null,null,false]
[30,"I14",null,null,null,null,null,null,null,null,null,null,null,null,null,null,null,null,null,null,null,null,null,null,null,null,null,null,null,false]
[30,"J14",null,null,null,null,null,null,null,null,null,null,null,null,null,null,null,null,null,null,null,null,null,null,null,null,null,null,null,false]
[30,"K14",null,null,null,null,null,null,null,null,null,null,null,null,null,null,null,null,null,null,null,null,null,null,null,null,null,null,null,false]
[30,"L14",null,null,null,null,null,null,null,null,null,null,null,null,null,null,null,null,null,null,null,null,null,null,null,null,null,null,null,false]
[30,"M14",null,null,null,null,null,null,null,null,null,null,null,null,null,null,null,null,null,null,null,null,null,null,null,null,null,null,null,false]
[30,"N14",null,null,null,null,null,null,null,null,null,null,null,null,null,null,null,null,null,null,null,null,null,null,null,null,null,null,null,false]
[30,"O14",null,null,null,null,null,null,null,null,null,null,null,null,null,null,null,null,null,null,null,null,null,null,null,null,null,null,null,false]
[30,"P14",null,null,null,null,null,null,null,null,null,null,null,null,null,null,null,null,null,null,null,null,null,null,null,null,null,null,null,false]
[30,"A15",null,null,null,null,null,null,null,null,null,null,null,null,null,null,null,null,null,null,null,null,null,null,null,null,null,null,null,false]
[30,"B15",null,null,null,null,null,null,null,null,null,null,null,null,null,null,null,null,null,null,null,null,null,null,null,null,null,null,null,false]
[30,"C15",null,null,null,null,null,null,null,null,null,null,null,null,null,null,null,null,null,null,null,null,null,null,null,null,null,null,null,{"$f":"IF(COUNTBLANK(D11364)=0,A11364)","v":false}]
[30,"D15",null,null,null,null,null,null,null,null,null,null,null,null,null,null,null,null,null,null,null,null,null,null,null,null,null,null,null,false]
[30,"E15",null,null,null,null,null,null,null,null,null,null,null,null,null,null,null,null,null,null,null,null,null,null,null,null,null,null,null,false]
[30,"F15",null,null,null,null,null,null,null,null,null,null,null,null,null,null,null,null,null,null,null,null,null,null,null,null,null,null,null,false]
[30,"G15",null,null,null,null,null,null,null,null,null,null,null,null,null,null,null,null,null,null,null,null,null,null,null,null,null,null,null,false]
[30,"H15",null,null,null,null,null,null,null,null,null,null,null,null,null,null,null,null,null,null,null,null,null,null,null,null,null,null,null,false]
[30,"I15",null,null,null,null,null,null,null,null,null,null,null,null,null,null,null,null,null,null,null,null,null,null,null,null,null,null,null,false]
[30,"J15",null,null,null,null,null,null,null,null,null,null,null,null,null,null,null,null,null,null,null,null,null,null,null,null,null,null,null,false]
[30,"K15",null,null,null,null,null,null,null,null,null,null,null,null,null,null,null,null,null,null,null,null,null,null,null,null,null,null,null,false]
[30,"L15",null,null,null,null,null,null,null,null,null,null,null,null,null,null,null,null,null,null,null,null,null,null,null,null,null,null,null,false]
[30,"M15",null,null,null,null,null,null,null,null,null,null,null,null,null,null,null,null,null,null,null,null,null,null,null,null,null,null,null,false]
[30,"N15",null,null,null,null,null,null,null,null,null,null,null,null,null,null,null,null,null,null,null,null,null,null,null,null,null,null,null,false]
[30,"O15",null,null,null,null,null,null,null,null,null,null,null,null,null,null,null,null,null,null,null,null,null,null,null,null,null,null,null,false]
[30,"P15",null,null,null,null,null,null,null,null,null,null,null,null,null,null,null,null,null,null,null,null,null,null,null,null,null,null,null,false]
[30,"A16",null,null,null,null,null,null,null,null,null,null,null,null,null,null,null,null,null,null,null,null,null,null,null,null,null,null,null,false]
[30,"B16",null,null,null,null,null,null,null,null,null,null,null,null,null,null,null,null,null,null,null,null,null,null,null,null,null,null,null,false]
[30,"C16",null,null,null,null,null,null,null,null,null,null,null,null,null,null,null,null,null,null,null,null,null,null,null,null,null,null,null,false]
[30,"D16",null,null,null,null,null,null,null,null,null,null,null,null,null,null,null,null,null,null,null,null,null,null,null,null,null,null,null,false]
[30,"E16",null,null,null,null,null,null,null,null,null,null,null,null,null,null,null,null,null,null,null,null,null,null,null,null,null,null,null,false]
[30,"F16",null,null,null,null,null,null,null,null,null,null,null,null,null,null,null,null,null,null,null,null,null,null,null,null,null,null,null,false]
[30,"G16",null,null,null,null,null,null,null,null,null,null,null,null,null,null,null,null,null,null,null,null,null,null,null,null,null,null,null,false]
[30,"H16",null,null,null,null,null,null,null,null,null,null,null,null,null,null,null,null,null,null,null,null,null,null,null,null,null,null,null,false]
[30,"I16",null,null,null,null,null,null,null,null,null,null,null,null,null,null,null,null,null,null,null,null,null,null,null,null,null,null,null,false]
[30,"J16",null,null,null,null,null,null,null,null,null,null,null,null,null,null,null,null,null,null,null,null,null,null,null,null,null,null,null,false]
[30,"K16",null,null,null,null,null,null,null,null,null,null,null,null,null,null,null,null,null,null,null,null,null,null,null,null,null,null,null,false]
[30,"L16",null,null,null,null,null,null,null,null,null,null,null,null,null,null,null,null,null,null,null,null,null,null,null,null,null,null,null,false]
[30,"M16",null,null,null,null,null,null,null,null,null,null,null,null,null,null,null,null,null,null,null,null,null,null,null,null,null,null,null,false]
[30,"N16",null,null,null,null,null,null,null,null,null,null,null,null,null,null,null,null,null,null,null,null,null,null,null,null,null,null,null,false]
[30,"O16",null,null,null,null,null,null,null,null,null,null,null,null,null,null,null,null,null,null,null,null,null,null,null,null,null,null,null,false]
[30,"P16",null,null,null,null,null,null,null,null,null,null,null,null,null,null,null,null,null,null,null,null,null,null,null,null,null,null,null,false]
[30,"A17",null,null,null,null,null,null,null,null,null,null,null,null,null,null,null,null,null,null,null,null,null,null,null,null,null,null,null,false]
[30,"B17",null,null,null,null,null,null,null,null,null,null,null,null,null,null,null,null,null,null,null,null,null,null,null,null,null,null,null,{"$f":"IF(COUNTBLANK(D11395)=0,A11395)","v":false}]
[30,"C17",null,null,null,null,null,null,null,null,null,null,null,null,null,null,null,null,null,null,null,null,null,null,null,null,null,null,null,{"$f":"IF(COUNTBLANK(D11396)=0,A11396)","v":false}]
[30,"D17",null,null,null,null,null,null,null,null,null,null,null,null,null,null,null,null,null,null,null,null,null,null,null,null,null,null,null,false]
[30,"E17",null,null,null,null,null,null,null,null,null,null,null,null,null,null,null,null,null,null,null,null,null,null,null,null,null,null,null,false]
[30,"F17",null,null,null,null,null,null,null,null,null,null,null,null,null,null,null,null,null,null,null,null,null,null,null,null,null,null,null,false]
[30,"G17",null,null,null,null,null,null,null,null,null,null,null,null,null,null,null,null,null,null,null,null,null,null,null,null,null,null,null,false]
[30,"H17",null,null,null,null,null,null,null,null,null,null,null,null,null,null,null,null,null,null,null,null,null,null,null,null,null,null,null,false]
[30,"I17",null,null,null,null,null,null,null,null,null,null,null,null,null,null,null,null,null,null,null,null,null,null,null,null,null,null,null,false]
[30,"J17",null,null,null,null,null,null,null,null,null,null,null,null,null,null,null,null,null,null,null,null,null,null,null,null,null,null,null,false]
[30,"K17",null,null,null,null,null,null,null,null,null,null,null,null,null,null,null,null,null,null,null,null,null,null,null,null,null,null,null,false]
[30,"L17",null,null,null,null,null,null,null,null,null,null,null,null,null,null,null,null,null,null,null,null,null,null,null,null,null,null,null,false]
[30,"M17",null,null,null,null,null,null,null,null,null,null,null,null,null,null,null,null,null,null,null,null,null,null,null,null,null,null,null,false]
[30,"N17",null,null,null,null,null,null,null,null,null,null,null,null,null,null,null,null,null,null,null,null,null,null,null,null,null,null,null,false]
[30,"O17",null,null,null,null,null,null,null,null,null,null,null,null,null,null,null,null,null,null,null,null,null,null,null,null,null,null,null,false]
[30,"P17",null,null,null,null,null,null,null,null,null,null,null,null,null,null,null,null,null,null,null,null,null,null,null,null,null,null,null,false]
[30,"A18",null,null,null,null,null,null,null,null,null,null,null,null,null,null,null,null,null,null,null,null,null,null,null,null,null,null,null,false]
[30,"B18",null,null,null,null,null,null,null,null,null,null,null,null,null,null,null,null,null,null,null,null,null,null,null,null,null,null,null,false]
[30,"C18",null,null,null,null,null,null,null,null,null,null,null,null,null,null,null,null,null,null,null,null,null,null,null,null,null,null,null,false]
[30,"D18",null,null,null,null,null,null,null,null,null,null,null,null,null,null,null,null,null,null,null,null,null,null,null,null,null,null,null,false]
[30,"E18",null,null,null,null,null,null,null,null,null,null,null,null,null,null,null,null,null,null,null,null,null,null,null,null,null,null,null,false]
[30,"F18",null,null,null,null,null,null,null,null,null,null,null,null,null,null,null,null,null,null,null,null,null,null,null,null,null,null,null,false]
[30,"G18",null,null,null,null,null,null,null,null,null,null,null,null,null,null,null,null,null,null,null,null,null,null,null,null,null,null,null,false]
[30,"H18",null,null,null,null,null,null,null,null,null,null,null,null,null,null,null,null,null,null,null,null,null,null,null,null,null,null,null,false]
[30,"I18",null,null,null,null,null,null,null,null,null,null,null,null,null,null,null,null,null,null,null,null,null,null,null,null,null,null,null,false]
[30,"J18",null,null,null,null,null,null,null,null,null,null,null,null,null,null,null,null,null,null,null,null,null,null,null,null,null,null,null,false]
[30,"K18",null,null,null,null,null,null,null,null,null,null,null,null,null,null,null,null,null,null,null,null,null,null,null,null,null,null,null,false]
[30,"L18",null,null,null,null,null,null,null,null,null,null,null,null,null,null,null,null,null,null,null,null,null,null,null,null,null,null,null,false]
[30,"M18",null,null,null,null,null,null,null,null,null,null,null,null,null,null,null,null,null,null,null,null,null,null,null,null,null,null,null,false]
[30,"N18",null,null,null,null,null,null,null,null,null,null,null,null,null,null,null,null,null,null,null,null,null,null,null,null,null,null,null,false]
[30,"O18",null,null,null,null,null,null,null,null,null,null,null,null,null,null,null,null,null,null,null,null,null,null,null,null,null,null,null,false]
[30,"P18",null,null,null,null,null,null,null,null,null,null,null,null,null,null,null,null,null,null,null,null,null,null,null,null,null,null,null,false]
[30,"A19",null,null,null,null,null,null,null,null,null,null,null,null,null,null,null,null,null,null,null,null,null,null,null,null,null,null,null,false]
[30,"B19",null,null,null,null,null,null,null,null,null,null,null,null,null,null,null,null,null,null,null,null,null,null,null,null,null,null,null,false]
[30,"C19",null,null,null,null,null,null,null,null,null,null,null,null,null,null,null,null,null,null,null,null,null,null,null,null,null,null,null,{"$f":"IF(COUNTBLANK(D11428)=0,A11428)","v":false}]
[30,"D19",null,null,null,null,null,null,null,null,null,null,null,null,null,null,null,null,null,null,null,null,null,null,null,null,null,null,null,false]
[30,"E19",null,null,null,null,null,null,null,null,null,null,null,null,null,null,null,null,null,null,null,null,null,null,null,null,null,null,null,false]
[30,"F19",null,null,null,null,null,null,null,null,null,null,null,null,null,null,null,null,null,null,null,null,null,null,null,null,null,null,null,false]
[30,"G19",null,null,null,null,null,null,null,null,null,null,null,null,null,null,null,null,null,null,null,null,null,null,null,null,null,null,null,false]
[30,"H19",null,null,null,null,null,null,null,null,null,null,null,null,null,null,null,null,null,null,null,null,null,null,null,null,null,null,null,false]
[30,"I19",null,null,null,null,null,null,null,null,null,null,null,null,null,null,null,null,null,null,null,null,null,null,null,null,null,null,null,false]
[30,"J19",null,null,null,null,null,null,null,null,null,null,null,null,null,null,null,null,null,null,null,null,null,null,null,null,null,null,null,false]
[30,"K19",null,null,null,null,null,null,null,null,null,null,null,null,null,null,null,null,null,null,null,null,null,null,null,null,null,null,null,false]
[30,"L19",null,null,null,null,null,null,null,null,null,null,null,null,null,null,null,null,null,null,null,null,null,null,null,null,null,null,null,false]
[30,"M19",null,null,null,null,null,null,null,null,null,null,null,null,null,null,null,null,null,null,null,null,null,null,null,null,null,null,null,false]
[30,"N19",null,null,null,null,null,null,null,null,null,null,null,null,null,null,null,null,null,null,null,null,null,null,null,null,null,null,null,false]
[30,"O19",null,null,null,null,null,null,null,null,null,null,null,null,null,null,null,null,null,null,null,null,null,null,null,null,null,null,null,false]
[30,"P19",null,null,null,null,null,null,null,null,null,null,null,null,null,null,null,null,null,null,null,null,null,null,null,null,null,null,null,false]
[30,"A20",null,null,null,null,null,null,null,null,null,null,null,null,null,null,null,null,null,null,null,null,null,null,null,null,null,null,null,false]
[30,"B20",null,null,null,null,null,null,null,null,null,null,null,null,null,null,null,null,null,null,null,null,null,null,null,null,null,null,null,false]
[30,"C20",null,null,null,null,null,null,null,null,null,null,null,null,null,null,null,null,null,null,null,null,null,null,null,null,null,null,null,false]
[30,"D20",null,null,null,null,null,null,null,null,null,null,null,null,null,null,null,null,null,null,null,null,null,null,null,null,null,null,null,false]
[30,"E20",null,null,null,null,null,null,null,null,null,null,null,null,null,null,null,null,null,null,null,null,null,null,null,null,null,null,null,false]
[30,"F20",null,null,null,null,null,null,null,null,null,null,null,null,null,null,null,null,null,null,null,null,null,null,null,null,null,null,null,false]
[30,"G20",null,null,null,null,null,null,null,null,null,null,null,null,null,null,null,null,null,null,null,null,null,null,null,null,null,null,null,false]
[30,"H20",null,null,null,null,null,null,null,null,null,null,null,null,null,null,null,null,null,null,null,null,null,null,null,null,null,null,null,false]
[30,"I20",null,null,null,null,null,null,null,null,null,null,null,null,null,null,null,null,null,null,null,null,null,null,null,null,null,null,null,false]
[30,"J20",null,null,null,null,null,null,null,null,null,null,null,null,null,null,null,null,null,null,null,null,null,null,null,null,null,null,null,false]
[30,"K20",null,null,null,null,null,null,null,null,null,null,null,null,null,null,null,null,null,null,null,null,null,null,null,null,null,null,null,false]
[30,"L20",null,null,null,null,null,null,null,null,null,null,null,null,null,null,null,null,null,null,null,null,null,null,null,null,null,null,null,false]
[30,"M20",null,null,null,null,null,null,null,null,null,null,null,null,null,null,null,null,null,null,null,null,null,null,null,null,null,null,null,false]
[30,"N20",null,null,null,null,null,null,null,null,null,null,null,null,null,null,null,null,null,null,null,null,null,null,null,null,null,null,null,false]
[30,"O20",null,null,null,null,null,null,null,null,null,null,null,null,null,null,null,null,null,null,null,null,null,null,null,null,null,null,null,false]
[30,"P20",null,null,null,null,null,null,null,null,null,null,null,null,null,null,null,null,null,null,null,null,null,null,null,null,null,null,null,false]
[30,"A21",null,null,null,null,null,null,null,null,null,null,null,null,null,null,null,null,null,null,null,null,null,null,null,null,null,null,null,false]
[30,"B21",null,null,null,null,null,null,null,null,null,null,null,null,null,null,null,null,null,null,null,null,null,null,null,null,null,null,null,{"$f":"IF(COUNTBLANK(D11459)=0,A11459)","v":false}]
[30,"C21",null,null,null,null,null,null,null,null,null,null,null,null,null,null,null,null,null,null,null,null,null,null,null,null,null,null,null,{"$f":"IF(COUNTBLANK(D11460)=0,A11460)","v":false}]
[30,"D21",null,null,null,null,null,null,null,null,null,null,null,null,null,null,null,null,null,null,null,null,null,null,null,null,null,null,null,false]
[30,"E21",null,null,null,null,null,null,null,null,null,null,null,null,null,null,null,null,null,null,null,null,null,null,null,null,null,null,null,false]
[30,"F21",null,null,null,null,null,null,null,null,null,null,null,null,null,null,null,null,null,null,null,null,null,null,null,null,null,null,null,false]
[30,"G21",null,null,null,null,null,null,null,null,null,null,null,null,null,null,null,null,null,null,null,null,null,null,null,null,null,null,null,false]
[30,"H21",null,null,null,null,null,null,null,null,null,null,null,null,null,null,null,null,null,null,null,null,null,null,null,null,null,null,null,false]
[30,"I21",null,null,null,null,null,null,null,null,null,null,null,null,null,null,null,null,null,null,null,null,null,null,null,null,null,null,null,false]
[30,"J21",null,null,null,null,null,null,null,null,null,null,null,null,null,null,null,null,null,null,null,null,null,null,null,null,null,null,null,false]
[30,"K21",null,null,null,null,null,null,null,null,null,null,null,null,null,null,null,null,null,null,null,null,null,null,null,null,null,null,null,false]
[30,"L21",null,null,null,null,null,null,null,null,null,null,null,null,null,null,null,null,null,null,null,null,null,null,null,null,null,null,null,false]
[30,"M21",null,null,null,null,null,null,null,null,null,null,null,null,null,null,null,null,null,null,null,null,null,null,null,null,null,null,null,false]
[30,"N21",null,null,null,null,null,null,null,null,null,null,null,null,null,null,null,null,null,null,null,null,null,null,null,null,null,null,null,false]
[30,"O21",null,null,null,null,null,null,null,null,null,null,null,null,null,null,null,null,null,null,null,null,null,null,null,null,null,null,null,false]
[30,"P21",null,null,null,null,null,null,null,null,null,null,null,null,null,null,null,null,null,null,null,null,null,null,null,null,null,null,null,false]
[30,"A22",null,null,null,null,null,null,null,null,null,null,null,null,null,null,null,null,null,null,null,null,null,null,null,null,null,null,null,false]
[30,"B22",null,null,null,null,null,null,null,null,null,null,null,null,null,null,null,null,null,null,null,null,null,null,null,null,null,null,null,false]
[30,"C22",null,null,null,null,null,null,null,null,null,null,null,null,null,null,null,null,null,null,null,null,null,null,null,null,null,null,null,false]
[30,"D22",null,null,null,null,null,null,null,null,null,null,null,null,null,null,null,null,null,null,null,null,null,null,null,null,null,null,null,false]
[30,"E22",null,null,null,null,null,null,null,null,null,null,null,null,null,null,null,null,null,null,null,null,null,null,null,null,null,null,null,false]
[30,"F22",null,null,null,null,null,null,null,null,null,null,null,null,null,null,null,null,null,null,null,null,null,null,null,null,null,null,null,false]
[30,"G22",null,null,null,null,null,null,null,null,null,null,null,null,null,null,null,null,null,null,null,null,null,null,null,null,null,null,null,false]
[30,"H22",null,null,null,null,null,null,null,null,null,null,null,null,null,null,null,null,null,null,null,null,null,null,null,null,null,null,null,false]
[30,"I22",null,null,null,null,null,null,null,null,null,null,null,null,null,null,null,null,null,null,null,null,null,null,null,null,null,null,null,false]
[30,"J22",null,null,null,null,null,null,null,null,null,null,null,null,null,null,null,null,null,null,null,null,null,null,null,null,null,null,null,false]
[30,"K22",null,null,null,null,null,null,null,null,null,null,null,null,null,null,null,null,null,null,null,null,null,null,null,null,null,null,null,false]
[30,"L22",null,null,null,null,null,null,null,null,null,null,null,null,null,null,null,null,null,null,null,null,null,null,null,null,null,null,null,false]
[30,"M22",null,null,null,null,null,null,null,null,null,null,null,null,null,null,null,null,null,null,null,null,null,null,null,null,null,null,null,false]
[30,"N22",null,null,null,null,null,null,null,null,null,null,null,null,null,null,null,null,null,null,null,null,null,null,null,null,null,null,null,false]
[30,"O22",null,null,null,null,null,null,null,null,null,null,null,null,null,null,null,null,null,null,null,null,null,null,null,null,null,null,null,false]
[30,"P22",null,null,null,null,null,null,null,null,null,null,null,null,null,null,null,null,null,null,null,null,null,null,null,null,null,null,null,false]
[30,"A23",null,null,null,null,null,null,null,null,null,null,null,null,null,null,null,null,null,null,null,null,null,null,null,null,null,null,null,false]
[30,"B23",null,null,null,null,null,null,null,null,null,null,null,null,null,null,null,null,null,null,null,null,null,null,null,null,null,null,null,false]
[30,"C23",null,null,null,null,null,null,null,null,null,null,null,null,null,null,null,null,null,null,null,null,null,null,null,null,null,null,null,{"$f":"IF(COUNTBLANK(D11492)=0,A11492)","v":false}]
[30,"D23",null,null,null,null,null,null,null,null,null,null,null,null,null,null,null,null,null,null,null,null,null,null,null,null,null,null,null,false]
[30,"E23",null,null,null,null,null,null,null,null,null,null,null,null,null,null,null,null,null,null,null,null,null,null,null,null,null,null,null,false]
[30,"F23",null,null,null,null,null,null,null,null,null,null,null,null,null,null,null,null,null,null,null,null,null,null,null,null,null,null,null,false]
[30,"G23",null,null,null,null,null,null,null,null,null,null,null,null,null,null,null,null,null,null,null,null,null,null,null,null,null,null,null,false]
[30,"H23",null,null,null,null,null,null,null,null,null,null,null,null,null,null,null,null,null,null,null,null,null,null,null,null,null,null,null,false]
[30,"I23",null,null,null,null,null,null,null,null,null,null,null,null,null,null,null,null,null,null,null,null,null,null,null,null,null,null,null,false]
[30,"J23",null,null,null,null,null,null,null,null,null,null,null,null,null,null,null,null,null,null,null,null,null,null,null,null,null,null,null,false]
[30,"K23",null,null,null,null,null,null,null,null,null,null,null,null,null,null,null,null,null,null,null,null,null,null,null,null,null,null,null,false]
[30,"L23",null,null,null,null,null,null,null,null,null,null,null,null,null,null,null,null,null,null,null,null,null,null,null,null,null,null,null,false]
[30,"M23",null,null,null,null,null,null,null,null,null,null,null,null,null,null,null,null,null,null,null,null,null,null,null,null,null,null,null,false]
[30,"N23",null,null,null,null,null,null,null,null,null,null,null,null,null,null,null,null,null,null,null,null,null,null,null,null,null,null,null,false]
[30,"O23",null,null,null,null,null,null,null,null,null,null,null,null,null,null,null,null,null,null,null,null,null,null,null,null,null,null,null,false]
[30,"P23",null,null,null,null,null,null,null,null,null,null,null,null,null,null,null,null,null,null,null,null,null,null,null,null,null,null,null,false]
[30,"A24",null,null,null,null,null,null,null,null,null,null,null,null,null,null,null,null,null,null,null,null,null,null,null,null,null,null,null,false]
[30,"B24",null,null,null,null,null,null,null,null,null,null,null,null,null,null,null,null,null,null,null,null,null,null,null,null,null,null,null,false]
[30,"C24",null,null,null,null,null,null,null,null,null,null,null,null,null,null,null,null,null,null,null,null,null,null,null,null,null,null,null,false]
[30,"D24",null,null,null,null,null,null,null,null,null,null,null,null,null,null,null,null,null,null,null,null,null,null,null,null,null,null,null,false]
[30,"E24",null,null,null,null,null,null,null,null,null,null,null,null,null,null,null,null,null,null,null,null,null,null,null,null,null,null,null,false]
[30,"F24",null,null,null,null,null,null,null,null,null,null,null,null,null,null,null,null,null,null,null,null,null,null,null,null,null,null,null,false]
[30,"G24",null,null,null,null,null,null,null,null,null,null,null,null,null,null,null,null,null,null,null,null,null,null,null,null,null,null,null,false]
[30,"H24",null,null,null,null,null,null,null,null,null,null,null,null,null,null,null,null,null,null,null,null,null,null,null,null,null,null,null,false]
[30,"I24",null,null,null,null,null,null,null,null,null,null,null,null,null,null,null,null,null,null,null,null,null,null,null,null,null,null,null,false]
[30,"J24",null,null,null,null,null,null,null,null,null,null,null,null,null,null,null,null,null,null,null,null,null,null,null,null,null,null,null,false]
[30,"K24",null,null,null,null,null,null,null,null,null,null,null,null,null,null,null,null,null,null,null,null,null,null,null,null,null,null,null,false]
[30,"L24",null,null,null,null,null,null,null,null,null,null,null,null,null,null,null,null,null,null,null,null,null,null,null,null,null,null,null,false]
[30,"M24",null,null,null,null,null,null,null,null,null,null,null,null,null,null,null,null,null,null,null,null,null,null,null,null,null,null,null,false]
[30,"N24",null,null,null,null,null,null,null,null,null,null,null,null,null,null,null,null,null,null,null,null,null,null,null,null,null,null,null,false]
[30,"O24",null,null,null,null,null,null,null,null,null,null,null,null,null,null,null,null,null,null,null,null,null,null,null,null,null,null,null,false]
[30,"P24",null,null,null,null,null,null,null,null,null,null,null,null,null,null,null,null,null,null,null,null,null,null,null,null,null,null,null,false]

{"sheet":"Samples tubes","index":5,"n_rows":5000,"n_cols":7,"rows_kept":5000,"cut":false,"hidden":true,"merged":[]}
[null,"Tube","Individual","Sample","Conc ng/μl","Vol μl","Comment"]
[null,1]
[null,2]
[null,3]
[null,4]
[null,5]
[null,6]
[null,7]
[null,8]
[null,9]
[null,10]
[null,11]
[null,12]
[null,13]
[null,14]
[null,15]
[null,16]
[null,17]
[null,18]
[null,19]
[null,20]
[null,21]
[null,22]
[null,23]
[null,24]
[null,25]
[null,26]
[null,27]
[null,28]
[null,29]
[null,30]
[null,31]
[null,32]
[null,33]
[null,34]
[null,35]
[null,36]
[null,37]
[null,38]
[null,39]
[null,40]
[null,41]
[null,42]
[null,43]
[null,44]
[null,45]
[null,46]
[null,47]
[null,48]
[null,49]
[null,50]
[null,51]
[null,52]
[null,53]
[null,54]
[null,55]
[null,56]
[null,57]
[null,58]
[null,59]
[null,60]
[null,61]
[null,62]
[null,63]
[null,64]
[null,65]
[null,66]
[null,67]
[null,68]
[null,69]
[null,70]
[null,71]
[null,72]
[null,73]
[null,74]
[null,75]
[null,76]
[null,77]
[null,78]
[null,79]
[null,80]
[null,81]
[null,82]
[null,83]
[null,84]
[null,85]
[null,86]
[null,87]
[null,88]
[null,89]
[null,90]
[null,91]
[null,92]
[null,93]
[null,94]
[null,95]
[null,96]
[null,97]
[null,98]
[null,99]
[null,100]
[null,101]
[null,102]
[null,103]
[null,104]
[null,105]
[null,106]
[null,107]
[null,108]
[null,109]
[null,110]
[null,111]
[null,112]
[null,113]
[null,114]
[null,115]
[null,116]
[null,117]
[null,118]
[null,119]
[null,120]
[null,121]
[null,122]
[null,123]
[null,124]
[null,125]
[null,126]
[null,127]
[null,128]
[null,129]
[null,130]
[null,131]
[null,132]
[null,133]
[null,134]
[null,135]
[null,136]
[null,137]
[null,138]
[null,139]
[null,140]
[null,141]
[null,142]
[null,143]
[null,144]
[null,145]
[null,146]
[null,147]
[null,148]
[null,149]
[null,150]
[null,151]
[null,152]
[null,153]
[null,154]
[null,155]
[null,156]
[null,157]
[null,158]
[null,159]
[null,160]
[null,161]
[null,162]
[null,163]
[null,164]
[null,165]
[null,166]
[null,167]
[null,168]
[null,169]
[null,170]
[null,171]
[null,172]
[null,173]
[null,174]
[null,175]
[null,176]
[null,177]
[null,178]
[null,179]
[null,180]
[null,181]
[null,182]
[null,183]
[null,184]
[null,185]
[null,186]
[null,187]
[null,188]
[null,189]
[null,190]
[null,191]
[null,192]
[null,193]
[null,194]
[null,195]
[null,196]
[null,197]
[null,198]
[null,199]
[null,200]
[null,201]
[null,202]
[null,203]
[null,204]
[null,205]
[null,206]
[null,207]
[null,208]
[null,209]
[null,210]
[null,211]
[null,212]
[null,213]
[null,214]
[null,215]
[null,216]
[null,217]
[null,218]
[null,219]
[null,220]
[null,221]
[null,222]
[null,223]
[null,224]
[null,225]
[null,226]
[null,227]
[null,228]
[null,229]
[null,230]
[null,231]
[null,232]
[null,233]
[null,234]
[null,235]
[null,236]
[null,237]
[null,238]
[null,239]
[null,240]
[null,241]
[null,242]
[null,243]
[null,244]
[null,245]
[null,246]
[null,247]
[null,248]
[null,249]
[null,250]
[null,251]
[null,252]
[null,253]
[null,254]
[null,255]
[null,256]
[null,257]
[null,258]
[null,259]
[null,260]
[null,261]
[null,262]
[null,263]
[null,264]
[null,265]
[null,266]
[null,267]
[null,268]
[null,269]
[null,270]
[null,271]
[null,272]
[null,273]
[null,274]
[null,275]
[null,276]
[null,277]
[null,278]
[null,279]
[null,280]
[null,281]
[null,282]
[null,283]
[null,284]
[null,285]
[null,286]
[null,287]
[null,288]
[null,289]
[null,290]
[null,291]
[null,292]
[null,293]
[null,294]
[null,295]
[null,296]
[null,297]
[null,298]
[null,299]
[null,300]
[null,301]
[null,302]
[null,303]
[null,304]
[null,305]
[null,306]
[null,307]
[null,308]
[null,309]
[null,310]
[null,311]
[null,312]
[null,313]
[null,314]
[null,315]
[null,316]
[null,317]
[null,318]
[null,319]
[null,320]
[null,321]
[null,322]
[null,323]
[null,324]
[null,325]
[null,326]
[null,327]
[null,328]
[null,329]
[null,330]
[null,331]
[null,332]
[null,333]
[null,334]
[null,335]
[null,336]
[null,337]
[null,338]
[null,339]
[null,340]
[null,341]
[null,342]
[null,343]
[null,344]
[null,345]
[null,346]
[null,347]
[null,348]
[null,349]
[null,350]
[null,351]
[null,352]
[null,353]
[null,354]
[null,355]
[null,356]
[null,357]
[null,358]
[null,359]
[null,360]
[null,361]
[null,362]
[null,363]
[null,364]
[null,365]
[null,366]
[null,367]
[null,368]
[null,369]
[null,370]
[null,371]
[null,372]
[null,373]
[null,374]
[null,375]
[null,376]
[null,377]
[null,378]
[null,379]
[null,380]
[null,381]
[null,382]
[null,383]
[null,384]
[null,385]
[null,386]
[null,387]
[null,388]
[null,389]
[null,390]
[null,391]
[null,392]
[null,393]
[null,394]
[null,395]
[null,396]
[null,397]
[null,398]
[null,399]
[null,400]
[null,401]
[null,402]
[null,403]
[null,404]
[null,405]
[null,406]
[null,407]
[null,408]
[null,409]
[null,410]
[null,411]
[null,412]
[null,413]
[null,414]
[null,415]
[null,416]
[null,417]
[null,418]
[null,419]
[null,420]
[null,421]
[null,422]
[null,423]
[null,424]
[null,425]
[null,426]
[null,427]
[null,428]
[null,429]
[null,430]
[null,431]
[null,432]
[null,433]
[null,434]
[null,435]
[null,436]
[null,437]
[null,438]
[null,439]
[null,440]
[null,441]
[null,442]
[null,443]
[null,444]
[null,445]
[null,446]
[null,447]
[null,448]
[null,449]
[null,450]
[null,451]
[null,452]
[null,453]
[null,454]
[null,455]
[null,456]
[null,457]
[null,458]
[null,459]
[null,460]
[null,461]
[null,462]
[null,463]
[null,464]
[null,465]
[null,466]
[null,467]
[null,468]
[null,469]
[null,470]
[null,471]
[null,472]
[null,473]
[null,474]
[null,475]
[null,476]
[null,477]
[null,478]
[null,479]
[null,480]
[null,481]
[null,482]
[null,483]
[null,484]
[null,485]
[null,486]
[null,487]
[null,488]
[null,489]
[null,490]
[null,491]
[null,492]
[null,493]
[null,494]
[null,495]
[null,496]
[null,497]
[null,498]
[null,499]
[null,500]
[null,501]
[null,502]
[null,503]
[null,504]
[null,505]
[null,506]
[null,507]
[null,508]
[null,509]
[null,510]
[null,511]
[null,512]
[null,513]
[null,514]
[null,515]
[null,516]
[null,517]
[null,518]
[null,519]
[null,520]
[null,521]
[null,522]
[null,523]
[null,524]
[null,525]
[null,526]
[null,527]
[null,528]
[null,529]
[null,530]
[null,531]
[null,532]
[null,533]
[null,534]
[null,535]
[null,536]
[null,537]
[null,538]
[null,539]
[null,540]
[null,541]
[null,542]
[null,543]
[null,544]
[null,545]
[null,546]
[null,547]
[null,548]
[null,549]
[null,550]
[null,551]
[null,552]
[null,553]
[null,554]
[null,555]
[null,556]
[null,557]
[null,558]
[null,559]
[null,560]
[null,561]
[null,562]
[null,563]
[null,564]
[null,565]
[null,566]
[null,567]
[null,568]
[null,569]
[null,570]
[null,571]
[null,572]
[null,573]
[null,574]
[null,575]
[null,576]
[null,577]
[null,578]
[null,579]
[null,580]
[null,581]
[null,582]
[null,583]
[null,584]
[null,585]
[null,586]
[null,587]
[null,588]
[null,589]
[null,590]
[null,591]
[null,592]
[null,593]
[null,594]
[null,595]
[null,596]
[null,597]
[null,598]
[null,599]
[null,600]
[null,601]
[null,602]
[null,603]
[null,604]
[null,605]
[null,606]
[null,607]
[null,608]
[null,609]
[null,610]
[null,611]
[null,612]
[null,613]
[null,614]
[null,615]
[null,616]
[null,617]
[null,618]
[null,619]
[null,620]
[null,621]
[null,622]
[null,623]
[null,624]
[null,625]
[null,626]
[null,627]
[null,628]
[null,629]
[null,630]
[null,631]
[null,632]
[null,633]
[null,634]
[null,635]
[null,636]
[null,637]
[null,638]
[null,639]
[null,640]
[null,641]
[null,642]
[null,643]
[null,644]
[null,645]
[null,646]
[null,647]
[null,648]
[null,649]
[null,650]
[null,651]
[null,652]
[null,653]
[null,654]
[null,655]
[null,656]
[null,657]
[null,658]
[null,659]
[null,660]
[null,661]
[null,662]
[null,663]
[null,664]
[null,665]
[null,666]
[null,667]
[null,668]
[null,669]
[null,670]
[null,671]
[null,672]
[null,673]
[null,674]
[null,675]
[null,676]
[null,677]
[null,678]
[null,679]
[null,680]
[null,681]
[null,682]
[null,683]
[null,684]
[null,685]
[null,686]
[null,687]
[null,688]
[null,689]
[null,690]
[null,691]
[null,692]
[null,693]
[null,694]
[null,695]
[null,696]
[null,697]
[null,698]
[null,699]
[null,700]
[null,701]
[null,702]
[null,703]
[null,704]
[null,705]
[null,706]
[null,707]
[null,708]
[null,709]
[null,710]
[null,711]
[null,712]
[null,713]
[null,714]
[null,715]
[null,716]
[null,717]
[null,718]
[null,719]
[null,720]
[null,721]
[null,722]
[null,723]
[null,724]
[null,725]
[null,726]
[null,727]
[null,728]
[null,729]
[null,730]
[null,731]
[null,732]
[null,733]
[null,734]
[null,735]
[null,736]
[null,737]
[null,738]
[null,739]
[null,740]
[null,741]
[null,742]
[null,743]
[null,744]
[null,745]
[null,746]
[null,747]
[null,748]
[null,749]
[null,750]
[null,751]
[null,752]
[null,753]
[null,754]
[null,755]
[null,756]
[null,757]
[null,758]
[null,759]
[null,760]
[null,761]
[null,762]
[null,763]
[null,764]
[null,765]
[null,766]
[null,767]
[null,768]
[null,769]
[null,770]
[null,771]
[null,772]
[null,773]
[null,774]
[null,775]
[null,776]
[null,777]
[null,778]
[null,779]
[null,780]
[null,781]
[null,782]
[null,783]
[null,784]
[null,785]
[null,786]
[null,787]
[null,788]
[null,789]
[null,790]
[null,791]
[null,792]
[null,793]
[null,794]
[null,795]
[null,796]
[null,797]
[null,798]
[null,799]
[null,800]
[null,801]
[null,802]
[null,803]
[null,804]
[null,805]
[null,806]
[null,807]
[null,808]
[null,809]
[null,810]
[null,811]
[null,812]
[null,813]
[null,814]
[null,815]
[null,816]
[null,817]
[null,818]
[null,819]
[null,820]
[null,821]
[null,822]
[null,823]
[null,824]
[null,825]
[null,826]
[null,827]
[null,828]
[null,829]
[null,830]
[null,831]
[null,832]
[null,833]
[null,834]
[null,835]
[null,836]
[null,837]
[null,838]
[null,839]
[null,840]
[null,841]
[null,842]
[null,843]
[null,844]
[null,845]
[null,846]
[null,847]
[null,848]
[null,849]
[null,850]
[null,851]
[null,852]
[null,853]
[null,854]
[null,855]
[null,856]
[null,857]
[null,858]
[null,859]
[null,860]
[null,861]
[null,862]
[null,863]
[null,864]
[null,865]
[null,866]
[null,867]
[null,868]
[null,869]
[null,870]
[null,871]
[null,872]
[null,873]
[null,874]
[null,875]
[null,876]
[null,877]
[null,878]
[null,879]
[null,880]
[null,881]
[null,882]
[null,883]
[null,884]
[null,885]
[null,886]
[null,887]
[null,888]
[null,889]
[null,890]
[null,891]
[null,892]
[null,893]
[null,894]
[null,895]
[null,896]
[null,897]
[null,898]
[null,899]
[null,900]
[null,901]
[null,902]
[null,903]
[null,904]
[null,905]
[null,906]
[null,907]
[null,908]
[null,909]
[null,910]
[null,911]
[null,912]
[null,913]
[null,914]
[null,915]
[null,916]
[null,917]
[null,918]
[null,919]
[null,920]
[null,921]
[null,922]
[null,923]
[null,924]
[null,925]
[null,926]
[null,927]
[null,928]
[null,929]
[null,930]
[null,931]
[null,932]
[null,933]
[null,934]
[null,935]
[null,936]
[null,937]
[null,938]
[null,939]
[null,940]
[null,941]
[null,942]
[null,943]
[null,944]
[null,945]
[null,946]
[null,947]
[null,948]
[null,949]
[null,950]
[null,951]
[null,952]
[null,953]
[null,954]
[null,955]
[null,956]
[null,957]
[null,958]
[null,959]
[null,960]
[null,961]
[null,962]
[null,963]
[null,964]
[null,965]
[null,966]
[null,967]
[null,968]
[null,969]
[null,970]
[null,971]
[null,972]
[null,973]
[null,974]
[null,975]
[null,976]
[null,977]
[null,978]
[null,979]
[null,980]
[null,981]
[null,982]
[null,983]
[null,984]
[null,985]
[null,986]
[null,987]
[null,988]
[null,989]
[null,990]
[null,991]
[null,992]
[null,993]
[null,994]
[null,995]
[null,996]
[null,997]
[null,998]
[null,999]
[null,1000]
[null,1001]
[null,1002]
[null,1003]
[null,1004]
[null,1005]
[null,1006]
[null,1007]
[null,1008]
[null,1009]
[null,1010]
[null,1011]
[null,1012]
[null,1013]
[null,1014]
[null,1015]
[null,1016]
[null,1017]
[null,1018]
[null,1019]
[null,1020]
[null,1021]
[null,1022]
[null,1023]
[null,1024]
[null,1025]
[null,1026]
[null,1027]
[null,1028]
[null,1029]
[null,1030]
[null,1031]
[null,1032]
[null,1033]
[null,1034]
[null,1035]
[null,1036]
[null,1037]
[null,1038]
[null,1039]
[null,1040]
[null,1041]
[null,1042]
[null,1043]
[null,1044]
[null,1045]
[null,1046]
[null,1047]
[null,1048]
[null,1049]
[null,1050]
[null,1051]
[null,1052]
[null,1053]
[null,1054]
[null,1055]
[null,1056]
[null,1057]
[null,1058]
[null,1059]
[null,1060]
[null,1061]
[null,1062]
[null,1063]
[null,1064]
[null,1065]
[null,1066]
[null,1067]
[null,1068]
[null,1069]
[null,1070]
[null,1071]
[null,1072]
[null,1073]
[null,1074]
[null,1075]
[null,1076]
[null,1077]
[null,1078]
[null,1079]
[null,1080]
[null,1081]
[null,1082]
[null,1083]
[null,1084]
[null,1085]
[null,1086]
[null,1087]
[null,1088]
[null,1089]
[null,1090]
[null,1091]
[null,1092]
[null,1093]
[null,1094]
[null,1095]
[null,1096]
[null,1097]
[null,1098]
[null,1099]
[null,1100]
[null,1101]
[null,1102]
[null,1103]
[null,1104]
[null,1105]
[null,1106]
[null,1107]
[null,1108]
[null,1109]
[null,1110]
[null,1111]
[null,1112]
[null,1113]
[null,1114]
[null,1115]
[null,1116]
[null,1117]
[null,1118]
[null,1119]
[null,1120]
[null,1121]
[null,1122]
[null,1123]
[null,1124]
[null,1125]
[null,1126]
[null,1127]
[null,1128]
[null,1129]
[null,1130]
[null,1131]
[null,1132]
[null,1133]
[null,1134]
[null,1135]
[null,1136]
[null,1137]
[null,1138]
[null,1139]
[null,1140]
[null,1141]
[null,1142]
[null,1143]
[null,1144]
[null,1145]
[null,1146]
[null,1147]
[null,1148]
[null,1149]
[null,1150]
[null,1151]
[null,1152]
[null,1153]
[null,1154]
[null,1155]
[null,1156]
[null,1157]
[null,1158]
[null,1159]
[null,1160]
[null,1161]
[null,1162]
[null,1163]
[null,1164]
[null,1165]
[null,1166]
[null,1167]
[null,1168]
[null,1169]
[null,1170]
[null,1171]
[null,1172]
[null,1173]
[null,1174]
[null,1175]
[null,1176]
[null,1177]
[null,1178]
[null,1179]
[null,1180]
[null,1181]
[null,1182]
[null,1183]
[null,1184]
[null,1185]
[null,1186]
[null,1187]
[null,1188]
[null,1189]
[null,1190]
[null,1191]
[null,1192]
[null,1193]
[null,1194]
[null,1195]
[null,1196]
[null,1197]
[null,1198]
[null,1199]
[null,1200]
[null,1201]
[null,1202]
[null,1203]
[null,1204]
[null,1205]
[null,1206]
[null,1207]
[null,1208]
[null,1209]
[null,1210]
[null,1211]
[null,1212]
[null,1213]
[null,1214]
[null,1215]
[null,1216]
[null,1217]
[null,1218]
[null,1219]
[null,1220]
[null,1221]
[null,1222]
[null,1223]
[null,1224]
[null,1225]
[null,1226]
[null,1227]
[null,1228]
[null,1229]
[null,1230]
[null,1231]
[null,1232]
[null,1233]
[null,1234]
[null,1235]
[null,1236]
[null,1237]
[null,1238]
[null,1239]
[null,1240]
[null,1241]
[null,1242]
[null,1243]
[null,1244]
[null,1245]
[null,1246]
[null,1247]
[null,1248]
[null,1249]
[null,1250]
[null,1251]
[null,1252]
[null,1253]
[null,1254]
[null,1255]
[null,1256]
[null,1257]
[null,1258]
[null,1259]
[null,1260]
[null,1261]
[null,1262]
[null,1263]
[null,1264]
[null,1265]
[null,1266]
[null,1267]
[null,1268]
[null,1269]
[null,1270]
[null,1271]
[null,1272]
[null,1273]
[null,1274]
[null,1275]
[null,1276]
[null,1277]
[null,1278]
[null,1279]
[null,1280]
[null,1281]
[null,1282]
[null,1283]
[null,1284]
[null,1285]
[null,1286]
[null,1287]
[null,1288]
[null,1289]
[null,1290]
[null,1291]
[null,1292]
[null,1293]
[null,1294]
[null,1295]
[null,1296]
[null,1297]
[null,1298]
[null,1299]
[null,1300]
[null,1301]
[null,1302]
[null,1303]
[null,1304]
[null,1305]
[null,1306]
[null,1307]
[null,1308]
[null,1309]
[null,1310]
[null,1311]
[null,1312]
[null,1313]
[null,1314]
[null,1315]
[null,1316]
[null,1317]
[null,1318]
[null,1319]
[null,1320]
[null,1321]
[null,1322]
[null,1323]
[null,1324]
[null,1325]
[null,1326]
[null,1327]
[null,1328]
[null,1329]
[null,1330]
[null,1331]
[null,1332]
[null,1333]
[null,1334]
[null,1335]
[null,1336]
[null,1337]
[null,1338]
[null,1339]
[null,1340]
[null,1341]
[null,1342]
[null,1343]
[null,1344]
[null,1345]
[null,1346]
[null,1347]
[null,1348]
[null,1349]
[null,1350]
[null,1351]
[null,1352]
[null,1353]
[null,1354]
[null,1355]
[null,1356]
[null,1357]
[null,1358]
[null,1359]
[null,1360]
[null,1361]
[null,1362]
[null,1363]
[null,1364]
[null,1365]
[null,1366]
[null,1367]
[null,1368]
[null,1369]
[null,1370]
[null,1371]
[null,1372]
[null,1373]
[null,1374]
[null,1375]
[null,1376]
[null,1377]
[null,1378]
[null,1379]
[null,1380]
[null,1381]
[null,1382]
[null,1383]
[null,1384]
[null,1385]
[null,1386]
[null,1387]
[null,1388]
[null,1389]
[null,1390]
[null,1391]
[null,1392]
[null,1393]
[null,1394]
[null,1395]
[null,1396]
[null,1397]
[null,1398]
[null,1399]
[null,1400]
[null,1401]
[null,1402]
[null,1403]
[null,1404]
[null,1405]
[null,1406]
[null,1407]
[null,1408]
[null,1409]
[null,1410]
[null,1411]
[null,1412]
[null,1413]
[null,1414]
[null,1415]
[null,1416]
[null,1417]
[null,1418]
[null,1419]
[null,1420]
[null,1421]
[null,1422]
[null,1423]
[null,1424]
[null,1425]
[null,1426]
[null,1427]
[null,1428]
[null,1429]
[null,1430]
[null,1431]
[null,1432]
[null,1433]
[null,1434]
[null,1435]
[null,1436]
[null,1437]
[null,1438]
[null,1439]
[null,1440]
[null,1441]
[null,1442]
[null,1443]
[null,1444]
[null,1445]
[null,1446]
[null,1447]
[null,1448]
[null,1449]
[null,1450]
[null,1451]
[null,1452]
[null,1453]
[null,1454]
[null,1455]
[null,1456]
[null,1457]
[null,1458]
[null,1459]
[null,1460]
[null,1461]
[null,1462]
[null,1463]
[null,1464]
[null,1465]
[null,1466]
[null,1467]
[null,1468]
[null,1469]
[null,1470]
[null,1471]
[null,1472]
[null,1473]
[null,1474]
[null,1475]
[null,1476]
[null,1477]
[null,1478]
[null,1479]
[null,1480]
[null,1481]
[null,1482]
[null,1483]
[null,1484]
[null,1485]
[null,1486]
[null,1487]
[null,1488]
[null,1489]
[null,1490]
[null,1491]
[null,1492]
[null,1493]
[null,1494]
[null,1495]
[null,1496]
[null,1497]
[null,1498]
[null,1499]
[null,1500]
[null,1501]
[null,1502]
[null,1503]
[null,1504]
[null,1505]
[null,1506]
[null,1507]
[null,1508]
[null,1509]
[null,1510]
[null,1511]
[null,1512]
[null,1513]
[null,1514]
[null,1515]
[null,1516]
[null,1517]
[null,1518]
[null,1519]
[null,1520]
[null,1521]
[null,1522]
[null,1523]
[null,1524]
[null,1525]
[null,1526]
[null,1527]
[null,1528]
[null,1529]
[null,1530]
[null,1531]
[null,1532]
[null,1533]
[null,1534]
[null,1535]
[null,1536]
[null,1537]
[null,1538]
[null,1539]
[null,1540]
[null,1541]
[null,1542]
[null,1543]
[null,1544]
[null,1545]
[null,1546]
[null,1547]
[null,1548]
[null,1549]
[null,1550]
[null,1551]
[null,1552]
[null,1553]
[null,1554]
[null,1555]
[null,1556]
[null,1557]
[null,1558]
[null,1559]
[null,1560]
[null,1561]
[null,1562]
[null,1563]
[null,1564]
[null,1565]
[null,1566]
[null,1567]
[null,1568]
[null,1569]
[null,1570]
[null,1571]
[null,1572]
[null,1573]
[null,1574]
[null,1575]
[null,1576]
[null,1577]
[null,1578]
[null,1579]
[null,1580]
[null,1581]
[null,1582]
[null,1583]
[null,1584]
[null,1585]
[null,1586]
[null,1587]
[null,1588]
[null,1589]
[null,1590]
[null,1591]
[null,1592]
[null,1593]
[null,1594]
[null,1595]
[null,1596]
[null,1597]
[null,1598]
[null,1599]
[null,1600]
[null,1601]
[null,1602]
[null,1603]
[null,1604]
[null,1605]
[null,1606]
[null,1607]
[null,1608]
[null,1609]
[null,1610]
[null,1611]
[null,1612]
[null,1613]
[null,1614]
[null,1615]
[null,1616]
[null,1617]
[null,1618]
[null,1619]
[null,1620]
[null,1621]
[null,1622]
[null,1623]
[null,1624]
[null,1625]
[null,1626]
[null,1627]
[null,1628]
[null,1629]
[null,1630]
[null,1631]
[null,1632]
[null,1633]
[null,1634]
[null,1635]
[null,1636]
[null,1637]
[null,1638]
[null,1639]
[null,1640]
[null,1641]
[null,1642]
[null,1643]
[null,1644]
[null,1645]
[null,1646]
[null,1647]
[null,1648]
[null,1649]
[null,1650]
[null,1651]
[null,1652]
[null,1653]
[null,1654]
[null,1655]
[null,1656]
[null,1657]
[null,1658]
[null,1659]
[null,1660]
[null,1661]
[null,1662]
[null,1663]
[null,1664]
[null,1665]
[null,1666]
[null,1667]
[null,1668]
[null,1669]
[null,1670]
[null,1671]
[null,1672]
[null,1673]
[null,1674]
[null,1675]
[null,1676]
[null,1677]
[null,1678]
[null,1679]
[null,1680]
[null,1681]
[null,1682]
[null,1683]
[null,1684]
[null,1685]
[null,1686]
[null,1687]
[null,1688]
[null,1689]
[null,1690]
[null,1691]
[null,1692]
[null,1693]
[null,1694]
[null,1695]
[null,1696]
[null,1697]
[null,1698]
[null,1699]
[null,1700]
[null,1701]
[null,1702]
[null,1703]
[null,1704]
[null,1705]
[null,1706]
[null,1707]
[null,1708]
[null,1709]
[null,1710]
[null,1711]
[null,1712]
[null,1713]
[null,1714]
[null,1715]
[null,1716]
[null,1717]
[null,1718]
[null,1719]
[null,1720]
[null,1721]
[null,1722]
[null,1723]
[null,1724]
[null,1725]
[null,1726]
[null,1727]
[null,1728]
[null,1729]
[null,1730]
[null,1731]
[null,1732]
[null,1733]
[null,1734]
[null,1735]
[null,1736]
[null,1737]
[null,1738]
[null,1739]
[null,1740]
[null,1741]
[null,1742]
[null,1743]
[null,1744]
[null,1745]
[null,1746]
[null,1747]
[null,1748]
[null,1749]
[null,1750]
[null,1751]
[null,1752]
[null,1753]
[null,1754]
[null,1755]
[null,1756]
[null,1757]
[null,1758]
[null,1759]
[null,1760]
[null,1761]
[null,1762]
[null,1763]
[null,1764]
[null,1765]
[null,1766]
[null,1767]
[null,1768]
[null,1769]
[null,1770]
[null,1771]
[null,1772]
[null,1773]
[null,1774]
[null,1775]
[null,1776]
[null,1777]
[null,1778]
[null,1779]
[null,1780]
[null,1781]
[null,1782]
[null,1783]
[null,1784]
[null,1785]
[null,1786]
[null,1787]
[null,1788]
[null,1789]
[null,1790]
[null,1791]
[null,1792]
[null,1793]
[null,1794]
[null,1795]
[null,1796]
[null,1797]
[null,1798]
[null,1799]
[null,1800]
[null,1801]
[null,1802]
[null,1803]
[null,1804]
[null,1805]
[null,1806]
[null,1807]
[null,1808]
[null,1809]
[null,1810]
[null,1811]
[null,1812]
[null,1813]
[null,1814]
[null,1815]
[null,1816]
[null,1817]
[null,1818]
[null,1819]
[null,1820]
[null,1821]
[null,1822]
[null,1823]
[null,1824]
[null,1825]
[null,1826]
[null,1827]
[null,1828]
[null,1829]
[null,1830]
[null,1831]
[null,1832]
[null,1833]
[null,1834]
[null,1835]
[null,1836]
[null,1837]
[null,1838]
[null,1839]
[null,1840]
[null,1841]
[null,1842]
[null,1843]
[null,1844]
[null,1845]
[null,1846]
[null,1847]
[null,1848]
[null,1849]
[null,1850]
[null,1851]
[null,1852]
[null,1853]
[null,1854]
[null,1855]
[null,1856]
[null,1857]
[null,1858]
[null,1859]
[null,1860]
[null,1861]
[null,1862]
[null,1863]
[null,1864]
[null,1865]
[null,1866]
[null,1867]
[null,1868]
[null,1869]
[null,1870]
[null,1871]
[null,1872]
[null,1873]
[null,1874]
[null,1875]
[null,1876]
[null,1877]
[null,1878]
[null,1879]
[null,1880]
[null,1881]
[null,1882]
[null,1883]
[null,1884]
[null,1885]
[null,1886]
[null,1887]
[null,1888]
[null,1889]
[null,1890]
[null,1891]
[null,1892]
[null,1893]
[null,1894]
[null,1895]
[null,1896]
[null,1897]
[null,1898]
[null,1899]
[null,1900]
[null,1901]
[null,1902]
[null,1903]
[null,1904]
[null,1905]
[null,1906]
[null,1907]
[null,1908]
[null,1909]
[null,1910]
[null,1911]
[null,1912]
[null,1913]
[null,1914]
[null,1915]
[null,1916]
[null,1917]
[null,1918]
[null,1919]
[null,1920]
[null,1921]
[null,1922]
[null,1923]
[null,1924]
[null,1925]
[null,1926]
[null,1927]
[null,1928]
[null,1929]
[null,1930]
[null,1931]
[null,1932]
[null,1933]
[null,1934]
[null,1935]
[null,1936]
[null,1937]
[null,1938]
[null,1939]
[null,1940]
[null,1941]
[null,1942]
[null,1943]
[null,1944]
[null,1945]
[null,1946]
[null,1947]
[null,1948]
[null,1949]
[null,1950]
[null,1951]
[null,1952]
[null,1953]
[null,1954]
[null,1955]
[null,1956]
[null,1957]
[null,1958]
[null,1959]
[null,1960]
[null,1961]
[null,1962]
[null,1963]
[null,1964]
[null,1965]
[null,1966]
[null,1967]
[null,1968]
[null,1969]
[null,1970]
[null,1971]
[null,1972]
[null,1973]
[null,1974]
[null,1975]
[null,1976]
[null,1977]
[null,1978]
[null,1979]
[null,1980]
[null,1981]
[null,1982]
[null,1983]
[null,1984]
[null,1985]
[null,1986]
[null,1987]
[null,1988]
[null,1989]
[null,1990]
[null,1991]
[null,1992]
[null,1993]
[null,1994]
[null,1995]
[null,1996]
[null,1997]
[null,1998]
[null,1999]
[null,2000]
[null,2001]
[null,2002]
[null,2003]
[null,2004]
[null,2005]
[null,2006]
[null,2007]
[null,2008]
[null,2009]
[null,2010]
[null,2011]
[null,2012]
[null,2013]
[null,2014]
[null,2015]
[null,2016]
[null,2017]
[null,2018]
[null,2019]
[null,2020]
[null,2021]
[null,2022]
[null,2023]
[null,2024]
[null,2025]
[null,2026]
[null,2027]
[null,2028]
[null,2029]
[null,2030]
[null,2031]
[null,2032]
[null,2033]
[null,2034]
[null,2035]
[null,2036]
[null,2037]
[null,2038]
[null,2039]
[null,2040]
[null,2041]
[null,2042]
[null,2043]
[null,2044]
[null,2045]
[null,2046]
[null,2047]
[null,2048]
[null,2049]
[null,2050]
[null,2051]
[null,2052]
[null,2053]
[null,2054]
[null,2055]
[null,2056]
[null,2057]
[null,2058]
[null,2059]
[null,2060]
[null,2061]
[null,2062]
[null,2063]
[null,2064]
[null,2065]
[null,2066]
[null,2067]
[null,2068]
[null,2069]
[null,2070]
[null,2071]
[null,2072]
[null,2073]
[null,2074]
[null,2075]
[null,2076]
[null,2077]
[null,2078]
[null,2079]
[null,2080]
[null,2081]
[null,2082]
[null,2083]
[null,2084]
[null,2085]
[null,2086]
[null,2087]
[null,2088]
[null,2089]
[null,2090]
[null,2091]
[null,2092]
[null,2093]
[null,2094]
[null,2095]
[null,2096]
[null,2097]
[null,2098]
[null,2099]
[null,2100]
[null,2101]
[null,2102]
[null,2103]
[null,2104]
[null,2105]
[null,2106]
[null,2107]
[null,2108]
[null,2109]
[null,2110]
[null,2111]
[null,2112]
[null,2113]
[null,2114]
[null,2115]
[null,2116]
[null,2117]
[null,2118]
[null,2119]
[null,2120]
[null,2121]
[null,2122]
[null,2123]
[null,2124]
[null,2125]
[null,2126]
[null,2127]
[null,2128]
[null,2129]
[null,2130]
[null,2131]
[null,2132]
[null,2133]
[null,2134]
[null,2135]
[null,2136]
[null,2137]
[null,2138]
[null,2139]
[null,2140]
[null,2141]
[null,2142]
[null,2143]
[null,2144]
[null,2145]
[null,2146]
[null,2147]
[null,2148]
[null,2149]
[null,2150]
[null,2151]
[null,2152]
[null,2153]
[null,2154]
[null,2155]
[null,2156]
[null,2157]
[null,2158]
[null,2159]
[null,2160]
[null,2161]
[null,2162]
[null,2163]
[null,2164]
[null,2165]
[null,2166]
[null,2167]
[null,2168]
[null,2169]
[null,2170]
[null,2171]
[null,2172]
[null,2173]
[null,2174]
[null,2175]
[null,2176]
[null,2177]
[null,2178]
[null,2179]
[null,2180]
[null,2181]
[null,2182]
[null,2183]
[null,2184]
[null,2185]
[null,2186]
[null,2187]
[null,2188]
[null,2189]
[null,2190]
[null,2191]
[null,2192]
[null,2193]
[null,2194]
[null,2195]
[null,2196]
[null,2197]
[null,2198]
[null,2199]
[null,2200]
[null,2201]
[null,2202]
[null,2203]
[null,2204]
[null,2205]
[null,2206]
[null,2207]
[null,2208]
[null,2209]
[null,2210]
[null,2211]
[null,2212]
[null,2213]
[null,2214]
[null,2215]
[null,2216]
[null,2217]
[null,2218]
[null,2219]
[null,2220]
[null,2221]
[null,2222]
[null,2223]
[null,2224]
[null,2225]
[null,2226]
[null,2227]
[null,2228]
[null,2229]
[null,2230]
[null,2231]
[null,2232]
[null,2233]
[null,2234]
[null,2235]
[null,2236]
[null,2237]
[null,2238]
[null,2239]
[null,2240]
[null,2241]
[null,2242]
[null,2243]
[null,2244]
[null,2245]
[null,2246]
[null,2247]
[null,2248]
[null,2249]
[null,2250]
[null,2251]
[null,2252]
[null,2253]
[null,2254]
[null,2255]
[null,2256]
[null,2257]
[null,2258]
[null,2259]
[null,2260]
[null,2261]
[null,2262]
[null,2263]
[null,2264]
[null,2265]
[null,2266]
[null,2267]
[null,2268]
[null,2269]
[null,2270]
[null,2271]
[null,2272]
[null,2273]
[null,2274]
[null,2275]
[null,2276]
[null,2277]
[null,2278]
[null,2279]
[null,2280]
[null,2281]
[null,2282]
[null,2283]
[null,2284]
[null,2285]
[null,2286]
[null,2287]
[null,2288]
[null,2289]
[null,2290]
[null,2291]
[null,2292]
[null,2293]
[null,2294]
[null,2295]
[null,2296]
[null,2297]
[null,2298]
[null,2299]
[null,2300]
[null,2301]
[null,2302]
[null,2303]
[null,2304]
[null,2305]
[null,2306]
[null,2307]
[null,2308]
[null,2309]
[null,2310]
[null,2311]
[null,2312]
[null,2313]
[null,2314]
[null,2315]
[null,2316]
[null,2317]
[null,2318]
[null,2319]
[null,2320]
[null,2321]
[null,2322]
[null,2323]
[null,2324]
[null,2325]
[null,2326]
[null,2327]
[null,2328]
[null,2329]
[null,2330]
[null,2331]
[null,2332]
[null,2333]
[null,2334]
[null,2335]
[null,2336]
[null,2337]
[null,2338]
[null,2339]
[null,2340]
[null,2341]
[null,2342]
[null,2343]
[null,2344]
[null,2345]
[null,2346]
[null,2347]
[null,2348]
[null,2349]
[null,2350]
[null,2351]
[null,2352]
[null,2353]
[null,2354]
[null,2355]
[null,2356]
[null,2357]
[null,2358]
[null,2359]
[null,2360]
[null,2361]
[null,2362]
[null,2363]
[null,2364]
[null,2365]
[null,2366]
[null,2367]
[null,2368]
[null,2369]
[null,2370]
[null,2371]
[null,2372]
[null,2373]
[null,2374]
[null,2375]
[null,2376]
[null,2377]
[null,2378]
[null,2379]
[null,2380]
[null,2381]
[null,2382]
[null,2383]
[null,2384]
[null,2385]
[null,2386]
[null,2387]
[null,2388]
[null,2389]
[null,2390]
[null,2391]
[null,2392]
[null,2393]
[null,2394]
[null,2395]
[null,2396]
[null,2397]
[null,2398]
[null,2399]
[null,2400]
[null,2401]
[null,2402]
[null,2403]
[null,2404]
[null,2405]
[null,2406]
[null,2407]
[null,2408]
[null,2409]
[null,2410]
[null,2411]
[null,2412]
[null,2413]
[null,2414]
[null,2415]
[null,2416]
[null,2417]
[null,2418]
[null,2419]
[null,2420]
[null,2421]
[null,2422]
[null,2423]
[null,2424]
[null,2425]
[null,2426]
[null,2427]
[null,2428]
[null,2429]
[null,2430]
[null,2431]
[null,2432]
[null,2433]
[null,2434]
[null,2435]
[null,2436]
[null,2437]
[null,2438]
[null,2439]
[null,2440]
[null,2441]
[null,2442]
[null,2443]
[null,2444]
[null,2445]
[null,2446]
[null,2447]
[null,2448]
[null,2449]
[null,2450]
[null,2451]
[null,2452]
[null,2453]
[null,2454]
[null,2455]
[null,2456]
[null,2457]
[null,2458]
[null,2459]
[null,2460]
[null,2461]
[null,2462]
[null,2463]
[null,2464]
[null,2465]
[null,2466]
[null,2467]
[null,2468]
[null,2469]
[null,2470]
[null,2471]
[null,2472]
[null,2473]
[null,2474]
[null,2475]
[null,2476]
[null,2477]
[null,2478]
[null,2479]
[null,2480]
[null,2481]
[null,2482]
[null,2483]
[null,2484]
[null,2485]
[null,2486]
[null,2487]
[null,2488]
[null,2489]
[null,2490]
[null,2491]
[null,2492]
[null,2493]
[null,2494]
[null,2495]
[null,2496]
[null,2497]
[null,2498]
[null,2499]
[null,2500]
[null,2501]
[null,2502]
[null,2503]
[null,2504]
[null,2505]
[null,2506]
[null,2507]
[null,2508]
[null,2509]
[null,2510]
[null,2511]
[null,2512]
[null,2513]
[null,2514]
[null,2515]
[null,2516]
[null,2517]
[null,2518]
[null,2519]
[null,2520]
[null,2521]
[null,2522]
[null,2523]
[null,2524]
[null,2525]
[null,2526]
[null,2527]
[null,2528]
[null,2529]
[null,2530]
[null,2531]
[null,2532]
[null,2533]
[null,2534]
[null,2535]
[null,2536]
[null,2537]
[null,2538]
[null,2539]
[null,2540]
[null,2541]
[null,2542]
[null,2543]
[null,2544]
[null,2545]
[null,2546]
[null,2547]
[null,2548]
[null,2549]
[null,2550]
[null,2551]
[null,2552]
[null,2553]
[null,2554]
[null,2555]
[null,2556]
[null,2557]
[null,2558]
[null,2559]
[null,2560]
[null,2561]
[null,2562]
[null,2563]
[null,2564]
[null,2565]
[null,2566]
[null,2567]
[null,2568]
[null,2569]
[null,2570]
[null,2571]
[null,2572]
[null,2573]
[null,2574]
[null,2575]
[null,2576]
[null,2577]
[null,2578]
[null,2579]
[null,2580]
[null,2581]
[null,2582]
[null,2583]
[null,2584]
[null,2585]
[null,2586]
[null,2587]
[null,2588]
[null,2589]
[null,2590]
[null,2591]
[null,2592]
[null,2593]
[null,2594]
[null,2595]
[null,2596]
[null,2597]
[null,2598]
[null,2599]
[null,2600]
[null,2601]
[null,2602]
[null,2603]
[null,2604]
[null,2605]
[null,2606]
[null,2607]
[null,2608]
[null,2609]
[null,2610]
[null,2611]
[null,2612]
[null,2613]
[null,2614]
[null,2615]
[null,2616]
[null,2617]
[null,2618]
[null,2619]
[null,2620]
[null,2621]
[null,2622]
[null,2623]
[null,2624]
[null,2625]
[null,2626]
[null,2627]
[null,2628]
[null,2629]
[null,2630]
[null,2631]
[null,2632]
[null,2633]
[null,2634]
[null,2635]
[null,2636]
[null,2637]
[null,2638]
[null,2639]
[null,2640]
[null,2641]
[null,2642]
[null,2643]
[null,2644]
[null,2645]
[null,2646]
[null,2647]
[null,2648]
[null,2649]
[null,2650]
[null,2651]
[null,2652]
[null,2653]
[null,2654]
[null,2655]
[null,2656]
[null,2657]
[null,2658]
[null,2659]
[null,2660]
[null,2661]
[null,2662]
[null,2663]
[null,2664]
[null,2665]
[null,2666]
[null,2667]
[null,2668]
[null,2669]
[null,2670]
[null,2671]
[null,2672]
[null,2673]
[null,2674]
[null,2675]
[null,2676]
[null,2677]
[null,2678]
[null,2679]
[null,2680]
[null,2681]
[null,2682]
[null,2683]
[null,2684]
[null,2685]
[null,2686]
[null,2687]
[null,2688]
[null,2689]
[null,2690]
[null,2691]
[null,2692]
[null,2693]
[null,2694]
[null,2695]
[null,2696]
[null,2697]
[null,2698]
[null,2699]
[null,2700]
[null,2701]
[null,2702]
[null,2703]
[null,2704]
[null,2705]
[null,2706]
[null,2707]
[null,2708]
[null,2709]
[null,2710]
[null,2711]
[null,2712]
[null,2713]
[null,2714]
[null,2715]
[null,2716]
[null,2717]
[null,2718]
[null,2719]
[null,2720]
[null,2721]
[null,2722]
[null,2723]
[null,2724]
[null,2725]
[null,2726]
[null,2727]
[null,2728]
[null,2729]
[null,2730]
[null,2731]
[null,2732]
[null,2733]
[null,2734]
[null,2735]
[null,2736]
[null,2737]
[null,2738]
[null,2739]
[null,2740]
[null,2741]
[null,2742]
[null,2743]
[null,2744]
[null,2745]
[null,2746]
[null,2747]
[null,2748]
[null,2749]
[null,2750]
[null,2751]
[null,2752]
[null,2753]
[null,2754]
[null,2755]
[null,2756]
[null,2757]
[null,2758]
[null,2759]
[null,2760]
[null,2761]
[null,2762]
[null,2763]
[null,2764]
[null,2765]
[null,2766]
[null,2767]
[null,2768]
[null,2769]
[null,2770]
[null,2771]
[null,2772]
[null,2773]
[null,2774]
[null,2775]
[null,2776]
[null,2777]
[null,2778]
[null,2779]
[null,2780]
[null,2781]
[null,2782]
[null,2783]
[null,2784]
[null,2785]
[null,2786]
[null,2787]
[null,2788]
[null,2789]
[null,2790]
[null,2791]
[null,2792]
[null,2793]
[null,2794]
[null,2795]
[null,2796]
[null,2797]
[null,2798]
[null,2799]
[null,2800]
[null,2801]
[null,2802]
[null,2803]
[null,2804]
[null,2805]
[null,2806]
[null,2807]
[null,2808]
[null,2809]
[null,2810]
[null,2811]
[null,2812]
[null,2813]
[null,2814]
[null,2815]
[null,2816]
[null,2817]
[null,2818]
[null,2819]
[null,2820]
[null,2821]
[null,2822]
[null,2823]
[null,2824]
[null,2825]
[null,2826]
[null,2827]
[null,2828]
[null,2829]
[null,2830]
[null,2831]
[null,2832]
[null,2833]
[null,2834]
[null,2835]
[null,2836]
[null,2837]
[null,2838]
[null,2839]
[null,2840]
[null,2841]
[null,2842]
[null,2843]
[null,2844]
[null,2845]
[null,2846]
[null,2847]
[null,2848]
[null,2849]
[null,2850]
[null,2851]
[null,2852]
[null,2853]
[null,2854]
[null,2855]
[null,2856]
[null,2857]
[null,2858]
[null,2859]
[null,2860]
[null,2861]
[null,2862]
[null,2863]
[null,2864]
[null,2865]
[null,2866]
[null,2867]
[null,2868]
[null,2869]
[null,2870]
[null,2871]
[null,2872]
[null,2873]
[null,2874]
[null,2875]
[null,2876]
[null,2877]
[null,2878]
[null,2879]
[null,2880]
[null,2881]
[null,2882]
[null,2883]
[null,2884]
[null,2885]
[null,2886]
[null,2887]
[null,2888]
[null,2889]
[null,2890]
[null,2891]
[null,2892]
[null,2893]
[null,2894]
[null,2895]
[null,2896]
[null,2897]
[null,2898]
[null,2899]
[null,2900]
[null,2901]
[null,2902]
[null,2903]
[null,2904]
[null,2905]
[null,2906]
[null,2907]
[null,2908]
[null,2909]
[null,2910]
[null,2911]
[null,2912]
[null,2913]
[null,2914]
[null,2915]
[null,2916]
[null,2917]
[null,2918]
[null,2919]
[null,2920]
[null,2921]
[null,2922]
[null,2923]
[null,2924]
[null,2925]
[null,2926]
[null,2927]
[null,2928]
[null,2929]
[null,2930]
[null,2931]
[null,2932]
[null,2933]
[null,2934]
[null,2935]
[null,2936]
[null,2937]
[null,2938]
[null,2939]
[null,2940]
[null,2941]
[null,2942]
[null,2943]
[null,2944]
[null,2945]
[null,2946]
[null,2947]
[null,2948]
[null,2949]
[null,2950]
[null,2951]
[null,2952]
[null,2953]
[null,2954]
[null,2955]
[null,2956]
[null,2957]
[null,2958]
[null,2959]
[null,2960]
[null,2961]
[null,2962]
[null,2963]
[null,2964]
[null,2965]
[null,2966]
[null,2967]
[null,2968]
[null,2969]
[null,2970]
[null,2971]
[null,2972]
[null,2973]
[null,2974]
[null,2975]
[null,2976]
[null,2977]
[null,2978]
[null,2979]
[null,2980]
[null,2981]
[null,2982]
[null,2983]
[null,2984]
[null,2985]
[null,2986]
[null,2987]
[null,2988]
[null,2989]
[null,2990]
[null,2991]
[null,2992]
[null,2993]
[null,2994]
[null,2995]
[null,2996]
[null,2997]
[null,2998]
[null,2999]
[null,3000]
[null,3001]
[null,3002]
[null,3003]
[null,3004]
[null,3005]
[null,3006]
[null,3007]
[null,3008]
[null,3009]
[null,3010]
[null,3011]
[null,3012]
[null,3013]
[null,3014]
[null,3015]
[null,3016]
[null,3017]
[null,3018]
[null,3019]
[null,3020]
[null,3021]
[null,3022]
[null,3023]
[null,3024]
[null,3025]
[null,3026]
[null,3027]
[null,3028]
[null,3029]
[null,3030]
[null,3031]
[null,3032]
[null,3033]
[null,3034]
[null,3035]
[null,3036]
[null,3037]
[null,3038]
[null,3039]
[null,3040]
[null,3041]
[null,3042]
[null,3043]
[null,3044]
[null,3045]
[null,3046]
[null,3047]
[null,3048]
[null,3049]
[null,3050]
[null,3051]
[null,3052]
[null,3053]
[null,3054]
[null,3055]
[null,3056]
[null,3057]
[null,3058]
[null,3059]
[null,3060]
[null,3061]
[null,3062]
[null,3063]
[null,3064]
[null,3065]
[null,3066]
[null,3067]
[null,3068]
[null,3069]
[null,3070]
[null,3071]
[null,3072]
[null,3073]
[null,3074]
[null,3075]
[null,3076]
[null,3077]
[null,3078]
[null,3079]
[null,3080]
[null,3081]
[null,3082]
[null,3083]
[null,3084]
[null,3085]
[null,3086]
[null,3087]
[null,3088]
[null,3089]
[null,3090]
[null,3091]
[null,3092]
[null,3093]
[null,3094]
[null,3095]
[null,3096]
[null,3097]
[null,3098]
[null,3099]
[null,3100]
[null,3101]
[null,3102]
[null,3103]
[null,3104]
[null,3105]
[null,3106]
[null,3107]
[null,3108]
[null,3109]
[null,3110]
[null,3111]
[null,3112]
[null,3113]
[null,3114]
[null,3115]
[null,3116]
[null,3117]
[null,3118]
[null,3119]
[null,3120]
[null,3121]
[null,3122]
[null,3123]
[null,3124]
[null,3125]
[null,3126]
[null,3127]
[null,3128]
[null,3129]
[null,3130]
[null,3131]
[null,3132]
[null,3133]
[null,3134]
[null,3135]
[null,3136]
[null,3137]
[null,3138]
[null,3139]
[null,3140]
[null,3141]
[null,3142]
[null,3143]
[null,3144]
[null,3145]
[null,3146]
[null,3147]
[null,3148]
[null,3149]
[null,3150]
[null,3151]
[null,3152]
[null,3153]
[null,3154]
[null,3155]
[null,3156]
[null,3157]
[null,3158]
[null,3159]
[null,3160]
[null,3161]
[null,3162]
[null,3163]
[null,3164]
[null,3165]
[null,3166]
[null,3167]
[null,3168]
[null,3169]
[null,3170]
[null,3171]
[null,3172]
[null,3173]
[null,3174]
[null,3175]
[null,3176]
[null,3177]
[null,3178]
[null,3179]
[null,3180]
[null,3181]
[null,3182]
[null,3183]
[null,3184]
[null,3185]
[null,3186]
[null,3187]
[null,3188]
[null,3189]
[null,3190]
[null,3191]
[null,3192]
[null,3193]
[null,3194]
[null,3195]
[null,3196]
[null,3197]
[null,3198]
[null,3199]
[null,3200]
[null,3201]
[null,3202]
[null,3203]
[null,3204]
[null,3205]
[null,3206]
[null,3207]
[null,3208]
[null,3209]
[null,3210]
[null,3211]
[null,3212]
[null,3213]
[null,3214]
[null,3215]
[null,3216]
[null,3217]
[null,3218]
[null,3219]
[null,3220]
[null,3221]
[null,3222]
[null,3223]
[null,3224]
[null,3225]
[null,3226]
[null,3227]
[null,3228]
[null,3229]
[null,3230]
[null,3231]
[null,3232]
[null,3233]
[null,3234]
[null,3235]
[null,3236]
[null,3237]
[null,3238]
[null,3239]
[null,3240]
[null,3241]
[null,3242]
[null,3243]
[null,3244]
[null,3245]
[null,3246]
[null,3247]
[null,3248]
[null,3249]
[null,3250]
[null,3251]
[null,3252]
[null,3253]
[null,3254]
[null,3255]
[null,3256]
[null,3257]
[null,3258]
[null,3259]
[null,3260]
[null,3261]
[null,3262]
[null,3263]
[null,3264]
[null,3265]
[null,3266]
[null,3267]
[null,3268]
[null,3269]
[null,3270]
[null,3271]
[null,3272]
[null,3273]
[null,3274]
[null,3275]
[null,3276]
[null,3277]
[null,3278]
[null,3279]
[null,3280]
[null,3281]
[null,3282]
[null,3283]
[null,3284]
[null,3285]
[null,3286]
[null,3287]
[null,3288]
[null,3289]
[null,3290]
[null,3291]
[null,3292]
[null,3293]
[null,3294]
[null,3295]
[null,3296]
[null,3297]
[null,3298]
[null,3299]
[null,3300]
[null,3301]
[null,3302]
[null,3303]
[null,3304]
[null,3305]
[null,3306]
[null,3307]
[null,3308]
[null,3309]
[null,3310]
[null,3311]
[null,3312]
[null,3313]
[null,3314]
[null,3315]
[null,3316]
[null,3317]
[null,3318]
[null,3319]
[null,3320]
[null,3321]
[null,3322]
[null,3323]
[null,3324]
[null,3325]
[null,3326]
[null,3327]
[null,3328]
[null,3329]
[null,3330]
[null,3331]
[null,3332]
[null,3333]
[null,3334]
[null,3335]
[null,3336]
[null,3337]
[null,3338]
[null,3339]
[null,3340]
[null,3341]
[null,3342]
[null,3343]
[null,3344]
[null,3345]
[null,3346]
[null,3347]
[null,3348]
[null,3349]
[null,3350]
[null,3351]
[null,3352]
[null,3353]
[null,3354]
[null,3355]
[null,3356]
[null,3357]
[null,3358]
[null,3359]
[null,3360]
[null,3361]
[null,3362]
[null,3363]
[null,3364]
[null,3365]
[null,3366]
[null,3367]
[null,3368]
[null,3369]
[null,3370]
[null,3371]
[null,3372]
[null,3373]
[null,3374]
[null,3375]
[null,3376]
[null,3377]
[null,3378]
[null,3379]
[null,3380]
[null,3381]
[null,3382]
[null,3383]
[null,3384]
[null,3385]
[null,3386]
[null,3387]
[null,3388]
[null,3389]
[null,3390]
[null,3391]
[null,3392]
[null,3393]
[null,3394]
[null,3395]
[null,3396]
[null,3397]
[null,3398]
[null,3399]
[null,3400]
[null,3401]
[null,3402]
[null,3403]
[null,3404]
[null,3405]
[null,3406]
[null,3407]
[null,3408]
[null,3409]
[null,3410]
[null,3411]
[null,3412]
[null,3413]
[null,3414]
[null,3415]
[null,3416]
[null,3417]
[null,3418]
[null,3419]
[null,3420]
[null,3421]
[null,3422]
[null,3423]
[null,3424]
[null,3425]
[null,3426]
[null,3427]
[null,3428]
[null,3429]
[null,3430]
[null,3431]
[null,3432]
[null,3433]
[null,3434]
[null,3435]
[null,3436]
[null,3437]
[null,3438]
[null,3439]
[null,3440]
[null,3441]
[null,3442]
[null,3443]
[null,3444]
[null,3445]
[null,3446]
[null,3447]
[null,3448]
[null,3449]
[null,3450]
[null,3451]
[null,3452]
[null,3453]
[null,3454]
[null,3455]
[null,3456]
[null,3457]
[null,3458]
[null,3459]
[null,3460]
[null,3461]
[null,3462]
[null,3463]
[null,3464]
[null,3465]
[null,3466]
[null,3467]
[null,3468]
[null,3469]
[null,3470]
[null,3471]
[null,3472]
[null,3473]
[null,3474]
[null,3475]
[null,3476]
[null,3477]
[null,3478]
[null,3479]
[null,3480]
[null,3481]
[null,3482]
[null,3483]
[null,3484]
[null,3485]
[null,3486]
[null,3487]
[null,3488]
[null,3489]
[null,3490]
[null,3491]
[null,3492]
[null,3493]
[null,3494]
[null,3495]
[null,3496]
[null,3497]
[null,3498]
[null,3499]
[null,3500]
[null,3501]
[null,3502]
[null,3503]
[null,3504]
[null,3505]
[null,3506]
[null,3507]
[null,3508]
[null,3509]
[null,3510]
[null,3511]
[null,3512]
[null,3513]
[null,3514]
[null,3515]
[null,3516]
[null,3517]
[null,3518]
[null,3519]
[null,3520]
[null,3521]
[null,3522]
[null,3523]
[null,3524]
[null,3525]
[null,3526]
[null,3527]
[null,3528]
[null,3529]
[null,3530]
[null,3531]
[null,3532]
[null,3533]
[null,3534]
[null,3535]
[null,3536]
[null,3537]
[null,3538]
[null,3539]
[null,3540]
[null,3541]
[null,3542]
[null,3543]
[null,3544]
[null,3545]
[null,3546]
[null,3547]
[null,3548]
[null,3549]
[null,3550]
[null,3551]
[null,3552]
[null,3553]
[null,3554]
[null,3555]
[null,3556]
[null,3557]
[null,3558]
[null,3559]
[null,3560]
[null,3561]
[null,3562]
[null,3563]
[null,3564]
[null,3565]
[null,3566]
[null,3567]
[null,3568]
[null,3569]
[null,3570]
[null,3571]
[null,3572]
[null,3573]
[null,3574]
[null,3575]
[null,3576]
[null,3577]
[null,3578]
[null,3579]
[null,3580]
[null,3581]
[null,3582]
[null,3583]
[null,3584]
[null,3585]
[null,3586]
[null,3587]
[null,3588]
[null,3589]
[null,3590]
[null,3591]
[null,3592]
[null,3593]
[null,3594]
[null,3595]
[null,3596]
[null,3597]
[null,3598]
[null,3599]
[null,3600]
[null,3601]
[null,3602]
[null,3603]
[null,3604]
[null,3605]
[null,3606]
[null,3607]
[null,3608]
[null,3609]
[null,3610]
[null,3611]
[null,3612]
[null,3613]
[null,3614]
[null,3615]
[null,3616]
[null,3617]
[null,3618]
[null,3619]
[null,3620]
[null,3621]
[null,3622]
[null,3623]
[null,3624]
[null,3625]
[null,3626]
[null,3627]
[null,3628]
[null,3629]
[null,3630]
[null,3631]
[null,3632]
[null,3633]
[null,3634]
[null,3635]
[null,3636]
[null,3637]
[null,3638]
[null,3639]
[null,3640]
[null,3641]
[null,3642]
[null,3643]
[null,3644]
[null,3645]
[null,3646]
[null,3647]
[null,3648]
[null,3649]
[null,3650]
[null,3651]
[null,3652]
[null,3653]
[null,3654]
[null,3655]
[null,3656]
[null,3657]
[null,3658]
[null,3659]
[null,3660]
[null,3661]
[null,3662]
[null,3663]
[null,3664]
[null,3665]
[null,3666]
[null,3667]
[null,3668]
[null,3669]
[null,3670]
[null,3671]
[null,3672]
[null,3673]
[null,3674]
[null,3675]
[null,3676]
[null,3677]
[null,3678]
[null,3679]
[null,3680]
[null,3681]
[null,3682]
[null,3683]
[null,3684]
[null,3685]
[null,3686]
[null,3687]
[null,3688]
[null,3689]
[null,3690]
[null,3691]
[null,3692]
[null,3693]
[null,3694]
[null,3695]
[null,3696]
[null,3697]
[null,3698]
[null,3699]
[null,3700]
[null,3701]
[null,3702]
[null,3703]
[null,3704]
[null,3705]
[null,3706]
[null,3707]
[null,3708]
[null,3709]
[null,3710]
[null,3711]
[null,3712]
[null,3713]
[null,3714]
[null,3715]
[null,3716]
[null,3717]
[null,3718]
[null,3719]
[null,3720]
[null,3721]
[null,3722]
[null,3723]
[null,3724]
[null,3725]
[null,3726]
[null,3727]
[null,3728]
[null,3729]
[null,3730]
[null,3731]
[null,3732]
[null,3733]
[null,3734]
[null,3735]
[null,3736]
[null,3737]
[null,3738]
[null,3739]
[null,3740]
[null,3741]
[null,3742]
[null,3743]
[null,3744]
[null,3745]
[null,3746]
[null,3747]
[null,3748]
[null,3749]
[null,3750]
[null,3751]
[null,3752]
[null,3753]
[null,3754]
[null,3755]
[null,3756]
[null,3757]
[null,3758]
[null,3759]
[null,3760]
[null,3761]
[null,3762]
[null,3763]
[null,3764]
[null,3765]
[null,3766]
[null,3767]
[null,3768]
[null,3769]
[null,3770]
[null,3771]
[null,3772]
[null,3773]
[null,3774]
[null,3775]
[null,3776]
[null,3777]
[null,3778]
[null,3779]
[null,3780]
[null,3781]
[null,3782]
[null,3783]
[null,3784]
[null,3785]
[null,3786]
[null,3787]
[null,3788]
[null,3789]
[null,3790]
[null,3791]
[null,3792]
[null,3793]
[null,3794]
[null,3795]
[null,3796]
[null,3797]
[null,3798]
[null,3799]
[null,3800]
[null,3801]
[null,3802]
[null,3803]
[null,3804]
[null,3805]
[null,3806]
[null,3807]
[null,3808]
[null,3809]
[null,3810]
[null,3811]
[null,3812]
[null,3813]
[null,3814]
[null,3815]
[null,3816]
[null,3817]
[null,3818]
[null,3819]
[null,3820]
[null,3821]
[null,3822]
[null,3823]
[null,3824]
[null,3825]
[null,3826]
[null,3827]
[null,3828]
[null,3829]
[null,3830]
[null,3831]
[null,3832]
[null,3833]
[null,3834]
[null,3835]
[null,3836]
[null,3837]
[null,3838]
[null,3839]
[null,3840]
[null,3841]
[null,3842]
[null,3843]
[null,3844]
[null,3845]
[null,3846]
[null,3847]
[null,3848]
[null,3849]
[null,3850]
[null,3851]
[null,3852]
[null,3853]
[null,3854]
[null,3855]
[null,3856]
[null,3857]
[null,3858]
[null,3859]
[null,3860]
[null,3861]
[null,3862]
[null,3863]
[null,3864]
[null,3865]
[null,3866]
[null,3867]
[null,3868]
[null,3869]
[null,3870]
[null,3871]
[null,3872]
[null,3873]
[null,3874]
[null,3875]
[null,3876]
[null,3877]
[null,3878]
[null,3879]
[null,3880]
[null,3881]
[null,3882]
[null,3883]
[null,3884]
[null,3885]
[null,3886]
[null,3887]
[null,3888]
[null,3889]
[null,3890]
[null,3891]
[null,3892]
[null,3893]
[null,3894]
[null,3895]
[null,3896]
[null,3897]
[null,3898]
[null,3899]
[null,3900]
[null,3901]
[null,3902]
[null,3903]
[null,3904]
[null,3905]
[null,3906]
[null,3907]
[null,3908]
[null,3909]
[null,3910]
[null,3911]
[null,3912]
[null,3913]
[null,3914]
[null,3915]
[null,3916]
[null,3917]
[null,3918]
[null,3919]
[null,3920]
[null,3921]
[null,3922]
[null,3923]
[null,3924]
[null,3925]
[null,3926]
[null,3927]
[null,3928]
[null,3929]
[null,3930]
[null,3931]
[null,3932]
[null,3933]
[null,3934]
[null,3935]
[null,3936]
[null,3937]
[null,3938]
[null,3939]
[null,3940]
[null,3941]
[null,3942]
[null,3943]
[null,3944]
[null,3945]
[null,3946]
[null,3947]
[null,3948]
[null,3949]
[null,3950]
[null,3951]
[null,3952]
[null,3953]
[null,3954]
[null,3955]
[null,3956]
[null,3957]
[null,3958]
[null,3959]
[null,3960]
[null,3961]
[null,3962]
[null,3963]
[null,3964]
[null,3965]
[null,3966]
[null,3967]
[null,3968]
[null,3969]
[null,3970]
[null,3971]
[null,3972]
[null,3973]
[null,3974]
[null,3975]
[null,3976]
[null,3977]
[null,3978]
[null,3979]
[null,3980]
[null,3981]
[null,3982]
[null,3983]
[null,3984]
[null,3985]
[null,3986]
[null,3987]
[null,3988]
[null,3989]
[null,3990]
[null,3991]
[null,3992]
[null,3993]
[null,3994]
[null,3995]
[null,3996]
[null,3997]
[null,3998]
[null,3999]
[null,4000]
[null,4001]
[null,4002]
[null,4003]
[null,4004]
[null,4005]
[null,4006]
[null,4007]
[null,4008]
[null,4009]
[null,4010]
[null,4011]
[null,4012]
[null,4013]
[null,4014]
[null,4015]
[null,4016]
[null,4017]
[null,4018]
[null,4019]
[null,4020]
[null,4021]
[null,4022]
[null,4023]
[null,4024]
[null,4025]
[null,4026]
[null,4027]
[null,4028]
[null,4029]
[null,4030]
[null,4031]
[null,4032]
[null,4033]
[null,4034]
[null,4035]
[null,4036]
[null,4037]
[null,4038]
[null,4039]
[null,4040]
[null,4041]
[null,4042]
[null,4043]
[null,4044]
[null,4045]
[null,4046]
[null,4047]
[null,4048]
[null,4049]
[null,4050]
[null,4051]
[null,4052]
[null,4053]
[null,4054]
[null,4055]
[null,4056]
[null,4057]
[null,4058]
[null,4059]
[null,4060]
[null,4061]
[null,4062]
[null,4063]
[null,4064]
[null,4065]
[null,4066]
[null,4067]
[null,4068]
[null,4069]
[null,4070]
[null,4071]
[null,4072]
[null,4073]
[null,4074]
[null,4075]
[null,4076]
[null,4077]
[null,4078]
[null,4079]
[null,4080]
[null,4081]
[null,4082]
[null,4083]
[null,4084]
[null,4085]
[null,4086]
[null,4087]
[null,4088]
[null,4089]
[null,4090]
[null,4091]
[null,4092]
[null,4093]
[null,4094]
[null,4095]
[null,4096]
[null,4097]
[null,4098]
[null,4099]
[null,4100]
[null,4101]
[null,4102]
[null,4103]
[null,4104]
[null,4105]
[null,4106]
[null,4107]
[null,4108]
[null,4109]
[null,4110]
[null,4111]
[null,4112]
[null,4113]
[null,4114]
[null,4115]
[null,4116]
[null,4117]
[null,4118]
[null,4119]
[null,4120]
[null,4121]
[null,4122]
[null,4123]
[null,4124]
[null,4125]
[null,4126]
[null,4127]
[null,4128]
[null,4129]
[null,4130]
[null,4131]
[null,4132]
[null,4133]
[null,4134]
[null,4135]
[null,4136]
[null,4137]
[null,4138]
[null,4139]
[null,4140]
[null,4141]
[null,4142]
[null,4143]
[null,4144]
[null,4145]
[null,4146]
[null,4147]
[null,4148]
[null,4149]
[null,4150]
[null,4151]
[null,4152]
[null,4153]
[null,4154]
[null,4155]
[null,4156]
[null,4157]
[null,4158]
[null,4159]
[null,4160]
[null,4161]
[null,4162]
[null,4163]
[null,4164]
[null,4165]
[null,4166]
[null,4167]
[null,4168]
[null,4169]
[null,4170]
[null,4171]
[null,4172]
[null,4173]
[null,4174]
[null,4175]
[null,4176]
[null,4177]
[null,4178]
[null,4179]
[null,4180]
[null,4181]
[null,4182]
[null,4183]
[null,4184]
[null,4185]
[null,4186]
[null,4187]
[null,4188]
[null,4189]
[null,4190]
[null,4191]
[null,4192]
[null,4193]
[null,4194]
[null,4195]
[null,4196]
[null,4197]
[null,4198]
[null,4199]
[null,4200]
[null,4201]
[null,4202]
[null,4203]
[null,4204]
[null,4205]
[null,4206]
[null,4207]
[null,4208]
[null,4209]
[null,4210]
[null,4211]
[null,4212]
[null,4213]
[null,4214]
[null,4215]
[null,4216]
[null,4217]
[null,4218]
[null,4219]
[null,4220]
[null,4221]
[null,4222]
[null,4223]
[null,4224]
[null,4225]
[null,4226]
[null,4227]
[null,4228]
[null,4229]
[null,4230]
[null,4231]
[null,4232]
[null,4233]
[null,4234]
[null,4235]
[null,4236]
[null,4237]
[null,4238]
[null,4239]
[null,4240]
[null,4241]
[null,4242]
[null,4243]
[null,4244]
[null,4245]
[null,4246]
[null,4247]
[null,4248]
[null,4249]
[null,4250]
[null,4251]
[null,4252]
[null,4253]
[null,4254]
[null,4255]
[null,4256]
[null,4257]
[null,4258]
[null,4259]
[null,4260]
[null,4261]
[null,4262]
[null,4263]
[null,4264]
[null,4265]
[null,4266]
[null,4267]
[null,4268]
[null,4269]
[null,4270]
[null,4271]
[null,4272]
[null,4273]
[null,4274]
[null,4275]
[null,4276]
[null,4277]
[null,4278]
[null,4279]
[null,4280]
[null,4281]
[null,4282]
[null,4283]
[null,4284]
[null,4285]
[null,4286]
[null,4287]
[null,4288]
[null,4289]
[null,4290]
[null,4291]
[null,4292]
[null,4293]
[null,4294]
[null,4295]
[null,4296]
[null,4297]
[null,4298]
[null,4299]
[null,4300]
[null,4301]
[null,4302]
[null,4303]
[null,4304]
[null,4305]
[null,4306]
[null,4307]
[null,4308]
[null,4309]
[null,4310]
[null,4311]
[null,4312]
[null,4313]
[null,4314]
[null,4315]
[null,4316]
[null,4317]
[null,4318]
[null,4319]
[null,4320]
[null,4321]
[null,4322]
[null,4323]
[null,4324]
[null,4325]
[null,4326]
[null,4327]
[null,4328]
[null,4329]
[null,4330]
[null,4331]
[null,4332]
[null,4333]
[null,4334]
[null,4335]
[null,4336]
[null,4337]
[null,4338]
[null,4339]
[null,4340]
[null,4341]
[null,4342]
[null,4343]
[null,4344]
[null,4345]
[null,4346]
[null,4347]
[null,4348]
[null,4349]
[null,4350]
[null,4351]
[null,4352]
[null,4353]
[null,4354]
[null,4355]
[null,4356]
[null,4357]
[null,4358]
[null,4359]
[null,4360]
[null,4361]
[null,4362]
[null,4363]
[null,4364]
[null,4365]
[null,4366]
[null,4367]
[null,4368]
[null,4369]
[null,4370]
[null,4371]
[null,4372]
[null,4373]
[null,4374]
[null,4375]
[null,4376]
[null,4377]
[null,4378]
[null,4379]
[null,4380]
[null,4381]
[null,4382]
[null,4383]
[null,4384]
[null,4385]
[null,4386]
[null,4387]
[null,4388]
[null,4389]
[null,4390]
[null,4391]
[null,4392]
[null,4393]
[null,4394]
[null,4395]
[null,4396]
[null,4397]
[null,4398]
[null,4399]
[null,4400]
[null,4401]
[null,4402]
[null,4403]
[null,4404]
[null,4405]
[null,4406]
[null,4407]
[null,4408]
[null,4409]
[null,4410]
[null,4411]
[null,4412]
[null,4413]
[null,4414]
[null,4415]
[null,4416]
[null,4417]
[null,4418]
[null,4419]
[null,4420]
[null,4421]
[null,4422]
[null,4423]
[null,4424]
[null,4425]
[null,4426]
[null,4427]
[null,4428]
[null,4429]
[null,4430]
[null,4431]
[null,4432]
[null,4433]
[null,4434]
[null,4435]
[null,4436]
[null,4437]
[null,4438]
[null,4439]
[null,4440]
[null,4441]
[null,4442]
[null,4443]
[null,4444]
[null,4445]
[null,4446]
[null,4447]
[null,4448]
[null,4449]
[null,4450]
[null,4451]
[null,4452]
[null,4453]
[null,4454]
[null,4455]
[null,4456]
[null,4457]
[null,4458]
[null,4459]
[null,4460]
[null,4461]
[null,4462]
[null,4463]
[null,4464]
[null,4465]
[null,4466]
[null,4467]
[null,4468]
[null,4469]
[null,4470]
[null,4471]
[null,4472]
[null,4473]
[null,4474]
[null,4475]
[null,4476]
[null,4477]
[null,4478]
[null,4479]
[null,4480]
[null,4481]
[null,4482]
[null,4483]
[null,4484]
[null,4485]
[null,4486]
[null,4487]
[null,4488]
[null,4489]
[null,4490]
[null,4491]
[null,4492]
[null,4493]
[null,4494]
[null,4495]
[null,4496]
[null,4497]
[null,4498]
[null,4499]
[null,4500]
[null,4501]
[null,4502]
[null,4503]
[null,4504]
[null,4505]
[null,4506]
[null,4507]
[null,4508]
[null,4509]
[null,4510]
[null,4511]
[null,4512]
[null,4513]
[null,4514]
[null,4515]
[null,4516]
[null,4517]
[null,4518]
[null,4519]
[null,4520]
[null,4521]
[null,4522]
[null,4523]
[null,4524]
[null,4525]
[null,4526]
[null,4527]
[null,4528]
[null,4529]
[null,4530]
[null,4531]
[null,4532]
[null,4533]
[null,4534]
[null,4535]
[null,4536]
[null,4537]
[null,4538]
[null,4539]
[null,4540]
[null,4541]
[null,4542]
[null,4543]
[null,4544]
[null,4545]
[null,4546]
[null,4547]
[null,4548]
[null,4549]
[null,4550]
[null,4551]
[null,4552]
[null,4553]
[null,4554]
[null,4555]
[null,4556]
[null,4557]
[null,4558]
[null,4559]
[null,4560]
[null,4561]
[null,4562]
[null,4563]
[null,4564]
[null,4565]
[null,4566]
[null,4567]
[null,4568]
[null,4569]
[null,4570]
[null,4571]
[null,4572]
[null,4573]
[null,4574]
[null,4575]
[null,4576]
[null,4577]
[null,4578]
[null,4579]
[null,4580]
[null,4581]
[null,4582]
[null,4583]
[null,4584]
[null,4585]
[null,4586]
[null,4587]
[null,4588]
[null,4589]
[null,4590]
[null,4591]
[null,4592]
[null,4593]
[null,4594]
[null,4595]
[null,4596]
[null,4597]
[null,4598]
[null,4599]
[null,4600]
[null,4601]
[null,4602]
[null,4603]
[null,4604]
[null,4605]
[null,4606]
[null,4607]
[null,4608]
[null,4609]
[null,4610]
[null,4611]
[null,4612]
[null,4613]
[null,4614]
[null,4615]
[null,4616]
[null,4617]
[null,4618]
[null,4619]
[null,4620]
[null,4621]
[null,4622]
[null,4623]
[null,4624]
[null,4625]
[null,4626]
[null,4627]
[null,4628]
[null,4629]
[null,4630]
[null,4631]
[null,4632]
[null,4633]
[null,4634]
[null,4635]
[null,4636]
[null,4637]
[null,4638]
[null,4639]
[null,4640]
[null,4641]
[null,4642]
[null,4643]
[null,4644]
[null,4645]
[null,4646]
[null,4647]
[null,4648]
[null,4649]
[null,4650]
[null,4651]
[null,4652]
[null,4653]
[null,4654]
[null,4655]
[null,4656]
[null,4657]
[null,4658]
[null,4659]
[null,4660]
[null,4661]
[null,4662]
[null,4663]
[null,4664]
[null,4665]
[null,4666]
[null,4667]
[null,4668]
[null,4669]
[null,4670]
[null,4671]
[null,4672]
[null,4673]
[null,4674]
[null,4675]
[null,4676]
[null,4677]
[null,4678]
[null,4679]
[null,4680]
[null,4681]
[null,4682]
[null,4683]
[null,4684]
[null,4685]
[null,4686]
[null,4687]
[null,4688]
[null,4689]
[null,4690]
[null,4691]
[null,4692]
[null,4693]
[null,4694]
[null,4695]
[null,4696]
[null,4697]
[null,4698]
[null,4699]
[null,4700]
[null,4701]
[null,4702]
[null,4703]
[null,4704]
[null,4705]
[null,4706]
[null,4707]
[null,4708]
[null,4709]
[null,4710]
[null,4711]
[null,4712]
[null,4713]
[null,4714]
[null,4715]
[null,4716]
[null,4717]
[null,4718]
[null,4719]
[null,4720]
[null,4721]
[null,4722]
[null,4723]
[null,4724]
[null,4725]
[null,4726]
[null,4727]
[null,4728]
[null,4729]
[null,4730]
[null,4731]
[null,4732]
[null,4733]
[null,4734]
[null,4735]
[null,4736]
[null,4737]
[null,4738]
[null,4739]
[null,4740]
[null,4741]
[null,4742]
[null,4743]
[null,4744]
[null,4745]
[null,4746]
[null,4747]
[null,4748]
[null,4749]
[null,4750]
[null,4751]
[null,4752]
[null,4753]
[null,4754]
[null,4755]
[null,4756]
[null,4757]
[null,4758]
[null,4759]
[null,4760]
[null,4761]
[null,4762]
[null,4763]
[null,4764]
[null,4765]
[null,4766]
[null,4767]
[null,4768]
[null,4769]
[null,4770]
[null,4771]
[null,4772]
[null,4773]
[null,4774]
[null,4775]
[null,4776]
[null,4777]
[null,4778]
[null,4779]
[null,4780]
[null,4781]
[null,4782]
[null,4783]
[null,4784]
[null,4785]
[null,4786]
[null,4787]
[null,4788]
[null,4789]
[null,4790]
[null,4791]
[null,4792]
[null,4793]
[null,4794]
[null,4795]
[null,4796]
[null,4797]
[null,4798]
[null,4799]
[null,4800]
[null,4801]
[null,4802]
[null,4803]
[null,4804]
[null,4805]
[null,4806]
[null,4807]
[null,4808]
[null,4809]
[null,4810]
[null,4811]
[null,4812]
[null,4813]
[null,4814]
[null,4815]
[null,4816]
[null,4817]
[null,4818]
[null,4819]
[null,4820]
[null,4821]
[null,4822]
[null,4823]
[null,4824]
[null,4825]
[null,4826]
[null,4827]
[null,4828]
[null,4829]
[null,4830]
[null,4831]
[null,4832]
[null,4833]
[null,4834]
[null,4835]
[null,4836]
[null,4837]
[null,4838]
[null,4839]
[null,4840]
[null,4841]
[null,4842]
[null,4843]
[null,4844]
[null,4845]
[null,4846]
[null,4847]
[null,4848]
[null,4849]
[null,4850]
[null,4851]
[null,4852]
[null,4853]
[null,4854]
[null,4855]
[null,4856]
[null,4857]
[null,4858]
[null,4859]
[null,4860]
[null,4861]
[null,4862]
[null,4863]
[null,4864]
[null,4865]
[null,4866]
[null,4867]
[null,4868]
[null,4869]
[null,4870]
[null,4871]
[null,4872]
[null,4873]
[null,4874]
[null,4875]
[null,4876]
[null,4877]
[null,4878]
[null,4879]
[null,4880]
[null,4881]
[null,4882]
[null,4883]
[null,4884]
[null,4885]
[null,4886]
[null,4887]
[null,4888]
[null,4889]
[null,4890]
[null,4891]
[null,4892]
[null,4893]
[null,4894]
[null,4895]
[null,4896]
[null,4897]
[null,4898]
[null,4899]
[null,4900]
[null,4901]
[null,4902]
[null,4903]
[null,4904]
[null,4905]
[null,4906]
[null,4907]
[null,4908]
[null,4909]
[null,4910]
[null,4911]
[null,4912]
[null,4913]
[null,4914]
[null,4915]
[null,4916]
[null,4917]
[null,4918]
[null,4919]
[null,4920]
[null,4921]
[null,4922]
[null,4923]
[null,4924]
[null,4925]
[null,4926]
[null,4927]
[null,4928]
[null,4929]
[null,4930]
[null,4931]
[null,4932]
[null,4933]
[null,4934]
[null,4935]
[null,4936]
[null,4937]
[null,4938]
[null,4939]
[null,4940]
[null,4941]
[null,4942]
[null,4943]
[null,4944]
[null,4945]
[null,4946]
[null,4947]
[null,4948]
[null,4949]
[null,4950]
[null,4951]
[null,4952]
[null,4953]
[null,4954]
[null,4955]
[null,4956]
[null,4957]
[null,4958]
[null,4959]
[null,4960]
[null,4961]
[null,4962]
[null,4963]
[null,4964]
[null,4965]
[null,4966]
[null,4967]
[null,4968]
[null,4969]
[null,4970]
[null,4971]
[null,4972]
[null,4973]
[null,4974]
[null,4975]
[null,4976]
[null,4977]
[null,4978]
[null,4979]
[null,4980]
[null,4981]
[null,4982]
[null,4983]
[null,4984]
[null,4985]
[null,4986]
[null,4987]
[null,4988]
[null,4989]
[null,4990]
[null,4991]
[null,4992]
[null,4993]
[null,4994]
[null,4995]
[null,4996]
[null,4997]
[null,4998]
[null,4999]

{"sheet":"Plate labelling","index":6,"n_rows":64,"n_cols":3,"rows_kept":64,"cut":false,"hidden":false,"merged":[[0,0,0,1]]}
["Please fill in this form in case your plates have labels that differ from the plate no. as given in the 'Samples 96'  sheets. "]
[]
[]
["Plate ID in this workbook","Original plate ID","Comments"]
[1]
[2]
[3]
[4]
[5]
[6]
[7]
[8]
[9]
[10]
[11]
[12]
[13]
[14]
[15]
[16]
[17]
[18]
[19]
[20]
[21]
[22]
[23]
[24]
[25]
[26]
[27]
[28]
[29]
[30]
[31]
[32]
[33]
[34]
[35]
[36]
[37]
[38]
[39]
[40]
[41]
[42]
[43]
[44]
[45]
[46]
[47]
[48]
[49]
[50]
[51]
[52]
[53]
[54]
[55]
[56]
[57]
[58]
[59]
[60]