Workbook
Name AfterProject: 'Address and samples info'!$F$31:$F$31
Name ConcMeas: 'Address and samples info'!$F$7:$F$7
Name ConcPolicy: 'Address and samples info'!$F$41:$F$41
Name Package: 'Address and samples info'!$F$46:$F$49
Name PanelHeight: 'Samples 96'!$W$2
Name SamplesDissolved: 'Address and samples info'!$F$16:$F$16
Name SampleSeries: 'Address and samples info'!$C$59
Name SamplesExtractedFrom: 'Address and samples info'!$F$21:$F$21
Name SampleType: 'Address and samples info'!$F$25:$F$25
Name Species: 'Address and samples info'!$F$53:$F$53
Name StartRow: 'Samples 96'!$W$1
Name TestedPCR: 'Address and samples info'!$F$8:$F$11
Name WellsInPlate: 'Samples 96'!$W$3

Sheet Title page, Please read!

Sheet Address and samples info
A3: Address and Sample Information
A4: Please, fill out light gray fields!
B6: Correspondence to Owner | E6: Handling of samples, communication
A7: Owner, samples: | D7: Contact:
A8: Address: | D8: Address:
A10: Street address: | D10: Street address:
A11: Postal code, City: | D11: Postal code, City:
A12: Country: | D12: Country:
A13: Email: | D13: Email:
A14: Phone: | D14: Phone:
B15: Correspondence to SNP&SEQ platform | E15: Adress for Delivery of Package
A16: Contact: | B16: Susanne Björnerfeldt, Camilla Enström | D16: Contact: | E16: Camilla Enström
A17: Address: | B17: Uppsala University, BMC , BOX 1432 | D17: Address: | E17: Uppsala University, Biomedical Centre
B18: SNP&SEQ Technology Platform | E18: SNP&SEQ Technology Platform
A19: Street address: | B19: Husargatan 3 | D19: Street address: | E19: Husargatan 3
A20: Postal code, City: | B20: 751 44 Uppsala | D20: Postal code, City: | E20: 752 37
A21: Country: | B21: Sweden | D21: Country: | E21: Sweden
A22: Email: | B22: snp@medsci.uu.se | D22: Email: | E22: snp@medsci.uu.se
A23: Phone: | B23: Phone: +46 (0)72-99 99 289, +46 (0)70-167 94 54 | D23: Phone: | E23: Phone: +46 (0)70-167 94 54
A25: General Information
A26: Please note that samples must be delivered in 96-well microtiter plates covered with plastic film or in tubes and properly packed in cellular plastic or similar to avoid them being damaged during the transport. ABgene, AB-0800-L, is our recommended plate type. For plastic cover films we use ABgene, AB-0558. Both products can be obtained from us. Delivery of samples should be arranged with SNP&SEQ Technology Platform before shipping to make sure the samples are taken care of upon arrival.
A27: Sample Information, (Use drop-down list, Column C) | C27: Select value: | D27: Comment, notes
A28: Concentration measured by:
A29: Samples dissolved in:
A30: Samples extracted from:
A31: Sample type:
A32: Species:
A33: Additional information:
A34: Information from sheets | C34: # Plates | D34: # Samples | E34: Concentration and Volume range
A35: Sample 96 | C35: ='Samples 96'!$AD61 -> 0 | D35: =5760-COUNTBLANK('Samples 96'!$D$2:$D$5761) -> 0 | E35: ="Conc: "&TEXT(MIN('Samples 96'!$E$2:$E$5761),"#.00")&" - "&TEXT(MAX('Samples 96'!$E$2:$E$5761),"#.00")&", Vol: "&TEXT(MIN('Samples 96'!$F$2:$F$5761),"#.00")&" - "&TEXT(MAX('Samples 96'!$F$2:$F$5761),"#.00") -> Conc: .00 - .00, Vol: .00 - .00
A36: Sample 384 | C36: ='Samples 384'!$AC31 -> 0 | D36: =11520-COUNTBLANK('Samples 384'!$D$2:$D11521) -> 0 | E36: ="Conc: "&TEXT(MIN('Samples 384'!$E$2:$E$5761),"#.00")&" - "&TEXT(MAX('Samples 384'!$E$2:$E$5761),"#.00")&", Vol: "&TEXT(MIN('Samples 384'!$F$2:$F$5761),"#.00")&" - "&TEXT(MAX('Samples 384'!$F$2:$F$5761),"#.00") -> Conc: .00 - .00, Vol: .00 - .00
A37: Sample tubes | C37: - | D37: =4999-COUNTBLANK('Samples tubes'!$D$2:$D$5000) -> 0 | E37: ="Conc: "&TEXT(MIN('Samples tubes'!$E$2:$E$5761),"#.00")&" - "&TEXT(MAX('Samples tubes'!$E$2:$E$5761),"#.00")&", Vol: "&TEXT(MIN('Samples tubes'!$F$2:$F$5761),"#.00")&" - "&TEXT(MAX('Samples tubes'!$F$2:$F$5761),"#.00") -> Conc: .00 - .00, Vol: .00 - .00
B40: Enter specific return adress if appropriate!
A41: Name:
A42: Address:
A43: Address:
A44: Street address:
A45: Postal code, City:
A46: Country:
A47: Email:
A48: Phone:
A51: SNP&SEQ Technology Platform notes
A52: Arrival of samples: | C52: Date | E52: Comment
A53: Samples arrived and unpacked:
A54: Comment:
A55: Checked against Sample Submission form:
A56: Comment:
A58: E-mail confirmation sent to customer:
A59: Enter In-house sample prefix:
A60: Measurement of concentration: | C60: Use drop-down list

Sheet Individuals
A1: Individual | B1: Father | C1: Mother | D1: Sex | E1: Note!: Sex must be given as male or female. Father and Mother for an Individual shall only be included when one or both parental individuals are included for genotyping

Sheet Samples 96
A1: Plate | B1: PlatePos | C1: Individual | D1: Sample | E1: Conc ng/μl | F1: Vol μl (< 80μl) | G1: Comment | H1: =IF(AH1=1,"Volume out of range 20 µl to 80 ul is accepted. Please contact the SNP&SEQ Technology Platform for guidance!"," ") | V1: StartRow | W1: 4 | Z1: To text | AA1: PlateIndex | AB1: N_Blanks | AC1: ShowPlate | AD1: =MATCH(AF1,AE:AE,0) -> #N/A | AF1: 1 | AG1: CheckVolumes | AH1: =IF(COUNTIF(INDEX($1:$1048576,2,6):INDEX($1:$1048576,5761,6),"<20")+COUNTIF(INDEX($1:$1048576,2,6):INDEX($1:$1048576,5761,6),">80")>0,1,0) -> 0
A2: 1 | B2: A1 | V2: PanelHeight | W2: 13 | Z2: =IF(LEN(INDEX($1:$1048576,ROW(),4))>0,INDEX($1:$1048576,ROW(),4)," ") | AD2: =MATCH(AF2,AE:AE,0) -> #N/A | AE2: =IF(COUNTBLANK(D2)=0,A2) -> FALSE | AF2: 2 | AG2: 20
A3: 1 | B3: B1 | I3: =IF(AC4=1,"Plate "&TEXT(AA4+1,"0"),"") | V3: WellsInPlate | W3: 96 | Z3: =IF(LEN(INDEX($1:$1048576,ROW(),4))>0,INDEX($1:$1048576,ROW(),4)," ") | AD3: =MATCH(AF3,AE:AE,0) -> #N/A | AE3: =IF(COUNTBLANK(D3)=0,A3) -> FALSE | AF3: 3 | AG3: 81
A4: 1 | B4: C1 | I4: =IF($AC4=1,"1","") | J4: =IF($AC4=1,"2","") | K4: =IF($AC4=1,"3","") | L4: =IF($AC4=1,"4","") | M4: =IF($AC4=1,"5","") | N4: =IF($AC4=1,"6","") | O4: =IF($AC4=1,"7","") | P4: =IF($AC4=1,"8","") | Q4: =IF($AC4=1,"9","") | R4: =IF($AC4=1,"10","") | S4: =IF($AC4=1,"11","") | T4: =IF($AC4=1,"12","") | Z4: =IF(LEN(INDEX($1:$1048576,ROW(),4))>0,INDEX($1:$1048576,ROW(),4)," ") | AA4: =CEILING((ROW()-StartRow+1)/PanelHeight,1)-1 -> 0 | AB4: =COUNTBLANK(OFFSET(INDEX($1:$1048576,2,4),AA4*WellsInPlate,0,WellsInPlate,1)) -> 96 | AC4: =IF(AB4=WellsInPlate,0,1) -> 0 | AD4: =MATCH(AF4,AE:AE,0) -> #N/A | AE4: =IF(COUNTBLANK(D4)=0,A4) -> FALSE | AF4: 4
A5: 1 | B5: D1 | H5: =IF(AC5=1,"A","") | I5: =OFFSET($Z$2,ROW()-StartRow-1-$AA5*PanelHeight+$AA5*WellsInPlate+(COLUMN()-9)*8,0,1,1) | J5: =OFFSET($Z$2,ROW()-StartRow-1-$AA5*PanelHeight+$AA5*WellsInPlate+(COLUMN()-9)*8,0,1,1) | K5: =OFFSET($Z$2,ROW()-StartRow-1-$AA5*PanelHeight+$AA5*WellsInPlate+(COLUMN()-9)*8,0,1,1) | L5: =OFFSET($Z$2,ROW()-StartRow-1-$AA5*PanelHeight+$AA5*WellsInPlate+(COLUMN()-9)*8,0,1,1) | M5: =OFFSET($Z$2,ROW()-StartRow-1-$AA5*PanelHeight+$AA5*WellsInPlate+(COLUMN()-9)*8,0,1,1) | N5: =OFFSET($Z$2,ROW()-StartRow-1-$AA5*PanelHeight+$AA5*WellsInPlate+(COLUMN()-9)*8,0,1,1) | O5: =OFFSET($Z$2,ROW()-StartRow-1-$AA5*PanelHeight+$AA5*WellsInPlate+(COLUMN()-9)*8,0,1,1) | P5: =OFFSET($Z$2,ROW()-StartRow-1-$AA5*PanelHeight+$AA5*WellsInPlate+(COLUMN()-9)*8,0,1,1) | ... T5: =OFFSET($Z$2,ROW()-StartRow-1-$AA5*PanelHeight+$AA5*WellsInPlate+(COLUMN()-9)*8,0,1,1) | Z5: =IF(LEN(INDEX($1:$1048576,ROW(),4))>0,INDEX($1:$1048576,ROW(),4)," ") | AA5: =CEILING((ROW()-StartRow+1)/PanelHeight,1)-1 -> 0 | AB5: =COUNTBLANK(OFFSET(INDEX($1:$1048576,2,4),AA5*WellsInPlate,0,WellsInPlate,1)) -> 96 | AC5: =IF(AB5=WellsInPlate,0,1) -> 0 | AD5: =MATCH(AF5,AE:AE,0) -> #N/A | AE5: =IF(COUNTBLANK(D5)=0,A5) -> FALSE | AF5: 5
A6: 1 | B6: E1 | H6: =IF(AC6=1,"B","") | I6: =OFFSET($Z$2,ROW()-StartRow-1-$AA6*PanelHeight+$AA6*WellsInPlate+(COLUMN()-9)*8,0,1,1) | J6: =OFFSET($Z$2,ROW()-StartRow-1-$AA6*PanelHeight+$AA6*WellsInPlate+(COLUMN()-9)*8,0,1,1) | K6: =OFFSET($Z$2,ROW()-StartRow-1-$AA6*PanelHeight+$AA6*WellsInPlate+(COLUMN()-9)*8,0,1,1) | L6: =OFFSET($Z$2,ROW()-StartRow-1-$AA6*PanelHeight+$AA6*WellsInPlate+(COLUMN()-9)*8,0,1,1) | M6: =OFFSET($Z$2,ROW()-StartRow-1-$AA6*PanelHeight+$AA6*WellsInPlate+(COLUMN()-9)*8,0,1,1) | N6: =OFFSET($Z$2,ROW()-StartRow-1-$AA6*PanelHeight+$AA6*WellsInPlate+(COLUMN()-9)*8,0,1,1) | O6: =OFFSET($Z$2,ROW()-StartRow-1-$AA6*PanelHeight+$AA6*WellsInPlate+(COLUMN()-9)*8,0,1,1) | P6: =OFFSET($Z$2,ROW()-StartRow-1-$AA6*PanelHeight+$AA6*WellsInPlate+(COLUMN()-9)*8,0,1,1) | ... T6: =OFFSET($Z$2,ROW()-StartRow-1-$AA6*PanelHeight+$AA6*WellsInPlate+(COLUMN()-9)*8,0,1,1) | Z6: =IF(LEN(INDEX($1:$1048576,ROW(),4))>0,INDEX($1:$1048576,ROW(),4)," ") | AA6: =CEILING((ROW()-StartRow+1)/PanelHeight,1)-1 -> 0 | AB6: =COUNTBLANK(OFFSET(INDEX($1:$1048576,2,4),AA6*WellsInPlate,0,WellsInPlate,1)) -> 96 | AC6: =IF(AB6=WellsInPlate,0,1) -> 0 | AD6: =MATCH(AF6,AE:AE,0) -> #N/A | AE6: =IF(COUNTBLANK(D6)=0,A6) -> FALSE | AF6: 6
A7: 1 | B7: F1 | H7: =IF(AC7=1,"C","") | I7: =OFFSET($Z$2,ROW()-StartRow-1-$AA7*PanelHeight+$AA7*WellsInPlate+(COLUMN()-9)*8,0,1,1) | J7: =OFFSET($Z$2,ROW()-StartRow-1-$AA7*PanelHeight+$AA7*WellsInPlate+(COLUMN()-9)*8,0,1,1) | K7: =OFFSET($Z$2,ROW()-StartRow-1-$AA7*PanelHeight+$AA7*WellsInPlate+(COLUMN()-9)*8,0,1,1) | L7: =OFFSET($Z$2,ROW()-StartRow-1-$AA7*PanelHeight+$AA7*WellsInPlate+(COLUMN()-9)*8,0,1,1) | M7: =OFFSET($Z$2,ROW()-StartRow-1-$AA7*PanelHeight+$AA7*WellsInPlate+(COLUMN()-9)*8,0,1,1) | N7: =OFFSET($Z$2,ROW()-StartRow-1-$AA7*PanelHeight+$AA7*WellsInPlate+(COLUMN()-9)*8,0,1,1) | O7: =OFFSET($Z$2,ROW()-StartRow-1-$AA7*PanelHeight+$AA7*WellsInPlate+(COLUMN()-9)*8,0,1,1) | P7: =OFFSET($Z$2,ROW()-StartRow-1-$AA7*PanelHeight+$AA7*WellsInPlate+(COLUMN()-9)*8,0,1,1) | ... T7: =OFFSET($Z$2,ROW()-StartRow-1-$AA7*PanelHeight+$AA7*WellsInPlate+(COLUMN()-9)*8,0,1,1) | Z7: =IF(LEN(INDEX($1:$1048576,ROW(),4))>0,INDEX($1:$1048576,ROW(),4)," ") | AA7: =CEILING((ROW()-StartRow+1)/PanelHeight,1)-1 -> 0 | AB7: =COUNTBLANK(OFFSET(INDEX($1:$1048576,2,4),AA7*WellsInPlate,0,WellsInPlate,1)) -> 96 | AC7: =IF(AB7=WellsInPlate,0,1) -> 0 | AD7: =MATCH(AF7,AE:AE,0) -> #N/A | AE7: =IF(COUNTBLANK(D7)=0,A7) -> FALSE | AF7: 7
A8: 1 | B8: G1 | H8: =IF(AC8=1,"D","") | I8: =OFFSET($Z$2,ROW()-StartRow-1-$AA8*PanelHeight+$AA8*WellsInPlate+(COLUMN()-9)*8,0,1,1) | J8: =OFFSET($Z$2,ROW()-StartRow-1-$AA8*PanelHeight+$AA8*WellsInPlate+(COLUMN()-9)*8,0,1,1) | K8: =OFFSET($Z$2,ROW()-StartRow-1-$AA8*PanelHeight+$AA8*WellsInPlate+(COLUMN()-9)*8,0,1,1) | L8: =OFFSET($Z$2,ROW()-StartRow-1-$AA8*PanelHeight+$AA8*WellsInPlate+(COLUMN()-9)*8,0,1,1) | M8: =OFFSET($Z$2,ROW()-StartRow-1-$AA8*PanelHeight+$AA8*WellsInPlate+(COLUMN()-9)*8,0,1,1) | N8: =OFFSET($Z$2,ROW()-StartRow-1-$AA8*PanelHeight+$AA8*WellsInPlate+(COLUMN()-9)*8,0,1,1) | O8: =OFFSET($Z$2,ROW()-StartRow-1-$AA8*PanelHeight+$AA8*WellsInPlate+(COLUMN()-9)*8,0,1,1) | P8: =OFFSET($Z$2,ROW()-StartRow-1-$AA8*PanelHeight+$AA8*WellsInPlate+(COLUMN()-9)*8,0,1,1) | ... T8: =OFFSET($Z$2,ROW()-StartRow-1-$AA8*PanelHeight+$AA8*WellsInPlate+(COLUMN()-9)*8,0,1,1) | Z8: =IF(LEN(INDEX($1:$1048576,ROW(),4))>0,INDEX($1:$1048576,ROW(),4)," ") | AA8: =CEILING((ROW()-StartRow+1)/PanelHeight,1)-1 -> 0 | AB8: =COUNTBLANK(OFFSET(INDEX($1:$1048576,2,4),AA8*WellsInPlate,0,WellsInPlate,1)) -> 96 | AC8: =IF(AB8=WellsInPlate,0,1) -> 0 | AD8: =MATCH(AF8,AE:AE,0) -> #N/A | AE8: =IF(COUNTBLANK(D8)=0,A8) -> FALSE | AF8: 8
A9: 1 | B9: H1 | H9: =IF(AC9=1,"E","") | I9: =OFFSET($Z$2,ROW()-StartRow-1-$AA9*PanelHeight+$AA9*WellsInPlate+(COLUMN()-9)*8,0,1,1) | J9: =OFFSET($Z$2,ROW()-StartRow-1-$AA9*PanelHeight+$AA9*WellsInPlate+(COLUMN()-9)*8,0,1,1) | K9: =OFFSET($Z$2,ROW()-StartRow-1-$AA9*PanelHeight+$AA9*WellsInPlate+(COLUMN()-9)*8,0,1,1) | L9: =OFFSET($Z$2,ROW()-StartRow-1-$AA9*PanelHeight+$AA9*WellsInPlate+(COLUMN()-9)*8,0,1,1) | M9: =OFFSET($Z$2,ROW()-StartRow-1-$AA9*PanelHeight+$AA9*WellsInPlate+(COLUMN()-9)*8,0,1,1) | N9: =OFFSET($Z$2,ROW()-StartRow-1-$AA9*PanelHeight+$AA9*WellsInPlate+(COLUMN()-9)*8,0,1,1) | O9: =OFFSET($Z$2,ROW()-StartRow-1-$AA9*PanelHeight+$AA9*WellsInPlate+(COLUMN()-9)*8,0,1,1) | P9: =OFFSET($Z$2,ROW()-StartRow-1-$AA9*PanelHeight+$AA9*WellsInPlate+(COLUMN()-9)*8,0,1,1) | ... T9: =OFFSET($Z$2,ROW()-StartRow-1-$AA9*PanelHeight+$AA9*WellsInPlate+(COLUMN()-9)*8,0,1,1) | Z9: =IF(LEN(INDEX($1:$1048576,ROW(),4))>0,INDEX($1:$1048576,ROW(),4)," ") | AA9: =CEILING((ROW()-StartRow+1)/PanelHeight,1)-1 -> 0 | AB9: =COUNTBLANK(OFFSET(INDEX($1:$1048576,2,4),AA9*WellsInPlate,0,WellsInPlate,1)) -> 96 | AC9: =IF(AB9=WellsInPlate,0,1) -> 0 | AD9: =MATCH(AF9,AE:AE,0) -> #N/A | AE9: =IF(COUNTBLANK(D9)=0,A9) -> FALSE | AF9: 9
A10: 1 | B10: A2 | H10: =IF(AC10=1,"F","") | I10: =OFFSET($Z$2,ROW()-StartRow-1-$AA10*PanelHeight+$AA10*WellsInPlate+(COLUMN()-9)*8,0,1,1) | J10: =OFFSET($Z$2,ROW()-StartRow-1-$AA10*PanelHeight+$AA10*WellsInPlate+(COLUMN()-9)*8,0,1,1) | K10: =OFFSET($Z$2,ROW()-StartRow-1-$AA10*PanelHeight+$AA10*WellsInPlate+(COLUMN()-9)*8,0,1,1) | L10: =OFFSET($Z$2,ROW()-StartRow-1-$AA10*PanelHeight+$AA10*WellsInPlate+(COLUMN()-9)*8,0,1,1) | M10: =OFFSET($Z$2,ROW()-StartRow-1-$AA10*PanelHeight+$AA10*WellsInPlate+(COLUMN()-9)*8,0,1,1) | N10: =OFFSET($Z$2,ROW()-StartRow-1-$AA10*PanelHeight+$AA10*WellsInPlate+(COLUMN()-9)*8,0,1,1) | O10: =OFFSET($Z$2,ROW()-StartRow-1-$AA10*PanelHeight+$AA10*WellsInPlate+(COLUMN()-9)*8,0,1,1) | P10: =OFFSET($Z$2,ROW()-StartRow-1-$AA10*PanelHeight+$AA10*WellsInPlate+(COLUMN()-9)*8,0,1,1) | ... T10: =OFFSET($Z$2,ROW()-StartRow-1-$AA10*PanelHeight+$AA10*WellsInPlate+(COLUMN()-9)*8,0,1,1) | Z10: =IF(LEN(INDEX($1:$1048576,ROW(),4))>0,INDEX($1:$1048576,ROW(),4)," ") | AA10: =CEILING((ROW()-StartRow+1)/PanelHeight,1)-1 -> 0 | AB10: =COUNTBLANK(OFFSET(INDEX($1:$1048576,2,4),AA10*WellsInPlate,0,WellsInPlate,1)) -> 96 | AC10: =IF(AB10=WellsInPlate,0,1) -> 0 | AD10: =MATCH(AF10,AE:AE,0) -> #N/A | AE10: =IF(COUNTBLANK(D10)=0,A10) -> FALSE | AF10: 10
A11: 1 | B11: B2 | H11: =IF(AC11=1,"G","") | I11: =OFFSET($Z$2,ROW()-StartRow-1-$AA11*PanelHeight+$AA11*WellsInPlate+(COLUMN()-9)*8,0,1,1) | J11: =OFFSET($Z$2,ROW()-StartRow-1-$AA11*PanelHeight+$AA11*WellsInPlate+(COLUMN()-9)*8,0,1,1) | K11: =OFFSET($Z$2,ROW()-StartRow-1-$AA11*PanelHeight+$AA11*WellsInPlate+(COLUMN()-9)*8,0,1,1) | L11: =OFFSET($Z$2,ROW()-StartRow-1-$AA11*PanelHeight+$AA11*WellsInPlate+(COLUMN()-9)*8,0,1,1) | M11: =OFFSET($Z$2,ROW()-StartRow-1-$AA11*PanelHeight+$AA11*WellsInPlate+(COLUMN()-9)*8,0,1,1) | N11: =OFFSET($Z$2,ROW()-StartRow-1-$AA11*PanelHeight+$AA11*WellsInPlate+(COLUMN()-9)*8,0,1,1) | O11: =OFFSET($Z$2,ROW()-StartRow-1-$AA11*PanelHeight+$AA11*WellsInPlate+(COLUMN()-9)*8,0,1,1) | P11: =OFFSET($Z$2,ROW()-StartRow-1-$AA11*PanelHeight+$AA11*WellsInPlate+(COLUMN()-9)*8,0,1,1) | ... T11: =OFFSET($Z$2,ROW()-StartRow-1-$AA11*PanelHeight+$AA11*WellsInPlate+(COLUMN()-9)*8,0,1,1) | Z11: =IF(LEN(INDEX($1:$1048576,ROW(),4))>0,INDEX($1:$1048576,ROW(),4)," ") | AA11: =CEILING((ROW()-StartRow+1)/PanelHeight,1)-1 -> 0 | AB11: =COUNTBLANK(OFFSET(INDEX($1:$1048576,2,4),AA11*WellsInPlate,0,WellsInPlate,1)) -> 96 | AC11: =IF(AB11=WellsInPlate,0,1) -> 0 | AD11: =MATCH(AF11,AE:AE,0) -> #N/A | AE11: =IF(COUNTBLANK(D11)=0,A11) -> FALSE | AF11: 11
A12: 1 | B12: C2 | H12: =IF(AC12=1,"H","") | I12: =OFFSET($Z$2,ROW()-StartRow-1-$AA12*PanelHeight+$AA12*WellsInPlate+(COLUMN()-9)*8,0,1,1) | J12: =OFFSET($Z$2,ROW()-StartRow-1-$AA12*PanelHeight+$AA12*WellsInPlate+(COLUMN()-9)*8,0,1,1) | K12: =OFFSET($Z$2,ROW()-StartRow-1-$AA12*PanelHeight+$AA12*WellsInPlate+(COLUMN()-9)*8,0,1,1) | L12: =OFFSET($Z$2,ROW()-StartRow-1-$AA12*PanelHeight+$AA12*WellsInPlate+(COLUMN()-9)*8,0,1,1) | M12: =OFFSET($Z$2,ROW()-StartRow-1-$AA12*PanelHeight+$AA12*WellsInPlate+(COLUMN()-9)*8,0,1,1) | N12: =OFFSET($Z$2,ROW()-StartRow-1-$AA12*PanelHeight+$AA12*WellsInPlate+(COLUMN()-9)*8,0,1,1) | O12: =OFFSET($Z$2,ROW()-StartRow-1-$AA12*PanelHeight+$AA12*WellsInPlate+(COLUMN()-9)*8,0,1,1) | P12: =OFFSET($Z$2,ROW()-StartRow-1-$AA12*PanelHeight+$AA12*WellsInPlate+(COLUMN()-9)*8,0,1,1) | ... T12: =OFFSET($Z$2,ROW()-StartRow-1-$AA12*PanelHeight+$AA12*WellsInPlate+(COLUMN()-9)*8,0,1,1) | Z12: =IF(LEN(INDEX($1:$1048576,ROW(),4))>0,INDEX($1:$1048576,ROW(),4)," ") | AA12: =CEILING((ROW()-StartRow+1)/PanelHeight,1)-1 -> 0 | AB12: =COUNTBLANK(OFFSET(INDEX($1:$1048576,2,4),AA12*WellsInPlate,0,WellsInPlate,1)) -> 96 | AC12: =IF(AB12=WellsInPlate,0,1) -> 0 | AD12: =MATCH(AF12,AE:AE,0) -> #N/A | AE12: =IF(COUNTBLANK(D12)=0,A12) -> FALSE | AF12: 12
A13: 1 | B13: D2 | Z13: =IF(LEN(INDEX($1:$1048576,ROW(),4))>0,INDEX($1:$1048576,ROW(),4)," ") | AA13: =CEILING((ROW()-StartRow+1)/PanelHeight,1)-1 -> 0 | AB13: =COUNTBLANK(OFFSET(INDEX($1:$1048576,2,4),AA13*WellsInPlate,0,WellsInPlate,1)) -> 96 | AC13: =IF(AB13=WellsInPlate,0,1) -> 0 | AD13: =MATCH(AF13,AE:AE,0) -> #N/A | AE13: =IF(COUNTBLANK(D13)=0,A13) -> FALSE | AF13: 13
A14: 1 | B14: E2 | Z14: =IF(LEN(INDEX($1:$1048576,ROW(),4))>0,INDEX($1:$1048576,ROW(),4)," ") | AA14: =CEILING((ROW()-StartRow+1)/PanelHeight,1)-1 -> 0 | AB14: =COUNTBLANK(OFFSET(INDEX($1:$1048576,2,4),AA14*WellsInPlate,0,WellsInPlate,1)) -> 96 | AC14: =IF(AB14=WellsInPlate,0,1) -> 0 | AD14: =MATCH(AF14,AE:AE,0) -> #N/A | AE14: =IF(COUNTBLANK(D14)=0,A14) -> FALSE | AF14: 14
A15: 1 | B15: F2 | Z15: =IF(LEN(INDEX($1:$1048576,ROW(),4))>0,INDEX($1:$1048576,ROW(),4)," ") | AA15: =CEILING((ROW()-StartRow+1)/PanelHeight,1)-1 -> 0 | AB15: =COUNTBLANK(OFFSET(INDEX($1:$1048576,2,4),AA15*WellsInPlate,0,WellsInPlate,1)) -> 96 | AC15: =IF(AB15=WellsInPlate,0,1) -> 0 | AD15: =MATCH(AF15,AE:AE,0) -> #N/A | AE15: =IF(COUNTBLANK(D15)=0,A15) -> FALSE | AF15: 15
A16: 1 | B16: G2 | I16: =IF(AC17=1,"Plate "&TEXT(AA17+1,"0"),"") | Z16: =IF(LEN(INDEX($1:$1048576,ROW(),4))>0,INDEX($1:$1048576,ROW(),4)," ") | AA16: =CEILING((ROW()-StartRow+1)/PanelHeight,1)-1 -> 0 | AB16: =COUNTBLANK(OFFSET(INDEX($1:$1048576,2,4),AA16*WellsInPlate,0,WellsInPlate,1)) -> 96 | AC16: =IF(AB16=WellsInPlate,0,1) -> 0 | AD16: =MATCH(AF16,AE:AE,0) -> #N/A | AE16: =IF(COUNTBLANK(D16)=0,A16) -> FALSE | AF16: 16
A17: 1 | B17: H2 | I17: =IF($AC17=1,"1","") | J17: =IF($AC17=1,"2","") | K17: =IF($AC17=1,"3","") | L17: =IF($AC17=1,"4","") | M17: =IF($AC17=1,"5","") | N17: =IF($AC17=1,"6","") | O17: =IF($AC17=1,"7","") | P17: =IF($AC17=1,"8","") | Q17: =IF($AC17=1,"9","") | R17: =IF($AC17=1,"10","") | S17: =IF($AC17=1,"11","") | T17: =IF($AC17=1,"12","") | Z17: =IF(LEN(INDEX($1:$1048576,ROW(),4))>0,INDEX($1:$1048576,ROW(),4)," ") | AA17: =CEILING((ROW()-StartRow+1)/PanelHeight,1)-1 -> 1 | AB17: =COUNTBLANK(OFFSET(INDEX($1:$1048576,2,4),AA17*WellsInPlate,0,WellsInPlate,1)) -> 96 | AC17: =IF(AB17=WellsInPlate,0,1) -> 0 | AD17: =MATCH(AF17,AE:AE,0) -> #N/A | AE17: =IF(COUNTBLANK(D17)=0,A17) -> FALSE | AF17: 17
A18: 1 | B18: A3 | H18: =IF(AC18=1,"A","") | I18: =OFFSET($Z$2,ROW()-StartRow-1-$AA18*PanelHeight+$AA18*WellsInPlate+(COLUMN()-9)*8,0,1,1) | J18: =OFFSET($Z$2,ROW()-StartRow-1-$AA18*PanelHeight+$AA18*WellsInPlate+(COLUMN()-9)*8,0,1,1) | K18: =OFFSET($Z$2,ROW()-StartRow-1-$AA18*PanelHeight+$AA18*WellsInPlate+(COLUMN()-9)*8,0,1,1) | L18: =OFFSET($Z$2,ROW()-StartRow-1-$AA18*PanelHeight+$AA18*WellsInPlate+(COLUMN()-9)*8,0,1,1) | M18: =OFFSET($Z$2,ROW()-StartRow-1-$AA18*PanelHeight+$AA18*WellsInPlate+(COLUMN()-9)*8,0,1,1) | N18: =OFFSET($Z$2,ROW()-StartRow-1-$AA18*PanelHeight+$AA18*WellsInPlate+(COLUMN()-9)*8,0,1,1) | O18: =OFFSET($Z$2,ROW()-StartRow-1-$AA18*PanelHeight+$AA18*WellsInPlate+(COLUMN()-9)*8,0,1,1) | P18: =OFFSET($Z$2,ROW()-StartRow-1-$AA18*PanelHeight+$AA18*WellsInPlate+(COLUMN()-9)*8,0,1,1) | ... T18: =OFFSET($Z$2,ROW()-StartRow-1-$AA18*PanelHeight+$AA18*WellsInPlate+(COLUMN()-9)*8,0,1,1) | Z18: =IF(LEN(INDEX($1:$1048576,ROW(),4))>0,INDEX($1:$1048576,ROW(),4)," ") | AA18: =CEILING((ROW()-StartRow+1)/PanelHeight,1)-1 -> 1 | AB18: =COUNTBLANK(OFFSET(INDEX($1:$1048576,2,4),AA18*WellsInPlate,0,WellsInPlate,1)) -> 96 | AC18: =IF(AB18=WellsInPlate,0,1) -> 0 | AD18: =MATCH(AF18,AE:AE,0) -> #N/A | AE18: =IF(COUNTBLANK(D18)=0,A18) -> FALSE | AF18: 18
A19: 1 | B19: B3 | H19: =IF(AC19=1,"B","") | I19: =OFFSET($Z$2,ROW()-StartRow-1-$AA19*PanelHeight+$AA19*WellsInPlate+(COLUMN()-9)*8,0,1,1) | J19: =OFFSET($Z$2,ROW()-StartRow-1-$AA19*PanelHeight+$AA19*WellsInPlate+(COLUMN()-9)*8,0,1,1) | K19: =OFFSET($Z$2,ROW()-StartRow-1-$AA19*PanelHeight+$AA19*WellsInPlate+(COLUMN()-9)*8,0,1,1) | L19: =OFFSET($Z$2,ROW()-StartRow-1-$AA19*PanelHeight+$AA19*WellsInPlate+(COLUMN()-9)*8,0,1,1) | M19: =OFFSET($Z$2,ROW()-StartRow-1-$AA19*PanelHeight+$AA19*WellsInPlate+(COLUMN()-9)*8,0,1,1) | N19: =OFFSET($Z$2,ROW()-StartRow-1-$AA19*PanelHeight+$AA19*WellsInPlate+(COLUMN()-9)*8,0,1,1) | O19: =OFFSET($Z$2,ROW()-StartRow-1-$AA19*PanelHeight+$AA19*WellsInPlate+(COLUMN()-9)*8,0,1,1) | P19: =OFFSET($Z$2,ROW()-StartRow-1-$AA19*PanelHeight+$AA19*WellsInPlate+(COLUMN()-9)*8,0,1,1) | ... T19: =OFFSET($Z$2,ROW()-StartRow-1-$AA19*PanelHeight+$AA19*WellsInPlate+(COLUMN()-9)*8,0,1,1) | Z19: =IF(LEN(INDEX($1:$1048576,ROW(),4))>0,INDEX($1:$1048576,ROW(),4)," ") | AA19: =CEILING((ROW()-StartRow+1)/PanelHeight,1)-1 -> 1 | AB19: =COUNTBLANK(OFFSET(INDEX($1:$1048576,2,4),AA19*WellsInPlate,0,WellsInPlate,1)) -> 96 | AC19: =IF(AB19=WellsInPlate,0,1) -> 0 | AD19: =MATCH(AF19,AE:AE,0) -> #N/A | AE19: =IF(COUNTBLANK(D19)=0,A19) -> FALSE | AF19: 19
A20: 1 | B20: C3 | H20: =IF(AC20=1,"C","") | I20: =OFFSET($Z$2,ROW()-StartRow-1-$AA20*PanelHeight+$AA20*WellsInPlate+(COLUMN()-9)*8,0,1,1) | J20: =OFFSET($Z$2,ROW()-StartRow-1-$AA20*PanelHeight+$AA20*WellsInPlate+(COLUMN()-9)*8,0,1,1) | K20: =OFFSET($Z$2,ROW()-StartRow-1-$AA20*PanelHeight+$AA20*WellsInPlate+(COLUMN()-9)*8,0,1,1) | L20: =OFFSET($Z$2,ROW()-StartRow-1-$AA20*PanelHeight+$AA20*WellsInPlate+(COLUMN()-9)*8,0,1,1) | M20: =OFFSET($Z$2,ROW()-StartRow-1-$AA20*PanelHeight+$AA20*WellsInPlate+(COLUMN()-9)*8,0,1,1) | N20: =OFFSET($Z$2,ROW()-StartRow-1-$AA20*PanelHeight+$AA20*WellsInPlate+(COLUMN()-9)*8,0,1,1) | O20: =OFFSET($Z$2,ROW()-StartRow-1-$AA20*PanelHeight+$AA20*WellsInPlate+(COLUMN()-9)*8,0,1,1) | P20: =OFFSET($Z$2,ROW()-StartRow-1-$AA20*PanelHeight+$AA20*WellsInPlate+(COLUMN()-9)*8,0,1,1) | ... T20: =OFFSET($Z$2,ROW()-StartRow-1-$AA20*PanelHeight+$AA20*WellsInPlate+(COLUMN()-9)*8,0,1,1) | Z20: =IF(LEN(INDEX($1:$1048576,ROW(),4))>0,INDEX($1:$1048576,ROW(),4)," ") | AA20: =CEILING((ROW()-StartRow+1)/PanelHeight,1)-1 -> 1 | AB20: =COUNTBLANK(OFFSET(INDEX($1:$1048576,2,4),AA20*WellsInPlate,0,WellsInPlate,1)) -> 96 | AC20: =IF(AB20=WellsInPlate,0,1) -> 0 | AD20: =MATCH(AF20,AE:AE,0) -> #N/A | AE20: =IF(COUNTBLANK(D20)=0,A20) -> FALSE | AF20: 20
A21: 1 | B21: D3 | H21: =IF(AC21=1,"D","") | I21: =OFFSET($Z$2,ROW()-StartRow-1-$AA21*PanelHeight+$AA21*WellsInPlate+(COLUMN()-9)*8,0,1,1) | J21: =OFFSET($Z$2,ROW()-StartRow-1-$AA21*PanelHeight+$AA21*WellsInPlate+(COLUMN()-9)*8,0,1,1) | K21: =OFFSET($Z$2,ROW()-StartRow-1-$AA21*PanelHeight+$AA21*WellsInPlate+(COLUMN()-9)*8,0,1,1) | L21: =OFFSET($Z$2,ROW()-StartRow-1-$AA21*PanelHeight+$AA21*WellsInPlate+(COLUMN()-9)*8,0,1,1) | M21: =OFFSET($Z$2,ROW()-StartRow-1-$AA21*PanelHeight+$AA21*WellsInPlate+(COLUMN()-9)*8,0,1,1) | N21: =OFFSET($Z$2,ROW()-StartRow-1-$AA21*PanelHeight+$AA21*WellsInPlate+(COLUMN()-9)*8,0,1,1) | O21: =OFFSET($Z$2,ROW()-StartRow-1-$AA21*PanelHeight+$AA21*WellsInPlate+(COLUMN()-9)*8,0,1,1) | P21: =OFFSET($Z$2,ROW()-StartRow-1-$AA21*PanelHeight+$AA21*WellsInPlate+(COLUMN()-9)*8,0,1,1) | ... T21: =OFFSET($Z$2,ROW()-StartRow-1-$AA21*PanelHeight+$AA21*WellsInPlate+(COLUMN()-9)*8,0,1,1) | Z21: =IF(LEN(INDEX($1:$1048576,ROW(),4))>0,INDEX($1:$1048576,ROW(),4)," ") | AA21: =CEILING((ROW()-StartRow+1)/PanelHeight,1)-1 -> 1 | AB21: =COUNTBLANK(OFFSET(INDEX($1:$1048576,2,4),AA21*WellsInPlate,0,WellsInPlate,1)) -> 96 | AC21: =IF(AB21=WellsInPlate,0,1) -> 0 | AD21: =MATCH(AF21,AE:AE,0) -> #N/A | AE21: =IF(COUNTBLANK(D21)=0,A21) -> FALSE | AF21: 21
A22: 1 | B22: E3 | H22: =IF(AC22=1,"E","") | I22: =OFFSET($Z$2,ROW()-StartRow-1-$AA22*PanelHeight+$AA22*WellsInPlate+(COLUMN()-9)*8,0,1,1) | J22: =OFFSET($Z$2,ROW()-StartRow-1-$AA22*PanelHeight+$AA22*WellsInPlate+(COLUMN()-9)*8,0,1,1) | K22: =OFFSET($Z$2,ROW()-StartRow-1-$AA22*PanelHeight+$AA22*WellsInPlate+(COLUMN()-9)*8,0,1,1) | L22: =OFFSET($Z$2,ROW()-StartRow-1-$AA22*PanelHeight+$AA22*WellsInPlate+(COLUMN()-9)*8,0,1,1) | M22: =OFFSET($Z$2,ROW()-StartRow-1-$AA22*PanelHeight+$AA22*WellsInPlate+(COLUMN()-9)*8,0,1,1) | N22: =OFFSET($Z$2,ROW()-StartRow-1-$AA22*PanelHeight+$AA22*WellsInPlate+(COLUMN()-9)*8,0,1,1) | O22: =OFFSET($Z$2,ROW()-StartRow-1-$AA22*PanelHeight+$AA22*WellsInPlate+(COLUMN()-9)*8,0,1,1) | P22: =OFFSET($Z$2,ROW()-StartRow-1-$AA22*PanelHeight+$AA22*WellsInPlate+(COLUMN()-9)*8,0,1,1) | ... T22: =OFFSET($Z$2,ROW()-StartRow-1-$AA22*PanelHeight+$AA22*WellsInPlate+(COLUMN()-9)*8,0,1,1) | Z22: =IF(LEN(INDEX($1:$1048576,ROW(),4))>0,INDEX($1:$1048576,ROW(),4)," ") | AA22: =CEILING((ROW()-StartRow+1)/PanelHeight,1)-1 -> 1 | AB22: =COUNTBLANK(OFFSET(INDEX($1:$1048576,2,4),AA22*WellsInPlate,0,WellsInPlate,1)) -> 96 | AC22: =IF(AB22=WellsInPlate,0,1) -> 0 | AD22: =MATCH(AF22,AE:AE,0) -> #N/A | AE22: =IF(COUNTBLANK(D22)=0,A22) -> FALSE | AF22: 22
A23: 1 | B23: F3 | H23: =IF(AC23=1,"F","") | I23: =OFFSET($Z$2,ROW()-StartRow-1-$AA23*PanelHeight+$AA23*WellsInPlate+(COLUMN()-9)*8,0,1,1) | J23: =OFFSET($Z$2,ROW()-StartRow-1-$AA23*PanelHeight+$AA23*WellsInPlate+(COLUMN()-9)*8,0,1,1) | K23: =OFFSET($Z$2,ROW()-StartRow-1-$AA23*PanelHeight+$AA23*WellsInPlate+(COLUMN()-9)*8,0,1,1) | L23: =OFFSET($Z$2,ROW()-StartRow-1-$AA23*PanelHeight+$AA23*WellsInPlate+(COLUMN()-9)*8,0,1,1) | M23: =OFFSET($Z$2,ROW()-StartRow-1-$AA23*PanelHeight+$AA23*WellsInPlate+(COLUMN()-9)*8,0,1,1) | N23: =OFFSET($Z$2,ROW()-StartRow-1-$AA23*PanelHeight+$AA23*WellsInPlate+(COLUMN()-9)*8,0,1,1) | O23: =OFFSET($Z$2,ROW()-StartRow-1-$AA23*PanelHeight+$AA23*WellsInPlate+(COLUMN()-9)*8,0,1,1) | P23: =OFFSET($Z$2,ROW()-StartRow-1-$AA23*PanelHeight+$AA23*WellsInPlate+(COLUMN()-9)*8,0,1,1) | ... T23: =OFFSET($Z$2,ROW()-StartRow-1-$AA23*PanelHeight+$AA23*WellsInPlate+(COLUMN()-9)*8,0,1,1) | Z23: =IF(LEN(INDEX($1:$1048576,ROW(),4))>0,INDEX($1:$1048576,ROW(),4)," ") | AA23: =CEILING((ROW()-StartRow+1)/PanelHeight,1)-1 -> 1 | AB23: =COUNTBLANK(OFFSET(INDEX($1:$1048576,2,4),AA23*WellsInPlate,0,WellsInPlate,1)) -> 96 | AC23: =IF(AB23=WellsInPlate,0,1) -> 0 | AD23: =MATCH(AF23,AE:AE,0) -> #N/A | AE23: =IF(COUNTBLANK(D23)=0,A23) -> FALSE | AF23: 23
A24: 1 | B24: G3 | H24: =IF(AC24=1,"G","") | I24: =OFFSET($Z$2,ROW()-StartRow-1-$AA24*PanelHeight+$AA24*WellsInPlate+(COLUMN()-9)*8,0,1,1) | J24: =OFFSET($Z$2,ROW()-StartRow-1-$AA24*PanelHeight+$AA24*WellsInPlate+(COLUMN()-9)*8,0,1,1) | K24: =OFFSET($Z$2,ROW()-StartRow-1-$AA24*PanelHeight+$AA24*WellsInPlate+(COLUMN()-9)*8,0,1,1) | L24: =OFFSET($Z$2,ROW()-StartRow-1-$AA24*PanelHeight+$AA24*WellsInPlate+(COLUMN()-9)*8,0,1,1) | M24: =OFFSET($Z$2,ROW()-StartRow-1-$AA24*PanelHeight+$AA24*WellsInPlate+(COLUMN()-9)*8,0,1,1) | N24: =OFFSET($Z$2,ROW()-StartRow-1-$AA24*PanelHeight+$AA24*WellsInPlate+(COLUMN()-9)*8,0,1,1) | O24: =OFFSET($Z$2,ROW()-StartRow-1-$AA24*PanelHeight+$AA24*WellsInPlate+(COLUMN()-9)*8,0,1,1) | P24: =OFFSET($Z$2,ROW()-StartRow-1-$AA24*PanelHeight+$AA24*WellsInPlate+(COLUMN()-9)*8,0,1,1) | ... T24: =OFFSET($Z$2,ROW()-StartRow-1-$AA24*PanelHeight+$AA24*WellsInPlate+(COLUMN()-9)*8,0,1,1) | Z24: =IF(LEN(INDEX($1:$1048576,ROW(),4))>0,INDEX($1:$1048576,ROW(),4)," ") | AA24: =CEILING((ROW()-StartRow+1)/PanelHeight,1)-1 -> 1 | AB24: =COUNTBLANK(OFFSET(INDEX($1:$1048576,2,4),AA24*WellsInPlate,0,WellsInPlate,1)) -> 96 | AC24: =IF(AB24=WellsInPlate,0,1) -> 0 | AD24: =MATCH(AF24,AE:AE,0) -> #N/A | AE24: =IF(COUNTBLANK(D24)=0,A24) -> FALSE | AF24: 24
A25: 1 | B25: H3 | H25: =IF(AC25=1,"H","") | I25: =OFFSET($Z$2,ROW()-StartRow-1-$AA25*PanelHeight+$AA25*WellsInPlate+(COLUMN()-9)*8,0,1,1) | J25: =OFFSET($Z$2,ROW()-StartRow-1-$AA25*PanelHeight+$AA25*WellsInPlate+(COLUMN()-9)*8,0,1,1) | K25: =OFFSET($Z$2,ROW()-StartRow-1-$AA25*PanelHeight+$AA25*WellsInPlate+(COLUMN()-9)*8,0,1,1) | L25: =OFFSET($Z$2,ROW()-StartRow-1-$AA25*PanelHeight+$AA25*WellsInPlate+(COLUMN()-9)*8,0,1,1) | M25: =OFFSET($Z$2,ROW()-StartRow-1-$AA25*PanelHeight+$AA25*WellsInPlate+(COLUMN()-9)*8,0,1,1) | N25: =OFFSET($Z$2,ROW()-StartRow-1-$AA25*PanelHeight+$AA25*WellsInPlate+(COLUMN()-9)*8,0,1,1) | O25: =OFFSET($Z$2,ROW()-StartRow-1-$AA25*PanelHeight+$AA25*WellsInPlate+(COLUMN()-9)*8,0,1,1) | P25: =OFFSET($Z$2,ROW()-StartRow-1-$AA25*PanelHeight+$AA25*WellsInPlate+(COLUMN()-9)*8,0,1,1) | ... T25: =OFFSET($Z$2,ROW()-StartRow-1-$AA25*PanelHeight+$AA25*WellsInPlate+(COLUMN()-9)*8,0,1,1) | Z25: =IF(LEN(INDEX($1:$1048576,ROW(),4))>0,INDEX($1:$1048576,ROW(),4)," ") | AA25: =CEILING((ROW()-StartRow+1)/PanelHeight,1)-1 -> 1 | AB25: =COUNTBLANK(OFFSET(INDEX($1:$1048576,2,4),AA25*WellsInPlate,0,WellsInPlate,1)) -> 96 | AC25: =IF(AB25=WellsInPlate,0,1) -> 0 | AD25: =MATCH(AF25,AE:AE,0) -> #N/A | AE25: =IF(COUNTBLANK(D25)=0,A25) -> FALSE | AF25: 25
A26: 1 | B26: A4 | Z26: =IF(LEN(INDEX($1:$1048576,ROW(),4))>0,INDEX($1:$1048576,ROW(),4)," ") | AA26: =CEILING((ROW()-StartRow+1)/PanelHeight,1)-1 -> 1 | AB26: =COUNTBLANK(OFFSET(INDEX($1:$1048576,2,4),AA26*WellsInPlate,0,WellsInPlate,1)) -> 96 | AC26: =IF(AB26=WellsInPlate,0,1) -> 0 | AD26: =MATCH(AF26,AE:AE,0) -> #N/A | AE26: =IF(COUNTBLANK(D26)=0,A26) -> FALSE | AF26: 26
A27: 1 | B27: B4 | Z27: =IF(LEN(INDEX($1:$1048576,ROW(),4))>0,INDEX($1:$1048576,ROW(),4)," ") | AA27: =CEILING((ROW()-StartRow+1)/PanelHeight,1)-1 -> 1 | AB27: =COUNTBLANK(OFFSET(INDEX($1:$1048576,2,4),AA27*WellsInPlate,0,WellsInPlate,1)) -> 96 | AC27: =IF(AB27=WellsInPlate,0,1) -> 0 | AD27: =MATCH(AF27,AE:AE,0) -> #N/A | AE27: =IF(COUNTBLANK(D27)=0,A27) -> FALSE | AF27: 27
A28: 1 | B28: C4 | Z28: =IF(LEN(INDEX($1:$1048576,ROW(),4))>0,INDEX($1:$1048576,ROW(),4)," ") | AA28: =CEILING((ROW()-StartRow+1)/PanelHeight,1)-1 -> 1 | AB28: =COUNTBLANK(OFFSET(INDEX($1:$1048576,2,4),AA28*WellsInPlate,0,WellsInPlate,1)) -> 96 | AC28: =IF(AB28=WellsInPlate,0,1) -> 0 | AD28: =MATCH(AF28,AE:AE,0) -> #N/A | AE28: =IF(COUNTBLANK(D28)=0,A28) -> FALSE | AF28: 28
A29: 1 | B29: D4 | I29: =IF(AC30=1,"Plate "&TEXT(AA30+1,"0"),"") | Z29: =IF(LEN(INDEX($1:$1048576,ROW(),4))>0,INDEX($1:$1048576,ROW(),4)," ") | AA29: =CEILING((ROW()-StartRow+1)/PanelHeight,1)-1 -> 1 | AB29: =COUNTBLANK(OFFSET(INDEX($1:$1048576,2,4),AA29*WellsInPlate,0,WellsInPlate,1)) -> 96 | AC29: =IF(AB29=WellsInPlate,0,1) -> 0 | AD29: =MATCH(AF29,AE:AE,0) -> #N/A | AE29: =IF(COUNTBLANK(D29)=0,A29) -> FALSE | AF29: 29
A30: 1 | B30: E4 | I30: =IF($AC30=1,"1","") | J30: =IF($AC30=1,"2","") | K30: =IF($AC30=1,"3","") | L30: =IF($AC30=1,"4","") | M30: =IF($AC30=1,"5","") | N30: =IF($AC30=1,"6","") | O30: =IF($AC30=1,"7","") | P30: =IF($AC30=1,"8","") | Q30: =IF($AC30=1,"9","") | R30: =IF($AC30=1,"10","") | S30: =IF($AC30=1,"11","") | T30: =IF($AC30=1,"12","") | Z30: =IF(LEN(INDEX($1:$1048576,ROW(),4))>0,INDEX($1:$1048576,ROW(),4)," ") | AA30: =CEILING((ROW()-StartRow+1)/PanelHeight,1)-1 -> 2 | AB30: =COUNTBLANK(OFFSET(INDEX($1:$1048576,2,4),AA30*WellsInPlate,0,WellsInPlate,1)) -> 96 | AC30: =IF(AB30=WellsInPlate,0,1) -> 0 | AD30: =MATCH(AF30,AE:AE,0) -> #N/A | AE30: =IF(COUNTBLANK(D30)=0,A30) -> FALSE | AF30: 30
A31: 1 | B31: F4 | H31: =IF(AC31=1,"A","") | I31: =OFFSET($Z$2,ROW()-StartRow-1-$AA31*PanelHeight+$AA31*WellsInPlate+(COLUMN()-9)*8,0,1,1) | J31: =OFFSET($Z$2,ROW()-StartRow-1-$AA31*PanelHeight+$AA31*WellsInPlate+(COLUMN()-9)*8,0,1,1) | K31: =OFFSET($Z$2,ROW()-StartRow-1-$AA31*PanelHeight+$AA31*WellsInPlate+(COLUMN()-9)*8,0,1,1) | L31: =OFFSET($Z$2,ROW()-StartRow-1-$AA31*PanelHeight+$AA31*WellsInPlate+(COLUMN()-9)*8,0,1,1) | M31: =OFFSET($Z$2,ROW()-StartRow-1-$AA31*PanelHeight+$AA31*WellsInPlate+(COLUMN()-9)*8,0,1,1) | N31: =OFFSET($Z$2,ROW()-StartRow-1-$AA31*PanelHeight+$AA31*WellsInPlate+(COLUMN()-9)*8,0,1,1) | O31: =OFFSET($Z$2,ROW()-StartRow-1-$AA31*PanelHeight+$AA31*WellsInPlate+(COLUMN()-9)*8,0,1,1) | P31: =OFFSET($Z$2,ROW()-StartRow-1-$AA31*PanelHeight+$AA31*WellsInPlate+(COLUMN()-9)*8,0,1,1) | ... T31: =OFFSET($Z$2,ROW()-StartRow-1-$AA31*PanelHeight+$AA31*WellsInPlate+(COLUMN()-9)*8,0,1,1) | Z31: =IF(LEN(INDEX($1:$1048576,ROW(),4))>0,INDEX($1:$1048576,ROW(),4)," ") | AA31: =CEILING((ROW()-StartRow+1)/PanelHeight,1)-1 -> 2 | AB31: =COUNTBLANK(OFFSET(INDEX($1:$1048576,2,4),AA31*WellsInPlate,0,WellsInPlate,1)) -> 96 | AC31: =IF(AB31=WellsInPlate,0,1) -> 0 | AD31: =MATCH(AF31,AE:AE,0) -> #N/A | AE31: =IF(COUNTBLANK(D31)=0,A31) -> FALSE | AF31: 31
A32: 1 | B32: G4 | H32: =IF(AC32=1,"B","") | I32: =OFFSET($Z$2,ROW()-StartRow-1-$AA32*PanelHeight+$AA32*WellsInPlate+(COLUMN()-9)*8,0,1,1) | J32: =OFFSET($Z$2,ROW()-StartRow-1-$AA32*PanelHeight+$AA32*WellsInPlate+(COLUMN()-9)*8,0,1,1) | K32: =OFFSET($Z$2,ROW()-StartRow-1-$AA32*PanelHeight+$AA32*WellsInPlate+(COLUMN()-9)*8,0,1,1) | L32: =OFFSET($Z$2,ROW()-StartRow-1-$AA32*PanelHeight+$AA32*WellsInPlate+(COLUMN()-9)*8,0,1,1) | M32: =OFFSET($Z$2,ROW()-StartRow-1-$AA32*PanelHeight+$AA32*WellsInPlate+(COLUMN()-9)*8,0,1,1) | N32: =OFFSET($Z$2,ROW()-StartRow-1-$AA32*PanelHeight+$AA32*WellsInPlate+(COLUMN()-9)*8,0,1,1) | O32: =OFFSET($Z$2,ROW()-StartRow-1-$AA32*PanelHeight+$AA32*WellsInPlate+(COLUMN()-9)*8,0,1,1) | P32: =OFFSET($Z$2,ROW()-StartRow-1-$AA32*PanelHeight+$AA32*WellsInPlate+(COLUMN()-9)*8,0,1,1) | ... T32: =OFFSET($Z$2,ROW()-StartRow-1-$AA32*PanelHeight+$AA32*WellsInPlate+(COLUMN()-9)*8,0,1,1) | Z32: =IF(LEN(INDEX($1:$1048576,ROW(),4))>0,INDEX($1:$1048576,ROW(),4)," ") | AA32: =CEILING((ROW()-StartRow+1)/PanelHeight,1)-1 -> 2 | AB32: =COUNTBLANK(OFFSET(INDEX($1:$1048576,2,4),AA32*WellsInPlate,0,WellsInPlate,1)) -> 96 | AC32: =IF(AB32=WellsInPlate,0,1) -> 0 | AD32: =MATCH(AF32,AE:AE,0) -> #N/A | AE32: =IF(COUNTBLANK(D32)=0,A32) -> FALSE | AF32: 32
A33: 1 | B33: H4 | H33: =IF(AC33=1,"C","") | I33: =OFFSET($Z$2,ROW()-StartRow-1-$AA33*PanelHeight+$AA33*WellsInPlate+(COLUMN()-9)*8,0,1,1) | J33: =OFFSET($Z$2,ROW()-StartRow-1-$AA33*PanelHeight+$AA33*WellsInPlate+(COLUMN()-9)*8,0,1,1) | K33: =OFFSET($Z$2,ROW()-StartRow-1-$AA33*PanelHeight+$AA33*WellsInPlate+(COLUMN()-9)*8,0,1,1) | L33: =OFFSET($Z$2,ROW()-StartRow-1-$AA33*PanelHeight+$AA33*WellsInPlate+(COLUMN()-9)*8,0,1,1) | M33: =OFFSET($Z$2,ROW()-StartRow-1-$AA33*PanelHeight+$AA33*WellsInPlate+(COLUMN()-9)*8,0,1,1) | N33: =OFFSET($Z$2,ROW()-StartRow-1-$AA33*PanelHeight+$AA33*WellsInPlate+(COLUMN()-9)*8,0,1,1) | O33: =OFFSET($Z$2,ROW()-StartRow-1-$AA33*PanelHeight+$AA33*WellsInPlate+(COLUMN()-9)*8,0,1,1) | P33: =OFFSET($Z$2,ROW()-StartRow-1-$AA33*PanelHeight+$AA33*WellsInPlate+(COLUMN()-9)*8,0,1,1) | ... T33: =OFFSET($Z$2,ROW()-StartRow-1-$AA33*PanelHeight+$AA33*WellsInPlate+(COLUMN()-9)*8,0,1,1) | Z33: =IF(LEN(INDEX($1:$1048576,ROW(),4))>0,INDEX($1:$1048576,ROW(),4)," ") | AA33: =CEILING((ROW()-StartRow+1)/PanelHeight,1)-1 -> 2 | AB33: =COUNTBLANK(OFFSET(INDEX($1:$1048576,2,4),AA33*WellsInPlate,0,WellsInPlate,1)) -> 96 | AC33: =IF(AB33=WellsInPlate,0,1) -> 0 | AD33: =MATCH(AF33,AE:AE,0) -> #N/A | AE33: =IF(COUNTBLANK(D33)=0,A33) -> FALSE | AF33: 33
A34: 1 | B34: A5 | H34: =IF(AC34=1,"D","") | I34: =OFFSET($Z$2,ROW()-StartRow-1-$AA34*PanelHeight+$AA34*WellsInPlate+(COLUMN()-9)*8,0,1,1) | J34: =OFFSET($Z$2,ROW()-StartRow-1-$AA34*PanelHeight+$AA34*WellsInPlate+(COLUMN()-9)*8,0,1,1) | K34: =OFFSET($Z$2,ROW()-StartRow-1-$AA34*PanelHeight+$AA34*WellsInPlate+(COLUMN()-9)*8,0,1,1) | L34: =OFFSET($Z$2,ROW()-StartRow-1-$AA34*PanelHeight+$AA34*WellsInPlate+(COLUMN()-9)*8,0,1,1) | M34: =OFFSET($Z$2,ROW()-StartRow-1-$AA34*PanelHeight+$AA34*WellsInPlate+(COLUMN()-9)*8,0,1,1) | N34: =OFFSET($Z$2,ROW()-StartRow-1-$AA34*PanelHeight+$AA34*WellsInPlate+(COLUMN()-9)*8,0,1,1) | O34: =OFFSET($Z$2,ROW()-StartRow-1-$AA34*PanelHeight+$AA34*WellsInPlate+(COLUMN()-9)*8,0,1,1) | P34: =OFFSET($Z$2,ROW()-StartRow-1-$AA34*PanelHeight+$AA34*WellsInPlate+(COLUMN()-9)*8,0,1,1) | ... T34: =OFFSET($Z$2,ROW()-StartRow-1-$AA34*PanelHeight+$AA34*WellsInPlate+(COLUMN()-9)*8,0,1,1) | Z34: =IF(LEN(INDEX($1:$1048576,ROW(),4))>0,INDEX($1:$1048576,ROW(),4)," ") | AA34: =CEILING((ROW()-StartRow+1)/PanelHeight,1)-1 -> 2 | AB34: =COUNTBLANK(OFFSET(INDEX($1:$1048576,2,4),AA34*WellsInPlate,0,WellsInPlate,1)) -> 96 | AC34: =IF(AB34=WellsInPlate,0,1) -> 0 | AD34: =MATCH(AF34,AE:AE,0) -> #N/A | AE34: =IF(COUNTBLANK(D34)=0,A34) -> FALSE | AF34: 34
A35: 1 | B35: B5 | H35: =IF(AC35=1,"E","") | I35: =OFFSET($Z$2,ROW()-StartRow-1-$AA35*PanelHeight+$AA35*WellsInPlate+(COLUMN()-9)*8,0,1,1) | J35: =OFFSET($Z$2,ROW()-StartRow-1-$AA35*PanelHeight+$AA35*WellsInPlate+(COLUMN()-9)*8,0,1,1) | K35: =OFFSET($Z$2,ROW()-StartRow-1-$AA35*PanelHeight+$AA35*WellsInPlate+(COLUMN()-9)*8,0,1,1) | L35: =OFFSET($Z$2,ROW()-StartRow-1-$AA35*PanelHeight+$AA35*WellsInPlate+(COLUMN()-9)*8,0,1,1) | M35: =OFFSET($Z$2,ROW()-StartRow-1-$AA35*PanelHeight+$AA35*WellsInPlate+(COLUMN()-9)*8,0,1,1) | N35: =OFFSET($Z$2,ROW()-StartRow-1-$AA35*PanelHeight+$AA35*WellsInPlate+(COLUMN()-9)*8,0,1,1) | O35: =OFFSET($Z$2,ROW()-StartRow-1-$AA35*PanelHeight+$AA35*WellsInPlate+(COLUMN()-9)*8,0,1,1) | P35: =OFFSET($Z$2,ROW()-StartRow-1-$AA35*PanelHeight+$AA35*WellsInPlate+(COLUMN()-9)*8,0,1,1) | ... T35: =OFFSET($Z$2,ROW()-StartRow-1-$AA35*PanelHeight+$AA35*WellsInPlate+(COLUMN()-9)*8,0,1,1) | Z35: =IF(LEN(INDEX($1:$1048576,ROW(),4))>0,INDEX($1:$1048576,ROW(),4)," ") | AA35: =CEILING((ROW()-StartRow+1)/PanelHeight,1)-1 -> 2 | AB35: =COUNTBLANK(OFFSET(INDEX($1:$1048576,2,4),AA35*WellsInPlate,0,WellsInPlate,1)) -> 96 | AC35: =IF(AB35=WellsInPlate,0,1) -> 0 | AD35: =MATCH(AF35,AE:AE,0) -> #N/A | AE35: =IF(COUNTBLANK(D35)=0,A35) -> FALSE | AF35: 35
A36: 1 | B36: C5 | H36: =IF(AC36=1,"F","") | I36: =OFFSET($Z$2,ROW()-StartRow-1-$AA36*PanelHeight+$AA36*WellsInPlate+(COLUMN()-9)*8,0,1,1) | J36: =OFFSET($Z$2,ROW()-StartRow-1-$AA36*PanelHeight+$AA36*WellsInPlate+(COLUMN()-9)*8,0,1,1) | K36: =OFFSET($Z$2,ROW()-StartRow-1-$AA36*PanelHeight+$AA36*WellsInPlate+(COLUMN()-9)*8,0,1,1) | L36: =OFFSET($Z$2,ROW()-StartRow-1-$AA36*PanelHeight+$AA36*WellsInPlate+(COLUMN()-9)*8,0,1,1) | M36: =OFFSET($Z$2,ROW()-StartRow-1-$AA36*PanelHeight+$AA36*WellsInPlate+(COLUMN()-9)*8,0,1,1) | N36: =OFFSET($Z$2,ROW()-StartRow-1-$AA36*PanelHeight+$AA36*WellsInPlate+(COLUMN()-9)*8,0,1,1) | O36: =OFFSET($Z$2,ROW()-StartRow-1-$AA36*PanelHeight+$AA36*WellsInPlate+(COLUMN()-9)*8,0,1,1) | P36: =OFFSET($Z$2,ROW()-StartRow-1-$AA36*PanelHeight+$AA36*WellsInPlate+(COLUMN()-9)*8,0,1,1) | ... T36: =OFFSET($Z$2,ROW()-StartRow-1-$AA36*PanelHeight+$AA36*WellsInPlate+(COLUMN()-9)*8,0,1,1) | Z36: =IF(LEN(INDEX($1:$1048576,ROW(),4))>0,INDEX($1:$1048576,ROW(),4)," ") | AA36: =CEILING((ROW()-StartRow+1)/PanelHeight,1)-1 -> 2 | AB36: =COUNTBLANK(OFFSET(INDEX($1:$1048576,2,4),AA36*WellsInPlate,0,WellsInPlate,1)) -> 96 | AC36: =IF(AB36=WellsInPlate,0,1) -> 0 | AD36: =MATCH(AF36,AE:AE,0) -> #N/A | AE36: =IF(COUNTBLANK(D36)=0,A36) -> FALSE | AF36: 36
A37: 1 | B37: D5 | H37: =IF(AC37=1,"G","") | I37: =OFFSET($Z$2,ROW()-StartRow-1-$AA37*PanelHeight+$AA37*WellsInPlate+(COLUMN()-9)*8,0,1,1) | J37: =OFFSET($Z$2,ROW()-StartRow-1-$AA37*PanelHeight+$AA37*WellsInPlate+(COLUMN()-9)*8,0,1,1) | K37: =OFFSET($Z$2,ROW()-StartRow-1-$AA37*PanelHeight+$AA37*WellsInPlate+(COLUMN()-9)*8,0,1,1) | L37: =OFFSET($Z$2,ROW()-StartRow-1-$AA37*PanelHeight+$AA37*WellsInPlate+(COLUMN()-9)*8,0,1,1) | M37: =OFFSET($Z$2,ROW()-StartRow-1-$AA37*PanelHeight+$AA37*WellsInPlate+(COLUMN()-9)*8,0,1,1) | N37: =OFFSET($Z$2,ROW()-StartRow-1-$AA37*PanelHeight+$AA37*WellsInPlate+(COLUMN()-9)*8,0,1,1) | O37: =OFFSET($Z$2,ROW()-StartRow-1-$AA37*PanelHeight+$AA37*WellsInPlate+(COLUMN()-9)*8,0,1,1) | P37: =OFFSET($Z$2,ROW()-StartRow-1-$AA37*PanelHeight+$AA37*WellsInPlate+(COLUMN()-9)*8,0,1,1) | ... T37: =OFFSET($Z$2,ROW()-StartRow-1-$AA37*PanelHeight+$AA37*WellsInPlate+(COLUMN()-9)*8,0,1,1) | Z37: =IF(LEN(INDEX($1:$1048576,ROW(),4))>0,INDEX($1:$1048576,ROW(),4)," ") | AA37: =CEILING((ROW()-StartRow+1)/PanelHeight,1)-1 -> 2 | AB37: =COUNTBLANK(OFFSET(INDEX($1:$1048576,2,4),AA37*WellsInPlate,0,WellsInPlate,1)) -> 96 | AC37: =IF(AB37=WellsInPlate,0,1) -> 0 | AD37: =MATCH(AF37,AE:AE,0) -> #N/A | AE37: =IF(COUNTBLANK(D37)=0,A37) -> FALSE | AF37: 37
A38: 1 | B38: E5 | H38: =IF(AC38=1,"H","") | I38: =OFFSET($Z$2,ROW()-StartRow-1-$AA38*PanelHeight+$AA38*WellsInPlate+(COLUMN()-9)*8,0,1,1) | J38: =OFFSET($Z$2,ROW()-StartRow-1-$AA38*PanelHeight+$AA38*WellsInPlate+(COLUMN()-9)*8,0,1,1) | K38: =OFFSET($Z$2,ROW()-StartRow-1-$AA38*PanelHeight+$AA38*WellsInPlate+(COLUMN()-9)*8,0,1,1) | L38: =OFFSET($Z$2,ROW()-StartRow-1-$AA38*PanelHeight+$AA38*WellsInPlate+(COLUMN()-9)*8,0,1,1) | M38: =OFFSET($Z$2,ROW()-StartRow-1-$AA38*PanelHeight+$AA38*WellsInPlate+(COLUMN()-9)*8,0,1,1) | N38: =OFFSET($Z$2,ROW()-StartRow-1-$AA38*PanelHeight+$AA38*WellsInPlate+(COLUMN()-9)*8,0,1,1) | O38: =OFFSET($Z$2,ROW()-StartRow-1-$AA38*PanelHeight+$AA38*WellsInPlate+(COLUMN()-9)*8,0,1,1) | P38: =OFFSET($Z$2,ROW()-StartRow-1-$AA38*PanelHeight+$AA38*WellsInPlate+(COLUMN()-9)*8,0,1,1) | ... T38: =OFFSET($Z$2,ROW()-StartRow-1-$AA38*PanelHeight+$AA38*WellsInPlate+(COLUMN()-9)*8,0,1,1) | Z38: =IF(LEN(INDEX($1:$1048576,ROW(),4))>0,INDEX($1:$1048576,ROW(),4)," ") | AA38: =CEILING((ROW()-StartRow+1)/PanelHeight,1)-1 -> 2 | AB38: =COUNTBLANK(OFFSET(INDEX($1:$1048576,2,4),AA38*WellsInPlate,0,WellsInPlate,1)) -> 96 | AC38: =IF(AB38=WellsInPlate,0,1) -> 0 | AD38: =MATCH(AF38,AE:AE,0) -> #N/A | AE38: =IF(COUNTBLANK(D38)=0,A38) -> FALSE | AF38: 38
A39: 1 | B39: F5 | Z39: =IF(LEN(INDEX($1:$1048576,ROW(),4))>0,INDEX($1:$1048576,ROW(),4)," ") | AA39: =CEILING((ROW()-StartRow+1)/PanelHeight,1)-1 -> 2 | AB39: =COUNTBLANK(OFFSET(INDEX($1:$1048576,2,4),AA39*WellsInPlate,0,WellsInPlate,1)) -> 96 | AC39: =IF(AB39=WellsInPlate,0,1) -> 0 | AD39: =MATCH(AF39,AE:AE,0) -> #N/A | AE39: =IF(COUNTBLANK(D39)=0,A39) -> FALSE | AF39: 39
A40: 1 | B40: G5 | Z40: =IF(LEN(INDEX($1:$1048576,ROW(),4))>0,INDEX($1:$1048576,ROW(),4)," ") | AA40: =CEILING((ROW()-StartRow+1)/PanelHeight,1)-1 -> 2 | AB40: =COUNTBLANK(OFFSET(INDEX($1:$1048576,2,4),AA40*WellsInPlate,0,WellsInPlate,1)) -> 96 | AC40: =IF(AB40=WellsInPlate,0,1) -> 0 | AD40: =MATCH(AF40,AE:AE,0) -> #N/A | AE40: =IF(COUNTBLANK(D40)=0,A40) -> FALSE | AF40: 40
A41: 1 | B41: H5 | Z41: =IF(LEN(INDEX($1:$1048576,ROW(),4))>0,INDEX($1:$1048576,ROW(),4)," ") | AA41: =CEILING((ROW()-StartRow+1)/PanelHeight,1)-1 -> 2 | AB41: =COUNTBLANK(OFFSET(INDEX($1:$1048576,2,4),AA41*WellsInPlate,0,WellsInPlate,1)) -> 96 | AC41: =IF(AB41=WellsInPlate,0,1) -> 0 | AD41: =MATCH(AF41,AE:AE,0) -> #N/A | AE41: =IF(COUNTBLANK(D41)=0,A41) -> FALSE | AF41: 41
A42: 1 | B42: A6 | I42: =IF(AC43=1,"Plate "&TEXT(AA43+1,"0"),"") | Z42: =IF(LEN(INDEX($1:$1048576,ROW(),4))>0,INDEX($1:$1048576,ROW(),4)," ") | AA42: =CEILING((ROW()-StartRow+1)/PanelHeight,1)-1 -> 2 | AB42: =COUNTBLANK(OFFSET(INDEX($1:$1048576,2,4),AA42*WellsInPlate,0,WellsInPlate,1)) -> 96 | AC42: =IF(AB42=WellsInPlate,0,1) -> 0 | AD42: =MATCH(AF42,AE:AE,0) -> #N/A | AE42: =IF(COUNTBLANK(D42)=0,A42) -> FALSE | AF42: 42
A43: 1 | B43: B6 | I43: =IF($AC43=1,"1","") | J43: =IF($AC43=1,"2","") | K43: =IF($AC43=1,"3","") | L43: =IF($AC43=1,"4","") | M43: =IF($AC43=1,"5","") | N43: =IF($AC43=1,"6","") | O43: =IF($AC43=1,"7","") | P43: =IF($AC43=1,"8","") | Q43: =IF($AC43=1,"9","") | R43: =IF($AC43=1,"10","") | S43: =IF($AC43=1,"11","") | T43: =IF($AC43=1,"12","") | Z43: =IF(LEN(INDEX($1:$1048576,ROW(),4))>0,INDEX($1:$1048576,ROW(),4)," ") | AA43: =CEILING((ROW()-StartRow+1)/PanelHeight,1)-1 -> 3 | AB43: =COUNTBLANK(OFFSET(INDEX($1:$1048576,2,4),AA43*WellsInPlate,0,WellsInPlate,1)) -> 96 | AC43: =IF(AB43=WellsInPlate,0,1) -> 0 | AD43: =MATCH(AF43,AE:AE,0) -> #N/A | AE43: =IF(COUNTBLANK(D43)=0,A43) -> FALSE | AF43: 43
A44: 1 | B44: C6 | H44: =IF(AC44=1,"A","") | I44: =OFFSET($Z$2,ROW()-StartRow-1-$AA44*PanelHeight+$AA44*WellsInPlate+(COLUMN()-9)*8,0,1,1) | J44: =OFFSET($Z$2,ROW()-StartRow-1-$AA44*PanelHeight+$AA44*WellsInPlate+(COLUMN()-9)*8,0,1,1) | K44: =OFFSET($Z$2,ROW()-StartRow-1-$AA44*PanelHeight+$AA44*WellsInPlate+(COLUMN()-9)*8,0,1,1) | L44: =OFFSET($Z$2,ROW()-StartRow-1-$AA44*PanelHeight+$AA44*WellsInPlate+(COLUMN()-9)*8,0,1,1) | M44: =OFFSET($Z$2,ROW()-StartRow-1-$AA44*PanelHeight+$AA44*WellsInPlate+(COLUMN()-9)*8,0,1,1) | N44: =OFFSET($Z$2,ROW()-StartRow-1-$AA44*PanelHeight+$AA44*WellsInPlate+(COLUMN()-9)*8,0,1,1) | O44: =OFFSET($Z$2,ROW()-StartRow-1-$AA44*PanelHeight+$AA44*WellsInPlate+(COLUMN()-9)*8,0,1,1) | P44: =OFFSET($Z$2,ROW()-StartRow-1-$AA44*PanelHeight+$AA44*WellsInPlate+(COLUMN()-9)*8,0,1,1) | ... T44: =OFFSET($Z$2,ROW()-StartRow-1-$AA44*PanelHeight+$AA44*WellsInPlate+(COLUMN()-9)*8,0,1,1) | Z44: =IF(LEN(INDEX($1:$1048576,ROW(),4))>0,INDEX($1:$1048576,ROW(),4)," ") | AA44: =CEILING((ROW()-StartRow+1)/PanelHeight,1)-1 -> 3 | AB44: =COUNTBLANK(OFFSET(INDEX($1:$1048576,2,4),AA44*WellsInPlate,0,WellsInPlate,1)) -> 96 | AC44: =IF(AB44=WellsInPlate,0,1) -> 0 | AD44: =MATCH(AF44,AE:AE,0) -> #N/A | AE44: =IF(COUNTBLANK(D44)=0,A44) -> FALSE | AF44: 44
A45: 1 | B45: D6 | H45: =IF(AC45=1,"B","") | I45: =OFFSET($Z$2,ROW()-StartRow-1-$AA45*PanelHeight+$AA45*WellsInPlate+(COLUMN()-9)*8,0,1,1) | J45: =OFFSET($Z$2,ROW()-StartRow-1-$AA45*PanelHeight+$AA45*WellsInPlate+(COLUMN()-9)*8,0,1,1) | K45: =OFFSET($Z$2,ROW()-StartRow-1-$AA45*PanelHeight+$AA45*WellsInPlate+(COLUMN()-9)*8,0,1,1) | L45: =OFFSET($Z$2,ROW()-StartRow-1-$AA45*PanelHeight+$AA45*WellsInPlate+(COLUMN()-9)*8,0,1,1) | M45: =OFFSET($Z$2,ROW()-StartRow-1-$AA45*PanelHeight+$AA45*WellsInPlate+(COLUMN()-9)*8,0,1,1) | N45: =OFFSET($Z$2,ROW()-StartRow-1-$AA45*PanelHeight+$AA45*WellsInPlate+(COLUMN()-9)*8,0,1,1) | O45: =OFFSET($Z$2,ROW()-StartRow-1-$AA45*PanelHeight+$AA45*WellsInPlate+(COLUMN()-9)*8,0,1,1) | P45: =OFFSET($Z$2,ROW()-StartRow-1-$AA45*PanelHeight+$AA45*WellsInPlate+(COLUMN()-9)*8,0,1,1) | ... T45: =OFFSET($Z$2,ROW()-StartRow-1-$AA45*PanelHeight+$AA45*WellsInPlate+(COLUMN()-9)*8,0,1,1) | Z45: =IF(LEN(INDEX($1:$1048576,ROW(),4))>0,INDEX($1:$1048576,ROW(),4)," ") | AA45: =CEILING((ROW()-StartRow+1)/PanelHeight,1)-1 -> 3 | AB45: =COUNTBLANK(OFFSET(INDEX($1:$1048576,2,4),AA45*WellsInPlate,0,WellsInPlate,1)) -> 96 | AC45: =IF(AB45=WellsInPlate,0,1) -> 0 | AD45: =MATCH(AF45,AE:AE,0) -> #N/A | AE45: =IF(COUNTBLANK(D45)=0,A45) -> FALSE | AF45: 45
A46: 1 | B46: E6 | H46: =IF(AC46=1,"C","") | I46: =OFFSET($Z$2,ROW()-StartRow-1-$AA46*PanelHeight+$AA46*WellsInPlate+(COLUMN()-9)*8,0,1,1) | J46: =OFFSET($Z$2,ROW()-StartRow-1-$AA46*PanelHeight+$AA46*WellsInPlate+(COLUMN()-9)*8,0,1,1) | K46: =OFFSET($Z$2,ROW()-StartRow-1-$AA46*PanelHeight+$AA46*WellsInPlate+(COLUMN()-9)*8,0,1,1) | L46: =OFFSET($Z$2,ROW()-StartRow-1-$AA46*PanelHeight+$AA46*WellsInPlate+(COLUMN()-9)*8,0,1,1) | M46: =OFFSET($Z$2,ROW()-StartRow-1-$AA46*PanelHeight+$AA46*WellsInPlate+(COLUMN()-9)*8,0,1,1) | N46: =OFFSET($Z$2,ROW()-StartRow-1-$AA46*PanelHeight+$AA46*WellsInPlate+(COLUMN()-9)*8,0,1,1) | O46: =OFFSET($Z$2,ROW()-StartRow-1-$AA46*PanelHeight+$AA46*WellsInPlate+(COLUMN()-9)*8,0,1,1) | P46: =OFFSET($Z$2,ROW()-StartRow-1-$AA46*PanelHeight+$AA46*WellsInPlate+(COLUMN()-9)*8,0,1,1) | ... T46: =OFFSET($Z$2,ROW()-StartRow-1-$AA46*PanelHeight+$AA46*WellsInPlate+(COLUMN()-9)*8,0,1,1) | Z46: =IF(LEN(INDEX($1:$1048576,ROW(),4))>0,INDEX($1:$1048576,ROW(),4)," ") | AA46: =CEILING((ROW()-StartRow+1)/PanelHeight,1)-1 -> 3 | AB46: =COUNTBLANK(OFFSET(INDEX($1:$1048576,2,4),AA46*WellsInPlate,0,WellsInPlate,1)) -> 96 | AC46: =IF(AB46=WellsInPlate,0,1) -> 0 | AD46: =MATCH(AF46,AE:AE,0) -> #N/A | AE46: =IF(COUNTBLANK(D46)=0,A46) -> FALSE | AF46: 46
A47: 1 | B47: F6 | H47: =IF(AC47=1,"D","") | I47: =OFFSET($Z$2,ROW()-StartRow-1-$AA47*PanelHeight+$AA47*WellsInPlate+(COLUMN()-9)*8,0,1,1) | J47: =OFFSET($Z$2,ROW()-StartRow-1-$AA47*PanelHeight+$AA47*WellsInPlate+(COLUMN()-9)*8,0,1,1) | K47: =OFFSET($Z$2,ROW()-StartRow-1-$AA47*PanelHeight+$AA47*WellsInPlate+(COLUMN()-9)*8,0,1,1) | L47: =OFFSET($Z$2,ROW()-StartRow-1-$AA47*PanelHeight+$AA47*WellsInPlate+(COLUMN()-9)*8,0,1,1) | M47: =OFFSET($Z$2,ROW()-StartRow-1-$AA47*PanelHeight+$AA47*WellsInPlate+(COLUMN()-9)*8,0,1,1) | N47: =OFFSET($Z$2,ROW()-StartRow-1-$AA47*PanelHeight+$AA47*WellsInPlate+(COLUMN()-9)*8,0,1,1) | O47: =OFFSET($Z$2,ROW()-StartRow-1-$AA47*PanelHeight+$AA47*WellsInPlate+(COLUMN()-9)*8,0,1,1) | P47: =OFFSET($Z$2,ROW()-StartRow-1-$AA47*PanelHeight+$AA47*WellsInPlate+(COLUMN()-9)*8,0,1,1) | ... T47: =OFFSET($Z$2,ROW()-StartRow-1-$AA47*PanelHeight+$AA47*WellsInPlate+(COLUMN()-9)*8,0,1,1) | Z47: =IF(LEN(INDEX($1:$1048576,ROW(),4))>0,INDEX($1:$1048576,ROW(),4)," ") | AA47: =CEILING((ROW()-StartRow+1)/PanelHeight,1)-1 -> 3 | AB47: =COUNTBLANK(OFFSET(INDEX($1:$1048576,2,4),AA47*WellsInPlate,0,WellsInPlate,1)) -> 96 | AC47: =IF(AB47=WellsInPlate,0,1) -> 0 | AD47: =MATCH(AF47,AE:AE,0) -> #N/A | AE47: =IF(COUNTBLANK(D47)=0,A47) -> FALSE | AF47: 47
A48: 1 | B48: G6 | H48: =IF(AC48=1,"E","") | I48: =OFFSET($Z$2,ROW()-StartRow-1-$AA48*PanelHeight+$AA48*WellsInPlate+(COLUMN()-9)*8,0,1,1) | J48: =OFFSET($Z$2,ROW()-StartRow-1-$AA48*PanelHeight+$AA48*WellsInPlate+(COLUMN()-9)*8,0,1,1) | K48: =OFFSET($Z$2,ROW()-StartRow-1-$AA48*PanelHeight+$AA48*WellsInPlate+(COLUMN()-9)*8,0,1,1) | L48: =OFFSET($Z$2,ROW()-StartRow-1-$AA48*PanelHeight+$AA48*WellsInPlate+(COLUMN()-9)*8,0,1,1) | M48: =OFFSET($Z$2,ROW()-StartRow-1-$AA48*PanelHeight+$AA48*WellsInPlate+(COLUMN()-9)*8,0,1,1) | N48: =OFFSET($Z$2,ROW()-StartRow-1-$AA48*PanelHeight+$AA48*WellsInPlate+(COLUMN()-9)*8,0,1,1) | O48: =OFFSET($Z$2,ROW()-StartRow-1-$AA48*PanelHeight+$AA48*WellsInPlate+(COLUMN()-9)*8,0,1,1) | P48: =OFFSET($Z$2,ROW()-StartRow-1-$AA48*PanelHeight+$AA48*WellsInPlate+(COLUMN()-9)*8,0,1,1) | ... T48: =OFFSET($Z$2,ROW()-StartRow-1-$AA48*PanelHeight+$AA48*WellsInPlate+(COLUMN()-9)*8,0,1,1) | Z48: =IF(LEN(INDEX($1:$1048576,ROW(),4))>0,INDEX($1:$1048576,ROW(),4)," ") | AA48: =CEILING((ROW()-StartRow+1)/PanelHeight,1)-1 -> 3 | AB48: =COUNTBLANK(OFFSET(INDEX($1:$1048576,2,4),AA48*WellsInPlate,0,WellsInPlate,1)) -> 96 | AC48: =IF(AB48=WellsInPlate,0,1) -> 0 | AD48: =MATCH(AF48,AE:AE,0) -> #N/A | AE48: =IF(COUNTBLANK(D48)=0,A48) -> FALSE | AF48: 48
A49: 1 | B49: H6 | H49: =IF(AC49=1,"F","") | I49: =OFFSET($Z$2,ROW()-StartRow-1-$AA49*PanelHeight+$AA49*WellsInPlate+(COLUMN()-9)*8,0,1,1) | J49: =OFFSET($Z$2,ROW()-StartRow-1-$AA49*PanelHeight+$AA49*WellsInPlate+(COLUMN()-9)*8,0,1,1) | K49: =OFFSET($Z$2,ROW()-StartRow-1-$AA49*PanelHeight+$AA49*WellsInPlate+(COLUMN()-9)*8,0,1,1) | L49: =OFFSET($Z$2,ROW()-StartRow-1-$AA49*PanelHeight+$AA49*WellsInPlate+(COLUMN()-9)*8,0,1,1) | M49: =OFFSET($Z$2,ROW()-StartRow-1-$AA49*PanelHeight+$AA49*WellsInPlate+(COLUMN()-9)*8,0,1,1) | N49: =OFFSET($Z$2,ROW()-StartRow-1-$AA49*PanelHeight+$AA49*WellsInPlate+(COLUMN()-9)*8,0,1,1) | O49: =OFFSET($Z$2,ROW()-StartRow-1-$AA49*PanelHeight+$AA49*WellsInPlate+(COLUMN()-9)*8,0,1,1) | P49: =OFFSET($Z$2,ROW()-StartRow-1-$AA49*PanelHeight+$AA49*WellsInPlate+(COLUMN()-9)*8,0,1,1) | ... T49: =OFFSET($Z$2,ROW()-StartRow-1-$AA49*PanelHeight+$AA49*WellsInPlate+(COLUMN()-9)*8,0,1,1) | Z49: =IF(LEN(INDEX($1:$1048576,ROW(),4))>0,INDEX($1:$1048576,ROW(),4)," ") | AA49: =CEILING((ROW()-StartRow+1)/PanelHeight,1)-1 -> 3 | AB49: =COUNTBLANK(OFFSET(INDEX($1:$1048576,2,4),AA49*WellsInPlate,0,WellsInPlate,1)) -> 96 | AC49: =IF(AB49=WellsInPlate,0,1) -> 0 | AD49: =MATCH(AF49,AE:AE,0) -> #N/A | AE49: =IF(COUNTBLANK(D49)=0,A49) -> FALSE | AF49: 49
A50: 1 | B50: A7 | H50: =IF(AC50=1,"G","") | I50: =OFFSET($Z$2,ROW()-StartRow-1-$AA50*PanelHeight+$AA50*WellsInPlate+(COLUMN()-9)*8,0,1,1) | J50: =OFFSET($Z$2,ROW()-StartRow-1-$AA50*PanelHeight+$AA50*WellsInPlate+(COLUMN()-9)*8,0,1,1) | K50: =OFFSET($Z$2,ROW()-StartRow-1-$AA50*PanelHeight+$AA50*WellsInPlate+(COLUMN()-9)*8,0,1,1) | L50: =OFFSET($Z$2,ROW()-StartRow-1-$AA50*PanelHeight+$AA50*WellsInPlate+(COLUMN()-9)*8,0,1,1) | M50: =OFFSET($Z$2,ROW()-StartRow-1-$AA50*PanelHeight+$AA50*WellsInPlate+(COLUMN()-9)*8,0,1,1) | N50: =OFFSET($Z$2,ROW()-StartRow-1-$AA50*PanelHeight+$AA50*WellsInPlate+(COLUMN()-9)*8,0,1,1) | O50: =OFFSET($Z$2,ROW()-StartRow-1-$AA50*PanelHeight+$AA50*WellsInPlate+(COLUMN()-9)*8,0,1,1) | P50: =OFFSET($Z$2,ROW()-StartRow-1-$AA50*PanelHeight+$AA50*WellsInPlate+(COLUMN()-9)*8,0,1,1) | ... T50: =OFFSET($Z$2,ROW()-StartRow-1-$AA50*PanelHeight+$AA50*WellsInPlate+(COLUMN()-9)*8,0,1,1) | Z50: =IF(LEN(INDEX($1:$1048576,ROW(),4))>0,INDEX($1:$1048576,ROW(),4)," ") | AA50: =CEILING((ROW()-StartRow+1)/PanelHeight,1)-1 -> 3 | AB50: =COUNTBLANK(OFFSET(INDEX($1:$1048576,2,4),AA50*WellsInPlate,0,WellsInPlate,1)) -> 96 | AC50: =IF(AB50=WellsInPlate,0,1) -> 0 | AD50: =MATCH(AF50,AE:AE,0) -> #N/A | AE50: =IF(COUNTBLANK(D50)=0,A50) -> FALSE | AF50: 50
A51: 1 | B51: B7 | H51: =IF(AC51=1,"H","") | I51: =OFFSET($Z$2,ROW()-StartRow-1-$AA51*PanelHeight+$AA51*WellsInPlate+(COLUMN()-9)*8,0,1,1) | J51: =OFFSET($Z$2,ROW()-StartRow-1-$AA51*PanelHeight+$AA51*WellsInPlate+(COLUMN()-9)*8,0,1,1) | K51: =OFFSET($Z$2,ROW()-StartRow-1-$AA51*PanelHeight+$AA51*WellsInPlate+(COLUMN()-9)*8,0,1,1) | L51: =OFFSET($Z$2,ROW()-StartRow-1-$AA51*PanelHeight+$AA51*WellsInPlate+(COLUMN()-9)*8,0,1,1) | M51: =OFFSET($Z$2,ROW()-StartRow-1-$AA51*PanelHeight+$AA51*WellsInPlate+(COLUMN()-9)*8,0,1,1) | N51: =OFFSET($Z$2,ROW()-StartRow-1-$AA51*PanelHeight+$AA51*WellsInPlate+(COLUMN()-9)*8,0,1,1) | O51: =OFFSET($Z$2,ROW()-StartRow-1-$AA51*PanelHeight+$AA51*WellsInPlate+(COLUMN()-9)*8,0,1,1) | P51: =OFFSET($Z$2,ROW()-StartRow-1-$AA51*PanelHeight+$AA51*WellsInPlate+(COLUMN()-9)*8,0,1,1) | ... T51: =OFFSET($Z$2,ROW()-StartRow-1-$AA51*PanelHeight+$AA51*WellsInPlate+(COLUMN()-9)*8,0,1,1) | Z51: =IF(LEN(INDEX($1:$1048576,ROW(),4))>0,INDEX($1:$1048576,ROW(),4)," ") | AA51: =CEILING((ROW()-StartRow+1)/PanelHeight,1)-1 -> 3 | AB51: =COUNTBLANK(OFFSET(INDEX($1:$1048576,2,4),AA51*WellsInPlate,0,WellsInPlate,1)) -> 96 | AC51: =IF(AB51=WellsInPlate,0,1) -> 0 | AD51: =MATCH(AF51,AE:AE,0) -> #N/A | AE51: =IF(COUNTBLANK(D51)=0,A51) -> FALSE | AF51: 51
A52: 1 | B52: C7 | Z52: =IF(LEN(INDEX($1:$1048576,ROW(),4))>0,INDEX($1:$1048576,ROW(),4)," ") | AA52: =CEILING((ROW()-StartRow+1)/PanelHeight,1)-1 -> 3 | AB52: =COUNTBLANK(OFFSET(INDEX($1:$1048576,2,4),AA52*WellsInPlate,0,WellsInPlate,1)) -> 96 | AC52: =IF(AB52=WellsInPlate,0,1) -> 0 | AD52: =MATCH(AF52,AE:AE,0) -> #N/A | AE52: =IF(COUNTBLANK(D52)=0,A52) -> FALSE | AF52: 52
A53: 1 | B53: D7 | Z53: =IF(LEN(INDEX($1:$1048576,ROW(),4))>0,INDEX($1:$1048576,ROW(),4)," ") | AA53: =CEILING((ROW()-StartRow+1)/PanelHeight,1)-1 -> 3 | AB53: =COUNTBLANK(OFFSET(INDEX($1:$1048576,2,4),AA53*WellsInPlate,0,WellsInPlate,1)) -> 96 | AC53: =IF(AB53=WellsInPlate,0,1) -> 0 | AD53: =MATCH(AF53,AE:AE,0) -> #N/A | AE53: =IF(COUNTBLANK(D53)=0,A53) -> FALSE | AF53: 53
A54: 1 | B54: E7 | Z54: =IF(LEN(INDEX($1:$1048576,ROW(),4))>0,INDEX($1:$1048576,ROW(),4)," ") | AA54: =CEILING((ROW()-StartRow+1)/PanelHeight,1)-1 -> 3 | AB54: =COUNTBLANK(OFFSET(INDEX($1:$1048576,2,4),AA54*WellsInPlate,0,WellsInPlate,1)) -> 96 | AC54: =IF(AB54=WellsInPlate,0,1) -> 0 | AD54: =MATCH(AF54,AE:AE,0) -> #N/A | AE54: =IF(COUNTBLANK(D54)=0,A54) -> FALSE | AF54: 54
A55: 1 | B55: F7 | I55: =IF(AC56=1,"Plate "&TEXT(AA56+1,"0"),"") | Z55: =IF(LEN(INDEX($1:$1048576,ROW(),4))>0,INDEX($1:$1048576,ROW(),4)," ") | AA55: =CEILING((ROW()-StartRow+1)/PanelHeight,1)-1 -> 3 | AB55: =COUNTBLANK(OFFSET(INDEX($1:$1048576,2,4),AA55*WellsInPlate,0,WellsInPlate,1)) -> 96 | AC55: =IF(AB55=WellsInPlate,0,1) -> 0 | AD55: =MATCH(AF55,AE:AE,0) -> #N/A | AE55: =IF(COUNTBLANK(D55)=0,A55) -> FALSE | AF55: 55
A56: 1 | B56: G7 | I56: =IF($AC56=1,"1","") | J56: =IF($AC56=1,"2","") | K56: =IF($AC56=1,"3","") | L56: =IF($AC56=1,"4","") | M56: =IF($AC56=1,"5","") | N56: =IF($AC56=1,"6","") | O56: =IF($AC56=1,"7","") | P56: =IF($AC56=1,"8","") | Q56: =IF($AC56=1,"9","") | R56: =IF($AC56=1,"10","") | S56: =IF($AC56=1,"11","") | T56: =IF($AC56=1,"12","") | Z56: =IF(LEN(INDEX($1:$1048576,ROW(),4))>0,INDEX($1:$1048576,ROW(),4)," ") | AA56: =CEILING((ROW()-StartRow+1)/PanelHeight,1)-1 -> 4 | AB56: =COUNTBLANK(OFFSET(INDEX($1:$1048576,2,4),AA56*WellsInPlate,0,WellsInPlate,1)) -> 96 | AC56: =IF(AB56=WellsInPlate,0,1) -> 0 | AD56: =MATCH(AF56,AE:AE,0) -> #N/A | AE56: =IF(COUNTBLANK(D56)=0,A56) -> FALSE | AF56: 56
A57: 1 | B57: H7 | H57: =IF(AC57=1,"A","") | I57: =OFFSET($Z$2,ROW()-StartRow-1-$AA57*PanelHeight+$AA57*WellsInPlate+(COLUMN()-9)*8,0,1,1) | J57: =OFFSET($Z$2,ROW()-StartRow-1-$AA57*PanelHeight+$AA57*WellsInPlate+(COLUMN()-9)*8,0,1,1) | K57: =OFFSET($Z$2,ROW()-StartRow-1-$AA57*PanelHeight+$AA57*WellsInPlate+(COLUMN()-9)*8,0,1,1) | L57: =OFFSET($Z$2,ROW()-StartRow-1-$AA57*PanelHeight+$AA57*WellsInPlate+(COLUMN()-9)*8,0,1,1) | M57: =OFFSET($Z$2,ROW()-StartRow-1-$AA57*PanelHeight+$AA57*WellsInPlate+(COLUMN()-9)*8,0,1,1) | N57: =OFFSET($Z$2,ROW()-StartRow-1-$AA57*PanelHeight+$AA57*WellsInPlate+(COLUMN()-9)*8,0,1,1) | O57: =OFFSET($Z$2,ROW()-StartRow-1-$AA57*PanelHeight+$AA57*WellsInPlate+(COLUMN()-9)*8,0,1,1) | P57: =OFFSET($Z$2,ROW()-StartRow-1-$AA57*PanelHeight+$AA57*WellsInPlate+(COLUMN()-9)*8,0,1,1) | ... T57: =OFFSET($Z$2,ROW()-StartRow-1-$AA57*PanelHeight+$AA57*WellsInPlate+(COLUMN()-9)*8,0,1,1) | Z57: =IF(LEN(INDEX($1:$1048576,ROW(),4))>0,INDEX($1:$1048576,ROW(),4)," ") | AA57: =CEILING((ROW()-StartRow+1)/PanelHeight,1)-1 -> 4 | AB57: =COUNTBLANK(OFFSET(INDEX($1:$1048576,2,4),AA57*WellsInPlate,0,WellsInPlate,1)) -> 96 | AC57: =IF(AB57=WellsInPlate,0,1) -> 0 | AD57: =MATCH(AF57,AE:AE,0) -> #N/A | AE57: =IF(COUNTBLANK(D57)=0,A57) -> FALSE | AF57: 57
A58: 1 | B58: A8 | H58: =IF(AC58=1,"B","") | I58: =OFFSET($Z$2,ROW()-StartRow-1-$AA58*PanelHeight+$AA58*WellsInPlate+(COLUMN()-9)*8,0,1,1) | J58: =OFFSET($Z$2,ROW()-StartRow-1-$AA58*PanelHeight+$AA58*WellsInPlate+(COLUMN()-9)*8,0,1,1) | K58: =OFFSET($Z$2,ROW()-StartRow-1-$AA58*PanelHeight+$AA58*WellsInPlate+(COLUMN()-9)*8,0,1,1) | L58: =OFFSET($Z$2,ROW()-StartRow-1-$AA58*PanelHeight+$AA58*WellsInPlate+(COLUMN()-9)*8,0,1,1) | M58: =OFFSET($Z$2,ROW()-StartRow-1-$AA58*PanelHeight+$AA58*WellsInPlate+(COLUMN()-9)*8,0,1,1) | N58: =OFFSET($Z$2,ROW()-StartRow-1-$AA58*PanelHeight+$AA58*WellsInPlate+(COLUMN()-9)*8,0,1,1) | O58: =OFFSET($Z$2,ROW()-StartRow-1-$AA58*PanelHeight+$AA58*WellsInPlate+(COLUMN()-9)*8,0,1,1) | P58: =OFFSET($Z$2,ROW()-StartRow-1-$AA58*PanelHeight+$AA58*WellsInPlate+(COLUMN()-9)*8,0,1,1) | ... T58: =OFFSET($Z$2,ROW()-StartRow-1-$AA58*PanelHeight+$AA58*WellsInPlate+(COLUMN()-9)*8,0,1,1) | Z58: =IF(LEN(INDEX($1:$1048576,ROW(),4))>0,INDEX($1:$1048576,ROW(),4)," ") | AA58: =CEILING((ROW()-StartRow+1)/PanelHeight,1)-1 -> 4 | AB58: =COUNTBLANK(OFFSET(INDEX($1:$1048576,2,4),AA58*WellsInPlate,0,WellsInPlate,1)) -> 96 | AC58: =IF(AB58=WellsInPlate,0,1) -> 0 | AD58: =MATCH(AF58,AE:AE,0) -> #N/A | AE58: =IF(COUNTBLANK(D58)=0,A58) -> FALSE | AF58: 58
A59: 1 | B59: B8 | H59: =IF(AC59=1,"C","") | I59: =OFFSET($Z$2,ROW()-StartRow-1-$AA59*PanelHeight+$AA59*WellsInPlate+(COLUMN()-9)*8,0,1,1) | J59: =OFFSET($Z$2,ROW()-StartRow-1-$AA59*PanelHeight+$AA59*WellsInPlate+(COLUMN()-9)*8,0,1,1) | K59: =OFFSET($Z$2,ROW()-StartRow-1-$AA59*PanelHeight+$AA59*WellsInPlate+(COLUMN()-9)*8,0,1,1) | L59: =OFFSET($Z$2,ROW()-StartRow-1-$AA59*PanelHeight+$AA59*WellsInPlate+(COLUMN()-9)*8,0,1,1) | M59: =OFFSET($Z$2,ROW()-StartRow-1-$AA59*PanelHeight+$AA59*WellsInPlate+(COLUMN()-9)*8,0,1,1) | N59: =OFFSET($Z$2,ROW()-StartRow-1-$AA59*PanelHeight+$AA59*WellsInPlate+(COLUMN()-9)*8,0,1,1) | O59: =OFFSET($Z$2,ROW()-StartRow-1-$AA59*PanelHeight+$AA59*WellsInPlate+(COLUMN()-9)*8,0,1,1) | P59: =OFFSET($Z$2,ROW()-StartRow-1-$AA59*PanelHeight+$AA59*WellsInPlate+(COLUMN()-9)*8,0,1,1) | ... T59: =OFFSET($Z$2,ROW()-StartRow-1-$AA59*PanelHeight+$AA59*WellsInPlate+(COLUMN()-9)*8,0,1,1) | Z59: =IF(LEN(INDEX($1:$1048576,ROW(),4))>0,INDEX($1:$1048576,ROW(),4)," ") | AA59: =CEILING((ROW()-StartRow+1)/PanelHeight,1)-1 -> 4 | AB59: =COUNTBLANK(OFFSET(INDEX($1:$1048576,2,4),AA59*WellsInPlate,0,WellsInPlate,1)) -> 96 | AC59: =IF(AB59=WellsInPlate,0,1) -> 0 | AD59: =MATCH(AF59,AE:AE,0) -> #N/A | AE59: =IF(COUNTBLANK(D59)=0,A59) -> FALSE | AF59: 59
A60: 1 | B60: C8 | H60: =IF(AC60=1,"D","") | I60: =OFFSET($Z$2,ROW()-StartRow-1-$AA60*PanelHeight+$AA60*WellsInPlate+(COLUMN()-9)*8,0,1,1) | J60: =OFFSET($Z$2,ROW()-StartRow-1-$AA60*PanelHeight+$AA60*WellsInPlate+(COLUMN()-9)*8,0,1,1) | K60: =OFFSET($Z$2,ROW()-StartRow-1-$AA60*PanelHeight+$AA60*WellsInPlate+(COLUMN()-9)*8,0,1,1) | L60: =OFFSET($Z$2,ROW()-StartRow-1-$AA60*PanelHeight+$AA60*WellsInPlate+(COLUMN()-9)*8,0,1,1) | M60: =OFFSET($Z$2,ROW()-StartRow-1-$AA60*PanelHeight+$AA60*WellsInPlate+(COLUMN()-9)*8,0,1,1) | N60: =OFFSET($Z$2,ROW()-StartRow-1-$AA60*PanelHeight+$AA60*WellsInPlate+(COLUMN()-9)*8,0,1,1) | O60: =OFFSET($Z$2,ROW()-StartRow-1-$AA60*PanelHeight+$AA60*WellsInPlate+(COLUMN()-9)*8,0,1,1) | P60: =OFFSET($Z$2,ROW()-StartRow-1-$AA60*PanelHeight+$AA60*WellsInPlate+(COLUMN()-9)*8,0,1,1) | ... T60: =OFFSET($Z$2,ROW()-StartRow-1-$AA60*PanelHeight+$AA60*WellsInPlate+(COLUMN()-9)*8,0,1,1) | Z60: =IF(LEN(INDEX($1:$1048576,ROW(),4))>0,INDEX($1:$1048576,ROW(),4)," ") | AA60: =CEILING((ROW()-StartRow+1)/PanelHeight,1)-1 -> 4 | AB60: =COUNTBLANK(OFFSET(INDEX($1:$1048576,2,4),AA60*WellsInPlate,0,WellsInPlate,1)) -> 96 | AC60: =IF(AB60=WellsInPlate,0,1) -> 0 | AD60: =MATCH(AF60,AE:AE,0) -> #N/A | AE60: =IF(COUNTBLANK(D60)=0,A60) -> FALSE | AF60: 60
A61: 1 | B61: D8 | H61: =IF(AC61=1,"E","") | I61: =OFFSET($Z$2,ROW()-StartRow-1-$AA61*PanelHeight+$AA61*WellsInPlate+(COLUMN()-9)*8,0,1,1) | J61: =OFFSET($Z$2,ROW()-StartRow-1-$AA61*PanelHeight+$AA61*WellsInPlate+(COLUMN()-9)*8,0,1,1) | K61: =OFFSET($Z$2,ROW()-StartRow-1-$AA61*PanelHeight+$AA61*WellsInPlate+(COLUMN()-9)*8,0,1,1) | L61: =OFFSET($Z$2,ROW()-StartRow-1-$AA61*PanelHeight+$AA61*WellsInPlate+(COLUMN()-9)*8,0,1,1) | M61: =OFFSET($Z$2,ROW()-StartRow-1-$AA61*PanelHeight+$AA61*WellsInPlate+(COLUMN()-9)*8,0,1,1) | N61: =OFFSET($Z$2,ROW()-StartRow-1-$AA61*PanelHeight+$AA61*WellsInPlate+(COLUMN()-9)*8,0,1,1) | O61: =OFFSET($Z$2,ROW()-StartRow-1-$AA61*PanelHeight+$AA61*WellsInPlate+(COLUMN()-9)*8,0,1,1) | P61: =OFFSET($Z$2,ROW()-StartRow-1-$AA61*PanelHeight+$AA61*WellsInPlate+(COLUMN()-9)*8,0,1,1) | ... T61: =OFFSET($Z$2,ROW()-StartRow-1-$AA61*PanelHeight+$AA61*WellsInPlate+(COLUMN()-9)*8,0,1,1) | Z61: =IF(LEN(INDEX($1:$1048576,ROW(),4))>0,INDEX($1:$1048576,ROW(),4)," ") | AA61: =CEILING((ROW()-StartRow+1)/PanelHeight,1)-1 -> 4 | AB61: =COUNTBLANK(OFFSET(INDEX($1:$1048576,2,4),AA61*WellsInPlate,0,WellsInPlate,1)) -> 96 | AC61: =IF(AB61=WellsInPlate,0,1) -> 0 | AD61: =60-COUNTIF(AD1:AD60,"#N/A") -> 0 | AE61: =IF(COUNTBLANK(D61)=0,A61) -> FALSE
A62: 1 | B62: E8 | H62: =IF(AC62=1,"F","") | I62: =OFFSET($Z$2,ROW()-StartRow-1-$AA62*PanelHeight+$AA62*WellsInPlate+(COLUMN()-9)*8,0,1,1) | J62: =OFFSET($Z$2,ROW()-StartRow-1-$AA62*PanelHeight+$AA62*WellsInPlate+(COLUMN()-9)*8,0,1,1) | K62: =OFFSET($Z$2,ROW()-StartRow-1-$AA62*PanelHeight+$AA62*WellsInPlate+(COLUMN()-9)*8,0,1,1) | L62: =OFFSET($Z$2,ROW()-StartRow-1-$AA62*PanelHeight+$AA62*WellsInPlate+(COLUMN()-9)*8,0,1,1) | M62: =OFFSET($Z$2,ROW()-StartRow-1-$AA62*PanelHeight+$AA62*WellsInPlate+(COLUMN()-9)*8,0,1,1) | N62: =OFFSET($Z$2,ROW()-StartRow-1-$AA62*PanelHeight+$AA62*WellsInPlate+(COLUMN()-9)*8,0,1,1) | O62: =OFFSET($Z$2,ROW()-StartRow-1-$AA62*PanelHeight+$AA62*WellsInPlate+(COLUMN()-9)*8,0,1,1) | P62: =OFFSET($Z$2,ROW()-StartRow-1-$AA62*PanelHeight+$AA62*WellsInPlate+(COLUMN()-9)*8,0,1,1) | ... T62: =OFFSET($Z$2,ROW()-StartRow-1-$AA62*PanelHeight+$AA62*WellsInPlate+(COLUMN()-9)*8,0,1,1) | Z62: =IF(LEN(INDEX($1:$1048576,ROW(),4))>0,INDEX($1:$1048576,ROW(),4)," ") | AA62: =CEILING((ROW()-StartRow+1)/PanelHeight,1)-1 -> 4 | AB62: =COUNTBLANK(OFFSET(INDEX($1:$1048576,2,4),AA62*WellsInPlate,0,WellsInPlate,1)) -> 96 | AC62: =IF(AB62=WellsInPlate,0,1) -> 0 | AE62: =IF(COUNTBLANK(D62)=0,A62) -> FALSE
A63: 1 | B63: F8 | H63: =IF(AC63=1,"G","") | I63: =OFFSET($Z$2,ROW()-StartRow-1-$AA63*PanelHeight+$AA63*WellsInPlate+(COLUMN()-9)*8,0,1,1) | J63: =OFFSET($Z$2,ROW()-StartRow-1-$AA63*PanelHeight+$AA63*WellsInPlate+(COLUMN()-9)*8,0,1,1) | K63: =OFFSET($Z$2,ROW()-StartRow-1-$AA63*PanelHeight+$AA63*WellsInPlate+(COLUMN()-9)*8,0,1,1) | L63: =OFFSET($Z$2,ROW()-StartRow-1-$AA63*PanelHeight+$AA63*WellsInPlate+(COLUMN()-9)*8,0,1,1) | M63: =OFFSET($Z$2,ROW()-StartRow-1-$AA63*PanelHeight+$AA63*WellsInPlate+(COLUMN()-9)*8,0,1,1) | N63: =OFFSET($Z$2,ROW()-StartRow-1-$AA63*PanelHeight+$AA63*WellsInPlate+(COLUMN()-9)*8,0,1,1) | O63: =OFFSET($Z$2,ROW()-StartRow-1-$AA63*PanelHeight+$AA63*WellsInPlate+(COLUMN()-9)*8,0,1,1) | P63: =OFFSET($Z$2,ROW()-StartRow-1-$AA63*PanelHeight+$AA63*WellsInPlate+(COLUMN()-9)*8,0,1,1) | ... T63: =OFFSET($Z$2,ROW()-StartRow-1-$AA63*PanelHeight+$AA63*WellsInPlate+(COLUMN()-9)*8,0,1,1) | Z63: =IF(LEN(INDEX($1:$1048576,ROW(),4))>0,INDEX($1:$1048576,ROW(),4)," ") | AA63: =CEILING((ROW()-StartRow+1)/PanelHeight,1)-1 -> 4 | AB63: =COUNTBLANK(OFFSET(INDEX($1:$1048576,2,4),AA63*WellsInPlate,0,WellsInPlate,1)) -> 96 | AC63: =IF(AB63=WellsInPlate,0,1) -> 0 | AE63: =IF(COUNTBLANK(D63)=0,A63) -> FALSE
A64: 1 | B64: G8 | H64: =IF(AC64=1,"H","") | I64: =OFFSET($Z$2,ROW()-StartRow-1-$AA64*PanelHeight+$AA64*WellsInPlate+(COLUMN()-9)*8,0,1,1) | J64: =OFFSET($Z$2,ROW()-StartRow-1-$AA64*PanelHeight+$AA64*WellsInPlate+(COLUMN()-9)*8,0,1,1) | K64: =OFFSET($Z$2,ROW()-StartRow-1-$AA64*PanelHeight+$AA64*WellsInPlate+(COLUMN()-9)*8,0,1,1) | L64: =OFFSET($Z$2,ROW()-StartRow-1-$AA64*PanelHeight+$AA64*WellsInPlate+(COLUMN()-9)*8,0,1,1) | M64: =OFFSET($Z$2,ROW()-StartRow-1-$AA64*PanelHeight+$AA64*WellsInPlate+(COLUMN()-9)*8,0,1,1) | N64: =OFFSET($Z$2,ROW()-StartRow-1-$AA64*PanelHeight+$AA64*WellsInPlate+(COLUMN()-9)*8,0,1,1) | O64: =OFFSET($Z$2,ROW()-StartRow-1-$AA64*PanelHeight+$AA64*WellsInPlate+(COLUMN()-9)*8,0,1,1) | P64: =OFFSET($Z$2,ROW()-StartRow-1-$AA64*PanelHeight+$AA64*WellsInPlate+(COLUMN()-9)*8,0,1,1) | ... T64: =OFFSET($Z$2,ROW()-StartRow-1-$AA64*PanelHeight+$AA64*WellsInPlate+(COLUMN()-9)*8,0,1,1) | Z64: =IF(LEN(INDEX($1:$1048576,ROW(),4))>0,INDEX($1:$1048576,ROW(),4)," ") | AA64: =CEILING((ROW()-StartRow+1)/PanelHeight,1)-1 -> 4 | AB64: =COUNTBLANK(OFFSET(INDEX($1:$1048576,2,4),AA64*WellsInPlate,0,WellsInPlate,1)) -> 96 | AC64: =IF(AB64=WellsInPlate,0,1) -> 0 | AE64: =IF(COUNTBLANK(D64)=0,A64) -> FALSE
A65: 1 | B65: H8 | Z65: =IF(LEN(INDEX($1:$1048576,ROW(),4))>0,INDEX($1:$1048576,ROW(),4)," ") | AA65: =CEILING((ROW()-StartRow+1)/PanelHeight,1)-1 -> 4 | AB65: =COUNTBLANK(OFFSET(INDEX($1:$1048576,2,4),AA65*WellsInPlate,0,WellsInPlate,1)) -> 96 | AC65: =IF(AB65=WellsInPlate,0,1) -> 0 | AE65: =IF(COUNTBLANK(D65)=0,A65) -> FALSE
A66: 1 | B66: A9 | Z66: =IF(LEN(INDEX($1:$1048576,ROW(),4))>0,INDEX($1:$1048576,ROW(),4)," ") | AA66: =CEILING((ROW()-StartRow+1)/PanelHeight,1)-1 -> 4 | AB66: =COUNTBLANK(OFFSET(INDEX($1:$1048576,2,4),AA66*WellsInPlate,0,WellsInPlate,1)) -> 96 | AC66: =IF(AB66=WellsInPlate,0,1) -> 0 | AE66: =IF(COUNTBLANK(D66)=0,A66) -> FALSE
A67: 1 | B67: B9 | Z67: =IF(LEN(INDEX($1:$1048576,ROW(),4))>0,INDEX($1:$1048576,ROW(),4)," ") | AA67: =CEILING((ROW()-StartRow+1)/PanelHeight,1)-1 -> 4 | AB67: =COUNTBLANK(OFFSET(INDEX($1:$1048576,2,4),AA67*WellsInPlate,0,WellsInPlate,1)) -> 96 | AC67: =IF(AB67=WellsInPlate,0,1) -> 0 | AE67: =IF(COUNTBLANK(D67)=0,A67) -> FALSE
A68: 1 | B68: C9 | I68: =IF(AC69=1,"Plate "&TEXT(AA69+1,"0"),"") | Z68: =IF(LEN(INDEX($1:$1048576,ROW(),4))>0,INDEX($1:$1048576,ROW(),4)," ") | AA68: =CEILING((ROW()-StartRow+1)/PanelHeight,1)-1 -> 4 | AB68: =COUNTBLANK(OFFSET(INDEX($1:$1048576,2,4),AA68*WellsInPlate,0,WellsInPlate,1)) -> 96 | AC68: =IF(AB68=WellsInPlate,0,1) -> 0 | AE68: =IF(COUNTBLANK(D68)=0,A68) -> FALSE
A69: 1 | B69: D9 | I69: =IF($AC69=1,"1","") | J69: =IF($AC69=1,"2","") | K69: =IF($AC69=1,"3","") | L69: =IF($AC69=1,"4","") | M69: =IF($AC69=1,"5","") | N69: =IF($AC69=1,"6","") | O69: =IF($AC69=1,"7","") | P69: =IF($AC69=1,"8","") | Q69: =IF($AC69=1,"9","") | R69: =IF($AC69=1,"10","") | S69: =IF($AC69=1,"11","") | T69: =IF($AC69=1,"12","") | Z69: =IF(LEN(INDEX($1:$1048576,ROW(),4))>0,INDEX($1:$1048576,ROW(),4)," ") | AA69: =CEILING((ROW()-StartRow+1)/PanelHeight,1)-1 -> 5 | AB69: =COUNTBLANK(OFFSET(INDEX($1:$1048576,2,4),AA69*WellsInPlate,0,WellsInPlate,1)) -> 96 | AC69: =IF(AB69=WellsInPlate,0,1) -> 0 | AE69: =IF(COUNTBLANK(D69)=0,A69) -> FALSE
A70: 1 | B70: E9 | H70: =IF(AC70=1,"A","") | I70: =OFFSET($Z$2,ROW()-StartRow-1-$AA70*PanelHeight+$AA70*WellsInPlate+(COLUMN()-9)*8,0,1,1) | J70: =OFFSET($Z$2,ROW()-StartRow-1-$AA70*PanelHeight+$AA70*WellsInPlate+(COLUMN()-9)*8,0,1,1) | K70: =OFFSET($Z$2,ROW()-StartRow-1-$AA70*PanelHeight+$AA70*WellsInPlate+(COLUMN()-9)*8,0,1,1) | L70: =OFFSET($Z$2,ROW()-StartRow-1-$AA70*PanelHeight+$AA70*WellsInPlate+(COLUMN()-9)*8,0,1,1) | M70: =OFFSET($Z$2,ROW()-StartRow-1-$AA70*PanelHeight+$AA70*WellsInPlate+(COLUMN()-9)*8,0,1,1) | N70: =OFFSET($Z$2,ROW()-StartRow-1-$AA70*PanelHeight+$AA70*WellsInPlate+(COLUMN()-9)*8,0,1,1) | O70: =OFFSET($Z$2,ROW()-StartRow-1-$AA70*PanelHeight+$AA70*WellsInPlate+(COLUMN()-9)*8,0,1,1) | P70: =OFFSET($Z$2,ROW()-StartRow-1-$AA70*PanelHeight+$AA70*WellsInPlate+(COLUMN()-9)*8,0,1,1) | ... T70: =OFFSET($Z$2,ROW()-StartRow-1-$AA70*PanelHeight+$AA70*WellsInPlate+(COLUMN()-9)*8,0,1,1) | Z70: =IF(LEN(INDEX($1:$1048576,ROW(),4))>0,INDEX($1:$1048576,ROW(),4)," ") | AA70: =CEILING((ROW()-StartRow+1)/PanelHeight,1)-1 -> 5 | AB70: =COUNTBLANK(OFFSET(INDEX($1:$1048576,2,4),AA70*WellsInPlate,0,WellsInPlate,1)) -> 96 | AC70: =IF(AB70=WellsInPlate,0,1) -> 0 | AE70: =IF(COUNTBLANK(D70)=0,A70) -> FALSE
A71: 1 | B71: F9 | H71: =IF(AC71=1,"B","") | I71: =OFFSET($Z$2,ROW()-StartRow-1-$AA71*PanelHeight+$AA71*WellsInPlate+(COLUMN()-9)*8,0,1,1) | J71: =OFFSET($Z$2,ROW()-StartRow-1-$AA71*PanelHeight+$AA71*WellsInPlate+(COLUMN()-9)*8,0,1,1) | K71: =OFFSET($Z$2,ROW()-StartRow-1-$AA71*PanelHeight+$AA71*WellsInPlate+(COLUMN()-9)*8,0,1,1) | L71: =OFFSET($Z$2,ROW()-StartRow-1-$AA71*PanelHeight+$AA71*WellsInPlate+(COLUMN()-9)*8,0,1,1) | M71: =OFFSET($Z$2,ROW()-StartRow-1-$AA71*PanelHeight+$AA71*WellsInPlate+(COLUMN()-9)*8,0,1,1) | N71: =OFFSET($Z$2,ROW()-StartRow-1-$AA71*PanelHeight+$AA71*WellsInPlate+(COLUMN()-9)*8,0,1,1) | O71: =OFFSET($Z$2,ROW()-StartRow-1-$AA71*PanelHeight+$AA71*WellsInPlate+(COLUMN()-9)*8,0,1,1) | P71: =OFFSET($Z$2,ROW()-StartRow-1-$AA71*PanelHeight+$AA71*WellsInPlate+(COLUMN()-9)*8,0,1,1) | ... T71: =OFFSET($Z$2,ROW()-StartRow-1-$AA71*PanelHeight+$AA71*WellsInPlate+(COLUMN()-9)*8,0,1,1) | Z71: =IF(LEN(INDEX($1:$1048576,ROW(),4))>0,INDEX($1:$1048576,ROW(),4)," ") | AA71: =CEILING((ROW()-StartRow+1)/PanelHeight,1)-1 -> 5 | AB71: =COUNTBLANK(OFFSET(INDEX($1:$1048576,2,4),AA71*WellsInPlate,0,WellsInPlate,1)) -> 96 | AC71: =IF(AB71=WellsInPlate,0,1) -> 0 | AE71: =IF(COUNTBLANK(D71)=0,A71) -> FALSE
A72: 1 | B72: G9 | H72: =IF(AC72=1,"C","") | I72: =OFFSET($Z$2,ROW()-StartRow-1-$AA72*PanelHeight+$AA72*WellsInPlate+(COLUMN()-9)*8,0,1,1) | J72: =OFFSET($Z$2,ROW()-StartRow-1-$AA72*PanelHeight+$AA72*WellsInPlate+(COLUMN()-9)*8,0,1,1) | K72: =OFFSET($Z$2,ROW()-StartRow-1-$AA72*PanelHeight+$AA72*WellsInPlate+(COLUMN()-9)*8,0,1,1) | L72: =OFFSET($Z$2,ROW()-StartRow-1-$AA72*PanelHeight+$AA72*WellsInPlate+(COLUMN()-9)*8,0,1,1) | M72: =OFFSET($Z$2,ROW()-StartRow-1-$AA72*PanelHeight+$AA72*WellsInPlate+(COLUMN()-9)*8,0,1,1) | N72: =OFFSET($Z$2,ROW()-StartRow-1-$AA72*PanelHeight+$AA72*WellsInPlate+(COLUMN()-9)*8,0,1,1) | O72: =OFFSET($Z$2,ROW()-StartRow-1-$AA72*PanelHeight+$AA72*WellsInPlate+(COLUMN()-9)*8,0,1,1) | P72: =OFFSET($Z$2,ROW()-StartRow-1-$AA72*PanelHeight+$AA72*WellsInPlate+(COLUMN()-9)*8,0,1,1) | ... T72: =OFFSET($Z$2,ROW()-StartRow-1-$AA72*PanelHeight+$AA72*WellsInPlate+(COLUMN()-9)*8,0,1,1) | Z72: =IF(LEN(INDEX($1:$1048576,ROW(),4))>0,INDEX($1:$1048576,ROW(),4)," ") | AA72: =CEILING((ROW()-StartRow+1)/PanelHeight,1)-1 -> 5 | AB72: =COUNTBLANK(OFFSET(INDEX($1:$1048576,2,4),AA72*WellsInPlate,0,WellsInPlate,1)) -> 96 | AC72: =IF(AB72=WellsInPlate,0,1) -> 0 | AE72: =IF(COUNTBLANK(D72)=0,A72) -> FALSE
A73: 1 | B73: H9 | H73: =IF(AC73=1,"D","") | I73: =OFFSET($Z$2,ROW()-StartRow-1-$AA73*PanelHeight+$AA73*WellsInPlate+(COLUMN()-9)*8,0,1,1) | J73: =OFFSET($Z$2,ROW()-StartRow-1-$AA73*PanelHeight+$AA73*WellsInPlate+(COLUMN()-9)*8,0,1,1) | K73: =OFFSET($Z$2,ROW()-StartRow-1-$AA73*PanelHeight+$AA73*WellsInPlate+(COLUMN()-9)*8,0,1,1) | L73: =OFFSET($Z$2,ROW()-StartRow-1-$AA73*PanelHeight+$AA73*WellsInPlate+(COLUMN()-9)*8,0,1,1) | M73: =OFFSET($Z$2,ROW()-StartRow-1-$AA73*PanelHeight+$AA73*WellsInPlate+(COLUMN()-9)*8,0,1,1) | N73: =OFFSET($Z$2,ROW()-StartRow-1-$AA73*PanelHeight+$AA73*WellsInPlate+(COLUMN()-9)*8,0,1,1) | O73: =OFFSET($Z$2,ROW()-StartRow-1-$AA73*PanelHeight+$AA73*WellsInPlate+(COLUMN()-9)*8,0,1,1) | P73: =OFFSET($Z$2,ROW()-StartRow-1-$AA73*PanelHeight+$AA73*WellsInPlate+(COLUMN()-9)*8,0,1,1) | ... T73: =OFFSET($Z$2,ROW()-StartRow-1-$AA73*PanelHeight+$AA73*WellsInPlate+(COLUMN()-9)*8,0,1,1) | Z73: =IF(LEN(INDEX($1:$1048576,ROW(),4))>0,INDEX($1:$1048576,ROW(),4)," ") | AA73: =CEILING((ROW()-StartRow+1)/PanelHeight,1)-1 -> 5 | AB73: =COUNTBLANK(OFFSET(INDEX($1:$1048576,2,4),AA73*WellsInPlate,0,WellsInPlate,1)) -> 96 | AC73: =IF(AB73=WellsInPlate,0,1) -> 0 | AE73: =IF(COUNTBLANK(D73)=0,A73) -> FALSE
A74: 1 | B74: A10 | H74: =IF(AC74=1,"E","") | I74: =OFFSET($Z$2,ROW()-StartRow-1-$AA74*PanelHeight+$AA74*WellsInPlate+(COLUMN()-9)*8,0,1,1) | J74: =OFFSET($Z$2,ROW()-StartRow-1-$AA74*PanelHeight+$AA74*WellsInPlate+(COLUMN()-9)*8,0,1,1) | K74: =OFFSET($Z$2,ROW()-StartRow-1-$AA74*PanelHeight+$AA74*WellsInPlate+(COLUMN()-9)*8,0,1,1) | L74: =OFFSET($Z$2,ROW()-StartRow-1-$AA74*PanelHeight+$AA74*WellsInPlate+(COLUMN()-9)*8,0,1,1) | M74: =OFFSET($Z$2,ROW()-StartRow-1-$AA74*PanelHeight+$AA74*WellsInPlate+(COLUMN()-9)*8,0,1,1) | N74: =OFFSET($Z$2,ROW()-StartRow-1-$AA74*PanelHeight+$AA74*WellsInPlate+(COLUMN()-9)*8,0,1,1) | O74: =OFFSET($Z$2,ROW()-StartRow-1-$AA74*PanelHeight+$AA74*WellsInPlate+(COLUMN()-9)*8,0,1,1) | P74: =OFFSET($Z$2,ROW()-StartRow-1-$AA74*PanelHeight+$AA74*WellsInPlate+(COLUMN()-9)*8,0,1,1) | ... T74: =OFFSET($Z$2,ROW()-StartRow-1-$AA74*PanelHeight+$AA74*WellsInPlate+(COLUMN()-9)*8,0,1,1) | Z74: =IF(LEN(INDEX($1:$1048576,ROW(),4))>0,INDEX($1:$1048576,ROW(),4)," ") | AA74: =CEILING((ROW()-StartRow+1)/PanelHeight,1)-1 -> 5 | AB74: =COUNTBLANK(OFFSET(INDEX($1:$1048576,2,4),AA74*WellsInPlate,0,WellsInPlate,1)) -> 96 | AC74: =IF(AB74=WellsInPlate,0,1) -> 0 | AE74: =IF(COUNTBLANK(D74)=0,A74) -> FALSE
A75: 1 | B75: B10 | H75: =IF(AC75=1,"F","") | I75: =OFFSET($Z$2,ROW()-StartRow-1-$AA75*PanelHeight+$AA75*WellsInPlate+(COLUMN()-9)*8,0,1,1) | J75: =OFFSET($Z$2,ROW()-StartRow-1-$AA75*PanelHeight+$AA75*WellsInPlate+(COLUMN()-9)*8,0,1,1) | K75: =OFFSET($Z$2,ROW()-StartRow-1-$AA75*PanelHeight+$AA75*WellsInPlate+(COLUMN()-9)*8,0,1,1) | L75: =OFFSET($Z$2,ROW()-StartRow-1-$AA75*PanelHeight+$AA75*WellsInPlate+(COLUMN()-9)*8,0,1,1) | M75: =OFFSET($Z$2,ROW()-StartRow-1-$AA75*PanelHeight+$AA75*WellsInPlate+(COLUMN()-9)*8,0,1,1) | N75: =OFFSET($Z$2,ROW()-StartRow-1-$AA75*PanelHeight+$AA75*WellsInPlate+(COLUMN()-9)*8,0,1,1) | O75: =OFFSET($Z$2,ROW()-StartRow-1-$AA75*PanelHeight+$AA75*WellsInPlate+(COLUMN()-9)*8,0,1,1) | P75: =OFFSET($Z$2,ROW()-StartRow-1-$AA75*PanelHeight+$AA75*WellsInPlate+(COLUMN()-9)*8,0,1,1) | ... T75: =OFFSET($Z$2,ROW()-StartRow-1-$AA75*PanelHeight+$AA75*WellsInPlate+(COLUMN()-9)*8,0,1,1) | Z75: =IF(LEN(INDEX($1:$1048576,ROW(),4))>0,INDEX($1:$1048576,ROW(),4)," ") | AA75: =CEILING((ROW()-StartRow+1)/PanelHeight,1)-1 -> 5 | AB75: =COUNTBLANK(OFFSET(INDEX($1:$1048576,2,4),AA75*WellsInPlate,0,WellsInPlate,1)) -> 96 | AC75: =IF(AB75=WellsInPlate,0,1) -> 0 | AE75: =IF(COUNTBLANK(D75)=0,A75) -> FALSE
A76: 1 | B76: C10 | H76: =IF(AC76=1,"G","") | I76: =OFFSET($Z$2,ROW()-StartRow-1-$AA76*PanelHeight+$AA76*WellsInPlate+(COLUMN()-9)*8,0,1,1) | J76: =OFFSET($Z$2,ROW()-StartRow-1-$AA76*PanelHeight+$AA76*WellsInPlate+(COLUMN()-9)*8,0,1,1) | K76: =OFFSET($Z$2,ROW()-StartRow-1-$AA76*PanelHeight+$AA76*WellsInPlate+(COLUMN()-9)*8,0,1,1) | L76: =OFFSET($Z$2,ROW()-StartRow-1-$AA76*PanelHeight+$AA76*WellsInPlate+(COLUMN()-9)*8,0,1,1) | M76: =OFFSET($Z$2,ROW()-StartRow-1-$AA76*PanelHeight+$AA76*WellsInPlate+(COLUMN()-9)*8,0,1,1) | N76: =OFFSET($Z$2,ROW()-StartRow-1-$AA76*PanelHeight+$AA76*WellsInPlate+(COLUMN()-9)*8,0,1,1) | O76: =OFFSET($Z$2,ROW()-StartRow-1-$AA76*PanelHeight+$AA76*WellsInPlate+(COLUMN()-9)*8,0,1,1) | P76: =OFFSET($Z$2,ROW()-StartRow-1-$AA76*PanelHeight+$AA76*WellsInPlate+(COLUMN()-9)*8,0,1,1) | ... T76: =OFFSET($Z$2,ROW()-StartRow-1-$AA76*PanelHeight+$AA76*WellsInPlate+(COLUMN()-9)*8,0,1,1) | Z76: =IF(LEN(INDEX($1:$1048576,ROW(),4))>0,INDEX($1:$1048576,ROW(),4)," ") | AA76: =CEILING((ROW()-StartRow+1)/PanelHeight,1)-1 -> 5 | AB76: =COUNTBLANK(OFFSET(INDEX($1:$1048576,2,4),AA76*WellsInPlate,0,WellsInPlate,1)) -> 96 | AC76: =IF(AB76=WellsInPlate,0,1) -> 0 | AE76: =IF(COUNTBLANK(D76)=0,A76) -> FALSE
A77: 1 | B77: D10 | H77: =IF(AC77=1,"H","") | I77: =OFFSET($Z$2,ROW()-StartRow-1-$AA77*PanelHeight+$AA77*WellsInPlate+(COLUMN()-9)*8,0,1,1) | J77: =OFFSET($Z$2,ROW()-StartRow-1-$AA77*PanelHeight+$AA77*WellsInPlate+(COLUMN()-9)*8,0,1,1) | K77: =OFFSET($Z$2,ROW()-StartRow-1-$AA77*PanelHeight+$AA77*WellsInPlate+(COLUMN()-9)*8,0,1,1) | L77: =OFFSET($Z$2,ROW()-StartRow-1-$AA77*PanelHeight+$AA77*WellsInPlate+(COLUMN()-9)*8,0,1,1) | M77: =OFFSET($Z$2,ROW()-StartRow-1-$AA77*PanelHeight+$AA77*WellsInPlate+(COLUMN()-9)*8,0,1,1) | N77: =OFFSET($Z$2,ROW()-StartRow-1-$AA77*PanelHeight+$AA77*WellsInPlate+(COLUMN()-9)*8,0,1,1) | O77: =OFFSET($Z$2,ROW()-StartRow-1-$AA77*PanelHeight+$AA77*WellsInPlate+(COLUMN()-9)*8,0,1,1) | P77: =OFFSET($Z$2,ROW()-StartRow-1-$AA77*PanelHeight+$AA77*WellsInPlate+(COLUMN()-9)*8,0,1,1) | ... T77: =OFFSET($Z$2,ROW()-StartRow-1-$AA77*PanelHeight+$AA77*WellsInPlate+(COLUMN()-9)*8,0,1,1) | Z77: =IF(LEN(INDEX($1:$1048576,ROW(),4))>0,INDEX($1:$1048576,ROW(),4)," ") | AA77: =CEILING((ROW()-StartRow+1)/PanelHeight,1)-1 -> 5 | AB77: =COUNTBLANK(OFFSET(INDEX($1:$1048576,2,4),AA77*WellsInPlate,0,WellsInPlate,1)) -> 96 | AC77: =IF(AB77=WellsInPlate,0,1) -> 0 | AE77: =IF(COUNTBLANK(D77)=0,A77) -> FALSE
A78: 1 | B78: E10 | Z78: =IF(LEN(INDEX($1:$1048576,ROW(),4))>0,INDEX($1:$1048576,ROW(),4)," ") | AA78: =CEILING((ROW()-StartRow+1)/PanelHeight,1)-1 -> 5 | AB78: =COUNTBLANK(OFFSET(INDEX($1:$1048576,2,4),AA78*WellsInPlate,0,WellsInPlate,1)) -> 96 | AC78: =IF(AB78=WellsInPlate,0,1) -> 0 | AE78: =IF(COUNTBLANK(D78)=0,A78) -> FALSE
A79: 1 | B79: F10 | Z79: =IF(LEN(INDEX($1:$1048576,ROW(),4))>0,INDEX($1:$1048576,ROW(),4)," ") | AA79: =CEILING((ROW()-StartRow+1)/PanelHeight,1)-1 -> 5 | AB79: =COUNTBLANK(OFFSET(INDEX($1:$1048576,2,4),AA79*WellsInPlate,0,WellsInPlate,1)) -> 96 | AC79: =IF(AB79=WellsInPlate,0,1) -> 0 | AE79: =IF(COUNTBLANK(D79)=0,A79) -> FALSE
A80: 1 | B80: G10 | Z80: =IF(LEN(INDEX($1:$1048576,ROW(),4))>0,INDEX($1:$1048576,ROW(),4)," ") | AA80: =CEILING((ROW()-StartRow+1)/PanelHeight,1)-1 -> 5 | AB80: =COUNTBLANK(OFFSET(INDEX($1:$1048576,2,4),AA80*WellsInPlate,0,WellsInPlate,1)) -> 96 | AC80: =IF(AB80=WellsInPlate,0,1) -> 0 | AE80: =IF(COUNTBLANK(D80)=0,A80) -> FALSE
A81: 1 | B81: H10 | I81: =IF(AC82=1,"Plate "&TEXT(AA82+1,"0"),"") | Z81: =IF(LEN(INDEX($1:$1048576,ROW(),4))>0,INDEX($1:$1048576,ROW(),4)," ") | AA81: =CEILING((ROW()-StartRow+1)/PanelHeight,1)-1 -> 5 | AB81: =COUNTBLANK(OFFSET(INDEX($1:$1048576,2,4),AA81*WellsInPlate,0,WellsInPlate,1)) -> 96 | AC81: =IF(AB81=WellsInPlate,0,1) -> 0 | AE81: =IF(COUNTBLANK(D81)=0,A81) -> FALSE
A82: 1 | B82: A11 | I82: =IF($AC82=1,"1","") | J82: =IF($AC82=1,"2","") | K82: =IF($AC82=1,"3","") | L82: =IF($AC82=1,"4","") | M82: =IF($AC82=1,"5","") | N82: =IF($AC82=1,"6","") | O82: =IF($AC82=1,"7","") | P82: =IF($AC82=1,"8","") | Q82: =IF($AC82=1,"9","") | R82: =IF($AC82=1,"10","") | S82: =IF($AC82=1,"11","") | T82: =IF($AC82=1,"12","") | Z82: =IF(LEN(INDEX($1:$1048576,ROW(),4))>0,INDEX($1:$1048576,ROW(),4)," ") | AA82: =CEILING((ROW()-StartRow+1)/PanelHeight,1)-1 -> 6 | AB82: =COUNTBLANK(OFFSET(INDEX($1:$1048576,2,4),AA82*WellsInPlate,0,WellsInPlate,1)) -> 96 | AC82: =IF(AB82=WellsInPlate,0,1) -> 0 | AE82: =IF(COUNTBLANK(D82)=0,A82) -> FALSE
A83: 1 | B83: B11 | H83: =IF(AC83=1,"A","") | I83: =OFFSET($Z$2,ROW()-StartRow-1-$AA83*PanelHeight+$AA83*WellsInPlate+(COLUMN()-9)*8,0,1,1) | J83: =OFFSET($Z$2,ROW()-StartRow-1-$AA83*PanelHeight+$AA83*WellsInPlate+(COLUMN()-9)*8,0,1,1) | K83: =OFFSET($Z$2,ROW()-StartRow-1-$AA83*PanelHeight+$AA83*WellsInPlate+(COLUMN()-9)*8,0,1,1) | L83: =OFFSET($Z$2,ROW()-StartRow-1-$AA83*PanelHeight+$AA83*WellsInPlate+(COLUMN()-9)*8,0,1,1) | M83: =OFFSET($Z$2,ROW()-StartRow-1-$AA83*PanelHeight+$AA83*WellsInPlate+(COLUMN()-9)*8,0,1,1) | N83: =OFFSET($Z$2,ROW()-StartRow-1-$AA83*PanelHeight+$AA83*WellsInPlate+(COLUMN()-9)*8,0,1,1) | O83: =OFFSET($Z$2,ROW()-StartRow-1-$AA83*PanelHeight+$AA83*WellsInPlate+(COLUMN()-9)*8,0,1,1) | P83: =OFFSET($Z$2,ROW()-StartRow-1-$AA83*PanelHeight+$AA83*WellsInPlate+(COLUMN()-9)*8,0,1,1) | ... T83: =OFFSET($Z$2,ROW()-StartRow-1-$AA83*PanelHeight+$AA83*WellsInPlate+(COLUMN()-9)*8,0,1,1) | Z83: =IF(LEN(INDEX($1:$1048576,ROW(),4))>0,INDEX($1:$1048576,ROW(),4)," ") | AA83: =CEILING((ROW()-StartRow+1)/PanelHeight,1)-1 -> 6 | AB83: =COUNTBLANK(OFFSET(INDEX($1:$1048576,2,4),AA83*WellsInPlate,0,WellsInPlate,1)) -> 96 | AC83: =IF(AB83=WellsInPlate,0,1) -> 0 | AE83: =IF(COUNTBLANK(D83)=0,A83) -> FALSE
A84: 1 | B84: C11 | H84: =IF(AC84=1,"B","") | I84: =OFFSET($Z$2,ROW()-StartRow-1-$AA84*PanelHeight+$AA84*WellsInPlate+(COLUMN()-9)*8,0,1,1) | J84: =OFFSET($Z$2,ROW()-StartRow-1-$AA84*PanelHeight+$AA84*WellsInPlate+(COLUMN()-9)*8,0,1,1) | K84: =OFFSET($Z$2,ROW()-StartRow-1-$AA84*PanelHeight+$AA84*WellsInPlate+(COLUMN()-9)*8,0,1,1) | L84: =OFFSET($Z$2,ROW()-StartRow-1-$AA84*PanelHeight+$AA84*WellsInPlate+(COLUMN()-9)*8,0,1,1) | M84: =OFFSET($Z$2,ROW()-StartRow-1-$AA84*PanelHeight+$AA84*WellsInPlate+(COLUMN()-9)*8,0,1,1) | N84: =OFFSET($Z$2,ROW()-StartRow-1-$AA84*PanelHeight+$AA84*WellsInPlate+(COLUMN()-9)*8,0,1,1) | O84: =OFFSET($Z$2,ROW()-StartRow-1-$AA84*PanelHeight+$AA84*WellsInPlate+(COLUMN()-9)*8,0,1,1) | P84: =OFFSET($Z$2,ROW()-StartRow-1-$AA84*PanelHeight+$AA84*WellsInPlate+(COLUMN()-9)*8,0,1,1) | ... T84: =OFFSET($Z$2,ROW()-StartRow-1-$AA84*PanelHeight+$AA84*WellsInPlate+(COLUMN()-9)*8,0,1,1) | Z84: =IF(LEN(INDEX($1:$1048576,ROW(),4))>0,INDEX($1:$1048576,ROW(),4)," ") | AA84: =CEILING((ROW()-StartRow+1)/PanelHeight,1)-1 -> 6 | AB84: =COUNTBLANK(OFFSET(INDEX($1:$1048576,2,4),AA84*WellsInPlate,0,WellsInPlate,1)) -> 96 | AC84: =IF(AB84=WellsInPlate,0,1) -> 0 | AE84: =IF(COUNTBLANK(D84)=0,A84) -> FALSE
A85: 1 | B85: D11 | H85: =IF(AC85=1,"C","") | I85: =OFFSET($Z$2,ROW()-StartRow-1-$AA85*PanelHeight+$AA85*WellsInPlate+(COLUMN()-9)*8,0,1,1) | J85: =OFFSET($Z$2,ROW()-StartRow-1-$AA85*PanelHeight+$AA85*WellsInPlate+(COLUMN()-9)*8,0,1,1) | K85: =OFFSET($Z$2,ROW()-StartRow-1-$AA85*PanelHeight+$AA85*WellsInPlate+(COLUMN()-9)*8,0,1,1) | L85: =OFFSET($Z$2,ROW()-StartRow-1-$AA85*PanelHeight+$AA85*WellsInPlate+(COLUMN()-9)*8,0,1,1) | M85: =OFFSET($Z$2,ROW()-StartRow-1-$AA85*PanelHeight+$AA85*WellsInPlate+(COLUMN()-9)*8,0,1,1) | N85: =OFFSET($Z$2,ROW()-StartRow-1-$AA85*PanelHeight+$AA85*WellsInPlate+(COLUMN()-9)*8,0,1,1) | O85: =OFFSET($Z$2,ROW()-StartRow-1-$AA85*PanelHeight+$AA85*WellsInPlate+(COLUMN()-9)*8,0,1,1) | P85: =OFFSET($Z$2,ROW()-StartRow-1-$AA85*PanelHeight+$AA85*WellsInPlate+(COLUMN()-9)*8,0,1,1) | ... T85: =OFFSET($Z$2,ROW()-StartRow-1-$AA85*PanelHeight+$AA85*WellsInPlate+(COLUMN()-9)*8,0,1,1) | Z85: =IF(LEN(INDEX($1:$1048576,ROW(),4))>0,INDEX($1:$1048576,ROW(),4)," ") | AA85: =CEILING((ROW()-StartRow+1)/PanelHeight,1)-1 -> 6 | AB85: =COUNTBLANK(OFFSET(INDEX($1:$1048576,2,4),AA85*WellsInPlate,0,WellsInPlate,1)) -> 96 | AC85: =IF(AB85=WellsInPlate,0,1) -> 0 | AE85: =IF(COUNTBLANK(D85)=0,A85) -> FALSE
A86: 1 | B86: E11 | H86: =IF(AC86=1,"D","") | I86: =OFFSET($Z$2,ROW()-StartRow-1-$AA86*PanelHeight+$AA86*WellsInPlate+(COLUMN()-9)*8,0,1,1) | J86: =OFFSET($Z$2,ROW()-StartRow-1-$AA86*PanelHeight+$AA86*WellsInPlate+(COLUMN()-9)*8,0,1,1) | K86: =OFFSET($Z$2,ROW()-StartRow-1-$AA86*PanelHeight+$AA86*WellsInPlate+(COLUMN()-9)*8,0,1,1) | L86: =OFFSET($Z$2,ROW()-StartRow-1-$AA86*PanelHeight+$AA86*WellsInPlate+(COLUMN()-9)*8,0,1,1) | M86: =OFFSET($Z$2,ROW()-StartRow-1-$AA86*PanelHeight+$AA86*WellsInPlate+(COLUMN()-9)*8,0,1,1) | N86: =OFFSET($Z$2,ROW()-StartRow-1-$AA86*PanelHeight+$AA86*WellsInPlate+(COLUMN()-9)*8,0,1,1) | O86: =OFFSET($Z$2,ROW()-StartRow-1-$AA86*PanelHeight+$AA86*WellsInPlate+(COLUMN()-9)*8,0,1,1) | P86: =OFFSET($Z$2,ROW()-StartRow-1-$AA86*PanelHeight+$AA86*WellsInPlate+(COLUMN()-9)*8,0,1,1) | ... T86: =OFFSET($Z$2,ROW()-StartRow-1-$AA86*PanelHeight+$AA86*WellsInPlate+(COLUMN()-9)*8,0,1,1) | Z86: =IF(LEN(INDEX($1:$1048576,ROW(),4))>0,INDEX($1:$1048576,ROW(),4)," ") | AA86: =CEILING((ROW()-StartRow+1)/PanelHeight,1)-1 -> 6 | AB86: =COUNTBLANK(OFFSET(INDEX($1:$1048576,2,4),AA86*WellsInPlate,0,WellsInPlate,1)) -> 96 | AC86: =IF(AB86=WellsInPlate,0,1) -> 0 | AE86: =IF(COUNTBLANK(D86)=0,A86) -> FALSE
A87: 1 | B87: F11 | H87: =IF(AC87=1,"E","") | I87: =OFFSET($Z$2,ROW()-StartRow-1-$AA87*PanelHeight+$AA87*WellsInPlate+(COLUMN()-9)*8,0,1,1) | J87: =OFFSET($Z$2,ROW()-StartRow-1-$AA87*PanelHeight+$AA87*WellsInPlate+(COLUMN()-9)*8,0,1,1) | K87: =OFFSET($Z$2,ROW()-StartRow-1-$AA87*PanelHeight+$AA87*WellsInPlate+(COLUMN()-9)*8,0,1,1) | L87: =OFFSET($Z$2,ROW()-StartRow-1-$AA87*PanelHeight+$AA87*WellsInPlate+(COLUMN()-9)*8,0,1,1) | M87: =OFFSET($Z$2,ROW()-StartRow-1-$AA87*PanelHeight+$AA87*WellsInPlate+(COLUMN()-9)*8,0,1,1) | N87: =OFFSET($Z$2,ROW()-StartRow-1-$AA87*PanelHeight+$AA87*WellsInPlate+(COLUMN()-9)*8,0,1,1) | O87: =OFFSET($Z$2,ROW()-StartRow-1-$AA87*PanelHeight+$AA87*WellsInPlate+(COLUMN()-9)*8,0,1,1) | P87: =OFFSET($Z$2,ROW()-StartRow-1-$AA87*PanelHeight+$AA87*WellsInPlate+(COLUMN()-9)*8,0,1,1) | ... T87: =OFFSET($Z$2,ROW()-StartRow-1-$AA87*PanelHeight+$AA87*WellsInPlate+(COLUMN()-9)*8,0,1,1) | Z87: =IF(LEN(INDEX($1:$1048576,ROW(),4))>0,INDEX($1:$1048576,ROW(),4)," ") | AA87: =CEILING((ROW()-StartRow+1)/PanelHeight,1)-1 -> 6 | AB87: =COUNTBLANK(OFFSET(INDEX($1:$1048576,2,4),AA87*WellsInPlate,0,WellsInPlate,1)) -> 96 | AC87: =IF(AB87=WellsInPlate,0,1) -> 0 | AE87: =IF(COUNTBLANK(D87)=0,A87) -> FALSE
A88: 1 | B88: G11 | H88: =IF(AC88=1,"F","") | I88: =OFFSET($Z$2,ROW()-StartRow-1-$AA88*PanelHeight+$AA88*WellsInPlate+(COLUMN()-9)*8,0,1,1) | J88: =OFFSET($Z$2,ROW()-StartRow-1-$AA88*PanelHeight+$AA88*WellsInPlate+(COLUMN()-9)*8,0,1,1) | K88: =OFFSET($Z$2,ROW()-StartRow-1-$AA88*PanelHeight+$AA88*WellsInPlate+(COLUMN()-9)*8,0,1,1) | L88: =OFFSET($Z$2,ROW()-StartRow-1-$AA88*PanelHeight+$AA88*WellsInPlate+(COLUMN()-9)*8,0,1,1) | M88: =OFFSET($Z$2,ROW()-StartRow-1-$AA88*PanelHeight+$AA88*WellsInPlate+(COLUMN()-9)*8,0,1,1) | N88: =OFFSET($Z$2,ROW()-StartRow-1-$AA88*PanelHeight+$AA88*WellsInPlate+(COLUMN()-9)*8,0,1,1) | O88: =OFFSET($Z$2,ROW()-StartRow-1-$AA88*PanelHeight+$AA88*WellsInPlate+(COLUMN()-9)*8,0,1,1) | P88: =OFFSET($Z$2,ROW()-StartRow-1-$AA88*PanelHeight+$AA88*WellsInPlate+(COLUMN()-9)*8,0,1,1) | ... T88: =OFFSET($Z$2,ROW()-StartRow-1-$AA88*PanelHeight+$AA88*WellsInPlate+(COLUMN()-9)*8,0,1,1) | Z88: =IF(LEN(INDEX($1:$1048576,ROW(),4))>0,INDEX($1:$1048576,ROW(),4)," ") | AA88: =CEILING((ROW()-StartRow+1)/PanelHeight,1)-1 -> 6 | AB88: =COUNTBLANK(OFFSET(INDEX($1:$1048576,2,4),AA88*WellsInPlate,0,WellsInPlate,1)) -> 96 | AC88: =IF(AB88=WellsInPlate,0,1) -> 0 | AE88: =IF(COUNTBLANK(D88)=0,A88) -> FALSE
A89: 1 | B89: H11 | H89: =IF(AC89=1,"G","") | I89: =OFFSET($Z$2,ROW()-StartRow-1-$AA89*PanelHeight+$AA89*WellsInPlate+(COLUMN()-9)*8,0,1,1) | J89: =OFFSET($Z$2,ROW()-StartRow-1-$AA89*PanelHeight+$AA89*WellsInPlate+(COLUMN()-9)*8,0,1,1) | K89: =OFFSET($Z$2,ROW()-StartRow-1-$AA89*PanelHeight+$AA89*WellsInPlate+(COLUMN()-9)*8,0,1,1) | L89: =OFFSET($Z$2,ROW()-StartRow-1-$AA89*PanelHeight+$AA89*WellsInPlate+(COLUMN()-9)*8,0,1,1) | M89: =OFFSET($Z$2,ROW()-StartRow-1-$AA89*PanelHeight+$AA89*WellsInPlate+(COLUMN()-9)*8,0,1,1) | N89: =OFFSET($Z$2,ROW()-StartRow-1-$AA89*PanelHeight+$AA89*WellsInPlate+(COLUMN()-9)*8,0,1,1) | O89: =OFFSET($Z$2,ROW()-StartRow-1-$AA89*PanelHeight+$AA89*WellsInPlate+(COLUMN()-9)*8,0,1,1) | P89: =OFFSET($Z$2,ROW()-StartRow-1-$AA89*PanelHeight+$AA89*WellsInPlate+(COLUMN()-9)*8,0,1,1) | ... T89: =OFFSET($Z$2,ROW()-StartRow-1-$AA89*PanelHeight+$AA89*WellsInPlate+(COLUMN()-9)*8,0,1,1) | Z89: =IF(LEN(INDEX($1:$1048576,ROW(),4))>0,INDEX($1:$1048576,ROW(),4)," ") | AA89: =CEILING((ROW()-StartRow+1)/PanelHeight,1)-1 -> 6 | AB89: =COUNTBLANK(OFFSET(INDEX($1:$1048576,2,4),AA89*WellsInPlate,0,WellsInPlate,1)) -> 96 | AC89: =IF(AB89=WellsInPlate,0,1) -> 0 | AE89: =IF(COUNTBLANK(D89)=0,A89) -> FALSE
A90: 1 | B90: A12 | H90: =IF(AC90=1,"H","") | I90: =OFFSET($Z$2,ROW()-StartRow-1-$AA90*PanelHeight+$AA90*WellsInPlate+(COLUMN()-9)*8,0,1,1) | J90: =OFFSET($Z$2,ROW()-StartRow-1-$AA90*PanelHeight+$AA90*WellsInPlate+(COLUMN()-9)*8,0,1,1) | K90: =OFFSET($Z$2,ROW()-StartRow-1-$AA90*PanelHeight+$AA90*WellsInPlate+(COLUMN()-9)*8,0,1,1) | L90: =OFFSET($Z$2,ROW()-StartRow-1-$AA90*PanelHeight+$AA90*WellsInPlate+(COLUMN()-9)*8,0,1,1) | M90: =OFFSET($Z$2,ROW()-StartRow-1-$AA90*PanelHeight+$AA90*WellsInPlate+(COLUMN()-9)*8,0,1,1) | N90: =OFFSET($Z$2,ROW()-StartRow-1-$AA90*PanelHeight+$AA90*WellsInPlate+(COLUMN()-9)*8,0,1,1) | O90: =OFFSET($Z$2,ROW()-StartRow-1-$AA90*PanelHeight+$AA90*WellsInPlate+(COLUMN()-9)*8,0,1,1) | P90: =OFFSET($Z$2,ROW()-StartRow-1-$AA90*PanelHeight+$AA90*WellsInPlate+(COLUMN()-9)*8,0,1,1) | ... T90: =OFFSET($Z$2,ROW()-StartRow-1-$AA90*PanelHeight+$AA90*WellsInPlate+(COLUMN()-9)*8,0,1,1) | Z90: =IF(LEN(INDEX($1:$1048576,ROW(),4))>0,INDEX($1:$1048576,ROW(),4)," ") | AA90: =CEILING((ROW()-StartRow+1)/PanelHeight,1)-1 -> 6 | AB90: =COUNTBLANK(OFFSET(INDEX($1:$1048576,2,4),AA90*WellsInPlate,0,WellsInPlate,1)) -> 96 | AC90: =IF(AB90=WellsInPlate,0,1) -> 0 | AE90: =IF(COUNTBLANK(D90)=0,A90) -> FALSE
A91: 1 | B91: B12 | Z91: =IF(LEN(INDEX($1:$1048576,ROW(),4))>0,INDEX($1:$1048576,ROW(),4)," ") | AA91: =CEILING((ROW()-StartRow+1)/PanelHeight,1)-1 -> 6 | AB91: =COUNTBLANK(OFFSET(INDEX($1:$1048576,2,4),AA91*WellsInPlate,0,WellsInPlate,1)) -> 96 | AC91: =IF(AB91=WellsInPlate,0,1) -> 0 | AE91: =IF(COUNTBLANK(D91)=0,A91) -> FALSE
A92: 1 | B92: C12 | Z92: =IF(LEN(INDEX($1:$1048576,ROW(),4))>0,INDEX($1:$1048576,ROW(),4)," ") | AA92: =CEILING((ROW()-StartRow+1)/PanelHeight,1)-1 -> 6 | AB92: =COUNTBLANK(OFFSET(INDEX($1:$1048576,2,4),AA92*WellsInPlate,0,WellsInPlate,1)) -> 96 | AC92: =IF(AB92=WellsInPlate,0,1) -> 0 | AE92: =IF(COUNTBLANK(D92)=0,A92) -> FALSE
A93: 1 | B93: D12 | Z93: =IF(LEN(INDEX($1:$1048576,ROW(),4))>0,INDEX($1:$1048576,ROW(),4)," ") | AA93: =CEILING((ROW()-StartRow+1)/PanelHeight,1)-1 -> 6 | AB93: =COUNTBLANK(OFFSET(INDEX($1:$1048576,2,4),AA93*WellsInPlate,0,WellsInPlate,1)) -> 96 | AC93: =IF(AB93=WellsInPlate,0,1) -> 0 | AE93: =IF(COUNTBLANK(D93)=0,A93) -> FALSE
A94: 1 | B94: E12 | I94: =IF(AC95=1,"Plate "&TEXT(AA95+1,"0"),"") | Z94: =IF(LEN(INDEX($1:$1048576,ROW(),4))>0,INDEX($1:$1048576,ROW(),4)," ") | AA94: =CEILING((ROW()-StartRow+1)/PanelHeight,1)-1 -> 6 | AB94: =COUNTBLANK(OFFSET(INDEX($1:$1048576,2,4),AA94*WellsInPlate,0,WellsInPlate,1)) -> 96 | AC94: =IF(AB94=WellsInPlate,0,1) -> 0 | AE94: =IF(COUNTBLANK(D94)=0,A94) -> FALSE
A95: 1 | B95: F12 | I95: =IF($AC95=1,"1","") | J95: =IF($AC95=1,"2","") | K95: =IF($AC95=1,"3","") | L95: =IF($AC95=1,"4","") | M95: =IF($AC95=1,"5","") | N95: =IF($AC95=1,"6","") | O95: =IF($AC95=1,"7","") | P95: =IF($AC95=1,"8","") | Q95: =IF($AC95=1,"9","") | R95: =IF($AC95=1,"10","") | S95: =IF($AC95=1,"11","") | T95: =IF($AC95=1,"12","") | Z95: =IF(LEN(INDEX($1:$1048576,ROW(),4))>0,INDEX($1:$1048576,ROW(),4)," ") | AA95: =CEILING((ROW()-StartRow+1)/PanelHeight,1)-1 -> 7 | AB95: =COUNTBLANK(OFFSET(INDEX($1:$1048576,2,4),AA95*WellsInPlate,0,WellsInPlate,1)) -> 96 | AC95: =IF(AB95=WellsInPlate,0,1) -> 0 | AE95: =IF(COUNTBLANK(D95)=0,A95) -> FALSE
A96: 1 | B96: G12 | H96: =IF(AC96=1,"A","") | I96: =OFFSET($Z$2,ROW()-StartRow-1-$AA96*PanelHeight+$AA96*WellsInPlate+(COLUMN()-9)*8,0,1,1) | J96: =OFFSET($Z$2,ROW()-StartRow-1-$AA96*PanelHeight+$AA96*WellsInPlate+(COLUMN()-9)*8,0,1,1) | K96: =OFFSET($Z$2,ROW()-StartRow-1-$AA96*PanelHeight+$AA96*WellsInPlate+(COLUMN()-9)*8,0,1,1) | L96: =OFFSET($Z$2,ROW()-StartRow-1-$AA96*PanelHeight+$AA96*WellsInPlate+(COLUMN()-9)*8,0,1,1) | M96: =OFFSET($Z$2,ROW()-StartRow-1-$AA96*PanelHeight+$AA96*WellsInPlate+(COLUMN()-9)*8,0,1,1) | N96: =OFFSET($Z$2,ROW()-StartRow-1-$AA96*PanelHeight+$AA96*WellsInPlate+(COLUMN()-9)*8,0,1,1) | O96: =OFFSET($Z$2,ROW()-StartRow-1-$AA96*PanelHeight+$AA96*WellsInPlate+(COLUMN()-9)*8,0,1,1) | P96: =OFFSET($Z$2,ROW()-StartRow-1-$AA96*PanelHeight+$AA96*WellsInPlate+(COLUMN()-9)*8,0,1,1) | ... T96: =OFFSET($Z$2,ROW()-StartRow-1-$AA96*PanelHeight+$AA96*WellsInPlate+(COLUMN()-9)*8,0,1,1) | Z96: =IF(LEN(INDEX($1:$1048576,ROW(),4))>0,INDEX($1:$1048576,ROW(),4)," ") | AA96: =CEILING((ROW()-StartRow+1)/PanelHeight,1)-1 -> 7 | AB96: =COUNTBLANK(OFFSET(INDEX($1:$1048576,2,4),AA96*WellsInPlate,0,WellsInPlate,1)) -> 96 | AC96: =IF(AB96=WellsInPlate,0,1) -> 0 | AE96: =IF(COUNTBLANK(D96)=0,A96) -> FALSE
A97: 1 | B97: H12 | H97: =IF(AC97=1,"B","") | I97: =OFFSET($Z$2,ROW()-StartRow-1-$AA97*PanelHeight+$AA97*WellsInPlate+(COLUMN()-9)*8,0,1,1) | J97: =OFFSET($Z$2,ROW()-StartRow-1-$AA97*PanelHeight+$AA97*WellsInPlate+(COLUMN()-9)*8,0,1,1) | K97: =OFFSET($Z$2,ROW()-StartRow-1-$AA97*PanelHeight+$AA97*WellsInPlate+(COLUMN()-9)*8,0,1,1) | L97: =OFFSET($Z$2,ROW()-StartRow-1-$AA97*PanelHeight+$AA97*WellsInPlate+(COLUMN()-9)*8,0,1,1) | M97: =OFFSET($Z$2,ROW()-StartRow-1-$AA97*PanelHeight+$AA97*WellsInPlate+(COLUMN()-9)*8,0,1,1) | N97: =OFFSET($Z$2,ROW()-StartRow-1-$AA97*PanelHeight+$AA97*WellsInPlate+(COLUMN()-9)*8,0,1,1) | O97: =OFFSET($Z$2,ROW()-StartRow-1-$AA97*PanelHeight+$AA97*WellsInPlate+(COLUMN()-9)*8,0,1,1) | P97: =OFFSET($Z$2,ROW()-StartRow-1-$AA97*PanelHeight+$AA97*WellsInPlate+(COLUMN()-9)*8,0,1,1) | ... T97: =OFFSET($Z$2,ROW()-StartRow-1-$AA97*PanelHeight+$AA97*WellsInPlate+(COLUMN()-9)*8,0,1,1) | Z97: =IF(LEN(INDEX($1:$1048576,ROW(),4))>0,INDEX($1:$1048576,ROW(),4)," ") | AA97: =CEILING((ROW()-StartRow+1)/PanelHeight,1)-1 -> 7 | AB97: =COUNTBLANK(OFFSET(INDEX($1:$1048576,2,4),AA97*WellsInPlate,0,WellsInPlate,1)) -> 96 | AC97: =IF(AB97=WellsInPlate,0,1) -> 0 | AE97: =IF(COUNTBLANK(D97)=0,A97) -> FALSE
A98: 2 | B98: A1 | H98: =IF(AC98=1,"C","") | I98: =OFFSET($Z$2,ROW()-StartRow-1-$AA98*PanelHeight+$AA98*WellsInPlate+(COLUMN()-9)*8,0,1,1) | J98: =OFFSET($Z$2,ROW()-StartRow-1-$AA98*PanelHeight+$AA98*WellsInPlate+(COLUMN()-9)*8,0,1,1) | K98: =OFFSET($Z$2,ROW()-StartRow-1-$AA98*PanelHeight+$AA98*WellsInPlate+(COLUMN()-9)*8,0,1,1) | L98: =OFFSET($Z$2,ROW()-StartRow-1-$AA98*PanelHeight+$AA98*WellsInPlate+(COLUMN()-9)*8,0,1,1) | M98: =OFFSET($Z$2,ROW()-StartRow-1-$AA98*PanelHeight+$AA98*WellsInPlate+(COLUMN()-9)*8,0,1,1) | N98: =OFFSET($Z$2,ROW()-StartRow-1-$AA98*PanelHeight+$AA98*WellsInPlate+(COLUMN()-9)*8,0,1,1) | O98: =OFFSET($Z$2,ROW()-StartRow-1-$AA98*PanelHeight+$AA98*WellsInPlate+(COLUMN()-9)*8,0,1,1) | P98: =OFFSET($Z$2,ROW()-StartRow-1-$AA98*PanelHeight+$AA98*WellsInPlate+(COLUMN()-9)*8,0,1,1) | ... T98: =OFFSET($Z$2,ROW()-StartRow-1-$AA98*PanelHeight+$AA98*WellsInPlate+(COLUMN()-9)*8,0,1,1) | Z98: =IF(LEN(INDEX($1:$1048576,ROW(),4))>0,INDEX($1:$1048576,ROW(),4)," ") | AA98: =CEILING((ROW()-StartRow+1)/PanelHeight,1)-1 -> 7 | AB98: =COUNTBLANK(OFFSET(INDEX($1:$1048576,2,4),AA98*WellsInPlate,0,WellsInPlate,1)) -> 96 | AC98: =IF(AB98=WellsInPlate,0,1) -> 0 | AE98: =IF(COUNTBLANK(D98)=0,A98) -> FALSE
A99: 2 | B99: B1 | H99: =IF(AC99=1,"D","") | I99: =OFFSET($Z$2,ROW()-StartRow-1-$AA99*PanelHeight+$AA99*WellsInPlate+(COLUMN()-9)*8,0,1,1) | J99: =OFFSET($Z$2,ROW()-StartRow-1-$AA99*PanelHeight+$AA99*WellsInPlate+(COLUMN()-9)*8,0,1,1) | K99: =OFFSET($Z$2,ROW()-StartRow-1-$AA99*PanelHeight+$AA99*WellsInPlate+(COLUMN()-9)*8,0,1,1) | L99: =OFFSET($Z$2,ROW()-StartRow-1-$AA99*PanelHeight+$AA99*WellsInPlate+(COLUMN()-9)*8,0,1,1) | M99: =OFFSET($Z$2,ROW()-StartRow-1-$AA99*PanelHeight+$AA99*WellsInPlate+(COLUMN()-9)*8,0,1,1) | N99: =OFFSET($Z$2,ROW()-StartRow-1-$AA99*PanelHeight+$AA99*WellsInPlate+(COLUMN()-9)*8,0,1,1) | O99: =OFFSET($Z$2,ROW()-StartRow-1-$AA99*PanelHeight+$AA99*WellsInPlate+(COLUMN()-9)*8,0,1,1) | P99: =OFFSET($Z$2,ROW()-StartRow-1-$AA99*PanelHeight+$AA99*WellsInPlate+(COLUMN()-9)*8,0,1,1) | ... T99: =OFFSET($Z$2,ROW()-StartRow-1-$AA99*PanelHeight+$AA99*WellsInPlate+(COLUMN()-9)*8,0,1,1) | Z99: =IF(LEN(INDEX($1:$1048576,ROW(),4))>0,INDEX($1:$1048576,ROW(),4)," ") | AA99: =CEILING((ROW()-StartRow+1)/PanelHeight,1)-1 -> 7 | AB99: =COUNTBLANK(OFFSET(INDEX($1:$1048576,2,4),AA99*WellsInPlate,0,WellsInPlate,1)) -> 96 | AC99: =IF(AB99=WellsInPlate,0,1) -> 0 | AE99: =IF(COUNTBLANK(D99)=0,A99) -> FALSE
A100: 2 | B100: C1 | H100: =IF(AC100=1,"E","") | I100: =OFFSET($Z$2,ROW()-StartRow-1-$AA100*PanelHeight+$AA100*WellsInPlate+(COLUMN()-9)*8,0,1,1) | J100: =OFFSET($Z$2,ROW()-StartRow-1-$AA100*PanelHeight+$AA100*WellsInPlate+(COLUMN()-9)*8,0,1,1) | K100: =OFFSET($Z$2,ROW()-StartRow-1-$AA100*PanelHeight+$AA100*WellsInPlate+(COLUMN()-9)*8,0,1,1) | L100: =OFFSET($Z$2,ROW()-StartRow-1-$AA100*PanelHeight+$AA100*WellsInPlate+(COLUMN()-9)*8,0,1,1) | M100: =OFFSET($Z$2,ROW()-StartRow-1-$AA100*PanelHeight+$AA100*WellsInPlate+(COLUMN()-9)*8,0,1,1) | N100: =OFFSET($Z$2,ROW()-StartRow-1-$AA100*PanelHeight+$AA100*WellsInPlate+(COLUMN()-9)*8,0,1,1) | O100: =OFFSET($Z$2,ROW()-StartRow-1-$AA100*PanelHeight+$AA100*WellsInPlate+(COLUMN()-9)*8,0,1,1) | P100: =OFFSET($Z$2,ROW()-StartRow-1-$AA100*PanelHeight+$AA100*WellsInPlate+(COLUMN()-9)*8,0,1,1) | ... T100: =OFFSET($Z$2,ROW()-StartRow-1-$AA100*PanelHeight+$AA100*WellsInPlate+(COLUMN()-9)*8,0,1,1) | Z100: =IF(LEN(INDEX($1:$1048576,ROW(),4))>0,INDEX($1:$1048576,ROW(),4)," ") | AA100: =CEILING((ROW()-StartRow+1)/PanelHeight,1)-1 -> 7 | AB100: =COUNTBLANK(OFFSET(INDEX($1:$1048576,2,4),AA100*WellsInPlate,0,WellsInPlate,1)) -> 96 | AC100: =IF(AB100=WellsInPlate,0,1) -> 0 | AE100: =IF(COUNTBLANK(D100)=0,A100) -> FALSE
...

Sheet Samples 384
A1: Plate | B1: PlatePos | C1: Individual | D1: Sample | E1: Conc ng/μl | F1: Vol μl | G1: Comment | AC1: =MATCH(AE1,AD:AD,0) -> #N/A | AD1: =MAX(AD2:AD5761) -> 0 | AE1: 1
A2: 1 | B2: A1 | AC2: =MATCH(AE2,AD:AD,0) -> #N/A | AD2: =IF(COUNTBLANK(D2)=0,A2) -> FALSE | AE2: 2
A3: 1 | B3: B1 | AC3: =MATCH(AE3,AD:AD,0) -> #N/A | AD3: =IF(COUNTBLANK(D3)=0,A3) -> FALSE | AE3: 3
A4: 1 | B4: C1 | AC4: =MATCH(AE4,AD:AD,0) -> #N/A | AD4: =IF(COUNTBLANK(D4)=0,A4) -> FALSE | AE4: 4
A5: 1 | B5: D1 | AC5: =MATCH(AE5,AD:AD,0) -> #N/A | AD5: =IF(COUNTBLANK(D5)=0,A5) -> FALSE | AE5: 5
A6: 1 | B6: E1 | AC6: =MATCH(AE6,AD:AD,0) -> #N/A | AD6: =IF(COUNTBLANK(D6)=0,A6) -> FALSE | AE6: 6
A7: 1 | B7: F1 | AC7: =MATCH(AE7,AD:AD,0) -> #N/A | AD7: =IF(COUNTBLANK(D7)=0,A7) -> FALSE | AE7: 7
A8: 1 | B8: G1 | AC8: =MATCH(AE8,AD:AD,0) -> #N/A | AD8: =IF(COUNTBLANK(D8)=0,A8) -> FALSE | AE8: 8
A9: 1 | B9: H1 | AC9: =MATCH(AE9,AD:AD,0) -> #N/A | AD9: =IF(COUNTBLANK(D9)=0,A9) -> FALSE | AE9: 9
A10: 1 | B10: I1 | AC10: =MATCH(AE10,AD:AD,0) -> #N/A | AD10: =IF(COUNTBLANK(D10)=0,A10) -> FALSE | AE10: 10
A11: 1 | B11: J1 | AC11: =MATCH(AE11,AD:AD,0) -> #N/A | AD11: =IF(COUNTBLANK(D11)=0,A11) -> FALSE | AE11: 11
A12: 1 | B12: K1 | AC12: =MATCH(AE12,AD:AD,0) -> #N/A | AD12: =IF(COUNTBLANK(D12)=0,A12) -> FALSE | AE12: 12
A13: 1 | B13: L1 | AC13: =MATCH(AE13,AD:AD,0) -> #N/A | AD13: =IF(COUNTBLANK(D13)=0,A13) -> FALSE | AE13: 13
... A30: 1 | B30: M2 | AC30: =MATCH(AE30,AD:AD,0) -> #N/A | AD30: =IF(COUNTBLANK(D30)=0,A30) -> FALSE | AE30: 30
A31: 1 | B31: N2 | AC31: =30-COUNTIF(AC1:AC30,"#N/A") -> 0 | AD31: =IF(COUNTBLANK(D31)=0,A31) -> FALSE
A32: 1 | B32: O2 | AD32: =IF(COUNTBLANK(D32)=0,A32) -> FALSE
A33: 1 | B33: P2 | AD33: =IF(COUNTBLANK(D33)=0,A33) -> FALSE
A34: 1 | B34: A3 | AD34: =IF(COUNTBLANK(D34)=0,A34) -> FALSE
A35: 1 | B35: B3 | AD35: =IF(COUNTBLANK(D35)=0,A35) -> FALSE
A36: 1 | B36: C3 | AD36: =IF(COUNTBLANK(D36)=0,A36) -> FALSE
A37: 1 | B37: D3 | AD37: =IF(COUNTBLANK(D37)=0,A37) -> FALSE
A38: 1 | B38: E3 | AD38: =IF(COUNTBLANK(D38)=0,A38) -> FALSE
A39: 1 | B39: F3 | AD39: =IF(COUNTBLANK(D39)=0,A39) -> FALSE
A40: 1 | B40: G3 | AD40: =IF(COUNTBLANK(D40)=0,A40) -> FALSE
A41: 1 | B41: H3 | AD41: =IF(COUNTBLANK(D41)=0,A41) -> FALSE
A42: 1 | B42: I3 | AD42: =IF(COUNTBLANK(D42)=0,A42) -> FALSE
A43: 1 | B43: J3 | AD43: =IF(COUNTBLANK(D43)=0,A43) -> FALSE
... A11521: 30 | B11521: P24 | AD11521: =IF(COUNTBLANK(D11521)=0,A11521) -> FALSE

Sheet Samples tubes
B1: Tube | C1: Individual | D1: Sample | E1: Conc ng/μl | F1: Vol μl | G1: Comment
B2: 1
B3: 2
B4: 3
B5: 4
B6: 5
B7: 6
B8: 7
B9: 8
B10: 9
B11: 10
B12: 11
B13: 12
... B5000: 4999

Sheet Plate labelling
A1: Please fill in this form in case your plates have labels that differ from the plate no. as given in the 'Samples 96' sheet.
A4: Plate/sample in this workbook | B4: Original plate/sample label | C4: Comments
A5: 1
A6: 2
A7: 3
A8: 4
A9: 5
A10: 6
A11: 7
A12: 8
A13: 9
A14: 10
A15: 11
A16: 12
... A64: 60

Sheet Testspecifikation
A1: Validering av eventuella formler
A3: Sökväg till eventuellt testdata: | B3: -
A5: Versionsnummer: | B5: 19
A7: Testfall
A8: Utförande | B8: Förväntat resultat | C8: OK Sign/ datum | D8: Kommentar
A9: Kontrollera att de ljusgrå fälten i fliken Address and samples info är olåsta | B9: De ljusgrå fälten är olåsta och går att fylla i. | C9: OK 260702 UL | D9: -
A10: Kontrollera att de mörkgrå fälten i fliken Address and samples info är låsta | B10: De mörkgrå fälten är låsta. | C10: OK 260702 UL
A11: Kontrollera drop-downs och att det inte går att skriva något annat i cellerna. | B11: Drop-down listorna fungerar och det går inte att skriva i cellerna. | C11: OK 260702 UL | D11: -
A12: Efter utförd testning, göm testspecifikations- och dropdown-fliken. | B12: Flikarna syns inte för användaren. | C12: - | D12: -
A13: Välj den flik som ska synas när filen öppnas, lås hela workbooken. | B13: Rätt flik syns när filen öppnas. | C13: - | D13: -

Sheet drop-down
A1: Concentration measured by:
A2: UV absorbance (A260, OD260)
A3: Quant-iT/Qubit
A4: Picogreen
A5: Other:
A7: Samples dissolved in:
A8: H2O
A9: 1XTE
A10: Other:
A12: Samples extracted from:
A13: Blood
A14: Tissue
... A29: Will not be performed by SNP&SEQ platform
